{"text_format":"1","workbook":"xlsx","n_sheets":7,"sheets":["Analitico","NOVO","Banco","Composições","Cotações","Relatórios","Busca"],"not_rendered":{"charts":0,"images":1,"macros":1,"external_links":0,"defined_names":203,"comments":0,"pivot_tables":0},"unopened":[],"bounds":{"document_bytes":16777216,"sheet_cells":100000,"rows_first":2000,"rows_last":500,"rows_between":2000,"halvings":0,"cell_chars":16384,"cell_head_chars":4096},"cells_cut":0,"cells_raw":0,"read":"whole","date_system":"1900"}

{"sheet":"Analitico","index":0,"n_rows":61868,"n_cols":4,"rows_kept":4500,"cut":true,"hidden":true,"merged":[],"bounds":{"rows_first":2000,"rows_last":500,"rows_between":2000,"halvings":0}}
[104658]
[104658,"SINAPI",88316,1.2789999999999999]
[104658,"SINAPI",88309,0.63900000000000001]
[104658,"SINAPI-I",36178,6.4375]
[104658,"SINAPI-I",34357,0.24]
[104658,"SINAPI-I",34353,8.6199999999999992]
[105002]
[105002,"SINAPI",104658,0.48]
[105002,"SINAPI",94965,0.66502459999999997]
[105002,"SINAPI",88316,7.2080000000000002]
[105002,"SINAPI",88309,3.6040000000000001]
[105002,"SINAPI-I",5068,3.6695999999999999E-2]
[105002,"SINAPI-I",4718,2.7E-2]
[105002,"SINAPI-I",4509,7.48]
[105004]
[105004,"SINAPI",104658,5.7657699999999999E-2]
[105004,"SINAPI",94965,0.1231527]
[105004,"SINAPI",88316,1.2609999999999999]
[105004,"SINAPI",88309,0.63]
[105004,"SINAPI-I",5068,4.4079000000000002E-3]
[105004,"SINAPI-I",4718,5.0000000000000001E-3]
[105004,"SINAPI-I",4509,0.73993989999999998]
[105003]
[105003,"SINAPI",104658,0.48]
[105003,"SINAPI",94965,0.66502459999999997]
[105003,"SINAPI",90965,5.2258833999999998]
[105003,"SINAPI",90964,0.95392160000000004]
[105003,"SINAPI",88316,17.010999999999999]
[105003,"SINAPI",88309,2.3251949999999999]
[105003,"SINAPI",5952,5.2258833999999998]
[105003,"SINAPI",5795,0.95392160000000004]
[105003,"SINAPI-I",5068,3.6695999999999999E-2]
[105003,"SINAPI-I",4718,0.19980000000000001]
[105003,"SINAPI-I",4509,7.48]
[105005]
[105005,"SINAPI",104658,5.7657699999999999E-2]
[105005,"SINAPI",94965,0.1231527]
[105005,"SINAPI",90965,0.96775619999999996]
[105005,"SINAPI",90964,0.17665210000000001]
[105005,"SINAPI",88316,3.0760000000000001]
[105005,"SINAPI",88309,0.39359169999999999]
[105005,"SINAPI",5952,0.96775619999999996]
[105005,"SINAPI",5795,0.17665210000000001]
[105005,"SINAPI-I",5068,4.4079000000000002E-3]
[105005,"SINAPI-I",4718,3.6999999999999998E-2]
[105005,"SINAPI-I",4509,0.73993989999999998]
[105006]
[105006,"SINAPI",88316,2.1890000000000001]
[105006,"SINAPI",88309,1.0940000000000001]
[105006,"SINAPI",87307,0.131886]
[105006,"SINAPI",87286,2.59413E-2]
[105006,"SINAPI-I",45087,1]
[104999]
[104999,"SINAPI",90965,2.9613339999999999]
[104999,"SINAPI",90964,0.54055560000000002]
[104999,"SINAPI",88316,7.4]
[104999,"SINAPI",88309,0.19811049999999999]
[104999,"SINAPI",87307,0.131886]
[104999,"SINAPI",87286,2.59413E-2]
[104999,"SINAPI-I",45087,1]
[104999,"SINAPI",5952,2.9613339999999999]
[104999,"SINAPI",5795,0.54055560000000002]
[105000]
[105000,"SINAPI",104658,0.5]
[105000,"SINAPI",104626,0.12]
[105000,"SINAPI",99837,2]
[105000,"SINAPI",96624,0.12]
[105001]
[105001,"SINAPI",104658,0.52500000000000002]
[105001,"SINAPI",104626,0.15]
[105001,"SINAPI",99837,2]
[105001,"SINAPI",96624,0.15]
[89306]
[89306,"SINAPI",88316,0.6]
[89306,"SINAPI",88309,1.2]
[89306,"SINAPI",87286,1.9199999999999998E-2]
[89306,"SINAPI-I",34788,1.53]
[89306,"SINAPI-I",34649,1.27]
[89306,"SINAPI-I",34586,15.29]
[89307]
[89307,"SINAPI",88316,0.6]
[89307,"SINAPI",88309,1.2]
[89307,"SINAPI",87367,1.9199999999999998E-2]
[89307,"SINAPI-I",34788,1.53]
[89307,"SINAPI-I",34649,1.27]
[89307,"SINAPI-I",34586,15.29]
[89290]
[89290,"SINAPI",88316,0.43]
[89290,"SINAPI",88309,0.86]
[89290,"SINAPI",87286,1.43E-2]
[89290,"SINAPI-I",34788,1.53]
[89290,"SINAPI-I",34649,1.27]
[89290,"SINAPI-I",34586,15.29]
[89291]
[89291,"SINAPI",88316,0.43]
[89291,"SINAPI",88309,0.86]
[89291,"SINAPI",87367,1.43E-2]
[89291,"SINAPI-I",34788,1.53]
[89291,"SINAPI-I",34649,1.27]
[89291,"SINAPI-I",34586,15.29]
[89298]
[89298,"SINAPI",88316,0.44]
[89298,"SINAPI",88309,0.88]
[89298,"SINAPI",87286,1.72E-2]
[89298,"SINAPI-I",38603,1.44]
[89298,"SINAPI-I",34781,1.44]
[89298,"SINAPI-I",34655,0.96]
[89298,"SINAPI-I",34588,10.06]
[89299]
[89299,"SINAPI",88316,0.44]
[89299,"SINAPI",88309,0.88]
[89299,"SINAPI",87367,1.72E-2]
[89299,"SINAPI-I",38603,1.44]
[89299,"SINAPI-I",34781,1.44]
[89299,"SINAPI-I",34655,0.96]
[89299,"SINAPI-I",34588,10.06]
[89282]
[89282,"SINAPI",88316,0.33]
[89282,"SINAPI",88309,0.65]
[89282,"SINAPI",87286,1.29E-2]
[89282,"SINAPI-I",38603,1.44]
[89282,"SINAPI-I",34781,1.44]
[89282,"SINAPI-I",34655,0.96]
[89282,"SINAPI-I",34588,10.06]
[89283]
[89283,"SINAPI",88316,0.33]
[89283,"SINAPI",88309,0.65]
[89283,"SINAPI",87367,1.29E-2]
[89283,"SINAPI-I",38603,1.44]
[89283,"SINAPI-I",34781,1.44]
[89283,"SINAPI-I",34655,0.96]
[89283,"SINAPI-I",34588,10.06]
[89480]
[89480,"SINAPI",88626,1.8700000000000001E-2]
[89480,"SINAPI",88316,1.1299999999999999]
[89480,"SINAPI",88309,1.1299999999999999]
[89480,"SINAPI-I",38599,1.27]
[89480,"SINAPI-I",38592,1.52]
[89480,"SINAPI-I",34564,15.19]
[89464]
[89464,"SINAPI",88626,1.2500000000000001E-2]
[89464,"SINAPI",88316,0.8]
[89464,"SINAPI",88309,0.8]
[89464,"SINAPI-I",38599,1.27]
[89464,"SINAPI-I",38592,1.52]
[89464,"SINAPI-I",34564,15.19]
[89478]
[89478,"SINAPI",88715,1.8700000000000001E-2]
[89478,"SINAPI",88316,1.05]
[89478,"SINAPI",88309,1.05]
[89478,"SINAPI-I",38596,1.29]
[89478,"SINAPI-I",38590,15.51]
[89478,"SINAPI-I",38588,1.55]
[89462]
[89462,"SINAPI",88715,1.2500000000000001E-2]
[89462,"SINAPI",88316,0.74]
[89462,"SINAPI",88309,0.74]
[89462,"SINAPI-I",38596,1.29]
[89462,"SINAPI-I",38590,15.51]
[89462,"SINAPI-I",38588,1.55]
[104444]
[104444,"SINAPI",88316,1.08]
[104444,"SINAPI",88309,1.08]
[104444,"SINAPI",87286,1.8700000000000001E-2]
[104444,"SINAPI-I",44905,1.28]
[104444,"SINAPI-I",44904,1.54]
[104444,"SINAPI-I",34567,15.37]
[104442]
[104442,"SINAPI",88316,0.76]
[104442,"SINAPI",88309,0.76]
[104442,"SINAPI",87286,1.2500000000000001E-2]
[104442,"SINAPI-I",44905,1.28]
[104442,"SINAPI-I",44904,1.54]
[104442,"SINAPI-I",34567,15.37]
[89472]
[89472,"SINAPI",88626,1.6799999999999999E-2]
[89472,"SINAPI",88316,0.67]
[89472,"SINAPI",88309,0.67]
[89472,"SINAPI-I",38600,0.95]
[89472,"SINAPI-I",38594,1.43]
[89472,"SINAPI-I",38593,1.43]
[89472,"SINAPI-I",34570,9.99]
[89455]
[89455,"SINAPI",88626,1.1299999999999999E-2]
[89455,"SINAPI",88316,0.48]
[89455,"SINAPI",88309,0.48]
[89455,"SINAPI-I",38600,0.95]
[89455,"SINAPI-I",38594,1.43]
[89455,"SINAPI-I",38593,1.43]
[89455,"SINAPI-I",34570,9.99]
[89470]
[89470,"SINAPI",88715,1.6799999999999999E-2]
[89470,"SINAPI",88316,0.62]
[89470,"SINAPI",88309,0.62]
[89470,"SINAPI-I",38597,0.97]
[89470,"SINAPI-I",38591,1.46]
[89470,"SINAPI-I",38589,1.46]
[89470,"SINAPI-I",25070,10.204000000000001]
[89453]
[89453,"SINAPI",88715,1.1299999999999999E-2]
[89453,"SINAPI",88316,0.45]
[89453,"SINAPI",88309,0.45]
[89453,"SINAPI-I",38597,0.97]
[89453,"SINAPI-I",38591,1.46]
[89453,"SINAPI-I",38589,1.46]
[89453,"SINAPI-I",25070,10.204000000000001]
[104443]
[104443,"SINAPI",88316,0.64]
[104443,"SINAPI",88309,0.64]
[104443,"SINAPI",87286,1.6799999999999999E-2]
[104443,"SINAPI-I",44902,0.96]
[104443,"SINAPI-I",44901,1.44]
[104443,"SINAPI-I",44900,1.44]
[104443,"SINAPI-I",34573,10.11]
[104441]
[104441,"SINAPI",88316,0.46]
[104441,"SINAPI",88309,0.46]
[104441,"SINAPI",87286,1.1299999999999999E-2]
[104441,"SINAPI-I",44902,0.96]
[104441,"SINAPI-I",44901,1.44]
[104441,"SINAPI-I",44900,1.44]
[104441,"SINAPI-I",34573,10.11]
[103354]
[103354,"SINAPI",88316,0.69]
[103354,"SINAPI",88309,1.38]
[103354,"SINAPI",87292,1.04E-2]
[103354,"SINAPI-I",44459,30.19]
[103354,"SINAPI-I",37395,1.3899999999999999E-2]
[103354,"SINAPI-I",34558,0.57999999999999996]
[103355]
[103355,"SINAPI",88316,0.69]
[103355,"SINAPI",88309,1.38]
[103355,"SINAPI",87369,1.04E-2]
[103355,"SINAPI-I",44459,30.19]
[103355,"SINAPI-I",37395,1.3899999999999999E-2]
[103355,"SINAPI-I",34558,0.57999999999999996]
[103330]
[103330,"SINAPI",88316,0.6]
[103330,"SINAPI",88309,1.2]
[103330,"SINAPI",87292,9.7999999999999997E-3]
[103330,"SINAPI-I",38783,28.31]
[103330,"SINAPI-I",37395,0.01]
[103330,"SINAPI-I",34558,0.42]
[103331]
[103331,"SINAPI",88316,0.6]
[103331,"SINAPI",88309,1.2]
[103331,"SINAPI",87369,9.7999999999999997E-3]
[103331,"SINAPI-I",38783,28.31]
[103331,"SINAPI-I",37395,0.01]
[103331,"SINAPI-I",34558,0.42]
[103358]
[103358,"SINAPI",88316,0.48]
[103358,"SINAPI",88309,0.96]
[103358,"SINAPI",87292,8.3000000000000001E-3]
[103358,"SINAPI-I",44460,18.87]
[103358,"SINAPI-I",37395,0.01]
[103358,"SINAPI-I",34558,0.42]
[103359]
[103359,"SINAPI",88316,0.48]
[103359,"SINAPI",88309,0.96]
[103359,"SINAPI",87369,8.3000000000000001E-3]
[103359,"SINAPI-I",44460,18.87]
[103359,"SINAPI-I",37395,0.01]
[103359,"SINAPI-I",34558,0.42]
[103366]
[103366,"SINAPI",88316,0.37]
[103366,"SINAPI",88309,0.74]
[103366,"SINAPI",87292,7.4999999999999997E-3]
[103366,"SINAPI-I",44461,14.15]
[103366,"SINAPI-I",37395,0.01]
[103366,"SINAPI-I",34558,0.42]
[103367]
[103367,"SINAPI",88316,0.37]
[103367,"SINAPI",88309,0.74]
[103367,"SINAPI",87369,7.4999999999999997E-3]
[103367,"SINAPI-I",44461,14.15]
[103367,"SINAPI-I",37395,0.01]
[103367,"SINAPI-I",34558,0.42]
[103360]
[103360,"SINAPI",88316,0.56499999999999995]
[103360,"SINAPI",88309,1.1299999999999999]
[103360,"SINAPI",87292,1.0500000000000001E-2]
[103360,"SINAPI-I",44462,18.87]
[103360,"SINAPI-I",37395,0.01]
[103360,"SINAPI-I",34547,0.42]
[103361]
[103361,"SINAPI",88316,0.56499999999999995]
[103361,"SINAPI",88309,1.1299999999999999]
[103361,"SINAPI",87369,1.0500000000000001E-2]
[103361,"SINAPI-I",44462,18.87]
[103361,"SINAPI-I",37395,0.01]
[103361,"SINAPI-I",34547,0.42]
[103368]
[103368,"SINAPI",88316,0.43]
[103368,"SINAPI",88309,0.86]
[103368,"SINAPI",87292,9.4999999999999998E-3]
[103368,"SINAPI-I",44463,14.15]
[103368,"SINAPI-I",37395,0.01]
[103368,"SINAPI-I",34547,0.42]
[103369]
[103369,"SINAPI",88316,0.43]
[103369,"SINAPI",88309,0.86]
[103369,"SINAPI",87369,9.4999999999999998E-3]
[103369,"SINAPI-I",44463,14.15]
[103369,"SINAPI-I",37395,0.01]
[103369,"SINAPI-I",34547,0.42]
[103334]
[103334,"SINAPI",88316,1.1599999999999999]
[103334,"SINAPI",88309,2.3199999999999998]
[103334,"SINAPI",87292,1.83E-2]
[103334,"SINAPI-I",37395,1.9300000000000001E-2]
[103334,"SINAPI-I",34547,0.80500000000000005]
[103334,"SINAPI-I",7267,56.62]
[103335]
[103335,"SINAPI",88316,1.1599999999999999]
[103335,"SINAPI",88309,2.3199999999999998]
[103335,"SINAPI",87369,1.83E-2]
[103335,"SINAPI-I",37395,1.9300000000000001E-2]
[103335,"SINAPI-I",34547,0.80500000000000005]
[103335,"SINAPI-I",7267,56.62]
[103362]
[103362,"SINAPI",88316,0.64500000000000002]
[103362,"SINAPI",88309,1.29]
[103362,"SINAPI",87292,1.18E-2]
[103362,"SINAPI-I",44464,18.87]
[103362,"SINAPI-I",37395,0.01]
[103362,"SINAPI-I",34548,0.42]
[103363]
[103363,"SINAPI",88316,0.64500000000000002]
[103363,"SINAPI",88309,1.29]
[103363,"SINAPI",87369,1.18E-2]
[103363,"SINAPI-I",44464,18.87]
[103363,"SINAPI-I",37395,0.01]
[103363,"SINAPI-I",34548,0.42]
[103370]
[103370,"SINAPI",88316,0.495]
[103370,"SINAPI",88309,0.99]
[103370,"SINAPI",87292,1.0699999999999999E-2]
[103370,"SINAPI-I",44465,14.15]
[103370,"SINAPI-I",37395,0.01]
[103370,"SINAPI-I",34548,0.42]
[103371]
[103371,"SINAPI",88316,0.495]
[103371,"SINAPI",88309,0.99]
[103371,"SINAPI",87369,1.0699999999999999E-2]
[103371,"SINAPI-I",44465,14.15]
[103371,"SINAPI-I",37395,0.01]
[103371,"SINAPI-I",34548,0.42]
[103332]
[103332,"SINAPI",88316,1.1000000000000001]
[103332,"SINAPI",88309,2.2000000000000002]
[103332,"SINAPI",87292,1.0500000000000001E-2]
[103332,"SINAPI-I",37395,6.8999999999999999E-3]
[103332,"SINAPI-I",34557,0.57999999999999996]
[103332,"SINAPI-I",7267,37.74]
[103333]
[103333,"SINAPI",88316,1.1000000000000001]
[103333,"SINAPI",88309,2.2000000000000002]
[103333,"SINAPI",87369,1.0500000000000001E-2]
[103333,"SINAPI-I",37395,6.8999999999999999E-3]
[103333,"SINAPI-I",34557,0.57999999999999996]
[103333,"SINAPI-I",7267,37.74]
[103352]
[103352,"SINAPI",88316,0.9]
[103352,"SINAPI",88309,1.8]
[103352,"SINAPI",87292,9.7000000000000003E-3]
[103352,"SINAPI-I",44458,30.19]
[103352,"SINAPI-I",37395,6.8999999999999999E-3]
[103352,"SINAPI-I",34557,0.57999999999999996]
[103353]
[103353,"SINAPI",88316,0.9]
[103353,"SINAPI",88309,1.8]
[103353,"SINAPI",87369,9.7000000000000003E-3]
[103353,"SINAPI-I",44458,30.19]
[103353,"SINAPI-I",37395,6.8999999999999999E-3]
[103353,"SINAPI-I",34557,0.57999999999999996]
[103328]
[103328,"SINAPI",88316,0.80500000000000005]
[103328,"SINAPI",88309,1.61]
[103328,"SINAPI",87292,9.1000000000000004E-3]
[103328,"SINAPI-I",37395,5.0000000000000001E-3]
[103328,"SINAPI-I",34557,0.42]
[103328,"SINAPI-I",7271,28.31]
[103329]
[103329,"SINAPI",88316,0.80500000000000005]
[103329,"SINAPI",88309,1.61]
[103329,"SINAPI",87369,9.1000000000000004E-3]
[103329,"SINAPI-I",37395,5.0000000000000001E-3]
[103329,"SINAPI-I",34557,0.42]
[103329,"SINAPI-I",7271,28.31]
[103356]
[103356,"SINAPI",88316,0.38500000000000001]
[103356,"SINAPI",88309,0.77]
[103356,"SINAPI",87292,7.7000000000000002E-3]
[103356,"SINAPI-I",37395,5.0000000000000001E-3]
[103356,"SINAPI-I",34557,0.42]
[103356,"SINAPI-I",7268,18.87]
[103357]
[103357,"SINAPI",88316,0.38500000000000001]
[103357,"SINAPI",88309,0.77]
[103357,"SINAPI",87369,7.7000000000000002E-3]
[103357,"SINAPI-I",37395,5.0000000000000001E-3]
[103357,"SINAPI-I",34557,0.42]
[103357,"SINAPI-I",7268,18.87]
[103364]
[103364,"SINAPI",88316,0.29499999999999998]
[103364,"SINAPI",88309,0.59]
[103364,"SINAPI",87292,6.8999999999999999E-3]
[103364,"SINAPI-I",44457,14.15]
[103364,"SINAPI-I",37395,0.01]
[103364,"SINAPI-I",34557,0.42]
[103365]
[103365,"SINAPI",88316,0.29499999999999998]
[103365,"SINAPI",88309,0.59]
[103365,"SINAPI",87369,6.8999999999999999E-3]
[103365,"SINAPI-I",44457,14.15]
[103365,"SINAPI-I",37395,5.0000000000000001E-3]
[103365,"SINAPI-I",34557,0.42]
[103350]
[103350,"SINAPI",88316,1.5149999999999999]
[103350,"SINAPI",88309,3.03]
[103350,"SINAPI",87292,1.34E-2]
[103350,"SINAPI-I",37395,9.7000000000000003E-3]
[103350,"SINAPI-I",34557,0.80500000000000005]
[103350,"SINAPI-I",7270,56.62]
[103351]
[103351,"SINAPI",88316,1.5149999999999999]
[103351,"SINAPI",88309,3.03]
[103351,"SINAPI",87369,1.34E-2]
[103351,"SINAPI-I",37395,9.7000000000000003E-3]
[103351,"SINAPI-I",34557,0.80500000000000005]
[103351,"SINAPI-I",7270,56.62]
[103344]
[103344,"SINAPI",88316,0.48]
[103344,"SINAPI",88309,0.96]
[103344,"SINAPI",87292,1.2200000000000001E-2]
[103344,"SINAPI-I",44466,18.14]
[103344,"SINAPI-I",37395,0.01]
[103344,"SINAPI-I",34558,0.42]
[103345]
[103345,"SINAPI",88316,0.48]
[103345,"SINAPI",88309,0.96]
[103345,"SINAPI",87369,1.2200000000000001E-2]
[103345,"SINAPI-I",44466,18.14]
[103345,"SINAPI-I",37395,0.01]
[103345,"SINAPI-I",34558,0.42]
[103348]
[103348,"SINAPI",88316,0.37]
[103348,"SINAPI",88309,0.74]
[103348,"SINAPI",87292,1.11E-2]
[103348,"SINAPI-I",44467,13.6]
[103348,"SINAPI-I",37395,0.01]
[103348,"SINAPI-I",34558,0.42]
[103349]
[103349,"SINAPI",88316,0.37]
[103349,"SINAPI",88309,0.74]
[103349,"SINAPI",87369,1.11E-2]
[103349,"SINAPI-I",44467,13.6]
[103349,"SINAPI-I",37395,0.01]
[103349,"SINAPI-I",34558,0.42]
[103346]
[103346,"SINAPI",88316,0.56499999999999995]
[103346,"SINAPI",88309,1.1299999999999999]
[103346,"SINAPI",87292,1.2999999999999999E-2]
[103346,"SINAPI-I",44468,18.14]
[103346,"SINAPI-I",37395,0.01]
[103346,"SINAPI-I",34547,0.42]
[103347]
[103347,"SINAPI",88316,0.56499999999999995]
[103347,"SINAPI",88309,1.1299999999999999]
[103347,"SINAPI",87369,1.2999999999999999E-2]
[103347,"SINAPI-I",44468,18.14]
[103347,"SINAPI-I",37395,0.01]
[103347,"SINAPI-I",34547,0.42]
[103324]
[103324,"SINAPI",88316,0.43]
[103324,"SINAPI",88309,0.86]
[103324,"SINAPI",87292,1.18E-2]
[103324,"SINAPI-I",37593,13.6]
[103324,"SINAPI-I",37395,0.01]
[103324,"SINAPI-I",34547,0.42]
[103325]
[103325,"SINAPI",88316,0.43]
[103325,"SINAPI",88309,0.86]
[103325,"SINAPI",87369,1.18E-2]
[103325,"SINAPI-I",37593,13.6]
[103325,"SINAPI-I",37395,0.01]
[103325,"SINAPI-I",34547,0.42]
[103326]
[103326,"SINAPI",88316,0.495]
[103326,"SINAPI",88309,0.99]
[103326,"SINAPI",87292,1.38E-2]
[103326,"SINAPI-I",37594,13.6]
[103326,"SINAPI-I",37395,0.01]
[103326,"SINAPI-I",34548,0.42]
[103327]
[103327,"SINAPI",88316,0.495]
[103327,"SINAPI",88309,0.99]
[103327,"SINAPI",87369,1.38E-2]
[103327,"SINAPI-I",37594,13.6]
[103327,"SINAPI-I",37395,0.01]
[103327,"SINAPI-I",34548,0.42]
[103322]
[103322,"SINAPI",88316,0.29499999999999998]
[103322,"SINAPI",88309,0.59]
[103322,"SINAPI",87292,1.04E-2]
[103322,"SINAPI-I",37592,13.6]
[103322,"SINAPI-I",37395,5.0000000000000001E-3]
[103322,"SINAPI-I",34557,0.42]
[103323]
[103323,"SINAPI",88316,0.29499999999999998]
[103323,"SINAPI",88309,0.59]
[103323,"SINAPI",87369,1.04E-2]
[103323,"SINAPI-I",37592,13.6]
[103323,"SINAPI-I",37395,5.0000000000000001E-3]
[103323,"SINAPI-I",34557,0.42]
[103338]
[103338,"SINAPI",88316,0.65]
[103338,"SINAPI",88309,1.3]
[103338,"SINAPI",87292,1.0200000000000001E-2]
[103338,"SINAPI-I",37395,0.01]
[103338,"SINAPI-I",37103,13.6]
[103338,"SINAPI-I",34547,0.42]
[103339]
[103339,"SINAPI",88316,0.65]
[103339,"SINAPI",88309,1.3]
[103339,"SINAPI",87369,1.0200000000000001E-2]
[103339,"SINAPI-I",37395,0.01]
[103339,"SINAPI-I",37103,13.6]
[103339,"SINAPI-I",34547,0.42]
[103340]
[103340,"SINAPI",88316,0.73499999999999999]
[103340,"SINAPI",88309,1.47]
[103340,"SINAPI",87292,1.2800000000000001E-2]
[103340,"SINAPI-I",37395,0.01]
[103340,"SINAPI-I",34555,13.6]
[103340,"SINAPI-I",34548,0.42]
[103341]
[103341,"SINAPI",88316,0.73499999999999999]
[103341,"SINAPI",88309,1.47]
[103341,"SINAPI",87369,1.2800000000000001E-2]
[103341,"SINAPI-I",37395,0.01]
[103341,"SINAPI-I",34555,13.6]
[103341,"SINAPI-I",34548,0.42]
[103336]
[103336,"SINAPI",88316,0.47499999999999998]
[103336,"SINAPI",88309,0.95]
[103336,"SINAPI",87292,8.6999999999999994E-3]
[103336,"SINAPI-I",37395,5.0000000000000001E-3]
[103336,"SINAPI-I",34599,13.6]
[103336,"SINAPI-I",34557,0.42]
[103337]
[103337,"SINAPI",88316,0.47499999999999998]
[103337,"SINAPI",88309,0.95]
[103337,"SINAPI",87369,8.6999999999999994E-3]
[103337,"SINAPI-I",37395,5.0000000000000001E-3]
[103337,"SINAPI-I",34599,13.6]
[103337,"SINAPI-I",34557,0.42]
[103342]
[103342,"SINAPI",88316,0.56499999999999995]
[103342,"SINAPI",88309,1.1299999999999999]
[103342,"SINAPI",87292,1.1299999999999999E-2]
[103342,"SINAPI-I",37395,0.01]
[103342,"SINAPI-I",34592,18.14]
[103342,"SINAPI-I",34547,0.42]
[103343]
[103343,"SINAPI",88316,0.56499999999999995]
[103343,"SINAPI",88309,1.1299999999999999]
[103343,"SINAPI",87369,1.1299999999999999E-2]
[103343,"SINAPI-I",37395,0.01]
[103343,"SINAPI-I",34592,18.14]
[103343,"SINAPI-I",34547,0.42]
[103318]
[103318,"SINAPI",88316,0.5]
[103318,"SINAPI",88309,1]
[103318,"SINAPI",87292,1.0200000000000001E-2]
[103318,"SINAPI-I",37395,0.01]
[103318,"SINAPI-I",34547,0.42]
[103318,"SINAPI-I",651,13.6]
[103319]
[103319,"SINAPI",88316,0.5]
[103319,"SINAPI",88309,1]
[103319,"SINAPI",87369,1.0200000000000001E-2]
[103319,"SINAPI-I",37395,0.01]
[103319,"SINAPI-I",34547,0.42]
[103319,"SINAPI-I",651,13.6]
[103320]
[103320,"SINAPI",88316,0.56499999999999995]
[103320,"SINAPI",88309,1.1299999999999999]
[103320,"SINAPI",87292,1.2800000000000001E-2]
[103320,"SINAPI-I",37395,0.01]
[103320,"SINAPI-I",34548,0.42]
[103320,"SINAPI-I",654,13.6]
[103321]
[103321,"SINAPI",88316,0.56499999999999995]
[103321,"SINAPI",88309,1.1299999999999999]
[103321,"SINAPI",87369,1.2800000000000001E-2]
[103321,"SINAPI-I",37395,0.01]
[103321,"SINAPI-I",34548,0.42]
[103321,"SINAPI-I",654,13.6]
[103316]
[103316,"SINAPI",88316,0.36499999999999999]
[103316,"SINAPI",88309,0.73]
[103316,"SINAPI",87292,8.6999999999999994E-3]
[103316,"SINAPI-I",37395,5.0000000000000001E-3]
[103316,"SINAPI-I",34557,0.42]
[103316,"SINAPI-I",650,13.6]
[103317]
[103317,"SINAPI",88316,0.36499999999999999]
[103317,"SINAPI",88309,0.73]
[103317,"SINAPI",87369,8.6999999999999994E-3]
[103317,"SINAPI-I",37395,5.0000000000000001E-3]
[103317,"SINAPI-I",34557,0.42]
[103317,"SINAPI-I",650,13.6]
[101166]
[101166,"SINAPI",88316,4.1719999999999997]
[101166,"SINAPI",88309,8.3439999999999994]
[101166,"SINAPI",87292,0.13]
[101166,"SINAPI-I",34586,122.27]
[101165]
[101165,"SINAPI",88316,5.1319999999999997]
[101165,"SINAPI",88309,10.263]
[101165,"SINAPI",87292,0.13]
[101165,"SINAPI-I",34566,122.27]
[101163]
[101163,"SINAPI",88316,2.1]
[101163,"SINAPI",88309,4.1989999999999998]
[101163,"SINAPI",87292,0.01]
[101163,"SINAPI-I",43059,0.54500000000000004]
[101163,"SINAPI-I",718,25.68]
[101164]
[101164,"SINAPI",88316,2.1]
[101164,"SINAPI",88309,4.1989999999999998]
[101164,"SINAPI",87292,1.7000000000000001E-2]
[101164,"SINAPI-I",43059,0.54500000000000004]
[101164,"SINAPI-I",715,25.68]
[101162]
[101162,"SINAPI",100489,2.3E-2]
[101162,"SINAPI",88316,1.1100000000000001]
[101162,"SINAPI",88309,2.2200000000000002]
[101162,"SINAPI-I",7272,23.29]
[101161]
[101161,"SINAPI",100489,0.01]
[101161,"SINAPI",88316,1.028]
[101161,"SINAPI",88309,2.0550000000000002]
[101161,"SINAPI-I",665,3.95]
[101160]
[101160,"SINAPI",88316,0.46100000000000002]
[101160,"SINAPI",88309,0.92100000000000004]
[101160,"SINAPI-I",44396,0.53200000000000003]
[101160,"SINAPI-I",44364,3.56]
[101160,"SINAPI-I",44363,54.29]
[101160,"SINAPI-I",44212,5.03]
[101159]
[101159,"SINAPI",88316,0.97]
[101159,"SINAPI",88309,1.9390000000000001]
[101159,"SINAPI",87292,2.8000000000000001E-2]
[101159,"SINAPI-I",7258,73.489999999999995]
[101154]
[101154,"SINAPI",88316,0.40200000000000002]
[101154,"SINAPI",88309,0.80300000000000005]
[101154,"SINAPI",87292,1.6E-2]
[101154,"SINAPI-I",34557,0.46]
[101154,"SINAPI-I",674,1.0269999999999999]
[101155]
[101155,"SINAPI",88316,0.53800000000000003]
[101155,"SINAPI",88309,1.075]
[101155,"SINAPI",87292,1.6E-2]
[101155,"SINAPI-I",34600,1.0269999999999999]
[101155,"SINAPI-I",34547,0.46]
[101156]
[101156,"SINAPI",88316,0.53800000000000003]
[101156,"SINAPI",88309,1.627]
[101156,"SINAPI",87292,1.6E-2]
[101156,"SINAPI-I",34548,0.46]
[101156,"SINAPI-I",652,1.0269999999999999]
[101158]
[101158,"SINAPI",88316,0.28399999999999997]
[101158,"SINAPI",88309,0.56699999999999995]
[101158,"SINAPI-I",44324,0.01]
[101158,"SINAPI-I",34583,1.0269999999999999]
[101157]
[101157,"SINAPI",88316,0.24199999999999999]
[101157,"SINAPI",88309,0.48399999999999999]
[101157,"SINAPI-I",44324,0.01]
[101157,"SINAPI-I",34584,1.0269999999999999]
[87382]
[87382,"SINAPI",88404,3.42]
[87382,"SINAPI",88399,1.04]
[87382,"SINAPI",88377,4.46]
[87382,"SINAPI-I",371,1839.64]
[87383]
[87383,"SINAPI",88392,2.68]
[87383,"SINAPI",88386,0.82]
[87383,"SINAPI",88377,3.5]
[87383,"SINAPI-I",371,1858.3]
[87384]
[87384,"SINAPI",88398,1.64]
[87384,"SINAPI",88393,0.5]
[87384,"SINAPI",88377,2.14]
[87384,"SINAPI",88316,0.52]
[87384,"SINAPI-I",371,1871.29]
[87398]
[87398,"SINAPI",88316,12.59]
[87398,"SINAPI-I",371,1890]
[87395]
[87395,"SINAPI",88404,4.46]
[87395,"SINAPI",88399,1.36]
[87395,"SINAPI",88377,5.82]
[87395,"SINAPI-I",37553,1954.97]
[87396]
[87396,"SINAPI",88392,3.62]
[87396,"SINAPI",88386,1.1000000000000001]
[87396,"SINAPI",88377,4.72]
[87396,"SINAPI-I",37553,1981.23]
[87397]
[87397,"SINAPI",88398,2.29]
[87397,"SINAPI",88393,0.7]
[87397,"SINAPI",88377,2.99]
[87397,"SINAPI",88316,0.86]
[87397,"SINAPI-I",37553,2006.31]
[87402]
[87402,"SINAPI",88316,15.78]
[87402,"SINAPI-I",37553,1995]
[87391]
[87391,"SINAPI",88404,4.46]
[87391,"SINAPI",88399,1.36]
[87391,"SINAPI",88377,5.82]
[87391,"SINAPI-I",37552,1954.97]
[87393]
[87393,"SINAPI",88392,3.62]
[87393,"SINAPI",88386,1.1000000000000001]
[87393,"SINAPI",88377,4.72]
[87393,"SINAPI-I",37552,1981.23]
[87394]
[87394,"SINAPI",88398,2.29]
[87394,"SINAPI",88393,0.7]
[87394,"SINAPI",88377,2.99]
[87394,"SINAPI",88316,0.86]
[87394,"SINAPI-I",37552,2006.31]
[87401]
[87401,"SINAPI",88316,15.78]
[87401,"SINAPI-I",37552,1995]
[87407]
[87407,"SINAPI",88430,3.57]
[87407,"SINAPI",88418,0.67]
[87407,"SINAPI",88377,4.24]
[87407,"SINAPI-I",371,1857.06]
[87408]
[87408,"SINAPI",88438,2.68]
[87408,"SINAPI",88433,0.5]
[87408,"SINAPI",88377,3.18]
[87408,"SINAPI-I",371,1868.72]
[87404]
[87404,"SINAPI",88430,5.61]
[87404,"SINAPI",88418,0.67]
[87404,"SINAPI",88377,6.28]
[87404,"SINAPI-I",36880,1779.96]
[87405]
[87405,"SINAPI",88438,4.21]
[87405,"SINAPI",88433,0.5]
[87405,"SINAPI",88377,4.71]
[87405,"SINAPI-I",36880,1796.28]
[87388]
[87388,"SINAPI",88404,3.44]
[87388,"SINAPI",88399,1.05]
[87388,"SINAPI",88377,4.49]
[87388,"SINAPI-I",36880,1737.44]
[87389]
[87389,"SINAPI",88392,2.66]
[87389,"SINAPI",88386,0.81]
[87389,"SINAPI",88377,3.47]
[87389,"SINAPI-I",36880,1752.12]
[87390]
[87390,"SINAPI",88398,1.64]
[87390,"SINAPI",88393,0.5]
[87390,"SINAPI",88377,2.14]
[87390,"SINAPI",88316,0.52]
[87390,"SINAPI-I",36880,1767.85]
[87385]
[87385,"SINAPI",88404,4.08]
[87385,"SINAPI",88399,1.24]
[87385,"SINAPI",88377,5.32]
[87385,"SINAPI-I",36886,2253.1999999999998]
[87386]
[87386,"SINAPI",88392,3.08]
[87386,"SINAPI",88386,0.94]
[87386,"SINAPI",88377,4.0199999999999996]
[87386,"SINAPI-I",36886,2276]
[87387]
[87387,"SINAPI",88398,1.91]
[87387,"SINAPI",88393,0.57999999999999996]
[87387,"SINAPI",88377,2.4900000000000002]
[87387,"SINAPI",88316,0.63]
[87387,"SINAPI-I",36886,2293.92]
[87399]
[87399,"SINAPI",88316,13.53]
[87399,"SINAPI-I",36886,2310]
[88627]
[88627,"SINAPI",88316,8.7799999999999994]
[88627,"SINAPI-I",1379,339.62]
[88627,"SINAPI-I",1106,75.47]
[88627,"SINAPI-I",370,1.1299999999999999]
[100463]
[100463,"SINAPI",102953,3.54]
[100463,"SINAPI",102952,1.08]
[100463,"SINAPI",88377,4.62]
[100463,"SINAPI-I",1379,336.29]
[100463,"SINAPI-I",1106,74.73]
[100463,"SINAPI-I",370,1.1200000000000001]
[88626]
[88626,"SINAPI",88831,2.98]
[88626,"SINAPI",88830,0.9]
[88626,"SINAPI",88377,3.88]
[88626,"SINAPI-I",1379,339.6]
[88626,"SINAPI-I",1106,75.47]
[88626,"SINAPI-I",370,1.1299999999999999]
[100488]
[100488,"SINAPI",89226,1.9]
[100488,"SINAPI",89225,0.57999999999999996]
[100488,"SINAPI",88377,2.48]
[100488,"SINAPI",88316,0.78]
[100488,"SINAPI-I",1379,340.69]
[100488,"SINAPI-I",1106,75.709999999999994]
[100488,"SINAPI-I",370,1.1399999999999999]
[100464]
[100464,"SINAPI",88404,4.08]
[100464,"SINAPI",88399,1.24]
[100464,"SINAPI",88377,5.32]
[100464,"SINAPI-I",1379,330.83]
[100464,"SINAPI-I",1106,73.52]
[100464,"SINAPI-I",370,1.1000000000000001]
[100465]
[100465,"SINAPI",88392,2.69]
[100465,"SINAPI",88386,0.82]
[100465,"SINAPI",88377,3.51]
[100465,"SINAPI-I",1379,333.18]
[100465,"SINAPI-I",1106,74.040000000000006]
[100465,"SINAPI-I",370,1.1100000000000001]
[100466]
[100466,"SINAPI",88398,1.56]
[100466,"SINAPI",88393,0.48]
[100466,"SINAPI",88377,2.04]
[100466,"SINAPI",88316,0.57999999999999996]
[100466,"SINAPI-I",1379,334.77]
[100466,"SINAPI-I",1106,74.39]
[100466,"SINAPI-I",370,1.1200000000000001]
[87368]
[87368,"SINAPI",88316,11.32]
[87368,"SINAPI-I",1379,208]
[87368,"SINAPI-I",1106,138.66999999999999]
[87368,"SINAPI-I",370,1.1599999999999999]
[100450]
[100450,"SINAPI",102953,5.38]
[100450,"SINAPI",102952,1.64]
[100450,"SINAPI",88377,7.02]
[100450,"SINAPI-I",1379,207.85]
[100450,"SINAPI-I",1106,138.56]
[100450,"SINAPI-I",370,1.1499999999999999]
[87289]
[87289,"SINAPI",88831,3.74]
[87289,"SINAPI",88830,1.1299999999999999]
[87289,"SINAPI",88377,4.87]
[87289,"SINAPI-I",1379,211.61]
[87289,"SINAPI-I",1106,141.07]
[87289,"SINAPI-I",370,1.18]
[87290]
[87290,"SINAPI",89226,2.63]
[87290,"SINAPI",89225,0.8]
[87290,"SINAPI",88377,3.43]
[87290,"SINAPI",88316,0.74]
[87290,"SINAPI-I",1379,212.37]
[87290,"SINAPI-I",1106,141.58000000000001]
[87290,"SINAPI-I",370,1.18]
[87333]
[87333,"SINAPI",88392,4.1100000000000003]
[87333,"SINAPI",88386,1.25]
[87333,"SINAPI",88377,5.36]
[87333,"SINAPI-I",1379,205.54]
[87333,"SINAPI-I",1106,137.03]
[87333,"SINAPI-I",370,1.1399999999999999]
[87334]
[87334,"SINAPI",88398,2.35]
[87334,"SINAPI",88393,0.71]
[87334,"SINAPI",88377,3.06]
[87334,"SINAPI",88316,0.63]
[87334,"SINAPI-I",1379,206.6]
[87334,"SINAPI-I",1106,137.72999999999999]
[87334,"SINAPI-I",370,1.1499999999999999]
[105515]
[105515,"SINAPI",90638,2.38]
[105515,"SINAPI",90637,0.75]
[105515,"SINAPI",88377,3.12]
[105515,"SINAPI",88316,4.99]
[105515,"SINAPI-I",1379,681.59]
[105515,"SINAPI-I",370,0.97499999999999998]
[87367]
[87367,"SINAPI",88316,11.23]
[87367,"SINAPI-I",1379,261.89]
[87367,"SINAPI-I",1106,116.4]
[87367,"SINAPI-I",370,1.1599999999999999]
[100449]
[100449,"SINAPI",102953,6.24]
[100449,"SINAPI",102952,1.9]
[100449,"SINAPI",88377,8.14]
[100449,"SINAPI-I",1379,260.73]
[100449,"SINAPI-I",1106,115.88]
[100449,"SINAPI-I",370,1.1599999999999999]
[87286]
[87286,"SINAPI",88831,3.96]
[87286,"SINAPI",88830,1.2]
[87286,"SINAPI",88377,5.16]
[87286,"SINAPI-I",1379,263.74]
[87286,"SINAPI-I",1106,117.22]
[87286,"SINAPI-I",370,1.17]
[87287]
[87287,"SINAPI",89226,2.41]
[87287,"SINAPI",89225,0.73]
[87287,"SINAPI",88377,3.14]
[87287,"SINAPI",88316,0.76]
[87287,"SINAPI-I",1379,266.85000000000002]
[87287,"SINAPI-I",1106,118.6]
[87287,"SINAPI-I",370,1.19]
[87331]
[87331,"SINAPI",88392,4.75]
[87331,"SINAPI",88386,1.45]
[87331,"SINAPI",88377,6.2]
[87331,"SINAPI-I",1379,258.04000000000002]
[87331,"SINAPI-I",1106,114.68]
[87331,"SINAPI-I",370,1.1499999999999999]
[87332]
[87332,"SINAPI",88398,2.15]
[87332,"SINAPI",88393,0.66]
[87332,"SINAPI",88377,2.81]
[87332,"SINAPI",88316,0.63]
[87332,"SINAPI-I",1379,261.13]
[87332,"SINAPI-I",1106,116.06]
[87332,"SINAPI-I",370,1.1599999999999999]
[87369]
[87369,"SINAPI",88316,11.1]
[87369,"SINAPI-I",1379,192.52]
[87369,"SINAPI-I",1106,171.13]
[87369,"SINAPI-I",370,1.1399999999999999]
[100451]
[100451,"SINAPI",102953,4.9800000000000004]
[100451,"SINAPI",102952,1.52]
[100451,"SINAPI",88377,6.5]
[100451,"SINAPI-I",1379,192.38]
[100451,"SINAPI-I",1106,171]
[100451,"SINAPI-I",370,1.1399999999999999]
[87292]
[87292,"SINAPI",88831,3.45]
[87292,"SINAPI",88830,1.05]
[87292,"SINAPI",88377,4.5]
[87292,"SINAPI-I",1379,195.86]
[87292,"SINAPI-I",1106,174.1]
[87292,"SINAPI-I",370,1.1599999999999999]
[87335]
[87335,"SINAPI",88392,3.8]
[87335,"SINAPI",88386,1.1599999999999999]
[87335,"SINAPI",88377,4.96]
[87335,"SINAPI-I",1379,206.42]
[87335,"SINAPI-I",1106,137.61000000000001]
[87335,"SINAPI-I",370,1.1499999999999999]
[87336]
[87336,"SINAPI",88398,2.2400000000000002]
[87336,"SINAPI",88393,0.68]
[87336,"SINAPI",88377,2.92]
[87336,"SINAPI",88316,0.62]
[87336,"SINAPI-I",1379,191.45]
[87336,"SINAPI-I",1106,170.18]
[87336,"SINAPI-I",370,1.1299999999999999]
[87370]
[87370,"SINAPI",88316,11.17]
[87370,"SINAPI-I",1379,175.34]
[87370,"SINAPI-I",1106,155.86000000000001]
[87370,"SINAPI-I",370,1.17]
[100452]
[100452,"SINAPI",102953,4.9000000000000004]
[100452,"SINAPI",102952,1.49]
[100452,"SINAPI",88377,6.39]
[100452,"SINAPI-I",1379,175.86]
[100452,"SINAPI-I",1106,156.32]
[100452,"SINAPI-I",370,1.17]
[88715]
[88715,"SINAPI",88831,3.27]
[88715,"SINAPI",88830,0.99]
[88715,"SINAPI",88377,4.26]
[88715,"SINAPI-I",1379,178.82]
[88715,"SINAPI-I",1106,158.94999999999999]
[88715,"SINAPI-I",370,1.19]
[87294]
[87294,"SINAPI",89226,2.8]
[87294,"SINAPI",89225,0.85]
[87294,"SINAPI",88377,3.65]
[87294,"SINAPI",88316,0.79]
[87294,"SINAPI-I",1379,177.12]
[87294,"SINAPI-I",1106,157.44]
[87294,"SINAPI-I",370,1.18]
[87337]
[87337,"SINAPI",88392,3.74]
[87337,"SINAPI",88386,1.1399999999999999]
[87337,"SINAPI",88377,4.88]
[87337,"SINAPI-I",1379,173.77]
[87337,"SINAPI-I",1106,154.46]
[87337,"SINAPI-I",370,1.1599999999999999]
[100487]
[100487,"SINAPI",88398,2.14]
[100487,"SINAPI",88393,0.65]
[100487,"SINAPI",88377,2.79]
[100487,"SINAPI",88316,0.62]
[100487,"SINAPI-I",1379,174.73]
[100487,"SINAPI-I",1106,155.32]
[100487,"SINAPI-I",370,1.1599999999999999]
[87380]
[87380,"SINAPI",88316,10.87]
[87380,"SINAPI-I",7334,189.71]
[87380,"SINAPI-I",1379,327.72]
[87380,"SINAPI-I",367,0.73]
[100461]
[100461,"SINAPI",102953,3.98]
[100461,"SINAPI",102952,1.21]
[100461,"SINAPI",88377,5.19]
[100461,"SINAPI-I",7334,189.03]
[100461,"SINAPI-I",1379,326.54000000000002]
[100461,"SINAPI-I",367,0.73]
[87322]
[87322,"SINAPI",88831,3.5]
[87322,"SINAPI",88830,1.06]
[87322,"SINAPI",88377,4.5599999999999996]
[87322,"SINAPI-I",7334,191.68]
[87322,"SINAPI-I",1379,331.12]
[87322,"SINAPI-I",367,0.74]
[87323]
[87323,"SINAPI",89226,2.2599999999999998]
[87323,"SINAPI",89225,0.69]
[87323,"SINAPI",88377,2.95]
[87323,"SINAPI",88316,0.68]
[87323,"SINAPI-I",7334,192.53]
[87323,"SINAPI-I",1379,332.59]
[87323,"SINAPI-I",367,0.74]
[87360]
[87360,"SINAPI",88404,5.28]
[87360,"SINAPI",88399,1.61]
[87360,"SINAPI",88377,6.89]
[87360,"SINAPI-I",7334,186.22]
[87360,"SINAPI-I",1379,321.69]
[87360,"SINAPI-I",367,0.71]
[87361]
[87361,"SINAPI",88392,3.16]
[87361,"SINAPI",88386,0.96]
[87361,"SINAPI",88377,4.12]
[87361,"SINAPI-I",7334,187.31]
[87361,"SINAPI-I",1379,323.57]
[87361,"SINAPI-I",367,0.72]
[87362]
[87362,"SINAPI",88398,1.92]
[87362,"SINAPI",88393,0.57999999999999996]
[87362,"SINAPI",88377,2.5]
[87362,"SINAPI",88316,0.53]
[87362,"SINAPI-I",7334,188.71]
[87362,"SINAPI-I",1379,326]
[87362,"SINAPI-I",367,0.72]
[87377]
[87377,"SINAPI",88316,11.02]
[87377,"SINAPI-I",1379,422.63]
[87377,"SINAPI-I",367,0.94]
[100458]
[100458,"SINAPI",102953,3.99]
[100458,"SINAPI",102952,1.22]
[100458,"SINAPI",88377,5.21]
[100458,"SINAPI-I",1379,424.23]
[100458,"SINAPI-I",367,0.94]
[87313]
[87313,"SINAPI",88831,3.31]
[87313,"SINAPI",88830,1.01]
[87313,"SINAPI",88377,4.32]
[87313,"SINAPI-I",1379,426.49]
[87313,"SINAPI-I",367,0.95]
[87314]
[87314,"SINAPI",89226,2.3199999999999998]
[87314,"SINAPI",89225,0.71]
[87314,"SINAPI",88377,3.03]
[87314,"SINAPI",88316,0.68]
[87314,"SINAPI-I",1379,427.78]
[87314,"SINAPI-I",367,0.95]
[87352]
[87352,"SINAPI",88404,6.23]
[87352,"SINAPI",88399,1.9]
[87352,"SINAPI",88377,8.1300000000000008]
[87352,"SINAPI-I",1379,413.8]
[87352,"SINAPI-I",367,0.92]
[87353]
[87353,"SINAPI",88392,3.65]
[87353,"SINAPI",88386,1.1100000000000001]
[87353,"SINAPI",88377,4.76]
[87353,"SINAPI-I",1379,415.71]
[87353,"SINAPI-I",367,0.92]
[87354]
[87354,"SINAPI",88398,1.98]
[87354,"SINAPI",88393,0.6]
[87354,"SINAPI",88377,2.58]
[87354,"SINAPI",88316,0.55000000000000004]
[87354,"SINAPI-I",1379,420.41]
[87354,"SINAPI-I",367,0.93]
[100480]
[100480,"SINAPI",88316,8.9]
[100480,"SINAPI-I",1379,484.67]
[100480,"SINAPI-I",370,1.08]
[100480,"SINAPI-I",123,19.39]
[100476]
[100476,"SINAPI",102953,3.58]
[100476,"SINAPI",102952,1.0900000000000001]
[100476,"SINAPI",88377,4.67]
[100476,"SINAPI-I",1379,479.44]
[100476,"SINAPI-I",370,1.07]
[100476,"SINAPI-I",123,19.18]
[100475]
[100475,"SINAPI",88831,2.88]
[100475,"SINAPI",88830,0.87]
[100475,"SINAPI",88377,3.75]
[100475,"SINAPI-I",1379,486]
[100475,"SINAPI-I",370,1.08]
[100475,"SINAPI-I",123,19.440000000000001]
[100491]
[100491,"SINAPI",89226,2.06]
[100491,"SINAPI",89225,0.62]
[100491,"SINAPI",88377,2.68]
[100491,"SINAPI",88316,0.88]
[100491,"SINAPI-I",1379,486]
[100491,"SINAPI-I",370,1.08]
[100491,"SINAPI-I",123,19.440000000000001]
[100477]
[100477,"SINAPI",88404,5.46]
[100477,"SINAPI",88399,1.66]
[100477,"SINAPI",88377,7.12]
[100477,"SINAPI-I",1379,469.85]
[100477,"SINAPI-I",370,1.04]
[100477,"SINAPI-I",123,18.79]
[100478]
[100478,"SINAPI",88392,2.75]
[100478,"SINAPI",88386,0.83]
[100478,"SINAPI",88377,3.58]
[100478,"SINAPI-I",1379,474.87]
[100478,"SINAPI-I",370,1.06]
[100478,"SINAPI-I",123,18.989999999999998]
[100479]
[100479,"SINAPI",88398,1.64]
[100479,"SINAPI",88393,0.5]
[100479,"SINAPI",88377,2.14]
[100479,"SINAPI",88316,0.66]
[100479,"SINAPI-I",1379,477.81]
[100479,"SINAPI-I",370,1.06]
[100479,"SINAPI-I",123,19.11]
[87372]
[87372,"SINAPI",88316,11.65]
[87372,"SINAPI-I",1379,563.59]
[87372,"SINAPI-I",370,1.25]
[100453]
[100453,"SINAPI",102953,4.9400000000000004]
[100453,"SINAPI",102952,1.51]
[100453,"SINAPI",88377,6.45]
[100453,"SINAPI-I",1379,563.64]
[100453,"SINAPI-I",370,1.25]
[87298]
[87298,"SINAPI",88831,3.39]
[87298,"SINAPI",88830,1.03]
[87298,"SINAPI",88377,4.42]
[87298,"SINAPI-I",1379,573.61]
[87298,"SINAPI-I",370,1.27]
[87299]
[87299,"SINAPI",89226,2.5299999999999998]
[87299,"SINAPI",89225,0.77]
[87299,"SINAPI",88377,3.3]
[87299,"SINAPI",88316,0.79]
[87299,"SINAPI-I",1379,273.44]
[87299,"SINAPI-I",370,1.27]
[87339]
[87339,"SINAPI",88404,7.94]
[87339,"SINAPI",88399,2.41]
[87339,"SINAPI",88377,10.35]
[87339,"SINAPI-I",1379,551.12]
[87339,"SINAPI-I",370,1.22]
[87340]
[87340,"SINAPI",88392,3.66]
[87340,"SINAPI",88386,1.1200000000000001]
[87340,"SINAPI",88377,4.78]
[87340,"SINAPI-I",1379,556.69000000000005]
[87340,"SINAPI-I",370,1.24]
[87341]
[87341,"SINAPI",88398,2.14]
[87341,"SINAPI",88393,0.65]
[87341,"SINAPI",88377,2.79]
[87341,"SINAPI",88316,0.57999999999999996]
[87341,"SINAPI-I",1379,559.97]
[87341,"SINAPI-I",370,1.24]
[88629]
[88629,"SINAPI",88316,8.57]
[88629,"SINAPI-I",1379,482.96]
[88629,"SINAPI-I",370,1.07]
[100467]
[100467,"SINAPI",102953,3.34]
[100467,"SINAPI",102952,1.01]
[100467,"SINAPI",88377,4.3499999999999996]
[100467,"SINAPI-I",1379,478.07]
[100467,"SINAPI-I",370,1.06]
[88628]
[88628,"SINAPI",88831,2.62]
[88628,"SINAPI",88830,0.8]
[88628,"SINAPI",88377,3.42]
[88628,"SINAPI-I",1379,483.7]
[88628,"SINAPI-I",370,1.07]
[100489]
[100489,"SINAPI",89226,1.87]
[100489,"SINAPI",89225,0.56999999999999995]
[100489,"SINAPI",88377,2.44]
[100489,"SINAPI",88316,0.75]
[100489,"SINAPI-I",1379,483.72]
[100489,"SINAPI-I",370,1.07]
[100468]
[100468,"SINAPI",88404,52.1]
[100468,"SINAPI",88399,1.58]
[100468,"SINAPI",88377,6.79]
[100468,"SINAPI-I",1379,469.39]
[100468,"SINAPI-I",370,1.04]
[100469]
[100469,"SINAPI",88392,2.4900000000000002]
[100469,"SINAPI",88386,0.76]
[100469,"SINAPI",88377,3.25]
[100469,"SINAPI-I",1379,473.5]
[100469,"SINAPI-I",370,1.05]
[100470]
[100470,"SINAPI",88398,2.4900000000000002]
[100470,"SINAPI",88393,0.76]
[100470,"SINAPI",88377,3.25]
[100470,"SINAPI-I",1379,389.03]
[100470,"SINAPI-I",370,1.1499999999999999]
[87371]
[87371,"SINAPI",88316,10.88]
[87371,"SINAPI-I",1379,133.44]
[87371,"SINAPI-I",1106,177.92]
[87371,"SINAPI-I",370,1.19]
[87295]
[87295,"SINAPI",88831,4.24]
[87295,"SINAPI",88830,1.29]
[87295,"SINAPI",88377,5.53]
[87295,"SINAPI-I",1379,134.77000000000001]
[87295,"SINAPI-I",1106,179.69]
[87295,"SINAPI-I",370,1.2]
[87296]
[87296,"SINAPI",89226,2.4300000000000002]
[87296,"SINAPI",89225,0.74]
[87296,"SINAPI",88377,3.17]
[87296,"SINAPI",88316,0.76]
[87296,"SINAPI-I",1379,135.88999999999999]
[87296,"SINAPI-I",1106,181.19]
[87296,"SINAPI-I",370,1.21]
[87338]
[87338,"SINAPI",88398,2.8]
[87338,"SINAPI",88393,0.85]
[87338,"SINAPI",88377,3.65]
[87338,"SINAPI",88316,0.7]
[87338,"SINAPI-I",1379,132.15]
[87338,"SINAPI-I",1106,176.2]
[87338,"SINAPI-I",370,1.17]
[88630]
[88630,"SINAPI",88831,2.58]
[88630,"SINAPI",88830,0.78]
[88630,"SINAPI",88377,3.36]
[88630,"SINAPI-I",1379,355.04]
[88630,"SINAPI-I",370,1.23]
[87381]
[87381,"SINAPI",88316,10.51]
[87381,"SINAPI-I",7334,189.07]
[87381,"SINAPI-I",1379,263.97000000000003]
[87381,"SINAPI-I",367,0.78]
[100462]
[100462,"SINAPI",102953,5.7]
[100462,"SINAPI",102952,1.73]
[100462,"SINAPI",88377,7.43]
[100462,"SINAPI-I",7334,187.46]
[100462,"SINAPI-I",1379,261.70999999999998]
[100462,"SINAPI-I",367,0.78]
[87325]
[87325,"SINAPI",88831,3.6]
[87325,"SINAPI",88830,1.0900000000000001]
[87325,"SINAPI",88377,4.6900000000000004]
[87325,"SINAPI-I",7334,189.4]
[87325,"SINAPI-I",1379,264.42]
[87325,"SINAPI-I",367,0.78]
[87326]
[87326,"SINAPI",89226,2.15]
[87326,"SINAPI",89225,0.65]
[87326,"SINAPI",88377,2.8]
[87326,"SINAPI",88316,0.62]
[87326,"SINAPI-I",7334,191.21]
[87326,"SINAPI-I",1379,266.95]
[87326,"SINAPI-I",367,0.79]
[87363]
[87363,"SINAPI",88392,4.49]
[87363,"SINAPI",88386,1.37]
[87363,"SINAPI",88377,5.86]
[87363,"SINAPI-I",7334,185.9]
[87363,"SINAPI-I",1379,259.54000000000002]
[87363,"SINAPI-I",367,0.77]
[87364]
[87364,"SINAPI",88398,2.02]
[87364,"SINAPI",88393,0.61]
[87364,"SINAPI",88377,2.63]
[87364,"SINAPI",88316,0.55000000000000004]
[87364,"SINAPI-I",7334,187.91]
[87364,"SINAPI-I",1379,262.35000000000002]
[87364,"SINAPI-I",367,0.78]
[87378]
[87378,"SINAPI",88316,10.66]
[87378,"SINAPI-I",1379,340.41]
[87378,"SINAPI-I",367,1.01]
[100459]
[100459,"SINAPI",102953,4.13]
[100459,"SINAPI",102952,1.26]
[100459,"SINAPI",88377,5.39]
[100459,"SINAPI-I",1379,339.18]
[100459,"SINAPI-I",367,1]
[87316]
[87316,"SINAPI",88831,3.56]
[87316,"SINAPI",88830,1.08]
[87316,"SINAPI",88377,4.6399999999999997]
[87316,"SINAPI-I",1379,343.52]
[87316,"SINAPI-I",367,1.02]
[87317]
[87317,"SINAPI",89226,2.3199999999999998]
[87317,"SINAPI",89225,0.7]
[87317,"SINAPI",88377,3.02]
[87317,"SINAPI",88316,0.69]
[87317,"SINAPI-I",1379,345.16]
[87317,"SINAPI-I",367,1.02]
[87355]
[87355,"SINAPI",88404,5.0199999999999996]
[87355,"SINAPI",88399,1.53]
[87355,"SINAPI",88377,6.55]
[87355,"SINAPI-I",1379,333.3]
[87355,"SINAPI-I",367,0.99]
[87356]
[87356,"SINAPI",88392,3.2]
[87356,"SINAPI",88386,0.98]
[87356,"SINAPI",88377,4.18]
[87356,"SINAPI-I",1379,335.82]
[87356,"SINAPI-I",367,1]
[87357]
[87357,"SINAPI",88398,1.93]
[87357,"SINAPI",88393,0.59]
[87357,"SINAPI",88377,2.52]
[87357,"SINAPI",88316,0.53]
[87357,"SINAPI-I",1379,338.22]
[87357,"SINAPI-I",367,1]
[100486]
[100486,"SINAPI",88316,8.5500000000000007]
[100486,"SINAPI-I",1379,394.75]
[100486,"SINAPI-I",370,1.17]
[100486,"SINAPI-I",123,15.79]
[100482]
[100482,"SINAPI",102953,3.73]
[100482,"SINAPI",102952,1.1299999999999999]
[100482,"SINAPI",88377,4.8600000000000003]
[100482,"SINAPI-I",1379,384.49]
[100482,"SINAPI-I",370,1.1399999999999999]
[100482,"SINAPI-I",123,15.38]
[100481]
[100481,"SINAPI",88831,2.69]
[100481,"SINAPI",88830,0.82]
[100481,"SINAPI",88377,3.51]
[100481,"SINAPI-I",1379,390.51]
[100481,"SINAPI-I",370,1.1599999999999999]
[100481,"SINAPI-I",123,15.62]
[100492]
[100492,"SINAPI",89226,1.91]
[100492,"SINAPI",89225,0.57999999999999996]
[100492,"SINAPI",88377,2.4900000000000002]
[100492,"SINAPI",88316,0.81]
[100492,"SINAPI-I",1379,391.73]
[100492,"SINAPI-I",370,1.1599999999999999]
[100492,"SINAPI-I",123,15.66]
[100483]
[100483,"SINAPI",88404,4.6100000000000003]
[100483,"SINAPI",88399,1.4]
[100483,"SINAPI",88377,6.01]
[100483,"SINAPI-I",1379,379.34]
[100483,"SINAPI-I",370,1.1200000000000001]
[100483,"SINAPI-I",123,15.17]
[100484]
[100484,"SINAPI",88392,2.91]
[100484,"SINAPI",88386,0.89]
[100484,"SINAPI",88377,3.8]
[100484,"SINAPI-I",1379,381.55]
[100484,"SINAPI-I",370,1.1299999999999999]
[100484,"SINAPI-I",123,15.26]
[100485]
[100485,"SINAPI",88398,1.62]
[100485,"SINAPI",88393,0.5]
[100485,"SINAPI",88377,2.12]
[100485,"SINAPI",88316,0.67]
[100485,"SINAPI-I",1379,385.74]
[100485,"SINAPI-I",370,1.1399999999999999]
[100485,"SINAPI-I",123,15.43]
[87373]
[87373,"SINAPI",88316,11.02]
[87373,"SINAPI-I",1379,454.58]
[87373,"SINAPI-I",370,1.35]
[100454]
[100454,"SINAPI",102953,4.3]
[100454,"SINAPI",102952,1.31]
[100454,"SINAPI",88377,5.61]
[100454,"SINAPI-I",1379,456.3]
[100454,"SINAPI-I",370,1.35]
[87301]
[87301,"SINAPI",88831,3.72]
[87301,"SINAPI",88830,1.1299999999999999]
[87301,"SINAPI",88377,4.8499999999999996]
[87301,"SINAPI-I",1379,459.85]
[87301,"SINAPI-I",370,1.36]
[87302]
[87302,"SINAPI",89226,2.58]
[87302,"SINAPI",89225,0.78]
[87302,"SINAPI",88377,3.36]
[87302,"SINAPI",88316,0.77]
[87302,"SINAPI-I",1379,460.92]
[87302,"SINAPI-I",370,1.37]
[87342]
[87342,"SINAPI",88404,6.4]
[87342,"SINAPI",88399,1.95]
[87342,"SINAPI",88377,8.35]
[87342,"SINAPI-I",1379,444.52]
[87342,"SINAPI-I",370,1.32]
[87343]
[87343,"SINAPI",88392,3.97]
[87343,"SINAPI",88386,1.21]
[87343,"SINAPI",88377,5.18]
[87343,"SINAPI-I",1379,447.33]
[87343,"SINAPI-I",370,1.33]
[87344]
[87344,"SINAPI",88398,2.12]
[87344,"SINAPI",88393,0.65]
[87344,"SINAPI",88377,2.77]
[87344,"SINAPI",88316,0.59]
[87344,"SINAPI-I",1379,452.19]
[87344,"SINAPI-I",370,1.34]
[88631]
[88631,"SINAPI",88316,8.2899999999999991]
[88631,"SINAPI-I",1379,389.54]
[88631,"SINAPI-I",370,1.1499999999999999]
[100471]
[100471,"SINAPI",102953,3.53]
[100471,"SINAPI",102952,1.07]
[100471,"SINAPI",88377,4.5999999999999996]
[100471,"SINAPI-I",1379,383.76]
[100471,"SINAPI-I",370,1.1399999999999999]
[100490]
[100490,"SINAPI",89226,1.76]
[100490,"SINAPI",89225,0.54]
[100490,"SINAPI",88377,2.2999999999999998]
[100490,"SINAPI",88316,0.71]
[100490,"SINAPI-I",1379,390.16]
[100490,"SINAPI-I",370,1.1599999999999999]
[100472]
[100472,"SINAPI",88404,4.4000000000000004]
[100472,"SINAPI",88399,1.34]
[100472,"SINAPI",88377,5.74]
[100472,"SINAPI-I",1379,378.97]
[100472,"SINAPI-I",370,1.1200000000000001]
[100473]
[100473,"SINAPI",88392,2.71]
[100473,"SINAPI",88386,0.82]
[100473,"SINAPI",88377,3.53]
[100473,"SINAPI-I",1379,380.81]
[100473,"SINAPI-I",370,1.1299999999999999]
[100474]
[100474,"SINAPI",88398,1.48]
[100474,"SINAPI",88393,0.45]
[100474,"SINAPI",88377,1.93]
[100474,"SINAPI",88316,0.56999999999999995]
[100474,"SINAPI-I",1379,384.42]
[100474,"SINAPI-I",370,1.1399999999999999]
[87379]
[87379,"SINAPI",88316,10.65]
[87379,"SINAPI-I",7334,188.64]
[87379,"SINAPI-I",1379,220.98]
[87379,"SINAPI-I",367,0.82]
[100460]
[100460,"SINAPI",102953,5.22]
[100460,"SINAPI",102952,1.59]
[100460,"SINAPI",88377,6.81]
[100460,"SINAPI-I",7334,187.73]
[100460,"SINAPI-I",1379,219.91]
[100460,"SINAPI-I",367,0.81]
[87319]
[87319,"SINAPI",88831,3.31]
[87319,"SINAPI",88830,1.01]
[87319,"SINAPI",88377,4.32]
[87319,"SINAPI-I",7334,189.9]
[87319,"SINAPI-I",1379,222.45]
[87319,"SINAPI-I",367,0.82]
[87320]
[87320,"SINAPI",89226,2.38]
[87320,"SINAPI",89225,0.72]
[87320,"SINAPI",88377,3.08]
[87320,"SINAPI",88316,0.67]
[87320,"SINAPI-I",7334,190.61]
[87320,"SINAPI-I",1379,223.28]
[87320,"SINAPI-I",367,0.83]
[87358]
[87358,"SINAPI",88392,4.12]
[87358,"SINAPI",88386,1.25]
[87358,"SINAPI",88377,5.37]
[87358,"SINAPI-I",7334,186.02]
[87358,"SINAPI-I",1379,217.91]
[87358,"SINAPI-I",367,0.81]
[87359]
[87359,"SINAPI",88398,2.3199999999999998]
[87359,"SINAPI",88393,0.7]
[87359,"SINAPI",88377,3.02]
[87359,"SINAPI",88316,0.57999999999999996]
[87359,"SINAPI-I",7334,186.82]
[87359,"SINAPI-I",1379,218.84]
[87359,"SINAPI-I",367,0.81]
[87376]
[87376,"SINAPI",88316,10.8]
[87376,"SINAPI-I",1379,284.97000000000003]
[87376,"SINAPI-I",367,1.06]
[100457]
[100457,"SINAPI",102953,3.75]
[100457,"SINAPI",102952,1.1399999999999999]
[100457,"SINAPI",88377,4.8899999999999997]
[100457,"SINAPI-I",1379,285]
[100457,"SINAPI-I",367,1.06]
[87310]
[87310,"SINAPI",88831,3.3]
[87310,"SINAPI",88830,1]
[87310,"SINAPI",88377,4.3]
[87310,"SINAPI-I",1379,289.33]
[87310,"SINAPI-I",367,1.07]
[87311]
[87311,"SINAPI",89226,2.31]
[87311,"SINAPI",89225,0.71]
[87311,"SINAPI",88377,3.02]
[87311,"SINAPI",88316,0.67]
[87311,"SINAPI-I",1379,288.19]
[87311,"SINAPI-I",367,1.07]
[87350]
[87350,"SINAPI",88392,4.91]
[87350,"SINAPI",88386,1.5]
[87350,"SINAPI",88377,6.41]
[87350,"SINAPI-I",1379,280.31]
[87350,"SINAPI-I",367,1.04]
[87351]
[87351,"SINAPI",88398,2.1]
[87351,"SINAPI",88393,0.61]
[87351,"SINAPI",88377,2.74]
[87351,"SINAPI",88316,0.55000000000000004]
[87351,"SINAPI-I",1379,282.8]
[87351,"SINAPI-I",367,1.05]
[87374]
[87374,"SINAPI",88316,11.1]
[87374,"SINAPI-I",1379,380.9]
[87374,"SINAPI-I",370,1.41]
[100455]
[100455,"SINAPI",102953,4.62]
[100455,"SINAPI",102952,1.41]
[100455,"SINAPI",88377,6.03]
[100455,"SINAPI-I",1379,379.53]
[100455,"SINAPI-I",370,1.41]
[87304]
[87304,"SINAPI",88831,3.37]
[87304,"SINAPI",88830,1.03]
[87304,"SINAPI",88377,4.4000000000000004]
[87304,"SINAPI-I",1379,387.2]
[87304,"SINAPI-I",370,1.43]
[87305]
[87305,"SINAPI",89226,2.66]
[87305,"SINAPI",89225,0.81]
[87305,"SINAPI",88377,3.47]
[87305,"SINAPI",88316,0.81]
[87305,"SINAPI-I",1379,386.89]
[87305,"SINAPI-I",370,1.43]
[87345]
[87345,"SINAPI",88404,5.7]
[87345,"SINAPI",88399,1.74]
[87345,"SINAPI",88377,7.44]
[87345,"SINAPI-I",1379,373.1]
[87345,"SINAPI-I",370,1.38]
[87346]
[87346,"SINAPI",88392,3.67]
[87346,"SINAPI",88386,1.1200000000000001]
[87346,"SINAPI",88377,4.79]
[87346,"SINAPI-I",1379,376.08]
[87346,"SINAPI-I",370,1.39]
[87347]
[87347,"SINAPI",88398,2.15]
[87347,"SINAPI",88393,0.65]
[87347,"SINAPI",88377,2.8]
[87347,"SINAPI",88316,0.57999999999999996]
[87347,"SINAPI-I",1379,378.34]
[87347,"SINAPI-I",370,1.4]
[87366]
[87366,"SINAPI",88316,11.14]
[87366,"SINAPI-I",43617,6.2E-2]
[87366,"SINAPI-I",1379,280.88]
[87366,"SINAPI-I",370,1.25]
[100448]
[100448,"SINAPI",102953,3.89]
[100448,"SINAPI",102952,1.18]
[100448,"SINAPI",88377,5.07]
[100448,"SINAPI-I",43617,6.3E-2]
[100448,"SINAPI-I",1379,281.52999999999997]
[100448,"SINAPI-I",370,1.25]
[87283]
[87283,"SINAPI",88831,1.01]
[87283,"SINAPI",88830,3.3319999999999999]
[87283,"SINAPI",88377,4.33]
[87283,"SINAPI-I",43617,6.3E-2]
[87283,"SINAPI-I",1379,281.52999999999997]
[87283,"SINAPI-I",370,1.27]
[87284]
[87284,"SINAPI",89226,2.38]
[87284,"SINAPI",89225,0.73]
[87284,"SINAPI",88377,3.11]
[87284,"SINAPI",88316,0.71]
[87284,"SINAPI-I",43617,6.3E-2]
[87284,"SINAPI-I",1379,284.8]
[87284,"SINAPI-I",370,1.27]
[87329]
[87329,"SINAPI",88392,4.8499999999999996]
[87329,"SINAPI",88386,1.47]
[87329,"SINAPI",88377,6.32]
[87329,"SINAPI-I",43617,6.0999999999999999E-2]
[87329,"SINAPI-I",1379,276.29000000000002]
[87329,"SINAPI-I",370,1.23]
[87330]
[87330,"SINAPI",88398,2.15]
[87330,"SINAPI",88393,0.65]
[87330,"SINAPI",88377,2.8]
[87330,"SINAPI",88316,0.59]
[87330,"SINAPI-I",43617,6.2E-2]
[87330,"SINAPI-I",1379,279.16000000000003]
[87330,"SINAPI-I",370,1.24]
[87375]
[87375,"SINAPI",88316,11.31]
[87375,"SINAPI-I",1379,327.78]
[87375,"SINAPI-I",370,1.46]
[100456]
[100456,"SINAPI",102953,4.32]
[100456,"SINAPI",102952,1.31]
[100456,"SINAPI",88377,5.63]
[100456,"SINAPI-I",1379,327.81]
[100456,"SINAPI-I",370,1.46]
[87307]
[87307,"SINAPI",88831,3.72]
[87307,"SINAPI",88830,1.1299999999999999]
[87307,"SINAPI",88377,4.8499999999999996]
[87307,"SINAPI-I",1379,332.39]
[87307,"SINAPI-I",370,1.48]
[87308]
[87308,"SINAPI",89226,2.67]
[87308,"SINAPI",89225,0.81]
[87308,"SINAPI",88377,3.48]
[87308,"SINAPI",88316,0.77]
[87308,"SINAPI-I",1379,331.49]
[87308,"SINAPI-I",370,1.47]
[87348]
[87348,"SINAPI",88404,5.14]
[87348,"SINAPI",88399,1.56]
[87348,"SINAPI",88377,6.7]
[87348,"SINAPI-I",1379,321.07]
[87348,"SINAPI-I",370,1.43]
[87349]
[87349,"SINAPI",88398,1.99]
[87349,"SINAPI",88393,0.61]
[87349,"SINAPI",88377,2.6]
[87349,"SINAPI",88316,0.57999999999999996]
[87349,"SINAPI-I",1379,326.63]
[87349,"SINAPI-I",370,1.45]
[87365]
[87365,"SINAPI",88316,10.8]
[87365,"SINAPI-I",43617,5.5E-2]
[87365,"SINAPI-I",1379,246.5]
[87365,"SINAPI-I",370,1.28]
[100447]
[100447,"SINAPI",102953,5.82]
[100447,"SINAPI",102952,1.77]
[100447,"SINAPI",88377,7.59]
[100447,"SINAPI-I",43617,5.5E-2]
[100447,"SINAPI-I",1379,245.31]
[100447,"SINAPI-I",370,1.27]
[87280]
[87280,"SINAPI",88831,3.7]
[87280,"SINAPI",88830,1.1200000000000001]
[87280,"SINAPI",88377,4.82]
[87280,"SINAPI-I",43617,5.5E-2]
[87280,"SINAPI-I",1379,248.15]
[87280,"SINAPI-I",370,1.29]
[87281]
[87281,"SINAPI",89226,2.68]
[87281,"SINAPI",89225,0.81]
[87281,"SINAPI",88377,3.49]
[87281,"SINAPI",88316,0.77]
[87281,"SINAPI-I",43617,5.5E-2]
[87281,"SINAPI-I",1379,249.29]
[87281,"SINAPI-I",370,1.29]
[87327]
[87327,"SINAPI",88392,4.4800000000000004]
[87327,"SINAPI",88386,1.36]
[87327,"SINAPI",88377,5.84]
[87327,"SINAPI-I",43617,5.3999999999999999E-2]
[87327,"SINAPI-I",1379,242.88]
[87327,"SINAPI-I",370,1.26]
[87328]
[87328,"SINAPI",88398,2.0299999999999998]
[87328,"SINAPI",88393,0.62]
[87328,"SINAPI",88377,2.65]
[87328,"SINAPI",88316,0.59]
[87328,"SINAPI-I",43617,5.5E-2]
[87328,"SINAPI-I",1379,245.79]
[87328,"SINAPI-I",370,1.27]
[87410]
[87410,"SINAPI",88430,5.24]
[87410,"SINAPI",88418,0.67]
[87410,"SINAPI",88377,5.91]
[87410,"SINAPI-I",36870,1094.55]
[95577]
[95577,"SINAPI",92803,1]
[95577,"SINAPI",88245,3.0599999999999999E-2]
[95577,"SINAPI",88238,6.1000000000000004E-3]
[95577,"SINAPI-I",43132,0.02]
[95577,"SINAPI-I",39017,0.54300000000000004]
[95578]
[95578,"SINAPI",92804,1]
[95578,"SINAPI",88245,1.67E-2]
[95578,"SINAPI",88238,3.3E-3]
[95578,"SINAPI-I",43132,0.02]
[95578,"SINAPI-I",39017,0.36699999999999999]
[95579]
[95579,"SINAPI",92805,1]
[95579,"SINAPI",88245,1.06E-2]
[95579,"SINAPI",88238,2.0999999999999999E-3]
[95579,"SINAPI-I",43132,0.02]
[95579,"SINAPI-I",39017,0.21199999999999999]
[95580]
[95580,"SINAPI",92806,1]
[95580,"SINAPI",88245,8.5000000000000006E-3]
[95580,"SINAPI",88238,1.6999999999999999E-3]
[95580,"SINAPI-I",43132,0.02]
[95580,"SINAPI-I",39017,0.113]
[95581]
[95581,"SINAPI",92798,1]
[95581,"SINAPI",88245,7.7000000000000002E-3]
[95581,"SINAPI",88238,1.5E-3]
[95581,"SINAPI-I",43132,0.02]
[95581,"SINAPI-I",39017,5.1999999999999998E-2]
[95582]
[95582,"SINAPI",95448,1]
[95582,"SINAPI",88245,7.3000000000000001E-3]
[95582,"SINAPI",88238,1.5E-3]
[95582,"SINAPI-I",43132,0.02]
[95582,"SINAPI-I",39017,1.7000000000000001E-2]
[95576]
[95576,"SINAPI",92802,1]
[95576,"SINAPI",88245,6.4500000000000002E-2]
[95576,"SINAPI",88238,1.29E-2]
[95576,"SINAPI-I",43132,0.02]
[95576,"SINAPI-I",39017,0.74299999999999999]
[95583]
[95583,"SINAPI",92800,1]
[95583,"SINAPI",88245,0.16520000000000001]
[95583,"SINAPI",88238,3.3000000000000002E-2]
[95583,"SINAPI-I",43132,0.02]
[95583,"SINAPI-I",39017,1.19]
[95584]
[95584,"SINAPI",92801,1]
[95584,"SINAPI",88245,0.104]
[95584,"SINAPI",88238,2.0799999999999999E-2]
[95584,"SINAPI-I",43132,0.02]
[95584,"SINAPI-I",39017,0.97]
[95593]
[95593,"SINAPI",92801,1]
[95593,"SINAPI",88245,0.104]
[95593,"SINAPI",88238,2.0799999999999999E-2]
[95593,"SINAPI-I",43132,0.02]
[95593,"SINAPI-I",39017,0.97]
[95592]
[95592,"SINAPI",92800,1]
[95592,"SINAPI",88245,0.16520000000000001]
[95592,"SINAPI",88238,3.3000000000000002E-2]
[95592,"SINAPI-I",43132,0.02]
[95592,"SINAPI-I",39017,1.19]
[92919]
[92919,"SINAPI",92803,1]
[92919,"SINAPI",88245,7.0900000000000005E-2]
[92919,"SINAPI",88238,1.1599999999999999E-2]
[92919,"SINAPI-I",43132,2.5000000000000001E-2]
[92919,"SINAPI-I",39017,0.54300000000000004]
[92921]
[92921,"SINAPI",92804,1]
[92921,"SINAPI",88245,4.6399999999999997E-2]
[92921,"SINAPI",88238,7.6E-3]
[92921,"SINAPI-I",43132,2.5000000000000001E-2]
[92921,"SINAPI-I",39017,0.36699999999999999]
[92922]
[92922,"SINAPI",92805,1]
[92922,"SINAPI",88245,3.5099999999999999E-2]
[92922,"SINAPI",88238,5.7000000000000002E-3]
[92922,"SINAPI-I",43132,2.5000000000000001E-2]
[92922,"SINAPI-I",39017,0.21199999999999999]
[92923]
[92923,"SINAPI",92806,1]
[92923,"SINAPI",88245,2.75E-2]
[92923,"SINAPI",88238,4.4999999999999997E-3]
[92923,"SINAPI-I",43132,2.5000000000000001E-2]
[92923,"SINAPI-I",39017,0.113]
[92924]
[92924,"SINAPI",92798,1]
[92924,"SINAPI",88245,2.1600000000000001E-2]
[92924,"SINAPI",88238,3.5000000000000001E-3]
[92924,"SINAPI-I",43132,2.5000000000000001E-2]
[92924,"SINAPI-I",39017,5.1999999999999998E-2]
[104104]
[104104,"SINAPI",95448,1]
[104104,"SINAPI",88245,8.9999999999999993E-3]
[104104,"SINAPI",88238,1.5E-3]
[104104,"SINAPI-I",43132,2.5000000000000001E-2]
[92916]
[92916,"SINAPI",92801,1]
[92916,"SINAPI",88245,0.14280000000000001]
[92916,"SINAPI",88238,2.3300000000000001E-2]
[92916,"SINAPI-I",43132,2.5000000000000001E-2]
[92916,"SINAPI-I",39017,0.97]
[92917]
[92917,"SINAPI",92802,1]
[92917,"SINAPI",88245,0.10150000000000001]
[92917,"SINAPI",88238,1.66E-2]
[92917,"SINAPI-I",43132,2.5000000000000001E-2]
[92917,"SINAPI-I",39017,0.74299999999999999]
[92915]
[92915,"SINAPI",92800,1]
[92915,"SINAPI",88245,0.1933]
[92915,"SINAPI",88238,3.1600000000000003E-2]
[92915,"SINAPI-I",43132,2.5000000000000001E-2]
[92915,"SINAPI-I",39017,1.19]
[92771]
[92771,"SINAPI",92803,1]
[92771,"SINAPI",88245,2.5899999999999999E-2]
[92771,"SINAPI",88238,4.1999999999999997E-3]
[92771,"SINAPI-I",43132,2.5000000000000001E-2]
[92771,"SINAPI-I",39017,0.35699999999999998]
[92772]
[92772,"SINAPI",92804,1]
[92772,"SINAPI",88245,1.43E-2]
[92772,"SINAPI",88238,2.3E-3]
[92772,"SINAPI-I",43132,2.5000000000000001E-2]
[92772,"SINAPI-I",39017,0.14699999999999999]
[92773]
[92773,"SINAPI",92805,1]
[92773,"SINAPI",88245,1.21E-2]
[92773,"SINAPI",88238,2E-3]
[92773,"SINAPI-I",43132,2.5000000000000001E-2]
[92774]
[92774,"SINAPI",92806,1]
[92774,"SINAPI",88245,1.0800000000000001E-2]
[92774,"SINAPI",88238,1.8E-3]
[92774,"SINAPI-I",43132,2.5000000000000001E-2]
[92769]
[92769,"SINAPI",92801,1]
[92769,"SINAPI",88245,5.9700000000000003E-2]
[92769,"SINAPI",88238,9.7999999999999997E-3]
[92769,"SINAPI-I",43132,2.5000000000000001E-2]
[92769,"SINAPI-I",39017,1.333]
[92770]
[92770,"SINAPI",92802,1]
[92770,"SINAPI",88245,4.0300000000000002E-2]
[92770,"SINAPI",88238,6.6E-3]
[92770,"SINAPI-I",43132,2.5000000000000001E-2]
[92770,"SINAPI-I",39017,0.72799999999999998]
[92767]
[92767,"SINAPI",92799,1]
[92767,"SINAPI",88245,0.1055]
[92767,"SINAPI",88238,1.72E-2]
[92767,"SINAPI-I",43132,2.5000000000000001E-2]
[92767,"SINAPI-I",39017,2.8159999999999998]
[92768]
[92768,"SINAPI",92800,1]
[92768,"SINAPI",88245,8.3599999999999994E-2]
[92768,"SINAPI",88238,1.3599999999999999E-2]
[92768,"SINAPI-I",43132,2.5000000000000001E-2]
[92768,"SINAPI-I",39017,2.1179999999999999]
[92762]
[92762,"SINAPI",92803,1]
[92762,"SINAPI",88245,3.9199999999999999E-2]
[92762,"SINAPI",88238,6.4000000000000003E-3]
[92762,"SINAPI-I",43132,2.5000000000000001E-2]
[92762,"SINAPI-I",39017,0.54300000000000004]
[92763]
[92763,"SINAPI",92804,1]
[92763,"SINAPI",88245,2.5700000000000001E-2]
[92763,"SINAPI",88238,4.1999999999999997E-3]
[92763,"SINAPI-I",43132,2.5000000000000001E-2]
[92763,"SINAPI-I",39017,0.36699999999999999]
[92764]
[92764,"SINAPI",92805,1]
[92764,"SINAPI",88245,1.9400000000000001E-2]
[92764,"SINAPI",88238,3.2000000000000002E-3]
[92764,"SINAPI-I",43132,2.5000000000000001E-2]
[92764,"SINAPI-I",39017,0.21199999999999999]
[92765]
[92765,"SINAPI",92806,1]
[92765,"SINAPI",88245,1.52E-2]
[92765,"SINAPI",88238,2.5000000000000001E-3]
[92765,"SINAPI-I",43132,2.5000000000000001E-2]
[92765,"SINAPI-I",39017,0.113]
[92766]
[92766,"SINAPI",92798,1]
[92766,"SINAPI",88245,1.2E-2]
[92766,"SINAPI",88238,2E-3]
[92766,"SINAPI-I",43132,2.5000000000000001E-2]
[92766,"SINAPI-I",39017,5.1999999999999998E-2]
[104105]
[104105,"SINAPI",95448,1]
[104105,"SINAPI",88245,9.1999999999999998E-3]
[104105,"SINAPI",88238,1.5E-3]
[104105,"SINAPI-I",43132,2.5000000000000001E-2]
[92760]
[92760,"SINAPI",92801,1]
[92760,"SINAPI",88245,7.9000000000000001E-2]
[92760,"SINAPI",88238,1.29E-2]
[92760,"SINAPI-I",43132,2.5000000000000001E-2]
[92760,"SINAPI-I",39017,0.97]
[92761]
[92761,"SINAPI",92802,1]
[92761,"SINAPI",88245,5.6099999999999997E-2]
[92761,"SINAPI",88238,9.1999999999999998E-3]
[92761,"SINAPI-I",43132,2.5000000000000001E-2]
[92761,"SINAPI-I",39017,0.74299999999999999]
[92759]
[92759,"SINAPI",92800,1]
[92759,"SINAPI",88245,0.1069]
[92759,"SINAPI",88238,1.7500000000000002E-2]
[92759,"SINAPI-I",43132,2.5000000000000001E-2]
[92759,"SINAPI-I",39017,1.19]
[104108]
[104108,"SINAPI",92803,1]
[104108,"SINAPI",88245,9.5600000000000004E-2]
[104108,"SINAPI",88238,1.5599999999999999E-2]
[104108,"SINAPI-I",43132,2.5000000000000001E-2]
[104108,"SINAPI-I",39017,0.54300000000000004]
[104107]
[104107,"SINAPI",92804,1]
[104107,"SINAPI",88245,7.4300000000000005E-2]
[104107,"SINAPI",88238,1.21E-2]
[104107,"SINAPI-I",43132,2.5000000000000001E-2]
[104107,"SINAPI-I",39017,0.36699999999999999]
[104106]
[104106,"SINAPI",92805,1]
[104106,"SINAPI",88245,5.62E-2]
[104106,"SINAPI",88238,9.1999999999999998E-3]
[104106,"SINAPI-I",43132,2.5000000000000001E-2]
[104106,"SINAPI-I",39017,0.21199999999999999]
[104110]
[104110,"SINAPI",92801,1]
[104110,"SINAPI",88245,0.2286]
[104110,"SINAPI",88238,3.73E-2]
[104110,"SINAPI-I",43132,2.5000000000000001E-2]
[104110,"SINAPI-I",39017,0.97]
[104109]
[104109,"SINAPI",92802,1]
[104109,"SINAPI",88245,0.16250000000000001]
[104109,"SINAPI",88238,2.6499999999999999E-2]
[104109,"SINAPI-I",43132,2.5000000000000001E-2]
[104109,"SINAPI-I",39017,0.74299999999999999]
[104111]
[104111,"SINAPI",92800,1]
[104111,"SINAPI",88245,0.30940000000000001]
[104111,"SINAPI",88238,5.0500000000000003E-2]
[104111,"SINAPI-I",43132,2.5000000000000001E-2]
[104111,"SINAPI-I",39017,1.19]
[92884]
[92884,"SINAPI",92877,1]
[92884,"SINAPI",88245,5.2900000000000003E-2]
[92884,"SINAPI",88238,8.6E-3]
[92884,"SINAPI-I",43132,2.5000000000000001E-2]
[92884,"SINAPI-I",39017,0.54300000000000004]
[92885]
[92885,"SINAPI",92878,1]
[92885,"SINAPI",88245,3.8600000000000002E-2]
[92885,"SINAPI",88238,6.3E-3]
[92885,"SINAPI-I",43132,2.5000000000000001E-2]
[92885,"SINAPI-I",39017,0.36699999999999999]
[92886]
[92886,"SINAPI",92879,1]
[92886,"SINAPI",88245,2.6100000000000002E-2]
[92886,"SINAPI",88238,4.3E-3]
[92886,"SINAPI-I",43132,2.5000000000000001E-2]
[92886,"SINAPI-I",39017,0.21199999999999999]
[92887]
[92883,"SINAPI-I",43132,2.5000000000000001E-2]
[92876,"SINAPI",88238,3.2000000000000002E-3]
[92806,"SINAPI-I",43056,1.1399999999999999]
[95602,"SINAPI",102274,0.32050000000000001]
[95996,"SINAPI",95632,4.3400000000000001E-2]
[95995,"SINAPI",88314,1.1301000000000001]
[94882,"SINAPI",5632,6.7599999999999993E-2]
[94876,"SINAPI",88316,0.19700000000000001]
[90733]
[90724,"SINAPI",88246,0.50860000000000005]
[90730]
[94881,"SINAPI-I",20078,0.20830000000000001]
[90708,"SINAPI",5632,2.6200000000000001E-2]
[90705,"SINAPI",88246,0.15490000000000001]
[90697,"SINAPI-I",20078,2.0799999999999999E-2]
[90699,"SINAPI-I",20078,2.92E-2]
[105249,"SINAPI-I",20078,0.45250000000000001]
[105394]
[105258,"SINAPI",88316,0.30819999999999997]
[105261,"SINAPI-I",20078,0.13239999999999999]
[105372]
[105361,"SINAPI",88316,0.3523]
[105315]
[105252]
[105300,"SINAPI",88316,0.2873]
[105257,"SINAPI-I",20078,0.1125]
[105305]
[105250,"SINAPI",88316,9.8500000000000004E-2]
[105275,"SINAPI",88316,1.1572]
[105362,"SINAPI",88246,0.38769999999999999]
[105347,"SINAPI",88316,1.8605]
[105283,"SINAPI",5678,3.3500000000000002E-2]
[105348,"SINAPI",5679,0.2374]
[105352,"SINAPI",88316,0.85429999999999995]
[105325,"SINAPI-I",20078,0.29749999999999999]
[105343,"SINAPI",5679,6.2899999999999998E-2]
[105366,"SINAPI-I",20078,8.7499999999999994E-2]
[97187,"SINAPI-I",10997,0.31240000000000001]
[97189,"SINAPI",5632,9.4799999999999995E-2]
[97190,"SINAPI",5631,4.4400000000000002E-2]
[97173,"SINAPI",88316,0.1069]
[97185,"SINAPI",5631,2.3599999999999999E-2]
[97171,"SINAPI-I",20078,4.0300000000000002E-2]
[97143]
[97161,"SINAPI",88316,9.3299999999999994E-2]
[97149,"SINAPI-I",20078,2.2100000000000002E-2]
[97166]
[97169,"SINAPI",5632,6.0600000000000001E-2]
[97127,"SINAPI",88316,0.1038]
[97135,"SINAPI",88246,0.10299999999999999]
[97131,"SINAPI-I",20078,3.1300000000000001E-2]
[105308,"SINAPI-I",20078,1.3599999999999999E-2]
[105310,"SINAPI",88246,0.12429999999999999]
[105290]
[105288,"SINAPI-I",20078,4.3799999999999999E-2]
[105333,"SINAPI-I",9829,1.0249999999999999]
[105337,"SINAPI-I",9827,1.0249999999999999]
[105327,"SINAPI",88316,7.5600000000000001E-2]
[105370,"SINAPI",88316,0.1186]
[92848,"SINAPI-I",40347,0.4]
[92834,"SINAPI",5632,3.1099999999999999E-2]
[92858]
[92860,"SINAPI-I",40345,0.4]
[92832]
[92809]
[92810,"SINAPI",88246,0.27350000000000002]
[92813,"SINAPI",5632,0.19500000000000001]
[95568,"SINAPI",88246,0.21510000000000001]
[95569,"SINAPI-I",7795,1.03]
[104932,"SINAPI",5632,0.15040000000000001]
[92853,"SINAPI",88246,0.16220000000000001]
[92857,"SINAPI",5632,0.10290000000000001]
[92841,"SINAPI-I",40344,0.4]
[92816,"SINAPI",88629,2.3E-2]
[95565,"SINAPI-I",40334,1.03]
[92211,"SINAPI",88316,0.54710000000000003]
[92222]
[92223,"SINAPI",88629,9.2999999999999992E-3]
[94304,"SINAPI",5632,6.4100000000000004E-2]
[94329,"SINAPI",5901,5.4000000000000003E-3]
[104739,"SINAPI",90692,7.4200000000000002E-2]
[104742]
[93369,"SINAPI",91533,0.12520000000000001]
[93372,"SINAPI",5901,5.4000000000000003E-3]
[104732]
[104733]
[104735,"SINAPI",5903,5.9999999999999995E-4]
[96397,"SINAPI",96463,4.0058000000000003E-3]
[96396,"SINAPI",5684,9.1617000000000001E-3]
[105737,"SINAPI",5932,6.5960000000000003E-3]
[105749,"SINAPI",5685,6.5963800000000003E-2]
[105754,"SINAPI",5631,1.9506300000000001E-2]
[105657,"SINAPI",89036,4.8996499999999998E-2]
[100566,"SINAPI",96463,5.0073000000000001E-3]
[105666,"SINAPI",5901,3.8153000000000002E-3]
[105658,"SINAPI",5685,3.8790999999999999E-2]
[100567,"SINAPI",5901,3.8153000000000002E-3]
[105640,"SINAPI",5684,1.14521E-2]
[105659,"SINAPI",5901,3.8153000000000002E-3]
[105668,"SINAPI",89035,5.8275000000000002E-3]
[105647,"SINAPI",5901,2.2891999999999999E-3]
[105710,"SINAPI",5685,3.8790999999999999E-2]
[105705]
[105708,"SINAPI",5685,1.93955E-2]
[105699,"SINAPI",5684,1.0306900000000001E-2]
[105684,"SINAPI",96463,4.1310000000000001E-3]
[105691,"SINAPI",5932,6.5960000000000003E-3]
[105700,"SINAPI-I",4721,0.6464067]
[105692,"SINAPI",96464,4.8064200000000001E-2]
[100571]
[105701,"SINAPI",96463,4.8821000000000003E-3]
[105718,"SINAPI",5903,5.0627199999999997E-2]
[100565,"SINAPI",5903,3.75739E-2]
[105714,"SINAPI",5901,2.2891999999999999E-3]
[96391,"SINAPI",5932,5.1609999999999998E-3]
[105632,"SINAPI",5932,3.7260000000000001E-3]
[105617,"SINAPI",105525,1]
[96392,"SINAPI",5932,5.1609999999999998E-3]
[105633,"SINAPI",88316,7.9707500000000001E-2]
[105571,"SINAPI",96463,6.7597999999999998E-3]
[96389,"SINAPI",5901,3.8153000000000002E-3]
[105599,"SINAPI",96464,1.7297099999999999E-2]
[105623,"SINAPI-I",1379,93.023331799999994]
[105631]
[105608,"SINAPI",96463,4.5065000000000001E-3]
[100572,"SINAPI",5921,5.8275000000000002E-3]
[105583,"SINAPI",88316,5.4823999999999998E-2]
[105721,"SINAPI",93244,3.0478700000000001E-2]
[105595,"SINAPI",5934,4.7182000000000002E-2]
[105590,"SINAPI",5903,5.2534900000000002E-2]
[105566,"SINAPI",5932,6.5960000000000003E-3]
[101767,"SINAPI",88316,0.20885339999999999]
[104375,"SINAPI",5841,3.637E-3]
[105757,"SINAPI-I",44952,0.45]
[105557,"SINAPI",5934,4.1050000000000003E-2]
[96385,"SINAPI",93244,2.5237800000000001E-2]
[105733,"SINAPI",5903,6.5855700000000003E-2]
[105736]
[105738,"SINAPI",96464,5.2280899999999998E-2]
[105738,"SINAPI",5684,1.14521E-2]
[105751,"SINAPI",5932,8.0309999999999999E-3]
[105746]
[105660,"SINAPI",5685,6.3469399999999995E-2]
[105663,"SINAPI",5901,3.8153000000000002E-3]
[105642,"SINAPI",5684,1.14521E-2]
[105661,"SINAPI",5684,1.6032999999999999E-2]
[105670,"SINAPI",89035,5.8275000000000002E-3]
[105649,"SINAPI",5901,2.2891999999999999E-3]
[105662,"SINAPI-I",4721,0.75918399999999997]
[105671,"SINAPI",5684,1.0306900000000001E-2]
[105656,"SINAPI",5932,3.7260000000000001E-3]
[105578]
[105709,"SINAPI",96463,4.1310000000000001E-3]
[105693,"SINAPI",5932,6.5960000000000003E-3]
[105675,"SINAPI",88316,5.6787400000000002E-2]
[105681,"SINAPI",5901,2.2891999999999999E-3]
[105697]
[105697,"SINAPI-I",1379,136.6636876]
[105682,"SINAPI",5685,3.62682E-2]
[105698,"SINAPI",5921,5.8275000000000002E-3]
[105677,"SINAPI",5901,2.2891999999999999E-3]
[105683,"SINAPI",5684,9.1617000000000001E-3]
[105582,"SINAPI",89035,5.8275000000000002E-3]
[105715,"SINAPI",5685,3.62682E-2]
[105629,"SINAPI",5934,2.5125600000000001E-2]
[105635,"SINAPI",96463,4.8821000000000003E-3]
[105621,"SINAPI",5684,2.2904000000000002E-3]
[105630,"SINAPI",5903,2.6471399999999999E-2]
[105636,"SINAPI-I",1379,179.7298777]
[105572,"SINAPI",5901,3.8153000000000002E-3]
[105574,"SINAPI-I",1379,48.174109899999998]
[105611]
[105628,"SINAPI",5923,2.4459100000000001E-2]
[105604,"SINAPI",5685,2.8126600000000002E-2]
[105586,"SINAPI",93244,8.1603499999999995E-2]
[105589,"SINAPI",89035,5.8275000000000002E-3]
[105720,"SINAPI",5901,2.2891999999999999E-3]
[105593,"SINAPI",73436,2.0613800000000002E-2]
[105591,"SINAPI",96464,7.5746900000000006E-2]
[105567]
[105568,"SINAPI",96464,2.1085199999999998E-2]
[105598,"SINAPI",88316,5.3065999999999999E-3]
[102728]
[102765,"SINAPI",96620,1.4863]
[102766,"SINAPI",96620,2.4001999999999999]
[102755,"SINAPI",102734,49.865200000000002]
[102745]
[102757,"SINAPI",102731,275.78449999999998]
[102762,"SINAPI",102730,40.104999999999997]
[102762,"SINAPI",102727,54.540599999999998]
[102740,"SINAPI",102727,12.7913]
[102754,"SINAPI",102736,10.8467]
[102738,"SINAPI",102727,5.9185999999999996]
[102751,"SINAPI",102734,15.360799999999999]
[102799,"SINAPI",92756,30]
[102800,"SINAPI",92743,34.5]
[102758,"SINAPI",96620,0.94889999999999997]
[102749,"SINAPI",102736,9.7364999999999995]
[102760,"SINAPI",102727,42.203600000000002]
[102114,"SINAPI",88248,2.1145999999999998]
[102117,"SINAPI-I",39996,0.2]
[102132,"SINAPI",88248,4.4039999999999999]
[102118,"SINAPI-I",39996,0.2]
[102126,"SINAPI-I",754,1]
[102121,"SINAPI-I",39996,0.2]
[102128,"SINAPI",88247,0.63300000000000001]
[104942,"SINAPI-I",45097,1]
[101800,"SINAPI",89995,6.8000000000000005E-2]
[98108,"SINAPI",97734,1.6799999999999999E-2]
[98106]
[98107,"SINAPI-I",5069,6.1999999999999998E-3]
[98104,"SINAPI-I",5069,6.1999999999999998E-3]
[97892]
[97888,"SINAPI",88309,4.5403000000000002]
[97890]
[97884,"SINAPI",97735,5.67E-2]
[99251,"SINAPI",101616,0.49]
[97901,"SINAPI",100475,5.1499999999999997E-2]
[99253,"SINAPI-I",5069,1.2500000000000001E-2]
[97903,"SINAPI-I",2692,6.7999999999999996E-3]
[97904,"SINAPI-I",4491,0.17760000000000001]
[97905,"SINAPI-I",650,10.036099999999999]
[97906,"SINAPI-I",4491,0.11840000000000001]
[97907,"SINAPI-I",4517,0.17599999999999999]
[97908,"SINAPI",101616,1.69]
[97898,"SINAPI",88309,0.14530000000000001]
[101796]
[101796,"SINAPI",5679,9.3100000000000002E-2]
[101802,"SINAPI",101616,1.69]
[101804,"SINAPI",89995,6.1499999999999999E-2]
[101805,"SINAPI",100475,0.31940000000000002]
[102623,"SINAPI",102607,1]
[102622,"SINAPI",94690,1]
[102606,"SINAPI-I",34638,1]
[102621,"SINAPI-I",43982,1]
[102618]
[102599]
[103005,"SINAPI",96536,0.62]
[103006,"SINAPI",88309,3.4883000000000002]
[102989,"SINAPI",88629,1.3094999999999999E-3]
[102994]
[106009,"SINAPI",97114,0.15833330000000001]
[106013]
[105998,"SINAPI",97090,2.2263111000000002]
[105993,"SINAPI",105945,1.8239000000000001]
[105988]
[103003,"SINAPI",88309,0.27800960000000002]
[102364,"SINAPI-I",7698,0.87009999999999998]
[102362,"SINAPI",88315,0.97740000000000005]
[101192,"SINAPI",88316,0.52800000000000002]
[101199,"SINAPI",94962,8.9999999999999993E-3]
[101203,"SINAPI",88239,0.53069999999999995]
[101188]
[87894,"SINAPI",88316,4.65E-2]
[87888,"SINAPI",88309,8.6800000000000002E-2]
[87879,"SINAPI",88316,2.5499999999999998E-2]
[87911,"SINAPI",87396,3.3999999999999998E-3]
[103688,"SINAPI",90587,0.45600000000000002]
[103684,"SINAPI",90586,0.12]
[103675]
[103670]
[91084,"SINAPI",90982,1.0066999999999999]
[91080,"SINAPI-I",370,0.12920000000000001]
[91082,"SINAPI",95967,0.27760000000000001]
[91082,"SINAPI-I",370,0.12920000000000001]
[91099,"SINAPI",90651,0.77680000000000005]
[91072,"SINAPI",102726,0.25]
[91072,"SINAPI-I",4720,7.4800000000000005E-2]
[91093,"SINAPI-I",7155,1.2190000000000001]
[91070,"SINAPI-I",1379,51.418599999999998]
[91087,"SINAPI",88377,0.38850000000000001]
[91083,"SINAPI",90650,7.3400000000000007E-2]
[91100,"SINAPI",88830,6.0999999999999999E-2]
[91100,"SINAPI-I",39014,5.0033000000000003]
[91077,"SINAPI",90979,2.63E-2]
[91098,"SINAPI",90657,0.94669999999999999]
[91094,"SINAPI",88297,0.31869999999999998]
[91092,"SINAPI",95967,0.84350000000000003]
[91073,"SINAPI",90979,4.3799999999999999E-2]
[91073,"SINAPI",88831,0.39100000000000001]
[91086]
[104281,"SINAPI",88245,0.72089999999999999]
[104287,"SINAPI-I",44878,1]
[104292,"SINAPI-I",43055,10.762]
[104289,"SINAPI",95140,0.3579]
[104284,"SINAPI-I",43132,6.0000000000000001E-3]
[104291,"SINAPI",95140,0.54390000000000005]
[104268,"SINAPI-I",44845,1]
[104273,"SINAPI-I",34,1.3573999999999999]
[104278,"SINAPI",88238,2.1387]
[104305,"SINAPI-I",44889,1]
[104308,"SINAPI",90644,3.0000000000000001E-3]
[104309,"SINAPI-I",1379,2.4750000000000001]
[104297,"SINAPI",88245,6.5000000000000002E-2]
[104298]
[90954,"SINAPI",87399,7.5999999999999998E-2]
[90942,"SINAPI-I",38545,1.4350000000000001]
[90950,"SINAPI",87301,7.5999999999999998E-2]
[87769,"SINAPI",88316,0.308]
[87644,"SINAPI",87399,5.2999999999999999E-2]
[87633,"SINAPI",88316,0.123]
[87703]
[87622,"SINAPI",88316,0.107]
[87765,"SINAPI",88309,0.61599999999999999]
[87690,"SINAPI",88309,0.28499999999999998]
[92716,"SINAPI",92714,1]
[87445]
[90651,"SINAPI",90646,1]
[90663,"SINAPI",90659,1]
[92146]
[96036,"SINAPI",96032,1]
[89876,"SINAPI",88281,1]
[5811,"SINAPI",91369,1]
[91645,"SINAPI",88283,1]
[6259]
[5826]
[5890,"SINAPI",88282,1]
[91031,"SINAPI",91027,1]
[5954]
[90979,"SINAPI",90977,1]
[102827,"SINAPI",102825,1]
[92044]
[95720,"SINAPI",95719,1]
[104716,"SINAPI",104714,1]
[91486,"SINAPI",91484,1]
[102839,"SINAPI",102835,1]
[102934,"SINAPI",102930,1]
[83766,"SINAPI",83764,1]
[93428]
[104913,"SINAPI",88296,1]
[102844,"SINAPI",88296,1]
[102851]
[93402,"SINAPI",93400,1]
[105845,"SINAPI",105842,1]
[99834,"SINAPI",99829,1]
[90686,"SINAPI",90685,1]
[102275]
[96156,"SINAPI",96054,1]
[96245,"SINAPI",88294,1]
[88398,"SINAPI",88395,1]
[5932,"SINAPI",89228,1]
[102987,"SINAPI",102985,1]
[93408,"SINAPI",93407,1]
[103176,"SINAPI",103171,1]
[102868]
[104696,"SINAPI",104692,1]
[102965]
[103224,"SINAPI",103221,1]
[103237,"SINAPI",103233,1]
[90632,"SINAPI",88297,1]
[88418,"SINAPI",88427,1]
[90669]
[5940,"SINAPI",89129,1]
[89251,"SINAPI",89246,1]
[5875,"SINAPI",89011,1]
[7049,"SINAPI",7053,1]
[5685,"SINAPI",89210,1]
[91693,"SINAPI",91688,1]
[95139,"SINAPI",95138,1]
[104091,"SINAPI",104090,1]
[89032,"SINAPI",5724,1]
[5847,"SINAPI",88324,1]
[96013,"SINAPI",96008,1]
[5845,"SINAPI",88324,1]
[102910]
[5882,"SINAPI",88847,1]
[93434,"SINAPI",93430,1]
[5837,"SINAPI",89240,1]
[97624]
[97630,"SINAPI",102899,0.1011]
[97634,"SINAPI",102274,6.0299999999999999E-2]
[104795,"SINAPI",88316,4.3499999999999997E-2]
[97665,"SINAPI",88264,2.0500000000000001E-2]
[97644]
[97657,"SINAPI",88316,11.7423]
[97662]
[92712]
[87444]
[90647,"SINAPI-I",39925,1.4800000000000001E-5]
[90639]
[92140]
[96031,"SINAPI-I",2401,1.4800000000000001E-5]
[89878]
[7060,"SINAPI-I",37752,6.4200000000000002E-5]
[91644,"SINAPI-I",4221,50.34]
[91359,"SINAPI-I",37738,5.5099999999999998E-5]
[91392,"SINAPI-I",37754,5.6999999999999996E-6]
[91355,"SINAPI-I",37754,1.4100000000000001E-5]
[102813]
[90968]
[90962,"SINAPI-I",13803,6.6699999999999995E-5]
[90963]
[103940,"SINAPI-I",44852,6.3999999999999997E-5]
[95123,"SINAPI-I",26039,4.57E-5]
[102831]
[104161,"SINAPI-I",44386,1.4800000000000001E-5]
[91469,"SINAPI-I",36484,1.11E-5]
[89231,"SINAPI-I",13877,1.43E-5]
[95210,"SINAPI-I",36493,6.9999999999999994E-5]
[104685]
[93423,"SINAPI-I",36501,4.0000000000000003E-5]
[102842,"SINAPI-I",43984,6.4300000000000004E-5]
[102846]
[102855,"SINAPI-I",4221,11]
[105839,"SINAPI-I",37752,3.43E-5]
[91633,"SINAPI-I",4221,22.37]
[90683,"SINAPI-I",37515,1.4800000000000001E-5]
[104654]
[90688,"SINAPI-I",37514,8.0000000000000007E-5]
[88389]
[90633,"SINAPI-I",39919,6.3999999999999997E-5]
[95130,"SINAPI-I",40637,2.19E-5]
[93405,"SINAPI-I",39813,1.4800000000000001E-5]
[103159]
[92109]
[104692,"SINAPI-I",45080,1.4800000000000001E-5]
[90678,"SINAPI-I",44061,6.4200000000000002E-5]
[102879]
[102972,"SINAPI-I",41982,5.3300000000000001E-5]
[102882]
[88422]
[89128,"SINAPI-I",4262,5.5999999999999999E-5]
[102956,"SINAPI-I",36531,6.9999999999999994E-5]
[5735]
[96457,"SINAPI-I",4221,10.67]
[89280,"SINAPI-I",6067,5.3300000000000001E-5]
[91688]
[7034,"SINAPI-I",14405,4.0000000000000003E-5]
[5724,"SINAPI-I",7622,5.5600000000000003E-5]
[53810]
[96018,"SINAPI-I",36529,5.8300000000000001E-5]
[96024]
[5714]
[53794,"SINAPI-I",9914,5.0000000000000002E-5]
[93432,"SINAPI-I",4221,360]
[89240]
[103933,"SINAPI",98576,0.77239999999999998]
[103925,"SINAPI",98576,0.435]
[103800,"SINAPI",88309,2.2158000000000002]
[104320,"SINAPI-I",20083,1.0999999999999999E-2]
[104321,"SINAPI-I",3861,1]
[104322,"SINAPI-I",122,9.4000000000000004E-3]
[102726,"SINAPI-I",9838,0.5]
[102722,"SINAPI",88316,0.1211]
[102688,"SINAPI-I",367,0.16739999999999999]
[102696,"SINAPI-I",3670,0.1071]
[102673,"SINAPI",88629,8.0000000000000004E-4]
[102677,"SINAPI-I",12583,1.03]
[102670,"SINAPI",5679,7.7600000000000002E-2]
[102672,"SINAPI-I",367,0.70640000000000003]
[102681,"SINAPI-I",3899,0.16669999999999999]
[102669,"SINAPI",88629,8.0000000000000004E-4]
[102668,"SINAPI-I",4718,0.16739999999999999]
[102711]
[102708,"SINAPI-I",3899,1]
[98332]
[98389,"SINAPI",88243,0.22650000000000001]
[98392,"SINAPI",88243,0.22650000000000001]
[98368,"SINAPI",88279,2.6642999999999999]
[98358,"SINAPI-I",43852,4.0099999999999997E-2]
[98343]
[98350,"SINAPI-I",43728,9.4074000000000009]
[98383,"SINAPI-I",43859,1.05]
[98346,"SINAPI-I",43727,1]
[98345]
[98344,"SINAPI-I",44327,0.33329999999999999]
[98361,"SINAPI-I",43851,3.7037]
[98397,"SINAPI-I",5318,1.0999999999999999E-2]
[97286,"SINAPI-I",43965,16.8]
[97291,"SINAPI-I",43965,16.8]
[97309,"SINAPI",88264,1.6033999999999999]
[97276,"SINAPI-I",39997,16.8]
[97287,"SINAPI-I",39997,16.8]
[97305,"SINAPI-I",44027,4]
[97274]
[97283]
[97296,"SINAPI-I",43947,1]
[97277,"SINAPI",88247,0.3327]
[97238,"SINAPI",96562,1]
[97245,"SINAPI-I",44043,0.90100000000000002]
[97251]
[97255,"SINAPI-I",39997,16.8]
[97258,"SINAPI-I",43964,1]
[97270,"SINAPI",88247,1.0689]
[97252]
[97253,"SINAPI-I",13348,33.6]
[97268,"SINAPI-I",44025,1]
[97315,"SINAPI",88247,0.51129999999999998]
[97318,"SINAPI",88264,0.78239999999999998]
[97313,"SINAPI-I",39997,25.2]
[97324,"SINAPI-I",44027,6]
[103519,"SINAPI",92443,0.12]
[103498,"SINAPI",88248,0.17199999999999999]
[103494,"SINAPI-I",44715,1]
[103523,"SINAPI",88267,2.6353]
[103512,"SINAPI",93287,0.26340000000000002]
[104988]
[97041,"SINAPI",88262,0.60268310000000003]
[104985,"SINAPI",88262,0.1268793]
[97035,"SINAPI",88262,0.1268793]
[97030,"SINAPI",88239,0.14445269999999999]
[97028,"SINAPI-I",3993,0.23300000000000001]
[97013,"SINAPI-I",1355,0.66200000000000003]
[97024]
[104990,"SINAPI",88239,5.2622700000000001E-2]
[97045,"SINAPI-I",41946,1.6299999999999999E-2]
[97063,"SINAPI",100251,0.1673]
[96997,"SINAPI-I",3992,14.4549]
[96998,"SINAPI-I",5068,0.12895000000000001]
[97003,"SINAPI",91692,1.0699999999999999E-2]
[97002,"SINAPI",88262,1.8498139]
[97009]
[97006,"SINAPI-I",5068,0.12094199999999999]
[104982,"SINAPI-I",45142,6.6000000000000003E-2]
[97056]
[104983,"SINAPI-I",43058,3.8134999999999999]
[97050,"SINAPI-I",44051,1.0999999999999999E-2]
[102073]
[102076]
[102082,"SINAPI-I",11975,4]
[102087,"SINAPI",88262,0.874]
[101997,"SINAPI-I",4491,3.5920000000000001]
[101998,"SINAPI-I",1358,1.4890000000000001]
[101992,"SINAPI",91693,0.10199999999999999]
[101989,"SINAPI",88239,0.187]
[101986,"SINAPI-I",4491,3.879]
[101971,"SINAPI-I",4517,0.92500000000000004]
[102071,"SINAPI-I",2692,4.0000000000000001E-3]
[102067,"SINAPI",102091,0.92]
[102064]
[102050,"SINAPI",101997,0.55000000000000004]
[102048,"SINAPI",88239,0.75700000000000001]
[102045,"SINAPI",88262,2.855]
[102040,"SINAPI",88239,0.80100000000000005]
[102038,"SINAPI-I",40304,9.2999999999999999E-2]
[102014,"SINAPI-I",6193,0.53500000000000003]
[102007,"SINAPI",101990,1.02]
[102006,"SINAPI",88239,0.47599999999999998]
[102003,"SINAPI-I",40304,8.2000000000000003E-2]
[101977,"SINAPI-I",10749,1.3049999999999999]
[101118,"SINAPI",88843,9.2999999999999992E-3]
[101116,"SINAPI",5847,4.7999999999999996E-3]
[101144]
[101137,"SINAPI",88316,7.7999999999999996E-3]
[101129,"SINAPI",100974,1.3]
[101131,"SINAPI",100974,1.3]
[101141]
[101152,"SINAPI",5857,9.4000000000000004E-3]
[101211,"SINAPI",88316,1.43E-2]
[101212]
[101214,"SINAPI",89877,2.4400000000000002E-2]
[101208,"SINAPI",88908,2.2000000000000001E-3]
[101221]
[101224,"SINAPI",88907,8.6E-3]
[101262,"SINAPI",88908,2.5000000000000001E-3]
[101230]
[101234,"SINAPI",89876,3.9800000000000002E-2]
[101237,"SINAPI",88316,1.2E-2]
[101238,"SINAPI",5632,2.3999999999999998E-3]
[101248,"SINAPI",89877,1.9800000000000002E-2]
[101250,"SINAPI",89883,3.3099999999999997E-2]
[101247,"SINAPI",88907,7.3000000000000001E-3]
[101244,"SINAPI",89877,1.72E-2]
[102282,"SINAPI",5632,3.4254199999999999E-2]
[102322]
[102326,"SINAPI",5678,4.4766100000000003E-2]
[102301]
[102281,"SINAPI",88907,1.52514E-2]
[102316,"SINAPI",88316,4.0278799999999997E-2]
[90095,"SINAPI",88907,1.4666200000000001E-2]
[102294]
[90105,"SINAPI",5678,3.3258500000000003E-2]
[102357,"SINAPI",90973,1.0005999999999999]
[102358,"SINAPI-I",2759,5.62E-2]
[102352,"SINAPI",102898,0.1046]
[101594,"SINAPI",5631,3.7060000000000003E-2]
[101602]
[101590,"SINAPI-I",5061,9.5999999999999992E-3]
[101592,"SINAPI",5631,9.0399999999999994E-2]
[101585,"SINAPI-I",4472,0.1467]
[101581,"SINAPI-I",21138,0.1449]
[101606,"SINAPI-I",44283,0.15279999999999999]
[101574,"SINAPI",88262,0.2228]
[101613,"SINAPI",102946,3.2997000000000001]
[101611,"SINAPI-I",7672,2.4]
[101614,"SINAPI-I",1330,1868.12]
[101617,"SINAPI",91533,1.6000000000000001E-3]
[101617,"SINAPI",88316,7.5999999999999998E-2]
[101622]
[101623,"SINAPI",88309,0.92130000000000001]
[104182,"SINAPI",88248,0.28000000000000003]
[104187,"SINAPI",90650,0.1661]
[100674,"SINAPI-I",39961,1.1688000000000001]
[94590,"SINAPI",88316,0.19184850000000001]
[105809,"SINAPI-I",45187,0.55600000000000005]
[94562,"SINAPI",88629,8.0000000000000002E-3]
[100668,"SINAPI",88316,2.1176713]
[100671]
[100666,"SINAPI",88261,1.8444506000000001]
[100659,"SINAPI",88316,3.4000000000000002E-2]
[91292,"SINAPI",88309,1.3620000000000001]
[100710,"SINAPI",88261,1.222]
[100708,"SINAPI-I",3105,1]
[100688,"SINAPI",91295,1]
[90849]
[91319,"SINAPI",100660,9.8000000000000007]
[91315,"SINAPI",91292,1]
[91323,"SINAPI",100660,10.199999999999999]
[91016,"SINAPI",100659,10.199999999999999]
[100712,"SINAPI",91292,1]
[91336,"SINAPI",91299,1]
[100675]
[90795,"SINAPI",88261,0.26]
[100704,"SINAPI-I",43603,1]
[100700,"SINAPI",88261,3.4580000000000002]
[91296,"SINAPI",88316,0.70699999999999996]
[90823,"SINAPI",88261,1.6779999999999999]
[91012,"SINAPI-I",4987,1]
[100695]
[100698]
[101175]
[101184,"SINAPI",88309,0.33900000000000002]
[101182,"SINAPI",95576,0.89800000000000002]
[101186,"SINAPI",97913,0.56299999999999994]
[101187,"SINAPI",90776,1.369]
[101177,"SINAPI",88316,0.47099999999999997]
[101179,"SINAPI",102904,0.253]
[100899,"SINAPI",90778,5.1000000000000004E-3]
[100892,"SINAPI",89218,4.7000000000000002E-3]
[100894,"SINAPI",90776,6.9999999999999999E-4]
[100890,"SINAPI",89218,2.3E-3]
[100656,"SINAPI-I",10997,3.7900000000000003E-2]
[102650,"SINAPI",90644,0.53690000000000004]
[102646]
[102651,"SINAPI",90643,3.1099999999999999E-2]
[102648]
[100652,"SINAPI",100973,0.2576]
[100653,"SINAPI",90778,2.23E-2]
[100374,"SINAPI",88239,5.1879999999999997]
[100366,"SINAPI",92262,1]
[100366,"SINAPI-I",5069,0.83599999999999997]
[100358,"SINAPI-I",4400,4]
[100369,"SINAPI-I",4400,4]
[100370,"SINAPI-I",39027,1.35]
[100372,"SINAPI-I",21142,1]
[100373,"SINAPI",92261,1]
[100380,"SINAPI",93272,3.7000000000000002E-3]
[100383,"SINAPI-I",4472,9.9000000000000005E-2]
[100386,"SINAPI-I",4430,0.77800000000000002]
[92596,"SINAPI-I",4777,57.52]
[92620,"SINAPI",88316,0.65600000000000003]
[92588,"SINAPI",88316,0.49199999999999999]
[92592]
[92594,"SINAPI",92257,1]
[92553,"SINAPI-I",21142,1]
[92563,"SINAPI-I",4472,12]
[92564,"SINAPI-I",4344,4]
[92557,"SINAPI",92259,1]
[92557,"SINAPI-I",4400,2.5]
[92559,"SINAPI-I",4400,5]
[92551,"SINAPI-I",40623,1]
[92260,"SINAPI",88239,2.044]
[92258,"SINAPI-I",11964,12]
[100389,"SINAPI-I",39027,0.05]
[100394,"SINAPI",88239,0.23200000000000001]
[92575,"SINAPI",93282,9.4000000000000004E-3]
[92576,"SINAPI-I",40547,0.06]
[92574,"SINAPI",88278,0.37]
[92568,"SINAPI-I",40535,2.278]
[92580,"SINAPI",93281,6.7999999999999996E-3]
[92539,"SINAPI",93281,4.3099999999999999E-2]
[92540,"SINAPI-I",20247,7.0000000000000007E-2]
[97719,"SINAPI",89994,0.1263]
[97720,"SINAPI",92413,0.66669999999999996]
[97738,"SINAPI",94971,1.2]
[97736,"SINAPI",94972,1.103]
[97735,"SINAPI",94972,1.2]
[97737,"SINAPI",91692,0.32479999999999998]
[98619,"SINAPI",100973,0.19634950000000001]
[98625,"SINAPI",91635,5.99873E-2]
[105918,"SINAPI",102880,0.1077217]
[98637,"SINAPI",102816,0.24821869999999999]
[98645,"SINAPI",102850,8.0654299999999998E-2]
[98649,"SINAPI",90778,5.0467100000000001E-2]
[98653,"SINAPI",102857,6.5409800000000004E-2]
[100345,"SINAPI",88245,4.4509199999999999E-2]
[100347,"SINAPI-I",43132,2.5000000000000001E-2]
[100337,"SINAPI",88309,1.3798820000000001]
[105808,"SINAPI",88239,0.46773429999999999]
[100351,"SINAPI-I",44196,3.0130316000000001]
[100353,"SINAPI",92421,0.53125]
[105047,"SINAPI-I",10527,5.3799999999999996E-4]
[105096,"SINAPI-I",14439,1.5437399999999999]
[105049]
[105051,"SINAPI-I",2794,1.0915900000000001]
[105059,"SINAPI",88239,0.33816000000000002]
[105057,"SINAPI-I",4343,1.4665999999999999]
[105046,"SINAPI-I",4115,1.0915900000000001]
[105058,"SINAPI",88262,0.36059999999999998]
[105062,"SINAPI",88262,0.87721499999999997]
[105067,"SINAPI-I",35274,1.0915900000000001]
[105073,"SINAPI-I",4343,0.73333000000000004]
[105078,"SINAPI-I",40568,1.5270000000000001E-2]
[105061,"SINAPI",88262,0.65156999999999998]
[105077,"SINAPI-I",40568,1.5277000000000001E-2]
[105090,"SINAPI-I",6180,1.0162]
[105080,"SINAPI-I",10527,7.2499999999999995E-4]
[105083,"SINAPI",95140,0.290798]
[105086,"SINAPI",88262,0.47838999999999998]
[105041,"SINAPI-I",10527,7.2900000000000005E-4]
[93961,"SINAPI",5632,5.0900000000000001E-2]
[93971,"SINAPI",88316,1.1977]
[93969,"SINAPI-I",39848,2]
[93957,"SINAPI-I",44480,1.0713999999999999]
[93967,"SINAPI",90644,0.35120000000000001]
[104841]
[104844,"SINAPI",90632,6.3500000000000001E-2]
[104852,"SINAPI",88316,0.375]
[104842,"SINAPI",5901,6.3600000000000004E-2]
[104888,"SINAPI-I",44480,1.0714999999999999]
[104847,"SINAPI",90776,0.1462]
[104891,"SINAPI",90631,3.2199999999999999E-2]
[104886]
[104851,"SINAPI",90626,6.4899999999999999E-2]
[104880,"SINAPI",90778,3.49E-2]
[104857,"SINAPI",90643,3.5799999999999998E-2]
[104856,"SINAPI",102839,2.53E-2]
[104858,"SINAPI",102838,7.0599999999999996E-2]
[104871,"SINAPI-I",44383,0]
[104872,"SINAPI",102828,2.24E-2]
[104872,"SINAPI-I",9874,0.5171]
[104873]
[104867,"SINAPI",102828,4.0399999999999998E-2]
[104867,"SINAPI-I",9874,0.5615]
[104874,"SINAPI-I",44384,4.2756999999999996]
[104881,"SINAPI",102822,1.2200000000000001E-2]
[104863,"SINAPI-I",40543,0.1]
[104870,"SINAPI",102821,2.47E-2]
[104876,"SINAPI",88309,0.43759999999999999]
[105940,"SINAPI",88256,1.5555000000000001]
[96123]
[96122,"SINAPI-I",13587,1.1389]
[104757,"SINAPI-I",39571,1.0188999999999999]
[96113,"SINAPI",88316,0.45219999999999999]
[96111,"SINAPI-I",43131,6.1600000000000002E-2]
[96485]
[101806,"SINAPI",88316,3.9146999999999998]
[98059,"SINAPI",101624,0.37330000000000002]
[98060,"SINAPI",88628,7.6600000000000001E-2]
[98088,"SINAPI",88309,16.586400000000001]
[98090,"SINAPI",5679,1.4113]
[98091,"SINAPI",101624,0.76500000000000001]
[98092,"SINAPI",88628,1.2005999999999999]
[98072,"SINAPI",92767,12.426]
[98073,"SINAPI-I",4720,1.349]
[98074,"SINAPI",87316,0.14649999999999999]
[98076,"SINAPI",96536,5.28]
[98062,"SINAPI",100475,1.46E-2]
[98063,"SINAPI-I",43447,5]
[98094,"SINAPI",97735,0.126]
[98101,"SINAPI",89995,0.22770000000000001]
[98078,"SINAPI",89998,3.2084000000000001]
[98081]
[98054,"SINAPI",5679,1.0343]
[98056,"SINAPI",97738,1.54E-2]
[98082,"SINAPI",88628,0.47470000000000001]
[98084,"SINAPI-I",6193,2.2355999999999998]
[98085,"SINAPI",89995,0.19689999999999999]
[98086,"SINAPI",88316,51.563400000000001]
[98066,"SINAPI-I",5069,4.4499999999999998E-2]
[98068,"SINAPI",89995,0.2]
[98069,"SINAPI",97735,0.67200000000000004]
[98070,"SINAPI",97735,0.72799999999999998]
[96544,"SINAPI-I",39017,0.85599999999999998]
[104922,"SINAPI",88245,3.9E-2]
[104919,"SINAPI",88238,3.1E-2]
[96556,"SINAPI",88309,5.5979999999999999]
[96521,"SINAPI",88309,0.105]
[96540,"SINAPI-I",4517,1.796]
[96534,"SINAPI-I",4491,0.67500000000000004]
[104929,"SINAPI",91693,9.6000000000000002E-2]
[104926,"SINAPI-I",2692,1.67E-2]
[96529,"SINAPI-I",40304,4.7E-2]
[96529,"SINAPI-I",6212,4.55]
[96539,"SINAPI-I",1358,0.59299999999999997]
[96530,"SINAPI-I",4517,2.0270000000000001]
[105518,"SINAPI-I",2692,6.4000000000000001E-2]
[92272]
[92267]
[92269,"SINAPI",91693,0.20100000000000001]
[92528,"SINAPI-I",40270,3.7999999999999999E-2]
[92512,"SINAPI",88262,1.099]
[92526,"SINAPI",92268,0.13600000000000001]
[103762]
[103763,"SINAPI-I",2692,0.01]
[92522,"SINAPI-I",2692,0.01]
[92492,"SINAPI-I",40270,3.7999999999999999E-2]
[92502,"SINAPI",88262,0.87]
[92506,"SINAPI",92267,8.6999999999999994E-2]
[92437,"SINAPI-I",40271,0.19600000000000001]
[92425,"SINAPI-I",40275,0.39300000000000002]
[92431,"SINAPI",88239,0.121]
[92443,"SINAPI-I",40271,0.19600000000000001]
[92427,"SINAPI-I",40271,0.19600000000000001]
[92473,"SINAPI",88262,1.032]
[92449,"SINAPI",92265,0.626]
[92461,"SINAPI-I",6193,0.48499999999999999]
[92455,"SINAPI-I",40304,4.9000000000000002E-2]
[92463,"SINAPI",88239,0.16200000000000001]
[92466,"SINAPI",88239,0.316]
[92450,"SINAPI-I",40304,3.3000000000000002E-2]
[92458,"SINAPI-I",2692,0.01]
[92472,"SINAPI-I",2692,4.0000000000000001E-3]
[92452,"SINAPI-I",40287,0.47399999999999998]
[92464,"SINAPI",88239,0.25600000000000001]
[96254,"SINAPI",88262,1.0589999999999999]
[105406,"SINAPI-I",4517,0.06]
[92752,"SINAPI-I",34804,20]
[92750,"SINAPI-I",4730,1.3]
[92743,"SINAPI-I",5063,2.3999999999999998E-3]
[92744,"SINAPI-I",4730,1.3]
[92753,"SINAPI",88316,2.3420000000000001]
[92758,"SINAPI",88316,1.4115]
[104500,"SINAPI",5942,8.2000000000000003E-2]
[104509,"SINAPI",88309,1.476]
[104502,"SINAPI",88316,0.70789999999999997]
[104502,"SINAPI",5942,8.2000000000000003E-2]
[104491,"SINAPI",5942,8.2000000000000003E-2]
[104495]
[104498,"SINAPI",5944,4.99E-2]
[104515]
[104627,"SINAPI",88316,0.10431]
[87414]
[104636,"SINAPI",88269,1.2938499999999999]
[89997,"SINAPI-I",43055,1]
[90282,"SINAPI-I",4720,0.60740000000000005]
[90280,"SINAPI",88316,2.5491999999999999]
[99860,"SINAPI",88315,2.66]
[99857,"SINAPI-I",5104,2E-3]
[99862,"SINAPI",88251,7.2590000000000003]
[99847,"SINAPI-I",21012,3.0859999999999999]
[99850,"SINAPI",88251,8.7639999999999993]
[99854,"SINAPI-I",546,7.2009999999999996]
[99837,"SINAPI",88251,4.5259999999999998]
[99840,"SINAPI-I",44183,0.81399999999999995]
[99838,"SINAPI",88315,5.5970000000000004]
[94276,"SINAPI",88629,1.1999999999999999E-3]
[94277,"SINAPI-I",41681,1.2563]
[94290,"SINAPI-I",34492,5.6300000000000003E-2]
[94292,"SINAPI",88316,0.3851]
[94291,"SINAPI-I",6212,8.3299999999999999E-2]
[94293,"SINAPI",88309,0.77390000000000003]
[94265,"SINAPI",92961,8.2699999999999996E-2]
[94269,"SINAPI",92961,0.12670000000000001]
[94269,"SINAPI",88309,0.26929999999999998]
[105551]
[100916,"SINAPI",88247,0.1958125]
[102467,"SINAPI-I",43975,1]
[103782]
[105546,"SINAPI-I",45218,1]
[105548]
[98549,"SINAPI-I",516,5.75]
[98547,"SINAPI-I",4226,0.52]
[98554,"SINAPI",88270,0.57030000000000003]
[98571,"SINAPI-I",1523,4.3999999999999997E-2]
[98575,"SINAPI-I",44074,6.0000000000000001E-3]
[98550,"SINAPI",102810,0.24379999999999999]
[91927,"SINAPI",88247,2.9000000000000001E-2]
[91930,"SINAPI-I",982,1.2434000000000001]
[104621,"SINAPI",88247,0.48299999999999998]
[91941,"SINAPI",88247,0.16400000000000001]
[92871,"SINAPI",88247,0.30099999999999999]
[91889,"SINAPI",88264,0.182]
[91904,"SINAPI",88264,0.16200000000000001]
[91890]
[91908,"SINAPI-I",1874,1]
[91855,"SINAPI",88264,0.13400000000000001]
[91848]
[91852,"SINAPI-I",2689,1.0169999999999999]
[91859]
[91861,"SINAPI",88247,0.16600000000000001]
[91869]
[91978,"SINAPI",88247,0.40200000000000002]
[91954,"SINAPI-I",38113,1]
[92025]
[92035]
[91972,"SINAPI",88247,0.91900000000000004]
[91974,"SINAPI",88264,0.748]
[91884,"SINAPI",88264,0.19700000000000001]
[91881,"SINAPI-I",1902,1]
[91992,"SINAPI",91946,1]
[92006,"SINAPI",88247,0.42099999999999999]
[92014,"SINAPI",88247,0.6]
[91997,"SINAPI",91995,1]
[95783,"SINAPI",88264,0.2898]
[95778,"SINAPI",88247,0.2727]
[95794,"SINAPI-I",44078,1]
[95797,"SINAPI-I",2575,1]
[95801,"SINAPI",88264,0.40079999999999999]
[104401,"SINAPI",88247,0.2422]
[95808]
[95809,"SINAPI",88264,0.44900000000000001]
[95815,"SINAPI",88247,0.3488]
[95818,"SINAPI-I",39345,1]
[95763,"SINAPI-I",2634,1]
[95768,"SINAPI-I",44089,2]
[95728,"SINAPI",88264,0.20300000000000001]
[104450]
[101887,"SINAPI-I",995,1.0269999999999999]
[101904,"SINAPI-I",1576,3]
[101903,"SINAPI-I",1574,3]
[97398,"SINAPI",88264,1.2883]
[97419,"SINAPI",88247,1.7627999999999999]
[97412,"SINAPI",88264,0.63119999999999998]
[93674,"SINAPI-I",44091,1]
[93655,"SINAPI-I",34653,1]
[93658,"SINAPI-I",34686,1]
[93676]
[93671,"SINAPI-I",34709,1]
[97374]
[97368,"SINAPI",88247,0.1263]
[101882,"SINAPI",87367,1.9400000000000001E-2]
[101874,"SINAPI",87367,1.44E-2]
[101872,"SINAPI-I",43893,1]
[101553,"SINAPI-I",11273,1]
[101540,"SINAPI-I",39997,6]
[101541,"SINAPI-I",39996,0.66559999999999997]
[101551,"SINAPI",88264,0.1037]
[101502,"SINAPI",91935,16.649999999999999]
[101502,"SINAPI-I",3398,1]
[101504,"SINAPI",100578,1]
[101498,"SINAPI",96977,1.95]
[101498,"SINAPI-I",11267,2]
[101499,"SINAPI-I",39809,1]
[101494,"SINAPI",100578,1]
[101495,"SINAPI",91872,6.05]
[101496,"SINAPI",88264,2.8462999999999998]
[101490]
[101491,"SINAPI",91917,1]
[101492,"SINAPI",104749,1]
[101509,"SINAPI",91919,1]
[101509,"SINAPI-I",1062,1]
[101511,"SINAPI-I",1094,1]
[101505,"SINAPI-I",34643,1]
[101505,"SINAPI-I",4346,3]
[101507,"SINAPI-I",11267,2]
[101525,"SINAPI",91933,19.8]
[101526,"SINAPI",93666,1]
[101528,"SINAPI",87367,1.66E-2]
[101523,"SINAPI-I",39809,1]
[101517,"SINAPI",96977,1.95]
[101519,"SINAPI",88247,0.14149999999999999]
[101514,"SINAPI",104749,1]
[101533,"SINAPI",91933,26.4]
[101534,"SINAPI",88264,1.3379000000000001]
[101530,"SINAPI",88264,1.9355]
[101532,"SINAPI",93673,1]
[101547,"SINAPI-I",3405,1]
[94783,"SINAPI-I",95,1]
[94707,"SINAPI-I",20083,1.4999999999999999E-2]
[94713,"SINAPI-I",122,1.29E-2]
[94658,"SINAPI-I",108,1]
[94664,"SINAPI-I",113,1]
[105214,"SINAPI-I",44400,1]
[105228,"SINAPI-I",38383,1.2E-2]
[105230,"SINAPI",104091,4.8300000000000003E-2]
[105229]
[94609,"SINAPI-I",38383,5.3199999999999997E-2]
[94726]
[94483,"SINAPI",88248,8.7666000000000004]
[94483,"SINAPI-I",3472,1]
[94481,"SINAPI-I",9887,2]
[94476]
[94473,"SINAPI-I",7307,7.1999999999999998E-3]
[94614,"SINAPI-I",39897,6.0000000000000001E-3]
[105198,"SINAPI",88248,0.64780000000000004]
[105199,"SINAPI-I",1784,1]
[94747,"SINAPI",88248,0.1077]
[105202,"SINAPI-I",3148,3.0200000000000001E-2]
[105205,"SINAPI",88267,0.54890000000000005]
[94675,"SINAPI-I",122,9.4000000000000004E-3]
[94683]
[94615,"SINAPI",88248,0.61119999999999997]
[105156,"SINAPI",88248,0.10050000000000001]
[105158,"SINAPI",88248,0.1885]
[94631,"SINAPI-I",38383,5.0999999999999997E-2]
[94746,"SINAPI",88248,0.1077]
[96755,"SINAPI",88248,0.61570000000000003]
[96751]
[94678,"SINAPI",88248,0.1401]
[94682,"SINAPI",88248,0.27760000000000001]
[105166,"SINAPI-I",21114,0.16]
[105161,"SINAPI",88248,0.33079999999999998]
[105181]
[105182,"SINAPI-I",38383,2.1000000000000001E-2]
[105142,"SINAPI-I",122,8.3000000000000001E-3]
[94606,"SINAPI",88267,0.40749999999999997]
[94610,"SINAPI-I",12732,3.5999999999999997E-2]
[94729]
[96746,"SINAPI",104097,0.28110000000000002]
[96739,"SINAPI",88248,8.5500000000000007E-2]
[96745,"SINAPI",104097,0.20069999999999999]
[94669,"SINAPI-I",122,3.5299999999999998E-2]
[94470,"SINAPI-I",7307,8.3999999999999995E-3]
[105227,"SINAPI-I",21114,0.22670000000000001]
[94623,"SINAPI-I",38383,0.15959999999999999]
[94757]
[94762]
[94603,"SINAPI-I",12748,1.0225]
[94720]
[96727,"SINAPI",88248,9.98E-2]
[96730,"SINAPI",104091,0.1041]
[96723,"SINAPI",88248,0.20760000000000001]
[94648,"SINAPI-I",9868,1.0492999999999999]
[94689]
[94698,"SINAPI-I",38383,3.8600000000000002E-2]
[105164,"SINAPI",104091,9.2100000000000001E-2]
[96759,"SINAPI",104091,0.14030000000000001]
[94701,"SINAPI-I",20083,0.12]
[94690,"SINAPI-I",20083,1.6500000000000001E-2]
[105168,"SINAPI",88267,1.3652]
[105192,"SINAPI",88267,1.4196]
[104525,"SINAPI-I",45071,1]
[104529,"SINAPI",88248,0.1925]
[104530,"SINAPI-I",45066,1]
[96872,"SINAPI-I",38836,1]
[96879,"SINAPI",88267,0.55789999999999995]
[96852]
[96846,"SINAPI",88267,0.38869999999999999]
[104571,"SINAPI",88248,0.2266]
[104565,"SINAPI",88248,0.20380000000000001]
[96843,"SINAPI-I",38919,1]
[104573,"SINAPI",88248,0.2029]
[104577,"SINAPI",88248,0.1226]
[104582,"SINAPI-I",39297,1]
[104584,"SINAPI-I",39299,1]
[104543,"SINAPI",88267,0.34200000000000003]
[104592,"SINAPI",88267,0.36549999999999999]
[104553,"SINAPI",88248,0.33139999999999997]
[104562,"SINAPI-I",45035,1]
[96871,"SINAPI",88267,0.37]
[96863,"SINAPI",88267,0.41070000000000001]
[96815,"SINAPI",88267,0.28870000000000001]
[96641,"SINAPI",104091,8.4400000000000003E-2]
[104196,"SINAPI",104091,7.4899999999999994E-2]
[96685,"SINAPI",104091,0.1186]
[96693,"SINAPI-I",38989,1]
[104199,"SINAPI",88248,0.10929999999999999]
[96652,"SINAPI",104091,8.9399999999999993E-2]
[104200,"SINAPI",104091,4.99E-2]
[96703,"SINAPI",104091,0.1162]
[96706,"SINAPI",104091,0.17319999999999999]
[96644,"SINAPI",88267,0.17100000000000001]
[96647,"SINAPI",88267,0.17610000000000001]
[96670]
[96673,"SINAPI-I",38975,1.0667]
[96682,"SINAPI",104098,0.12559999999999999]
[96710]
[96712,"SINAPI-I",38457,1]
[96714,"SINAPI",88267,0.50590000000000002]
[89708,"SINAPI",88267,0.47770000000000001]
[89709,"SINAPI-I",20083,7.4999999999999997E-3]
[104357,"SINAPI-I",20078,5.7500000000000002E-2]
[89807,"SINAPI-I",297,2]
[89730,"SINAPI-I",1967,1]
[89808,"SINAPI",88267,0.12570000000000001]
[89726,"SINAPI",88248,0.127]
[89744,"SINAPI-I",20078,0.115]
[89724]
[89737,"SINAPI-I",3509,1]
[89834,"SINAPI",88248,0.28960000000000002]
[89785,"SINAPI",88248,0.18390000000000001]
[89814]
[89821,"SINAPI",88267,0.14480000000000001]
[89813,"SINAPI-I",20083,1.0999999999999999E-2]
[95693,"SINAPI",88248,0.24030000000000001]
[89825,"SINAPI-I",20078,7.4999999999999997E-2]
[104344,"SINAPI-I",20078,0.14000000000000001]
[104346,"SINAPI-I",11656,1]
[89798,"SINAPI",88248,4.1500000000000002E-2]
[89376,"SINAPI-I",107,1]
[89553]
[89572,"SINAPI",88267,6.3500000000000001E-2]
[89595,"SINAPI-I",122,1.29E-2]
[103947,"SINAPI",88267,9.4399999999999998E-2]
[103953,"SINAPI-I",122,8.2000000000000007E-3]
[103954,"SINAPI-I",20083,8.5000000000000006E-3]
[103999]
[103967,"SINAPI-I",20083,1.6500000000000001E-2]
[89407,"SINAPI-I",38383,2.5999999999999999E-2]
[89365,"SINAPI-I",122,7.1000000000000004E-3]
[89496,"SINAPI",88248,8.5900000000000004E-2]
[103987,"SINAPI",88248,0.22939999999999999]
[89489,"SINAPI-I",1956,1]
[89415,"SINAPI",88267,0.16209999999999999]
[103982,"SINAPI",88267,0.192]
[89423,"SINAPI-I",38129,1]
[89423,"SINAPI-I",20083,6.0000000000000001E-3]
[89555,"SINAPI-I",38026,1]
[89359,"SINAPI",88267,0.13109999999999999]
[89493,"SINAPI-I",20083,1.0999999999999999E-2]
[89515,"SINAPI-I",38383,2.75E-2]
[89523]
[89358,"SINAPI-I",38383,2.9100000000000001E-2]
[89367,"SINAPI",88267,0.1812]
[103984,"SINAPI",88267,0.22939999999999999]
[89513,"SINAPI",88248,0.1847]
[103956,"SINAPI-I",122,8.2000000000000007E-3]
[89979]
[89564,"SINAPI",88267,6.3500000000000001E-2]
[89372,"SINAPI-I",20083,6.0000000000000001E-3]
[89387,"SINAPI-I",122,9.4000000000000004E-3]
[89577]
[89532,"SINAPI-I",20083,9.4999999999999998E-3]
[89579,"SINAPI-I",20083,1.4999999999999999E-2]
[89605,"SINAPI-I",122,1.8800000000000001E-2]
[89389,"SINAPI",88248,0.1111]
[89424,"SINAPI-I",122,7.1000000000000004E-3]
[89575]
[89597,"SINAPI",88267,0.1]
[103975,"SINAPI-I",20083,2.1000000000000001E-2]
[89393,"SINAPI-I",122,7.1000000000000004E-3]
[89395]
[89625,"SINAPI-I",38383,2.8500000000000001E-2]
[89631,"SINAPI-I",7145,1]
[89446,"SINAPI-I",38383,4.4999999999999997E-3]
[89357,"SINAPI",88248,0.45300000000000001]
[89396,"SINAPI-I",122,8.8000000000000005E-3]
[89399]
[89624,"SINAPI-I",38383,2.23E-2]
[89626,"SINAPI-I",7131,1]
[89536,"SINAPI",88267,4.7100000000000003E-2]
[89552,"SINAPI",88267,5.7700000000000001E-2]
[89594,"SINAPI-I",20083,2.1999999999999999E-2]
[89747]
[89759]
[89655]
[89676]
[89643]
[89720,"SINAPI-I",37964,1]
[89725]
[89793]
[89777]
[89781]
[89738]
[89815,"SINAPI",88248,6.2399999999999997E-2]
[89740]
[89651,"SINAPI",88267,7.3499999999999996E-2]
[89794,"SINAPI-I",21114,0.1333]
[89840]
[104020,"SINAPI",88267,0.1353]
[89633]
[89718,"SINAPI",88248,0.20219999999999999]
[89772,"SINAPI",88267,3.6499999999999998E-2]
[89846,"SINAPI-I",21114,0.36]
[89769,"SINAPI-I",21114,0.2]
[89839,"SINAPI-I",21114,0.24]
[89546,"SINAPI-I",38383,1.2999999999999999E-2]
[89587,"SINAPI-I",20097,1]
[89592]
[95694,"SINAPI",88267,0.1288]
[89582]
[89584,"SINAPI-I",299,2]
[89518,"SINAPI-I",20078,0.05]
[89692,"SINAPI-I",20143,1]
[89698]
[89565]
[104171,"SINAPI",88248,0.1734]
[104170,"SINAPI-I",300,1]
[89545,"SINAPI-I",20083,1.0999999999999999E-2]
[89547,"SINAPI-I",20078,3.7499999999999999E-2]
[89580,"SINAPI",88248,0.13089999999999999]
[89509,"SINAPI",88248,0.18970000000000001]
[89683]
[89571,"SINAPI-I",20179,1]
[89701,"SINAPI",88267,0.62839999999999996]
[102450,"SINAPI",91693,0.68700000000000006]
[102250,"SINAPI-I",44368,0.14000000000000001]
[102238,"SINAPI",91692,0.214]
[102253,"SINAPI",91693,1.3160000000000001]
[102236,"SINAPI-I",34360,0.66600000000000004]
[102235,"SINAPI",91692,9.5000000000000001E-2]
[102246,"SINAPI",88278,1.71]
[102247,"SINAPI",91693,1.5569999999999999]
[102252,"SINAPI",91692,0.14599999999999999]
[96765,"SINAPI-I",21030,1]
[97433,"SINAPI-I",20078,1.35E-2]
[97435,"SINAPI-I",40411,2]
[97519,"SINAPI",88317,0.19800000000000001]
[97523,"SINAPI",88248,0.26100000000000001]
[97487,"SINAPI-I",40389,1]
[97547,"SINAPI",88317,0.17199999999999999]
[97482,"SINAPI",88267,0.28799999999999998]
[97453,"SINAPI",88248,0.76600000000000001]
[97455,"SINAPI-I",11002,6.7000000000000004E-2]
[101911,"SINAPI-I",4350,2]
[101905,"SINAPI",88267,0.45739999999999997]
[101937,"SINAPI-I",4181,16]
[92675,"SINAPI-I",3148,2.4E-2]
[92635,"SINAPI",88248,1.242]
[92387,"SINAPI",88248,0.96499999999999997]
[92670,"SINAPI-I",3148,1.2999999999999999E-2]
[92676,"SINAPI-I",3471,1]
[92384,"SINAPI",88248,0.79900000000000004]
[101925,"SINAPI-I",3148,4.5199999999999997E-2]
[97541,"SINAPI",88267,0.19600000000000001]
[97468,"SINAPI",88267,0.24]
[97447,"SINAPI",88248,0.56499999999999995]
[92943,"SINAPI-I",3148,1.9E-2]
[92930,"SINAPI",88248,0.58199999999999996]
[92941,"SINAPI-I",7307,4.0000000000000001E-3]
[92934]
[92935,"SINAPI-I",3148,0.03]
[92946,"SINAPI-I",7307,6.0000000000000001E-3]
[92913]
[92913,"SINAPI",88248,0.75800000000000001]
[101921,"SINAPI-I",7307,1.0500000000000001E-2]
[101931]
[97464,"SINAPI-I",11002,2.4E-2]
[97443,"SINAPI",88248,0.51100000000000001]
[97446]
[101929,"SINAPI-I",7307,1.0500000000000001E-2]
[92660,"SINAPI-I",7307,4.0000000000000001E-3]
[92370,"SINAPI-I",3910,1]
[92376,"SINAPI",88267,0.64400000000000002]
[101924,"SINAPI-I",4183,1]
[92657,"SINAPI-I",3148,1.2999999999999999E-2]
[92663]
[92373,"SINAPI",88248,0.58199999999999996]
[95696,"SINAPI-I",3148,4.0000000000000001E-3]
[92687,"SINAPI",88248,0.17299999999999999]
[101927]
[92368,"SINAPI",88267,0.27600000000000002]
[92691,"SINAPI",88267,0.38200000000000001]
[92648,"SINAPI",88267,0.13]
[97442]
[97529,"SINAPI",88317,0.23200000000000001]
[97494]
[97533]
[101935,"SINAPI",88267,1.909]
[92637,"SINAPI-I",6323,1]
[92682,"SINAPI-I",6296,1]
[92686,"SINAPI",88267,0.87]
[92358,"SINAPI",88248,1.516]
[92905,"SINAPI-I",7307,3.0000000000000001E-3]
[92892,"SINAPI",88267,0.49]
[92894]
[92891,"SINAPI-I",7307,8.0000000000000002E-3]
[100834,"SINAPI",88267,0.13689999999999999]
[100830]
[100790,"SINAPI-I",40626,0.31169999999999998]
[100812,"SINAPI",88248,3.5999999999999997E-2]
[100796,"SINAPI",88267,0.27]
[100797,"SINAPI",88267,0.32300000000000001]
[100803]
[100803,"SINAPI",88267,0.19800000000000001]
[100839,"SINAPI-I",41008,1]
[103280,"SINAPI-I",39996,1.48]
[103281,"SINAPI-I",13348,4]
[103258,"SINAPI-I",37591,2]
[103261,"SINAPI",88243,4.3619000000000003]
[103263,"SINAPI-I",13348,6]
[103270,"SINAPI-I",13348,4]
[103267,"SINAPI-I",39997,8]
[103269,"SINAPI-I",13246,4]
[103251,"SINAPI",100308,2.5230000000000001]
[103254,"SINAPI-I",43192,1]
[103245]
[103262,"SINAPI-I",13246,8]
[103277,"SINAPI",93288,3.0331999999999999]
[103291]
[97333,"SINAPI-I",39737,1.0210999999999999]
[93085,"SINAPI-I",39897,9.5E-4]
[93091,"SINAPI-I",39897,1.4E-3]
[103831,"SINAPI-I",39887,1]
[93071,"SINAPI-I",39897,6.4000000000000003E-3]
[103818,"SINAPI-I",3148,4.1999999999999997E-3]
[93104,"SINAPI-I",12732,1.4E-3]
[103857,"SINAPI-I",12732,2.3999999999999998E-3]
[103825]
[103858,"SINAPI-I",3148,5.3E-3]
[103899,"SINAPI-I",3148,4.1999999999999997E-3]
[103807,"SINAPI",88248,0.15740000000000001]
[93077,"SINAPI",88267,0.1222]
[103879,"SINAPI",88267,0.18079999999999999]
[103880,"SINAPI-I",39871,1]
[92311,"SINAPI-I",39897,3.8E-3]
[92326,"SINAPI-I",20078,6.9999999999999999E-4]
[103808,"SINAPI-I",12715,1]
[103881,"SINAPI",88248,0.32769999999999999]
[103845,"SINAPI-I",39897,1.6000000000000001E-3]
[92291]
[93055,"SINAPI",88267,5.9299999999999999E-2]
[103891,"SINAPI",88248,0.19309999999999999]
[103855,"SINAPI-I",38383,0.10150000000000001]
[103897,"SINAPI-I",38383,7.2800000000000004E-2]
[103875,"SINAPI",88267,0.2452]
[103809,"SINAPI-I",39880,1]
[103842,"SINAPI-I",39880,1]
[103813]
[93126,"SINAPI",88248,0.27810000000000001]
[93066,"SINAPI-I",39897,4.4000000000000003E-3]
[103886,"SINAPI-I",12732,2.8E-3]
[103890]
[93092,"SINAPI-I",39874,1]
[103829,"SINAPI-I",38383,0.1883]
[103883,"SINAPI-I",12732,2.8E-3]
[103819,"SINAPI-I",39897,1.1999999999999999E-3]
[92330,"SINAPI-I",38383,7.8E-2]
[92295]
[92298,"SINAPI",88248,0.18540000000000001]
[103815,"SINAPI-I",39897,6.9999999999999999E-4]
[93084,"SINAPI-I",12732,4.7999999999999996E-3]
[93056]
[103860,"SINAPI",88248,0.2465]
[93067,"SINAPI-I",38383,0.10059999999999999]
[92318,"SINAPI-I",38383,8.6300000000000002E-2]
[92319,"SINAPI",88267,0.25609999999999999]
[92301,"SINAPI",88248,0.19309999999999999]
[92323,"SINAPI",88248,0.38890000000000002]
[92309,"SINAPI",88267,0.23369999999999999]
[92275,"SINAPI",88267,4.3900000000000002E-2]
[92310,"SINAPI",88248,0.25159999999999999]
[92283,"SINAPI-I",12745,1.0225]
[92278,"SINAPI",88267,8.6400000000000005E-2]
[103832,"SINAPI-I",12732,4.1999999999999997E-3]
[103834,"SINAPI-I",38383,0.28249999999999997]
[105113,"SINAPI-I",34492,1.1054999999999999]
[105130]
[105126,"SINAPI-I",344,3.5000000000000003E-2]
[98455,"SINAPI",91693,8.5599999999999996E-2]
[98456,"SINAPI-I",5061,0.188]
[98446,"SINAPI-I",43681,1.050038]
[98447,"SINAPI",88239,0.38300000000000001]
[105133,"SINAPI",91693,7.51E-2]
[105124,"SINAPI",91692,3.0499999999999999E-2]
[105119]
[105132,"SINAPI-I",5061,5.7000000000000002E-2]
[98458,"SINAPI-I",5061,6.8000000000000005E-2]
[105118,"SINAPI-I",44673,1.05]
[101948,"SINAPI",88262,0.42699999999999999]
[101950,"SINAPI-I",43352,1]
[101961,"SINAPI",88262,0.21]
[101954,"SINAPI",88262,0.29199999999999998]
[100324,"SINAPI",88316,0.63400000000000001]
[96624,"SINAPI",91278,0.03]
[96617,"SINAPI",88316,5.0799999999999998E-2]
[104050]
[104031,"SINAPI-I",1414,1]
[104038,"SINAPI-I",44701,1]
[104064,"SINAPI-I",20078,8.7499999999999994E-2]
[104082,"SINAPI",88316,4.0399999999999998E-2]
[104060,"SINAPI-I",9813,1.0207999999999999]
[104041,"SINAPI",88316,0.2225]
[99821]
[99817,"SINAPI",88316,0.124]
[99806]
[101374,"SINAPI",101286,1]
[101375,"SINAPI-I",43472,1]
[88241,"SINAPI-I",37370,1]
[101378,"SINAPI-I",43502,1]
[101380,"SINAPI-I",43479,1]
[93564,"SINAPI-I",40864,1]
[90768,"SINAPI-I",43486,1]
[88246,"SINAPI-I",43464,1]
[101383]
[93566,"SINAPI-I",43494,1]
[88249,"SINAPI-I",245,1]
[101387,"SINAPI-I",40861,1]
[101390,"SINAPI-I",43474,1]
[88255,"SINAPI-I",532,1]
[101392,"SINAPI-I",40862,1]
[88261,"SINAPI-I",43483,1]
[88262]
[101287,"SINAPI-I",40919,2.811E-2]
[101293]
[101298,"SINAPI-I",40975,8.6899999999999998E-3]
[101304,"SINAPI-I",41069,1.112E-2]
[95334]
[95338,"SINAPI-I",12873,2.12E-2]
[101331,"SINAPI-I",41067,1.112E-2]
[95348]
[101340,"SINAPI-I",40986,6.2599999999999999E-3]
[101346,"SINAPI-I",40979,8.6899999999999998E-3]
[95372]
[95380,"SINAPI-I",6166,1.154E-2]
[95387,"SINAPI-I",10489,1.4760000000000001E-2]
[88264,"SINAPI-I",2436,1]
[88267,"SINAPI-I",43461,1]
[93572]
[90779,"SINAPI-I",43486,1]
[88270,"SINAPI",95338,1]
[101408,"SINAPI-I",40863,1]
[101410,"SINAPI",101326,1]
[88274,"SINAPI",95341,1]
[101416]
[88275,"SINAPI",95342,1]
[100307,"SINAPI-I",37372,1]
[105535,"SINAPI-I",37373,1]
[88279,"SINAPI-I",37372,1]
[88282,"SINAPI-I",37372,1]
[88283,"SINAPI-I",43488,1]
[88286,"SINAPI-I",37372,1]
[101428]
[88292,"SINAPI-I",37373,1]
[88294,"SINAPI-I",37372,1]
[88295,"SINAPI-I",37373,1]
[88298,"SINAPI-I",37373,1]
[101437,"SINAPI-I",40863,1]
[101438,"SINAPI-I",41024,1]
[88301,"SINAPI-I",37373,1]
[101439,"SINAPI-I",40862,1]
[101443,"SINAPI-I",41001,1]
[88307,"SINAPI",95369,1]
[88310,"SINAPI-I",37371,1]
[101447,"SINAPI-I",41082,1]
[101448,"SINAPI",101360,1]
[88315,"SINAPI-I",37370,1]
[88318,"SINAPI",95380,1]
[101454,"SINAPI-I",40864,1]
[88323]
[88321]
[100321,"SINAPI-I",43470,1]
[88325,"SINAPI-I",43489,1]
[101460,"SINAPI-I",43503,1]
[99059,"SINAPI",91693,2.8000000000000001E-2]
[105136,"SINAPI",90781,0.2994]
[86905,"SINAPI",88316,0.14599999999999999]
[86899,"SINAPI-I",37590,2]
[86934,"SINAPI",86894,1]
[93442,"SINAPI",86936,1]
[100869,"SINAPI-I",4351,6]
[100872,"SINAPI-I",4351,6]
[86887,"SINAPI",88316,4.8099999999999997E-2]
[86939,"SINAPI",86884,1]
[86943,"SINAPI",86883,1]
[100859,"SINAPI-I",6142,1]
[86881,"SINAPI-I",6136,1]
[86920,"SINAPI",86879,1]
[86922,"SINAPI",86877,1]
[86876,"SINAPI",88316,0.31059999999999999]
[86915]
[86909]
[100848,"SINAPI-I",4384,2]
[86879,"SINAPI-I",6153,1]
[101665]
[101638,"SINAPI",105845,5.1701400000000002E-2]
[101654,"SINAPI",88264,0.2064]
[105923,"SINAPI-I",21127,4.2000000000000003E-2]
[105920,"SINAPI-I",45268,1]
[104227,"SINAPI",88309,0.7]
[104227,"SINAPI",87407,5.28E-2]
[87795,"SINAPI-I",37411,0.15809999999999999]
[87787,"SINAPI",88309,0.79100000000000004]
[87828,"SINAPI",87407,3.5900000000000001E-2]
[87781]
[104234,"SINAPI",87369,2.93E-2]
[104246,"SINAPI",87369,5.4300000000000001E-2]
[104220,"SINAPI",90668,7.2099999999999997E-2]
[104228,"SINAPI",87292,5.28E-2]
[104232,"SINAPI-I",37411,0.13880000000000001]
[104208,"SINAPI",90668,0.1009]
[104213,"SINAPI",90668,0.12970000000000001]
[104214,"SINAPI",90668,0.14410000000000001]
[104229]
[104264]
[87797,"SINAPI",87292,3.9300000000000002E-2]
[87788,"SINAPI-I",37411,0.13880000000000001]
[87539]
[87554,"SINAPI",88309,0.28050000000000003]
[104971,"SINAPI",88316,0.26860000000000001]
[87531,"SINAPI",88309,0.44019999999999998]
[104964]
[87548,"SINAPI",87369,1.9400000000000001E-2]
[104978]
[103296,"SINAPI",88309,1.8461000000000001]
[103301,"SINAPI-I",44447,1]
[103293,"SINAPI-I",44446,1]
[103302,"SINAPI",88309,0.14399999999999999]
[103310,"SINAPI-I",42440,1]
[105188,"SINAPI",87404,2.63E-2]
[87852]
[105112]
[105108,"SINAPI",88316,345.33]
[98506]
[98518,"SINAPI-I",44163,1]
[98513]
[100069,"SINAPI-I",43132,1.1428600000000001E-2]
[91603,"SINAPI",88238,4.2490999999999996E-3]
[91601,"SINAPI",88238,1.13122E-2]
[91600,"SINAPI-I",21141,0.77220080000000002]
[99235,"SINAPI",88316,0.17799999999999999]
[99431]
[99436]
[99437,"SINAPI",88309,0.53400000000000003]
[104421,"SINAPI",88309,0.32300000000000001]
[105818,"SINAPI-I",130,1.7350000000000001]
[104415,"SINAPI",88316,5.8000000000000003E-2]
[104416]
[103083]
[103085]
[96368,"SINAPI",88278,0.80100000000000005]
[104723,"SINAPI-I",39431,2.5026999999999999]
[104722,"SINAPI-I",39419,1.0686]
[96361,"SINAPI",88316,0.23699999999999999]
[96359,"SINAPI-I",39413,2.1059999999999999]
[96358,"SINAPI-I",39432,0.74070000000000003]
[104724,"SINAPI-I",39431,1.2513000000000001]
[104721,"SINAPI",88316,0.36099999999999999]
[104720,"SINAPI",88316,0.29499999999999998]
[103206]
[103212,"SINAPI",5795,0.23330000000000001]
[103201]
[103218,"SINAPI",88316,2.5489000000000002]
[103214,"SINAPI",88309,6.7428999999999997]
[103210,"SINAPI-I",4721,2.3999999999999998E-3]
[103192,"SINAPI",88309,1.6898]
[103193,"SINAPI",102486,6.59E-2]
[103194,"SINAPI",88309,1.6898]
[95004,"SINAPI",88316,0.2883]
[95003,"SINAPI-I",44228,2.5000000000000001E-3]
[95006,"SINAPI-I",2692,1.6999999999999999E-3]
[94994,"SINAPI",88309,0.18820000000000001]
[94991,"SINAPI",88262,1.6268]
[94995,"SINAPI-I",4509,0.25]
[101172,"SINAPI-I",13186,0.11899999999999999]
[104438,"SINAPI-I",44911,1.0663]
[104426,"SINAPI-I",4741,9.7999999999999997E-3]
[104432,"SINAPI",91283,4.9099999999999998E-2]
[92396,"SINAPI",91278,0.18210000000000001]
[92404,"SINAPI",91283,3.8E-3]
[104430,"SINAPI-I",4741,9.7999999999999997E-3]
[104428,"SINAPI-I",44916,1.0041]
[104433,"SINAPI",91283,3.8E-3]
[92397,"SINAPI-I",370,5.6800000000000003E-2]
[92398,"SINAPI-I",36170,1.0041]
[97115,"SINAPI-I",4229,1]
[97117,"SINAPI",88245,0.21623000000000001]
[97111,"SINAPI",88316,0.25746000000000002]
[103904,"SINAPI-I",5069,5.3610000000000003E-3]
[103907,"SINAPI",90586,1.0826000000000001E-2]
[97104,"SINAPI",90586,8.3000000000000001E-3]
[103906,"SINAPI",88262,9.6933000000000005E-2]
[97106,"SINAPI",97114,0.16]
[97107,"SINAPI-I",42409,0.4]
[97108,"SINAPI",90587,3.3759999999999998E-2]
[103914]
[103915,"SINAPI",88309,0.11723600000000001]
[103916,"SINAPI-I",4517,5.1332999999999997E-2]
[103919,"SINAPI",88309,0.199348]
[103921,"SINAPI",97115,2.9217E-2]
[103921,"SINAPI-I",4517,5.1332999999999997E-2]
[103908,"SINAPI",97113,1]
[103909,"SINAPI",95271,3.0259999999999999E-2]
[103912,"SINAPI",90586,1.8242999999999999E-2]
[101978,"SINAPI",91693,0.66700000000000004]
[101968,"SINAPI",91693,0.82599999999999996]
[104101,"SINAPI",88316,0.17899999999999999]
[103615,"SINAPI",5679,5.3E-3]
[103616,"SINAPI",88316,0.77849999999999997]
[103616,"SINAPI",5901,0.01]
[103594,"SINAPI",5678,2.9999999999999997E-4]
[103595,"SINAPI-I",44689,0.1923435]
[103609,"SINAPI",90776,4.8099999999999997E-2]
[103587,"SINAPI",90776,3.5999999999999997E-2]
[103596]
[103596,"SINAPI",88316,0.97299999999999998]
[103641,"SINAPI-I",44433,1]
[103642,"SINAPI",103243,0.2760051]
[103598,"SINAPI-I",44434,1]
[103621,"SINAPI-I",43366,2.74194]
[103599,"SINAPI",88316,1.2369000000000001]
[103644,"SINAPI",103230,0.27891529999999998]
[103600,"SINAPI-I",44689,0.83668070000000005]
[103632,"SINAPI",88316,0.24099999999999999]
[103623,"SINAPI",103243,0.23980000000000001]
[103645,"SINAPI",5679,8.5000000000000006E-3]
[103624,"SINAPI",88297,1.0553999999999999]
[103646,"SINAPI",91283,1.1000000000000001E-3]
[103647,"SINAPI",103243,0.71450619999999998]
[103603,"SINAPI",90776,0.51119999999999999]
[103611,"SINAPI",103242,1.8813099999999999E-2]
[103589,"SINAPI",5679,5.3E-3]
[103648,"SINAPI",5930,1.0871]
[103627,"SINAPI",91285,0.70750000000000002]
[103649,"SINAPI",91283,1.6000000000000001E-3]
[103612,"SINAPI",88297,9.6699999999999994E-2]
[103590,"SINAPI-I",44690,4.8381599999999997E-2]
[103628,"SINAPI",103237,0.4847265]
[103606,"SINAPI",5928,8.2500000000000004E-2]
[103651,"SINAPI",88316,7.3625999999999996]
[103613,"SINAPI",103242,1.96455E-2]
[103635]
[103630,"SINAPI",5928,0.1031]
[103608,"SINAPI",103243,0.1553274]
[103614,"SINAPI",103242,2.02028E-2]
[88412]
[88413,"SINAPI-I",6085,0.28449999999999998]
[96127]
[88431]
[95623,"SINAPI-I",7356,0.19900000000000001]
[88495]
[104645,"SINAPI-I",43626,0.7288]
[104644,"SINAPI",102981,2.07E-2]
[88488,"SINAPI",88310,0.22700000000000001]
[102202,"SINAPI-I",4049,0.55120000000000002]
[102217,"SINAPI-I",5318,2.1299999999999999E-2]
[102221,"SINAPI",88310,0.68159999999999998]
[102218,"SINAPI-I",5318,1.2999999999999999E-2]
[102232,"SINAPI-I",44374,0.33829999999999999]
[102215,"SINAPI",88310,0.4718]
[100734,"SINAPI",88310,0.45479999999999998]
[100742,"SINAPI-I",7311,0.12740000000000001]
[100748,"SINAPI",88310,0.21490000000000001]
[100721,"SINAPI",88310,0.52659999999999996]
[100725]
[100731,"SINAPI-I",44306,0.1905]
[102505,"SINAPI-I",7314,1.2E-2]
[102512,"SINAPI-I",44478,1.0999999999999999E-2]
[102508]
[102494,"SINAPI",88316,0.115]
[102490,"SINAPI-I",12815,1.4E-2]
[102520,"SINAPI",88316,0.71799999999999997]
[102513,"SINAPI-I",7348,0.42699999999999999]
[98679,"SINAPI",88316,0.17699999999999999]
[101749,"SINAPI-I",3671,1.67]
[101735,"SINAPI",88309,0.75349999999999995]
[104162,"SINAPI",89225,2.5399999999999999E-2]
[101092,"SINAPI",88316,0.73799999999999999]
[101731,"SINAPI",87298,3.0700000000000002E-2]
[101095]
[101727,"SINAPI-I",4791,9.5000000000000001E-2]
[101738,"SINAPI",88262,0.36349999999999999]
[100606,"SINAPI",88264,13.3660636]
[100609]
[100608,"SINAPI",94962,0.81145179999999995]
[100610,"SINAPI",5928,7.7299999999999994E-2]
[100615,"SINAPI",88247,1.9809635999999999]
[100585,"SINAPI-I",863,12]
[100589,"SINAPI-I",863,13.5]
[100598]
[100603,"SINAPI",88247,2.8133818000000002]
[100602,"SINAPI",5928,7.1900000000000006E-2]
[105973]
[105974,"SINAPI-I",45365,8]
[105968,"SINAPI",88264,2.4757364000000002]
[105960,"SINAPI",88264,3.6904908999999999]
[105960,"SINAPI",88247,0.82010910000000004]
[100620,"SINAPI-I",14162,1]
[100620,"SINAPI",5928,0.18010000000000001]
[105955,"SINAPI",5928,0.18010000000000001]
[99283,"SINAPI",88316,9.6255000000000006]
[99249,"SINAPI",88628,0.70899999999999996]
[99288,"SINAPI",88309,0.55620000000000003]
[97993]
[98409,"SINAPI",5678,0.13089999999999999]
[99241,"SINAPI",87316,5.7099999999999998E-2]
[99291,"SINAPI-I",25067,127.575]
[99266,"SINAPI",89998,2.0977999999999999]
[99266,"SINAPI-I",660,17.850000000000001]
[99281,"SINAPI",87316,8.2299999999999998E-2]
[99299,"SINAPI",88316,27.814599999999999]
[99307,"SINAPI",89998,2.7147999999999999]
[99321,"SINAPI-I",660,28.35]
[99314]
[99306,"SINAPI",89995,0.1061]
[98009,"SINAPI",100475,0.47639999999999999]
[98013,"SINAPI",89993,5.9799999999999999E-2]
[97995,"SINAPI-I",660,12.6]
[97999,"SINAPI",89996,1.9743999999999999]
[98007,"SINAPI",88316,23.311800000000002]
[98035,"SINAPI",100475,0.92220000000000002]
[98037,"SINAPI",89993,5.9799999999999999E-2]
[98025,"SINAPI",89996,1.9743999999999999]
[98029,"SINAPI",87316,0.1075]
[98039,"SINAPI",88309,35.441200000000002]
[98049,"SINAPI",89993,5.9799999999999999E-2]
[101809,"SINAPI",5679,0.2185]
[99292,"SINAPI-I",7258,492.0421]
[99248,"SINAPI",97740,0.38290000000000002]
[99285,"SINAPI-I",7258,63.844999999999999]
[97980,"SINAPI",89998,1.5507]
[98405,"SINAPI",100475,0.58250000000000002]
[97988,"SINAPI-I",7258,596.22280000000001]
[98410,"SINAPI",100475,9.9500000000000005E-2]
[102139,"SINAPI",88316,1.5265]
[99290,"SINAPI",92767,21.102399999999999]
[99244,"SINAPI",97736,0.64159999999999995]
[99271,"SINAPI",97738,2.2100000000000002E-2]
[99284,"SINAPI",88907,0.3]
[99294,"SINAPI",101624,1.7807999999999999]
[99259]
[99265,"SINAPI",89995,0.1046]
[99267,"SINAPI",88628,0.74160000000000004]
[99274,"SINAPI",89996,1.9743999999999999]
[99286,"SINAPI",89998,6.6635999999999997]
[99326]
[99287,"SINAPI",92767,51.622399999999999]
[99300,"SINAPI",94970,2.4702999999999999]
[99301,"SINAPI-I",4517,0.63360000000000005]
[99312,"SINAPI",97736,1.0016]
[99322,"SINAPI",97738,2.2100000000000002E-2]
[99322,"SINAPI-I",4517,0.83160000000000001]
[99310,"SINAPI",101624,2.7648000000000001]
[99303]
[99303,"SINAPI",89993,5.9799999999999999E-2]
[99305,"SINAPI-I",660,72.45]
[99315,"SINAPI",89996,1.9743999999999999]
[98010,"SINAPI",94970,0.97560000000000002]
[98010,"SINAPI-I",4491,0.4773]
[98014,"SINAPI",94970,1.337]
[98018,"SINAPI",97736,1.2116]
[97994,"SINAPI",97736,0.25159999999999999]
[97996,"SINAPI",97738,2.2100000000000002E-2]
[98408,"SINAPI",100475,0.74160000000000004]
[98002,"SINAPI",89993,5.9799999999999999E-2]
[98406,"SINAPI",101624,1.3248]
[98030]
[98032]
[98032,"SINAPI-I",660,61.95]
[98036,"SINAPI-I",2692,3.7199999999999997E-2]
[98020,"SINAPI",87316,6.6799999999999998E-2]
[98022,"SINAPI-I",4491,0.58830000000000005]
[98026,"SINAPI",94970,1.8626]
[98028,"SINAPI",97738,2.2100000000000002E-2]
[98044,"SINAPI-I",5069,9.1300000000000006E-2]
[98038,"SINAPI",97738,2.2100000000000002E-2]
[98040,"SINAPI-I",660,72.45]
[98042,"SINAPI",100475,2.2408000000000001]
[97955,"SINAPI",101617,2]
[97955,"SINAPI",5678,5.9900000000000002E-2]
[97953,"SINAPI",94970,0.14649999999999999]
[97933,"SINAPI",101622,5.8500000000000003E-2]
[97961,"SINAPI",89993,2.9899999999999999E-2]
[97951,"SINAPI-I",6193,0.85560000000000003]
[97952,"SINAPI-I",7258,1212.9626000000001]
[97950]
[97956,"SINAPI",101616,1.17]
[97949,"SINAPI",96536,0.8]
[99319,"SINAPI",89998,1.163]
[98050,"SINAPI-I",12532,2]
[99272,"SINAPI",5678,1.18E-2]
[99270,"SINAPI-I",7258,11.780200000000001]
[97976,"SINAPI-I",5069,2.3900000000000001E-2]
[97974,"SINAPI",100475,2.9000000000000001E-2]
[102474,"SINAPI",88830,0.77170000000000005]
[102480,"SINAPI-I",4734,0.58689999999999998]
[102481,"SINAPI",89225,0.67749999999999999]
[94965,"SINAPI-I",370,0.72289999999999999]
[94966,"SINAPI-I",1379,388.88260000000002]
[102484,"SINAPI",89225,0.66900000000000004]
[94968,"SINAPI",88316,2.1057999999999999]
[104833]
[104834,"SINAPI-I",1379,185.68700000000001]
[104829,"SINAPI",88316,2.4224999999999999]
[103767]
[103766]
[103780,"SINAPI",88316,0.1051]
[103778,"SINAPI",88309,0.49209999999999998]
[103775,"SINAPI",88309,7.7600000000000002E-2]
[97091,"SINAPI",88245,2.8000000000000001E-2]
[97084,"SINAPI",91277,5.0000000000000001E-3]
[97096,"SINAPI",90587,4.9000000000000002E-2]
[103078,"SINAPI",96624,0.1]
[103062,"SINAPI",97097,1]
[103066,"SINAPI",97097,1]
[103074,"SINAPI",96624,0.1]
[103058]
[97099,"SINAPI",97090,4.4000000000000004]
[103072,"SINAPI",97082,3.5000000000000003E-2]
[97086,"SINAPI-I",4517,0.44]
[90467,"SINAPI",88248,0.1236]
[95541,"SINAPI",100308,0.69]
[91186,"SINAPI-I",14153,1.9400000000000001E-2]
[91185]
[91173]
[104762,"SINAPI",88247,0.22009999999999999]
[90441,"SINAPI",102274,0.81089999999999995]
[104782,"SINAPI-I",43132,1.95E-2]
[104783,"SINAPI-I",43132,8.9999999999999993E-3]
[90458]
[104788,"SINAPI",102275,0.1]
[90462,"SINAPI-I",11267,1.05]
[96560,"SINAPI-I",11267,4.375]
[96559,"SINAPI-I",11267,7]
[104365,"SINAPI",91278,3.0876000000000001]
[101868,"SINAPI",91277,4.1000000000000003E-3]
[101861]
[101864,"SINAPI-I",4741,6.4000000000000003E-3]
[101859,"SINAPI",88260,0.16159999999999999]
[104385,"SINAPI",5685,0.23599999999999999]
[104386,"SINAPI-I",4720,4.3999999999999997E-2]
[101842,"SINAPI",5867,1.54E-2]
[101847,"SINAPI",5867,1.54E-2]
[101836,"SINAPI",5678,4.8000000000000001E-2]
[101828]
[101826,"SINAPI",88316,4.2]
[104370]
[102988,"SINAPI",88316,1.5437000000000001]
[104367,"SINAPI",5869,0.67820000000000003]
[92998,"SINAPI",88247,0.20250000000000001]
[93026,"SINAPI-I",1878,1]
[103488,"SINAPI",88247,0.32940000000000003]
[97667]
[93017,"SINAPI-I",1895,1]
[93016,"SINAPI",88247,0.34200000000000003]
[98280,"SINAPI",88247,0.13880000000000001]
[98282]
[98283,"SINAPI-I",11904,1.05]
[98286]
[98272,"SINAPI-I",11924,1.05]
[98400,"SINAPI",88264,9.1899999999999996E-2]
[98304]
[98305,"SINAPI",88264,1.0259]
[103406,"SINAPI",88316,1.4434]
[103417,"SINAPI",88246,1.0392999999999999]
[103434]
[103483,"SINAPI",103164,3.4679000000000002]
[103466,"SINAPI",93421,5.0700000000000002E-2]
[103471,"SINAPI",93421,8.3599999999999994E-2]
[103476,"SINAPI",103158,4.2028999999999996]
[103463,"SINAPI",93421,2.41E-2]
[103459,"SINAPI",103181,1.5283]
[103447,"SINAPI",93422,1.1449]
[103449,"SINAPI",93421,0.82850000000000001]
[103454,"SINAPI",5930,2.0179999999999998]
[103458,"SINAPI",5928,0.9657]
[103429,"SINAPI",88246,1.1547000000000001]
[103377,"SINAPI-I",44545,1]
[103383,"SINAPI",88246,1.2500000000000001E-2]
[103386,"SINAPI",5930,7.7100000000000002E-2]
[103391,"SINAPI",88316,0.15559999999999999]
[103437]
[104591,"SINAPI-I",37595,5.24]
[104614,"SINAPI",88316,0.34489999999999998]
[87271,"SINAPI",88256,0.79600000000000004]
[104615,"SINAPI-I",36881,1.0900000000000001]
[87246,"SINAPI",88316,0.1893]
[87250,"SINAPI-I",1381,9.1325000000000003]
[87255,"SINAPI-I",1381,9.1300000000000008]
[104593,"SINAPI",88316,0.22919999999999999]
[87261,"SINAPI",88256,1.1135999999999999]
[103755,"SINAPI",92923,0.98429999999999995]
[103753,"SINAPI",88316,0.52529999999999999]
[103759,"SINAPI-I",39397,7.2999999999999995E-2]
[103757,"SINAPI",92923,0.76129999999999998]
[103756,"SINAPI-I",39397,5.5E-2]
[103746,"SINAPI-I",44741,0.5]
[103748,"SINAPI",103667,2.5399999999999999E-2]
[103745,"SINAPI",103668,6.5100000000000005E-2]
[103738,"SINAPI",102275,1.37E-2]
[103689,"SINAPI-I",5065,1.1299999999999999E-2]
[103702,"SINAPI",88316,1.2123999999999999]
[103707]
[103712,"SINAPI-I",44634,1]
[103714,"SINAPI-I",44636,1]
[103705]
[103725,"SINAPI",88316,13.843299999999999]
[103728,"SINAPI-I",44650,1]
[103733,"SINAPI",5930,1.3599000000000001]
[103690,"SINAPI",102486,2.3699999999999999E-2]
[96989,"SINAPI-I",4274,1]
[96982,"SINAPI",88247,0.18629999999999999]
[96973]
[96975,"SINAPI-I",864,1.05]
[96985]
[104828,"SINAPI",88247,1.155]
[104993,"SINAPI",88267,0.72099999999999997]
[105135]
[95648,"SINAPI-I",6019,1]
[95649,"SINAPI-I",37957,4]
[95652,"SINAPI-I",38130,2.9904999999999999]
[95654,"SINAPI-I",21114,3.1]
[95659,"SINAPI",104091,4.1554000000000002]
[95660,"SINAPI",104091,5.4074999999999998]
[95662,"SINAPI-I",44176,5.9202000000000004]
[95665,"SINAPI",104092,0.78839999999999999]
[95666,"SINAPI-I",38436,2]
[95668,"SINAPI-I",3148,5.28E-2]
[95671,"SINAPI",104092,2.3165]
[95641,"SINAPI-I",9875,0.94440000000000002]
[95642,"SINAPI-I",9875,1.1541999999999999]
[95643,"SINAPI-I",3148,5.28E-2]
[95645,"SINAPI-I",9869,5.8235999999999999]
[95636,"SINAPI-I",6019,1]
[95639,"SINAPI-I",7307,5.04E-2]
[98749,"SINAPI",88317,1.62]
[98534,"SINAPI",88316,4.0278]
[100434]
[94227]
[100326,"SINAPI",88323,7.9000000000000001E-2]
[94223,"SINAPI-I",7219,1.0289999999999999]
[94224,"SINAPI",87337,9.4999999999999998E-3]
[94231]
[94447]
[94441,"SINAPI-I",7175,17.748999999999999]
[94198,"SINAPI",88323,0.153]
[94218,"SINAPI-I",7231,0.20399999999999999]
[94207]
[103656,"SINAPI",88264,14.761699999999999]
[103655]
[105451,"SINAPI",90686,6.6100000000000006E-2]
[105411,"SINAPI",90686,2.12E-2]
[105421,"SINAPI",90686,2.3599999999999999E-2]
[105410,"SINAPI",88316,0.76770000000000005]
[105486,"SINAPI",90687,0.57489999999999997]
[105485]
[105490,"SINAPI",67827,2.2000000000000001E-3]
[105483,"SINAPI-I",45150,8.6999999999999994E-3]
[105476,"SINAPI",67826,3.7000000000000002E-3]
[105441,"SINAPI",89877,5.7000000000000002E-3]
[105500,"SINAPI",89877,5.7000000000000002E-3]
[105462]
[105468,"SINAPI",5930,2.7E-2]
[105469,"SINAPI",5930,7.0999999999999994E-2]
[105422]
[100203,"SINAPI",88316,5.16E-2]
[100223,"SINAPI",88316,0.26090000000000002]
[100219]
[100220,"SINAPI",88316,1.2982]
[100274,"SINAPI",88316,1.2988999999999999]
[100239]
[100271,"SINAPI",88316,2.9209999999999998]
[100235]
[100983,"SINAPI",89876,1.6899999999999998E-2]
[100981,"SINAPI",67827,2.0299999999999999E-2]
[100978]
[100991]
[100989]
[101014,"SINAPI",5930,4.8300000000000003E-2]
[101472,"SINAPI",5930,2.29E-2]
[101016,"SINAPI",88316,0.30590000000000001]
[101481]
[93588]
[100939]
[100944,"SINAPI",89884,4.0000000000000001E-3]
[95880,"SINAPI",89884,1.2999999999999999E-3]
[100945]
[100960,"SINAPI",5903,4.4999999999999997E-3]
[100955,"SINAPI",6259,1.7500000000000002E-2]
[102331,"SINAPI",91646,5.0000000000000001E-4]
[104389]
[97801,"SINAPI",91386,1E-4]
[97808,"SINAPI-I",43362,2.5]
[104382,"SINAPI-I",4718,1.4999999999999999E-2]
[104380,"SINAPI-I",4718,1.4999999999999999E-2]
[103142,"SINAPI",88248,0.27960000000000002]
[103149,"SINAPI",5928,0.44600000000000001]
[103109]
[103110,"SINAPI",5928,0.30609999999999998]
[103122,"SINAPI",5928,0.13150000000000001]
[103127]
[103121]
[103104,"SINAPI",5928,0.2276]
[103097]
[103089,"SINAPI",88248,3.4200000000000001E-2]
[101113]
[101102,"SINAPI",88309,0.52100000000000002]
[101099,"SINAPI",100973,1.25]
[101103,"SINAPI",90681,0.16700000000000001]
[101100,"SINAPI",94971,1.22]
[101100,"SINAPI",90778,0.151]
[101101,"SINAPI",88309,0.59499999999999997]
[101109,"SINAPI",90778,0.115]
[96394,"SINAPI-I",1379,88]
[104358,"SINAPI-I",370,0.24210000000000001]
[104362,"SINAPI-I",1106,51.88]
[104359,"SINAPI-I",370,0.32479999999999998]
[104374,"SINAPI-I",44953,7.6899999999999996E-2]
[105031,"SINAPI",89994,2.1000000000000001E-2]
[105030,"SINAPI",92270,7.5999999999999998E-2]
[105039,"SINAPI",88309,4.3999999999999997E-2]
[105026]
[105025,"SINAPI-I",6193,0.16919999999999999]
[93187,"SINAPI-I",4491,0.20300000000000001]
[93184,"SINAPI",92270,4.2000000000000003E-2]
[102150]
[102148,"SINAPI",88316,0.21199999999999999]
[102177,"SINAPI-I",39432,2.605]
[102178,"SINAPI-I",39432,2.3220000000000001]
[102163,"SINAPI-I",20259,7.2869999999999999]
[102151,"SINAPI",88325,0.64600000000000002]
[102166,"SINAPI",88325,0.47899999999999998]
[102168,"SINAPI-I",34385,1]
[102188,"SINAPI",88325,1.8180000000000001]
[102183,"SINAPI-I",5031,3.78]
[102192,"SINAPI",88316,0.33800000000000002]
[103038,"SINAPI-I",3148,1.6799999999999999E-2]
[94490,"SINAPI-I",20080,0.04]
[94492,"SINAPI-I",11677,1]
[89986]
[94501,"SINAPI",88248,0.72250000000000003]
[89985,"SINAPI",88248,0.22120000000000001]
[103029,"SINAPI-I",11756,1]
[94797,"SINAPI",88248,0.25650000000000001]
[95252,"SINAPI-I",11751,1]
[95250,"SINAPI-I",3148,1.32E-2]
[99625,"SINAPI",88248,0.56950000000000001]
[99627,"SINAPI-I",21092,1]
[99633,"SINAPI-I",10414,1]
[103013,"SINAPI-I",3148,9.5999999999999992E-3]
[103012]
[103012,"SINAPI",88267,0.10100000000000001]
[103012,"SINAPI",88248,0.10100000000000001]
[103012,"SINAPI-I",10233,1]
[103012,"SINAPI-I",3148,8.3999999999999995E-3]
[103011]
[103011,"SINAPI",88267,7.4200000000000002E-2]
[103011,"SINAPI",88248,7.4200000000000002E-2]
[103011,"SINAPI-I",10234,1]
[103011,"SINAPI-I",3148,6.6E-3]
[103015]
[103015,"SINAPI",88267,0.2273]
[103015,"SINAPI",88248,0.2273]
[103015,"SINAPI-I",10231,1]
[103015,"SINAPI-I",3148,1.5100000000000001E-2]
[103014]
[103014,"SINAPI",88267,0.1699]
[103014,"SINAPI",88248,0.1699]
[103014,"SINAPI-I",10232,1]
[103014,"SINAPI-I",3148,1.2E-2]
[103016]
[103016,"SINAPI",88267,0.28470000000000001]
[103016,"SINAPI",88248,0.28470000000000001]
[103016,"SINAPI-I",10235,1]
[103016,"SINAPI-I",3148,1.77E-2]
[103010]
[103010,"SINAPI",88267,5.5100000000000003E-2]
[103010,"SINAPI",88248,5.5100000000000003E-2]
[103010,"SINAPI-I",10229,1]
[103010,"SINAPI-I",3148,5.3E-3]
[103017]
[103017,"SINAPI",88267,0.36130000000000001]
[103017,"SINAPI",88248,0.36130000000000001]
[103017,"SINAPI-I",10230,1]
[103017,"SINAPI-I",3148,2.2599999999999999E-2]
[103033]
[103033,"SINAPI",88267,7.1900000000000006E-2]
[103033,"SINAPI",88248,7.1900000000000006E-2]
[103033,"SINAPI-I",43817,1]
[103033,"SINAPI-I",3148,8.3999999999999995E-3]
[103032]
[103032,"SINAPI",88267,0.14849999999999999]
[103032,"SINAPI",88248,0.14849999999999999]
[103032,"SINAPI-I",43820,1]
[103032,"SINAPI-I",3148,1.32E-2]
[103030]
[103030,"SINAPI",88267,7.1900000000000006E-2]
[103030,"SINAPI",88248,7.1900000000000006E-2]
[103030,"SINAPI-I",43818,1]
[103030,"SINAPI-I",3148,8.3999999999999995E-3]
[103031]
[103031,"SINAPI",88267,0.11020000000000001]
[103031,"SINAPI",88248,0.11020000000000001]
[103031,"SINAPI-I",43819,1]
[103031,"SINAPI-I",3148,1.06E-2]
[103035]
[103035,"SINAPI",88267,0.14849999999999999]
[103035,"SINAPI",88248,0.14849999999999999]
[103035,"SINAPI-I",43816,1]
[103035,"SINAPI-I",3148,1.32E-2]
[103034]
[103034,"SINAPI",88267,0.11020000000000001]
[103034,"SINAPI",88248,0.11020000000000001]
[103034,"SINAPI-I",43815,1]
[103034,"SINAPI-I",3148,1.06E-2]
[103024]
[103024,"SINAPI",88267,0.26329999999999998]
[103024,"SINAPI",88248,0.26329999999999998]
[103024,"SINAPI-I",43825,1]
[103024,"SINAPI-I",3148,1.9199999999999998E-2]
[103023]
[103023,"SINAPI",88267,0.2021]
[103023,"SINAPI",88248,0.2021]
[103023,"SINAPI-I",43824,1]
[103023,"SINAPI-I",3148,1.6799999999999999E-2]
[103022]
[103022,"SINAPI",88267,0.14849999999999999]
[103022,"SINAPI",88248,0.14849999999999999]
[103022,"SINAPI-I",43823,1]
[103022,"SINAPI-I",3148,1.32E-2]
[103020]
[103020,"SINAPI",88267,7.1900000000000006E-2]
[103020,"SINAPI",88248,7.1900000000000006E-2]
[103020,"SINAPI-I",43821,1]
[103020,"SINAPI-I",3148,8.3999999999999995E-3]
[103026]
[103026,"SINAPI",88267,0.4546]
[103026,"SINAPI",88248,0.4546]
[103026,"SINAPI-I",43827,1]
[103026,"SINAPI-I",3148,3.0200000000000001E-2]
[103025]
[103025,"SINAPI",88267,0.33979999999999999]
[103025,"SINAPI",88248,0.33979999999999999]
[103025,"SINAPI-I",43826,1]
[103025,"SINAPI-I",3148,2.4E-2]
[103021]
[103021,"SINAPI",88267,0.11020000000000001]
[103021,"SINAPI",88248,0.11020000000000001]
[103021,"SINAPI-I",43822,1]
[103021,"SINAPI-I",3148,1.06E-2]
[103027]
[103027,"SINAPI",88267,3.5999999999999997E-2]
[103027,"SINAPI",88248,3.5999999999999997E-2]
[103027,"SINAPI-I",43828,1]
[103027,"SINAPI-I",3148,4.1999999999999997E-3]
[103028]
[103028,"SINAPI",88267,5.5100000000000003E-2]
[103028,"SINAPI",88248,5.5100000000000003E-2]
[103028,"SINAPI-I",43829,1]
[103028,"SINAPI-I",3148,5.3E-3]
[103563]
[103563,"SINAPI",88267,1.3396999999999999]
[103563,"SINAPI",88248,0.2303]
[103563,"SINAPI-I",44587,1]
[103563,"SINAPI",5930,0.46339999999999998]
[103563,"SINAPI",5928,0.21829999999999999]
[103564]
[103564,"SINAPI",88267,1.6345000000000001]
[103564,"SINAPI",88248,0.28089999999999998]
[103564,"SINAPI-I",44588,1]
[103564,"SINAPI",5930,0.54979999999999996]
[103564,"SINAPI",5928,0.25900000000000001]
[103565]
[103565,"SINAPI",88267,1.9292]
[103565,"SINAPI",88248,0.33160000000000001]
[103565,"SINAPI-I",44589,1]
[103565,"SINAPI",5930,0.63619999999999999]
[103565,"SINAPI",5928,0.29970000000000002]
[103566]
[103566,"SINAPI",88267,3.3359999999999999]
[103566,"SINAPI",88248,0.57340000000000002]
[103566,"SINAPI-I",44590,1]
[103566,"SINAPI",5930,1.0485]
[103566,"SINAPI",5928,0.49399999999999999]
[103567]
[103567,"SINAPI",88267,3.7780999999999998]
[103567,"SINAPI",88248,0.64939999999999998]
[103567,"SINAPI-I",44591,1]
[103567,"SINAPI",5930,1.1780999999999999]
[103567,"SINAPI",5928,0.55500000000000005]
[103568]
[103568,"SINAPI",88267,5.6269]
[103568,"SINAPI",88248,0.96709999999999996]
[103568,"SINAPI-I",44592,1]
[103568,"SINAPI",5930,1.72]
[103568,"SINAPI",5928,0.81030000000000002]
[103569]
[103569,"SINAPI",88267,6.2164000000000001]
[103569,"SINAPI",88248,1.0684]
[103569,"SINAPI-I",44593,1]
[103569,"SINAPI",5930,1.8928]
[103569,"SINAPI",5928,0.89170000000000005]
[103570]
[103570,"SINAPI",88267,9.2441999999999993]
[103570,"SINAPI",88248,1.5889]
[103570,"SINAPI-I",44594,1]
[103570,"SINAPI",5930,2.7803]
[103570,"SINAPI",5928,1.3098000000000001]
[103571]
[103571,"SINAPI",88267,10.718]
[103571,"SINAPI",88248,1.8421000000000001]
[103571,"SINAPI-I",44595,1]
[103571,"SINAPI",5930,3.2122000000000002]
[103571,"SINAPI",5928,1.5133000000000001]
[103562]
[103562,"SINAPI",88267,1.2218]
[103562,"SINAPI",88248,0.21]
[103562,"SINAPI-I",44586,1]
[103562,"SINAPI",5930,0.4289]
[103562,"SINAPI",5928,0.2021]
[103573]
[103573,"SINAPI",88267,0.9022]
[103573,"SINAPI",88248,0.15509999999999999]
[103573,"SINAPI-I",44597,1]
[103573,"SINAPI",5930,0.3352]
[103573,"SINAPI",5928,0.15790000000000001]
[103585]
[103585,"SINAPI",88267,10.2464]
[103585,"SINAPI",88248,1.7611000000000001]
[103585,"SINAPI-I",44609,1]
[103585,"SINAPI",5930,3.0739999999999998]
[103585,"SINAPI",5928,1.4481999999999999]
[103586]
[103586,"SINAPI",88267,11.520899999999999]
[103586,"SINAPI",88248,1.9802]
[103586,"SINAPI-I",44610,1]
[103586,"SINAPI",5930,3.4476]
[103586,"SINAPI",5928,1.6242000000000001]
[103574]
[103574,"SINAPI",88267,1.4488000000000001]
[103574,"SINAPI",88248,0.249]
[103574,"SINAPI-I",44598,1]
[103574,"SINAPI",5930,0.49540000000000001]
[103574,"SINAPI",5928,0.2334]
[103575]
[103575,"SINAPI",88267,1.5444]
[103575,"SINAPI",88248,0.26540000000000002]
[103575,"SINAPI-I",44599,1]
[103575,"SINAPI",5930,0.52339999999999998]
[103575,"SINAPI",5928,0.24660000000000001]
[103576]
[103576,"SINAPI",88267,2.1867000000000001]
[103576,"SINAPI",88248,0.37580000000000002]
[103576,"SINAPI-I",44600,1]
[103576,"SINAPI",5930,0.7117]
[103576,"SINAPI",5928,0.33529999999999999]
[103577]
[103577,"SINAPI",88267,2.3142]
[103577,"SINAPI",88248,0.3977]
[103577,"SINAPI-I",44601,1]
[103577,"SINAPI",5930,0.749]
[103577,"SINAPI",5928,0.35289999999999999]
[103578]
[103578,"SINAPI",88267,3.052]
[103578,"SINAPI",88248,0.52459999999999996]
[103578,"SINAPI-I",44602,1]
[103578,"SINAPI",5930,0.96530000000000005]
[103578,"SINAPI",5928,0.45479999999999998]
[103579]
[103579,"SINAPI",88267,3.8536000000000001]
[103579,"SINAPI",88248,0.6623]
[103579,"SINAPI-I",44603,1]
[103579,"SINAPI",5930,1.2002999999999999]
[103579,"SINAPI",5928,0.5655]
[103580]
[103580,"SINAPI",88267,4.9420000000000002]
[103580,"SINAPI",88248,0.84940000000000004]
[103580,"SINAPI-I",44604,1]
[103580,"SINAPI",5930,1.5193000000000001]
[103580,"SINAPI",5928,0.7157]
[103581]
[103581,"SINAPI",88267,6.1577999999999999]
[103581,"SINAPI",88248,1.0584]
[103581,"SINAPI-I",44605,1]
[103581,"SINAPI",5930,1.8755999999999999]
[103581,"SINAPI",5928,0.88360000000000005]
[103582]
[103582,"SINAPI",88267,7.5011000000000001]
[103582,"SINAPI",88248,1.2891999999999999]
[103582,"SINAPI-I",44606,1]
[103582,"SINAPI",5930,2.2694000000000001]
[103582,"SINAPI",5928,1.0690999999999999]
[103572]
[103572,"SINAPI",88267,0.87670000000000003]
[103572,"SINAPI",88248,0.1507]
[103572,"SINAPI-I",44596,1]
[103572,"SINAPI",5930,0.32769999999999999]
[103572,"SINAPI",5928,0.15440000000000001]
[103583]
[103583,"SINAPI",88267,8.0746000000000002]
[103583,"SINAPI",88248,1.3877999999999999]
[103583,"SINAPI-I",44607,1]
[103583,"SINAPI",5930,2.4375]
[103583,"SINAPI",5928,1.1483000000000001]
[103584]
[103584,"SINAPI",88267,9.6090999999999998]
[103584,"SINAPI",88248,1.6516]
[103584,"SINAPI-I",44608,1]
[103584,"SINAPI",5930,2.8872]
[103584,"SINAPI",5928,1.3602000000000001]
[103557]
[103557,"SINAPI",88267,0.35730000000000001]
[103557,"SINAPI",88248,6.1400000000000003E-2]
[103557,"SINAPI-I",44963,1]
[103557,"SINAPI-I",44613,1]
[103557,"SINAPI",5930,0.17549999999999999]
[103557,"SINAPI",5928,8.2699999999999996E-2]
[103558]
[103558,"SINAPI",88267,0.57979999999999998]
[103558,"SINAPI",88248,9.9699999999999997E-2]
[103558,"SINAPI-I",44964,1]
[103558,"SINAPI-I",44615,1]
[103558,"SINAPI",5930,0.2407]
[103558,"SINAPI",5928,0.1134]
[103559]
[103559,"SINAPI",88267,0.81269999999999998]
[103559,"SINAPI",88248,0.13969999999999999]
[103559,"SINAPI-I",44965,1]
[103559,"SINAPI-I",44617,1]
[103559,"SINAPI",5930,0.309]
[103559,"SINAPI",5928,0.14560000000000001]
[103560]
[103560,"SINAPI",88267,1.0076000000000001]
[103560,"SINAPI",88248,0.17319999999999999]
[103560,"SINAPI-I",44966,1]
[103560,"SINAPI-I",44619,1]
[103560,"SINAPI",5930,0.36609999999999998]
[103560,"SINAPI",5928,0.17249999999999999]
[103561]
[103561,"SINAPI",88267,1.1645000000000001]
[103561,"SINAPI",88248,0.2001]
[103561,"SINAPI-I",44967,1]
[103561,"SINAPI-I",44620,1]
[103561,"SINAPI",5930,0.41210000000000002]
[103561,"SINAPI",5928,0.19409999999999999]
[103529]
[103529,"SINAPI",88267,0.35730000000000001]
[103529,"SINAPI",88248,6.1400000000000003E-2]
[103529,"SINAPI-I",44613,1]
[103529,"SINAPI-I",44554,1]
[103529,"SINAPI",5930,0.17549999999999999]
[103529,"SINAPI",5928,8.2699999999999996E-2]
[103530]
[103530,"SINAPI",88267,0.46860000000000002]
[103530,"SINAPI",88248,8.0500000000000002E-2]
[103530,"SINAPI-I",44614,1]
[103530,"SINAPI-I",44555,1]
[103530,"SINAPI",5930,0.20810000000000001]
[103530,"SINAPI",5928,9.8000000000000004E-2]
[103531]
[103531,"SINAPI",88267,0.57979999999999998]
[103531,"SINAPI",88248,9.9699999999999997E-2]
[103531,"SINAPI-I",44615,1]
[103531,"SINAPI-I",44556,1]
[103531,"SINAPI",5930,0.2407]
[103531,"SINAPI",5928,0.1134]
[103532]
[103532,"SINAPI",88267,0.64590000000000003]
[103532,"SINAPI",88248,0.111]
[103532,"SINAPI-I",44616,1]
[103532,"SINAPI-I",44557,1]
[103532,"SINAPI",5930,0.2601]
[103532,"SINAPI",5928,0.1225]
[103533]
[103533,"SINAPI",88267,0.81269999999999998]
[103533,"SINAPI",88248,0.13969999999999999]
[103533,"SINAPI-I",44617,1]
[103533,"SINAPI-I",44558,1]
[103533,"SINAPI",5930,0.309]
[103533,"SINAPI",5928,0.14560000000000001]
[103534]
[103534,"SINAPI",88267,0.78510000000000002]
[103534,"SINAPI",88248,0.13489999999999999]
[103534,"SINAPI-I",44618,1]
[103534,"SINAPI-I",44559,1]
[103534,"SINAPI",5930,0.3009]
[103534,"SINAPI",5928,0.14169999999999999]
[103535]
[103535,"SINAPI",88267,1.0076000000000001]
[103535,"SINAPI",88248,0.17319999999999999]
[103535,"SINAPI-I",44619,1]
[103535,"SINAPI-I",44560,1]
[103535,"SINAPI",5930,0.36609999999999998]
[103535,"SINAPI",5928,0.17249999999999999]
[103527]
[103527,"SINAPI",88267,0.25330000000000003]
[103527,"SINAPI",88248,4.3499999999999997E-2]
[103527,"SINAPI-I",44611,1]
[103527,"SINAPI-I",44552,1]
[103536]
[103536,"SINAPI",88267,1.1645000000000001]
[103536,"SINAPI",88248,0.2001]
[103536,"SINAPI-I",44620,1]
[103536,"SINAPI-I",44561,1]
[103536,"SINAPI",5930,0.41210000000000002]
[103536,"SINAPI",5928,0.19409999999999999]
[103528]
[103528,"SINAPI",88267,0.31280000000000002]
[103528,"SINAPI",88248,5.3800000000000001E-2]
[103528,"SINAPI-I",44612,1]
[103528,"SINAPI-I",44553,1]
[103528,"SINAPI",5930,0.16250000000000001]
[103528,"SINAPI",5928,7.6499999999999999E-2]
[103541]
[103541,"SINAPI",88267,0.57979999999999998]
[103541,"SINAPI",88248,9.9699999999999997E-2]
[103541,"SINAPI-I",44615,1]
[103541,"SINAPI-I",44564,1]
[103541,"SINAPI",5930,0.2407]
[103541,"SINAPI",5928,0.1134]
[103539]
[103539,"SINAPI",88267,0.35730000000000001]
[103539,"SINAPI",88248,6.1400000000000003E-2]
[103539,"SINAPI-I",44613,1]
[103539,"SINAPI-I",44562,1]
[103539,"SINAPI",5930,0.17549999999999999]
[103539,"SINAPI",5928,8.2699999999999996E-2]
[103540]
[103540,"SINAPI",88267,0.46860000000000002]
[103540,"SINAPI",88248,8.0500000000000002E-2]
[103540,"SINAPI-I",44614,1]
[103540,"SINAPI-I",44563,1]
[103540,"SINAPI",5930,0.20810000000000001]
[103540,"SINAPI",5928,9.8000000000000004E-2]
[103542]
[103542,"SINAPI",88267,0.64590000000000003]
[103542,"SINAPI",88248,0.111]
[103542,"SINAPI-I",44616,1]
[103542,"SINAPI-I",44565,1]
[103542,"SINAPI",5930,0.2601]
[103542,"SINAPI",5928,0.1225]
[103543]
[103543,"SINAPI",88267,0.81269999999999998]
[103543,"SINAPI",88248,0.13969999999999999]
[103543,"SINAPI-I",44617,1]
[103543,"SINAPI-I",44566,1]
[103543,"SINAPI",5930,0.309]
[103543,"SINAPI",5928,0.14560000000000001]
[103544]
[103544,"SINAPI",88267,0.78510000000000002]
[103544,"SINAPI",88248,0.13489999999999999]
[103544,"SINAPI-I",44618,1]
[103544,"SINAPI-I",44567,1]
[103544,"SINAPI",5930,0.3009]
[103544,"SINAPI",5928,0.14169999999999999]
[103545]
[103545,"SINAPI",88267,1.0076000000000001]
[103545,"SINAPI",88248,0.17319999999999999]
[103545,"SINAPI-I",44619,1]
[103545,"SINAPI-I",44568,1]
[103545,"SINAPI",5930,0.36609999999999998]
[103545,"SINAPI",5928,0.17249999999999999]
[103537]
[103537,"SINAPI",88267,0.25330000000000003]
[103537,"SINAPI",88248,4.3499999999999997E-2]
[103537,"SINAPI-I",44611,1]
[103537,"SINAPI-I",44585,1]
[103546]
[103546,"SINAPI",88267,1.1645000000000001]
[103546,"SINAPI",88248,0.2001]
[103546,"SINAPI-I",44620,1]
[103546,"SINAPI-I",44569,1]
[103546,"SINAPI",5930,0.41210000000000002]
[103546,"SINAPI",5928,0.19409999999999999]
[103538]
[103538,"SINAPI",88267,0.31280000000000002]
[103538,"SINAPI",88248,5.3800000000000001E-2]
[103538,"SINAPI-I",44686,1]
[103538,"SINAPI-I",44612,1]
[103538,"SINAPI",5930,0.16250000000000001]
[103538,"SINAPI",5928,7.6499999999999999E-2]
[103549]
[103549,"SINAPI",88267,0.35730000000000001]
[103549,"SINAPI",88248,6.1400000000000003E-2]
[103549,"SINAPI-I",44613,1]
[103549,"SINAPI-I",44572,1]
[103549,"SINAPI",5930,0.17549999999999999]
[103549,"SINAPI",5928,8.2699999999999996E-2]
[103550]
[103550,"SINAPI",88267,0.46860000000000002]
[103550,"SINAPI",88248,8.0500000000000002E-2]
[103550,"SINAPI-I",44614,1]
[103550,"SINAPI-I",44573,1]
[103550,"SINAPI",5930,0.20810000000000001]
[103550,"SINAPI",5928,9.8000000000000004E-2]
[103551]
[103551,"SINAPI",88267,0.57979999999999998]
[103551,"SINAPI",88248,9.9699999999999997E-2]
[103551,"SINAPI-I",44615,1]
[103551,"SINAPI-I",44574,1]
[103551,"SINAPI",5930,0.2407]
[103551,"SINAPI",5928,0.1134]
[103552]
[103552,"SINAPI",88267,0.64590000000000003]
[103552,"SINAPI",88248,0.111]
[103552,"SINAPI-I",44616,1]
[103552,"SINAPI-I",44575,1]
[103552,"SINAPI",5930,0.2601]
[103552,"SINAPI",5928,0.1225]
[103553]
[103553,"SINAPI",88267,0.81269999999999998]
[103553,"SINAPI",88248,0.13969999999999999]
[103553,"SINAPI-I",44617,1]
[103553,"SINAPI-I",44576,1]
[103553,"SINAPI",5930,0.309]
[103553,"SINAPI",5928,0.14560000000000001]
[103554]
[103554,"SINAPI",88267,0.78510000000000002]
[103554,"SINAPI",88248,0.13489999999999999]
[103554,"SINAPI-I",44618,1]
[103554,"SINAPI-I",44577,1]
[103554,"SINAPI",5930,0.3009]
[103554,"SINAPI",5928,0.14169999999999999]
[103555]
[103555,"SINAPI",88267,1.0076000000000001]
[103555,"SINAPI",88248,0.17319999999999999]
[103555,"SINAPI-I",44619,1]
[103555,"SINAPI-I",44578,1]
[103555,"SINAPI",5930,0.36609999999999998]
[103555,"SINAPI",5928,0.17249999999999999]
[103547]
[103547,"SINAPI",88267,0.25330000000000003]
[103547,"SINAPI",88248,4.3499999999999997E-2]
[103547,"SINAPI-I",44611,1]
[103547,"SINAPI-I",44570,1]
[103556]
[103556,"SINAPI",88267,1.1645000000000001]
[103556,"SINAPI",88248,0.2001]
[103556,"SINAPI-I",44620,1]
[103556,"SINAPI-I",44579,1]
[103556,"SINAPI",5930,0.41210000000000002]
[103556,"SINAPI",5928,0.19409999999999999]
[103548]
[103548,"SINAPI",88267,0.31280000000000002]
[103548,"SINAPI",88248,5.3800000000000001E-2]
[103548,"SINAPI-I",44612,1]
[103548,"SINAPI-I",44571,1]
[103548,"SINAPI",5930,0.16250000000000001]
[103548,"SINAPI",5928,7.6499999999999999E-2]

{"sheet":"NOVO","index":1,"n_rows":45,"n_cols":4,"rows_kept":45,"cut":false,"hidden":false,"merged":[]}
[]
[null,"Novidades da Versão"]
[]
[]
["V2.0"]
[null,"GERAL"]
[null,null,{"$f":"IF(D7<>\"\",\"▪\",\"\")","v":"▪"},"Alteração da extensão do arquivo “Referência mm–aaaa” de xls para xlsm."]
[null,"Banco"]
[null,null,{"$f":"IF(D9<>\"\",\"▪\",\"\")","v":"▪"},"Ajuste na macro [Importar SINAPI] para importar os relatórios do SINAPI no novo formato."]
[null,null,{"$f":"IF(D10<>\"\",\"▪\",\"\")","v":""}]
["V2.1"]
[null,"Banco"]
[null,null,{"$f":"IF(D13<>\"\",\"▪\",\"\")","v":"▪"},"Ajuste na macro [Importar SINAPI] para continuar importando também no antigo formato do SINAPI."]
[]
["V2.2"]
[null,"Busca"]
[null,null,{"$f":"IF(D17<>\"\",\"▪\",\"\")","v":"▪"},"Correção na macro [Busca]."]
[]
["V2.3"]
[null,"GERAL"]
[null,null,{"$f":"IF(D21<>\"\",\"▪\",\"\")","v":"▪"},"Substituição da função própria “@CONCATENAR” pela função “=concat()” nativa do Excel, para evitar incompatibilidade com versões antigas do MS Excel."]
[null,"Banco"]
[null,null,{"$f":"IF(D23<>\"\",\"▪\",\"\")","v":"▪"},"Ajuste na macro [Importar SINAPI] para evitar o erro “estouro” caso a aba Banco tenha mais de 32.767 linhas."]
[null,"Composições"]
[null,null,{"$f":"IF(D25<>\"\",\"▪\",\"\")","v":"▪"},"Fixação do nome “Composição” na coluna FONTE nas linhas de título das composições."]
[null,null,{"$f":"IF(D26<>\"\",\"▪\",\"\")","v":"▪"},"Alterada a cor das células com lista suspensa (coluna FONTE), para manter o padrão da Planilha Múltipla."]
[null,"Cotações"]
[null,null,{"$f":"IF(D28<>\"\",\"▪\",\"\")","v":"▪"},"Alterada a cor das células com lista suspensa (coluna EMPRESA e ÍNDICE RETROAÇÃO), para manter o padrão da Planilha Múltipla."]
[]
["V2.4"]
[null,"Banco"]
[null,null,{"$f":"IF(D32<>\"\",\"▪\",\"\")","v":"▪"},"Correção na macro [Importar Banco Qualquer]."]
[null,null,{"$f":"IF(D33<>\"\",\"▪\",\"\")","v":"▪"},"Exibidas as colunas J:K quem apresentam os percentuais dos preços de insumos Atribuídos São Paulo (% AS)."]
[]
["V2.5"]
[null,"Banco"]
[null,null,{"$f":"IF(D37<>\"\",\"▪\",\"\")","v":"▪"},"Ajuste na macro [Importar Banco Qualquer] para evitar o erro “estouro” caso a aba Banco tenha mais de 32.767 linhas."]
[null,null,{"$f":"IF(D38<>\"\",\"▪\",\"\")","v":"▪"},"Ajuste na formatação, para exibir na cor vermelha, os códigos dos insumos e composições sem custo."]
[null,"Composições"]
[null,null,{"$f":"IF(D40<>\"\",\"▪\",\"\")","v":"▪"},"Ajuste na formação das linhas de título das composições para ajuste automático da altura da linha."]
[null,null,{"$f":"IF(D41<>\"\",\"▪\",\"\")","v":"▪"},"Ajuste na fórmula dos preços totais dos itens dos insumos/composições (alterada a função “truncar” para a função “arredondar”)."]
[null,null,{"$f":"IF(D42<>\"\",\"▪\",\"\")","v":"▪"},"Alterada a lista suspensa nas células na coluna FONTE para exibir apenas as fontes disponíveis na aba Banco."]
[null,null,{"$f":"IF(D43<>\"\",\"▪\",\"\")","v":"▪"},"Inclusão de legenda das cores das células."]
[null,"Composições"]
[null,null,{"$f":"IF(D45<>\"\",\"▪\",\"\")","v":"▪"},"Inclusão de legenda das cores das células."]

{"sheet":"Banco","index":2,"n_rows":31120,"n_cols":11,"rows_kept":4500,"cut":true,"hidden":false,"merged":[[0,1,0,3],[3,8,4,8]],"bounds":{"rows_first":2000,"rows_last":500,"rows_between":2000,"halvings":0}}
[null,"BANCO DE CUSTOS - REFERÊNCIA 2.5",null,null,null,null,null,null,"AS = ATRIBUÍDO SÃO PAULO"]
[null,"DATA PREÇO (SINAPI):",null,"LOCALIDADE / DATA EMISSÃO (SINAPI):",null,null,null,null,"CR = COEFICIENTE DE REPRESENTATIVIDADE"]
[null,"05/2025",null,"CURITIBA",null,null,null,null,"C = COLETADO"]
[null,"",null,"10/06/2025",null,null,null,null,"ORIGEM DO PREÇO"]
[null,"FONTE","CÓDIGO","DESCRIÇÃO","UNIDADE","CUSTO UNITÁRIO\nDESONERADO","CUSTO UNITÁRIO\nNÃO DESONERADO",null,null,"% AS\nDESONERADO","% AS\nNAO DESONERADO"]
[]
[{"$f":"CONCATENATE($B7,\" \",$C7)","v":"Composição SERP.0001.01"},{"$f":"OFFSET(Composições!$A$1,MATCH(COUNTIF($H$1:$H7,\"Composições\"),Composições!$K:$K,0)-1,COLUMN(Banco!B$6)-1)","v":"Composição"},{"$f":"OFFSET(Composições!$A$1,MATCH(COUNTIF($H$1:$H7,\"Composições\"),Composições!$K:$K,0)-1,COLUMN(Banco!C$6)-1)","v":"SERP.0001.01"},{"$f":"IF(COUNTIF(OFFSET(Banco!$A$6,1,0,NCOMPOSICOES),$A7)>1,\"CÓDIGO REPETIDO\",OFFSET(Composições!$A$1,MATCH(COUNTIF($H$1:$H7,\"Composições\"),Composições!$K:$K,0)-1,COLUMN(Banco!D$6)-1))","v":"LOCAÇÃO CONVENCIONAL DE OBRA, ATRAVÉS DE GABARITO DE TÁBUAS CORRIDAS PONTALETADAS, COM REAPROVEITAMENTO DE 3 VEZES."},{"$f":"OFFSET(Composições!$A$1,MATCH(COUNTIF($H$1:$H7,\"Composições\"),Composições!$K:$K,0)-1,COLUMN(Banco!E$6)-1)","v":"M²"},{"$f":"OFFSET(Composições!$A$1,MATCH(COUNTIF($H$1:$H7,\"Composições\"),Composições!$K:$K,0)-1,COLUMN(Banco!F$6)-1)","v":8.43},{"$f":"OFFSET(Composições!$A$1,MATCH(COUNTIF($H$1:$H7,\"Composições\"),Composições!$K:$K,0)-1,COLUMN(Banco!G$6)-1)","v":8.92},"Composições",null,{"$f":"OFFSET(Composições!$A$1,MATCH(COUNTIF($H$1:$H7,\"Composições\"),Composições!$K:$K,0)-1,COLUMN(Banco!J$6)+4)","v":0},{"$f":"OFFSET(Composições!$A$1,MATCH(COUNTIF($H$1:$H7,\"Composições\"),Composições!$K:$K,0)-1,COLUMN(Banco!K$6)+4)","v":0}]
["Composição FUES.0053.01",{"$f":"OFFSET(Composições!$A$1,MATCH(COUNTIF($H$1:$H8,\"Composições\"),Composições!$K:$K,0)-1,COLUMN(Banco!B$6)-1)","v":"Composição"},{"$f":"OFFSET(Composições!$A$1,MATCH(COUNTIF($H$1:$H8,\"Composições\"),Composições!$K:$K,0)-1,COLUMN(Banco!C$6)-1)","v":"FUES.0053.01"},{"$f":"IF(COUNTIF(OFFSET(Banco!$A$6,1,0,NCOMPOSICOES),$A8)>1,\"CÓDIGO REPETIDO\",OFFSET(Composições!$A$1,MATCH(COUNTIF($H$1:$H8,\"Composições\"),Composições!$K:$K,0)-1,COLUMN(Banco!D$6)-1))","v":"ESTACA ESCAVADA MECANICAMENTE, SEM FLUIDO ESTABILIZANTE, COM 30CM DE DIÂMETRO, CONCRETO LANÇADO POR CAMINHÃO BETONEIRA (EXCLUSIVE ARMADURA)."},{"$f":"OFFSET(Composições!$A$1,MATCH(COUNTIF($H$1:$H8,\"Composições\"),Composições!$K:$K,0)-1,COLUMN(Banco!E$6)-1)","v":"M"},{"$f":"OFFSET(Composições!$A$1,MATCH(COUNTIF($H$1:$H8,\"Composições\"),Composições!$K:$K,0)-1,COLUMN(Banco!F$6)-1)","v":65.41},{"$f":"OFFSET(Composições!$A$1,MATCH(COUNTIF($H$1:$H8,\"Composições\"),Composições!$K:$K,0)-1,COLUMN(Banco!G$6)-1)","v":66.239999999999995},"Composições",null,{"$f":"OFFSET(Composições!$A$1,MATCH(COUNTIF($H$1:$H8,\"Composições\"),Composições!$K:$K,0)-1,COLUMN(Banco!J$6)+4)","v":5.3800000000000001E-2},{"$f":"OFFSET(Composições!$A$1,MATCH(COUNTIF($H$1:$H8,\"Composições\"),Composições!$K:$K,0)-1,COLUMN(Banco!K$6)+4)","v":5.3100000000000001E-2}]
["Composição FUES.0008.01",{"$f":"OFFSET(Composições!$A$1,MATCH(COUNTIF($H$1:$H9,\"Composições\"),Composições!$K:$K,0)-1,COLUMN(Banco!B$6)-1)","v":"Composição"},{"$f":"OFFSET(Composições!$A$1,MATCH(COUNTIF($H$1:$H9,\"Composições\"),Composições!$K:$K,0)-1,COLUMN(Banco!C$6)-1)","v":"FUES.0008.01"},{"$f":"IF(COUNTIF(OFFSET(Banco!$A$6,1,0,NCOMPOSICOES),$A9)>1,\"CÓDIGO REPETIDO\",OFFSET(Composições!$A$1,MATCH(COUNTIF($H$1:$H9,\"Composições\"),Composições!$K:$K,0)-1,COLUMN(Banco!D$6)-1))","v":"CONCRETAGEM DE BLOCOS DE COROAMENTO E VIGAS BALDRAME, FCK 25 MPA, COM USO DE BOMBA ? LANÇAMENTO, ADENSAMENTO E ACABAMENTO."},{"$f":"OFFSET(Composições!$A$1,MATCH(COUNTIF($H$1:$H9,\"Composições\"),Composições!$K:$K,0)-1,COLUMN(Banco!E$6)-1)","v":"M³"},{"$f":"OFFSET(Composições!$A$1,MATCH(COUNTIF($H$1:$H9,\"Composições\"),Composições!$K:$K,0)-1,COLUMN(Banco!F$6)-1)","v":604.91999999999996},{"$f":"OFFSET(Composições!$A$1,MATCH(COUNTIF($H$1:$H9,\"Composições\"),Composições!$K:$K,0)-1,COLUMN(Banco!G$6)-1)","v":607.08000000000004},"Composições",null,{"$f":"OFFSET(Composições!$A$1,MATCH(COUNTIF($H$1:$H9,\"Composições\"),Composições!$K:$K,0)-1,COLUMN(Banco!J$6)+4)","v":2.0000000000000001E-4},{"$f":"OFFSET(Composições!$A$1,MATCH(COUNTIF($H$1:$H9,\"Composições\"),Composições!$K:$K,0)-1,COLUMN(Banco!K$6)+4)","v":2.0000000000000001E-4}]
["Composição MOVT.0026.01",{"$f":"OFFSET(Composições!$A$1,MATCH(COUNTIF($H$1:$H10,\"Composições\"),Composições!$K:$K,0)-1,COLUMN(Banco!B$6)-1)","v":"Composição"},{"$f":"OFFSET(Composições!$A$1,MATCH(COUNTIF($H$1:$H10,\"Composições\"),Composições!$K:$K,0)-1,COLUMN(Banco!C$6)-1)","v":"MOVT.0026.01"},{"$f":"IF(COUNTIF(OFFSET(Banco!$A$6,1,0,NCOMPOSICOES),$A10)>1,\"CÓDIGO REPETIDO\",OFFSET(Composições!$A$1,MATCH(COUNTIF($H$1:$H10,\"Composições\"),Composições!$K:$K,0)-1,COLUMN(Banco!D$6)-1))","v":"ESCAVAÇÃO MECANIZADA DE VALA COM MINI-ESCAVADEIRA"},{"$f":"OFFSET(Composições!$A$1,MATCH(COUNTIF($H$1:$H10,\"Composições\"),Composições!$K:$K,0)-1,COLUMN(Banco!E$6)-1)","v":"m³"},{"$f":"OFFSET(Composições!$A$1,MATCH(COUNTIF($H$1:$H10,\"Composições\"),Composições!$K:$K,0)-1,COLUMN(Banco!F$6)-1)","v":51.089999999999996},{"$f":"OFFSET(Composições!$A$1,MATCH(COUNTIF($H$1:$H10,\"Composições\"),Composições!$K:$K,0)-1,COLUMN(Banco!G$6)-1)","v":52.84},"Composições",null,{"$f":"OFFSET(Composições!$A$1,MATCH(COUNTIF($H$1:$H10,\"Composições\"),Composições!$K:$K,0)-1,COLUMN(Banco!J$6)+4)","v":0.51029999999999998},{"$f":"OFFSET(Composições!$A$1,MATCH(COUNTIF($H$1:$H10,\"Composições\"),Composições!$K:$K,0)-1,COLUMN(Banco!K$6)+4)","v":0.49340000000000001}]
["Composição DROP.0002.01",{"$f":"OFFSET(Composições!$A$1,MATCH(COUNTIF($H$1:$H11,\"Composições\"),Composições!$K:$K,0)-1,COLUMN(Banco!B$6)-1)","v":"Composição"},{"$f":"OFFSET(Composições!$A$1,MATCH(COUNTIF($H$1:$H11,\"Composições\"),Composições!$K:$K,0)-1,COLUMN(Banco!C$6)-1)","v":"DROP.0002.01"},{"$f":"IF(COUNTIF(OFFSET(Banco!$A$6,1,0,NCOMPOSICOES),$A11)>1,\"CÓDIGO REPETIDO\",OFFSET(Composições!$A$1,MATCH(COUNTIF($H$1:$H11,\"Composições\"),Composições!$K:$K,0)-1,COLUMN(Banco!D$6)-1))","v":"EXECUCAO DE DRENO VERTICAL COM BRITA, DIAMETRO 250MM - INCLUSO FORNECIMENTO DE MATERIAIS"},{"$f":"OFFSET(Composições!$A$1,MATCH(COUNTIF($H$1:$H11,\"Composições\"),Composições!$K:$K,0)-1,COLUMN(Banco!E$6)-1)","v":"M"},{"$f":"OFFSET(Composições!$A$1,MATCH(COUNTIF($H$1:$H11,\"Composições\"),Composições!$K:$K,0)-1,COLUMN(Banco!F$6)-1)","v":56.96},{"$f":"OFFSET(Composições!$A$1,MATCH(COUNTIF($H$1:$H11,\"Composições\"),Composições!$K:$K,0)-1,COLUMN(Banco!G$6)-1)","v":59.670000000000009},"Composições",null,{"$f":"OFFSET(Composições!$A$1,MATCH(COUNTIF($H$1:$H11,\"Composições\"),Composições!$K:$K,0)-1,COLUMN(Banco!J$6)+4)","v":9.4799999999999995E-2},{"$f":"OFFSET(Composições!$A$1,MATCH(COUNTIF($H$1:$H11,\"Composições\"),Composições!$K:$K,0)-1,COLUMN(Banco!K$6)+4)","v":9.0499999999999997E-2}]
["Composição FUES.0152.03",{"$f":"OFFSET(Composições!$A$1,MATCH(COUNTIF($H$1:$H12,\"Composições\"),Composições!$K:$K,0)-1,COLUMN(Banco!B$6)-1)","v":"Composição"},{"$f":"OFFSET(Composições!$A$1,MATCH(COUNTIF($H$1:$H12,\"Composições\"),Composições!$K:$K,0)-1,COLUMN(Banco!C$6)-1)","v":"FUES.0152.03"},{"$f":"IF(COUNTIF(OFFSET(Banco!$A$6,1,0,NCOMPOSICOES),$A12)>1,\"CÓDIGO REPETIDO\",OFFSET(Composições!$A$1,MATCH(COUNTIF($H$1:$H12,\"Composições\"),Composições!$K:$K,0)-1,COLUMN(Banco!D$6)-1))","v":"ESTRUTURA TRELIÇADA DE COBERTURA, COM LIGAÇÕES SOLDADAS, INCLUSOS PERFIS METÁLICOS, CHAPAS METÁLICAS, INCLUSIVE BENEFICIAMENTO, JATEAMENTO, FUNDO, MÃO DE OBRA E TRANSPORTE COM GUINDASTE - FORNECIMENTO E INSTALAÇÃO"},{"$f":"OFFSET(Composições!$A$1,MATCH(COUNTIF($H$1:$H12,\"Composições\"),Composições!$K:$K,0)-1,COLUMN(Banco!E$6)-1)","v":"KG"},{"$f":"OFFSET(Composições!$A$1,MATCH(COUNTIF($H$1:$H12,\"Composições\"),Composições!$K:$K,0)-1,COLUMN(Banco!F$6)-1)","v":15.159999999999998},{"$f":"OFFSET(Composições!$A$1,MATCH(COUNTIF($H$1:$H12,\"Composições\"),Composições!$K:$K,0)-1,COLUMN(Banco!G$6)-1)","v":15.35},"Composições",null,{"$f":"OFFSET(Composições!$A$1,MATCH(COUNTIF($H$1:$H12,\"Composições\"),Composições!$K:$K,0)-1,COLUMN(Banco!J$6)+4)","v":0.16159999999999999},{"$f":"OFFSET(Composições!$A$1,MATCH(COUNTIF($H$1:$H12,\"Composições\"),Composições!$K:$K,0)-1,COLUMN(Banco!K$6)+4)","v":0.15959999999999999}]
["Composição COBE.0084.02",{"$f":"OFFSET(Composições!$A$1,MATCH(COUNTIF($H$1:$H13,\"Composições\"),Composições!$K:$K,0)-1,COLUMN(Banco!B$6)-1)","v":"Composição"},{"$f":"OFFSET(Composições!$A$1,MATCH(COUNTIF($H$1:$H13,\"Composições\"),Composições!$K:$K,0)-1,COLUMN(Banco!C$6)-1)","v":"COBE.0084.02"},{"$f":"IF(COUNTIF(OFFSET(Banco!$A$6,1,0,NCOMPOSICOES),$A13)>1,\"CÓDIGO REPETIDO\",OFFSET(Composições!$A$1,MATCH(COUNTIF($H$1:$H13,\"Composições\"),Composições!$K:$K,0)-1,COLUMN(Banco!D$6)-1))","v":"TELHAMENTO COM TELHA TERMOISOLANTE REVESTIDA EM ACO GALVANIZADO, FACE SUPERIOR EM TELHA TRAPEZOIDAL E FACE INFERIOR EM CHAPA PLANA, REVESTIMENTO COM ESPESSURA DE 0,50 MM NATURAL, NUCLEO EM POLIESTIRENO (EPS) DE 50 MM, INCLUINDO ACESSORIOS DE FIXACAO."},{"$f":"OFFSET(Composições!$A$1,MATCH(COUNTIF($H$1:$H13,\"Composições\"),Composições!$K:$K,0)-1,COLUMN(Banco!E$6)-1)","v":"m²"},{"$f":"OFFSET(Composições!$A$1,MATCH(COUNTIF($H$1:$H13,\"Composições\"),Composições!$K:$K,0)-1,COLUMN(Banco!F$6)-1)","v":144.20999999999998},{"$f":"OFFSET(Composições!$A$1,MATCH(COUNTIF($H$1:$H13,\"Composições\"),Composições!$K:$K,0)-1,COLUMN(Banco!G$6)-1)","v":144.5},"Composições",null,{"$f":"OFFSET(Composições!$A$1,MATCH(COUNTIF($H$1:$H13,\"Composições\"),Composições!$K:$K,0)-1,COLUMN(Banco!J$6)+4)","v":0},{"$f":"OFFSET(Composições!$A$1,MATCH(COUNTIF($H$1:$H13,\"Composições\"),Composições!$K:$K,0)-1,COLUMN(Banco!K$6)+4)","v":0}]
["Composição COBE.0086.01",{"$f":"OFFSET(Composições!$A$1,MATCH(COUNTIF($H$1:$H14,\"Composições\"),Composições!$K:$K,0)-1,COLUMN(Banco!B$6)-1)","v":"Composição"},{"$f":"OFFSET(Composições!$A$1,MATCH(COUNTIF($H$1:$H14,\"Composições\"),Composições!$K:$K,0)-1,COLUMN(Banco!C$6)-1)","v":"COBE.0086.01"},{"$f":"IF(COUNTIF(OFFSET(Banco!$A$6,1,0,NCOMPOSICOES),$A14)>1,\"CÓDIGO REPETIDO\",OFFSET(Composições!$A$1,MATCH(COUNTIF($H$1:$H14,\"Composições\"),Composições!$K:$K,0)-1,COLUMN(Banco!D$6)-1))","v":"TELHAMENTO COM TELHA METÁLICA MULTIDOBRA,  E = 0,5 MM, INCLUSO IÇAMENTO E ACESSÓRIOS - FORNECIMENTO E INSTALAÇÃO"},{"$f":"OFFSET(Composições!$A$1,MATCH(COUNTIF($H$1:$H14,\"Composições\"),Composições!$K:$K,0)-1,COLUMN(Banco!E$6)-1)","v":"m²"},{"$f":"OFFSET(Composições!$A$1,MATCH(COUNTIF($H$1:$H14,\"Composições\"),Composições!$K:$K,0)-1,COLUMN(Banco!F$6)-1)","v":84.89},{"$f":"OFFSET(Composições!$A$1,MATCH(COUNTIF($H$1:$H14,\"Composições\"),Composições!$K:$K,0)-1,COLUMN(Banco!G$6)-1)","v":85.88},"Composições",null,{"$f":"OFFSET(Composições!$A$1,MATCH(COUNTIF($H$1:$H14,\"Composições\"),Composições!$K:$K,0)-1,COLUMN(Banco!J$6)+4)","v":0},{"$f":"OFFSET(Composições!$A$1,MATCH(COUNTIF($H$1:$H14,\"Composições\"),Composições!$K:$K,0)-1,COLUMN(Banco!K$6)+4)","v":0}]
["Composição COBE.0037.01",{"$f":"OFFSET(Composições!$A$1,MATCH(COUNTIF($H$1:$H15,\"Composições\"),Composições!$K:$K,0)-1,COLUMN(Banco!B$6)-1)","v":"Composição"},{"$f":"OFFSET(Composições!$A$1,MATCH(COUNTIF($H$1:$H15,\"Composições\"),Composições!$K:$K,0)-1,COLUMN(Banco!C$6)-1)","v":"COBE.0037.01"},{"$f":"IF(COUNTIF(OFFSET(Banco!$A$6,1,0,NCOMPOSICOES),$A15)>1,\"CÓDIGO REPETIDO\",OFFSET(Composições!$A$1,MATCH(COUNTIF($H$1:$H15,\"Composições\"),Composições!$K:$K,0)-1,COLUMN(Banco!D$6)-1))","v":"FECHAMENTO COM TELHA METÁLICA TRAPEZOIDAL, UMA FACE PRÉ-PINTADA DE FÁBRICA, E = 0,5 MM, INCLUSO IÇAMENTO - FORNECIMENTO E INSTALAÇÃO"},{"$f":"OFFSET(Composições!$A$1,MATCH(COUNTIF($H$1:$H15,\"Composições\"),Composições!$K:$K,0)-1,COLUMN(Banco!E$6)-1)","v":"m²"},{"$f":"OFFSET(Composições!$A$1,MATCH(COUNTIF($H$1:$H15,\"Composições\"),Composições!$K:$K,0)-1,COLUMN(Banco!F$6)-1)","v":89.45},{"$f":"OFFSET(Composições!$A$1,MATCH(COUNTIF($H$1:$H15,\"Composições\"),Composições!$K:$K,0)-1,COLUMN(Banco!G$6)-1)","v":90.11},"Composições",null,{"$f":"OFFSET(Composições!$A$1,MATCH(COUNTIF($H$1:$H15,\"Composições\"),Composições!$K:$K,0)-1,COLUMN(Banco!J$6)+4)","v":0},{"$f":"OFFSET(Composições!$A$1,MATCH(COUNTIF($H$1:$H15,\"Composições\"),Composições!$K:$K,0)-1,COLUMN(Banco!K$6)+4)","v":0}]
["Composição COBE.0050.01",{"$f":"OFFSET(Composições!$A$1,MATCH(COUNTIF($H$1:$H16,\"Composições\"),Composições!$K:$K,0)-1,COLUMN(Banco!B$6)-1)","v":"Composição"},{"$f":"OFFSET(Composições!$A$1,MATCH(COUNTIF($H$1:$H16,\"Composições\"),Composições!$K:$K,0)-1,COLUMN(Banco!C$6)-1)","v":"COBE.0050.01"},{"$f":"IF(COUNTIF(OFFSET(Banco!$A$6,1,0,NCOMPOSICOES),$A16)>1,\"CÓDIGO REPETIDO\",OFFSET(Composições!$A$1,MATCH(COUNTIF($H$1:$H16,\"Composições\"),Composições!$K:$K,0)-1,COLUMN(Banco!D$6)-1))","v":"FECHAMENTO COM TELHA TRANSLÚCIDA ONDULADA, INCLUSO IÇAMENTO - FORNECIMENTO E INSTALAÇÃO"},{"$f":"OFFSET(Composições!$A$1,MATCH(COUNTIF($H$1:$H16,\"Composições\"),Composições!$K:$K,0)-1,COLUMN(Banco!E$6)-1)","v":"m²"},{"$f":"OFFSET(Composições!$A$1,MATCH(COUNTIF($H$1:$H16,\"Composições\"),Composições!$K:$K,0)-1,COLUMN(Banco!F$6)-1)","v":89.52000000000001},{"$f":"OFFSET(Composições!$A$1,MATCH(COUNTIF($H$1:$H16,\"Composições\"),Composições!$K:$K,0)-1,COLUMN(Banco!G$6)-1)","v":90.18},"Composições",null,{"$f":"OFFSET(Composições!$A$1,MATCH(COUNTIF($H$1:$H16,\"Composições\"),Composições!$K:$K,0)-1,COLUMN(Banco!J$6)+4)","v":0},{"$f":"OFFSET(Composições!$A$1,MATCH(COUNTIF($H$1:$H16,\"Composições\"),Composições!$K:$K,0)-1,COLUMN(Banco!K$6)+4)","v":0}]
["Composição COBE.0054.01",{"$f":"OFFSET(Composições!$A$1,MATCH(COUNTIF($H$1:$H17,\"Composições\"),Composições!$K:$K,0)-1,COLUMN(Banco!B$6)-1)","v":"Composição"},{"$f":"OFFSET(Composições!$A$1,MATCH(COUNTIF($H$1:$H17,\"Composições\"),Composições!$K:$K,0)-1,COLUMN(Banco!C$6)-1)","v":"COBE.0054.01"},{"$f":"IF(COUNTIF(OFFSET(Banco!$A$6,1,0,NCOMPOSICOES),$A17)>1,\"CÓDIGO REPETIDO\",OFFSET(Composições!$A$1,MATCH(COUNTIF($H$1:$H17,\"Composições\"),Composições!$K:$K,0)-1,COLUMN(Banco!D$6)-1))","v":"PERFIL DE ACABAMENTO, EM CHAPA PRÉ-PINTADA DE FÁBRICA, E = 0,5 MM, CORTE 15 CM, INCLUSO IÇAMENTO - FORNECIMENTO E INSTALAÇÃO"},{"$f":"OFFSET(Composições!$A$1,MATCH(COUNTIF($H$1:$H17,\"Composições\"),Composições!$K:$K,0)-1,COLUMN(Banco!E$6)-1)","v":"M"},{"$f":"OFFSET(Composições!$A$1,MATCH(COUNTIF($H$1:$H17,\"Composições\"),Composições!$K:$K,0)-1,COLUMN(Banco!F$6)-1)","v":28.57},{"$f":"OFFSET(Composições!$A$1,MATCH(COUNTIF($H$1:$H17,\"Composições\"),Composições!$K:$K,0)-1,COLUMN(Banco!G$6)-1)","v":29.589999999999996},"Composições",null,{"$f":"OFFSET(Composições!$A$1,MATCH(COUNTIF($H$1:$H17,\"Composições\"),Composições!$K:$K,0)-1,COLUMN(Banco!J$6)+4)","v":0},{"$f":"OFFSET(Composições!$A$1,MATCH(COUNTIF($H$1:$H17,\"Composições\"),Composições!$K:$K,0)-1,COLUMN(Banco!K$6)+4)","v":0}]
["Composição COBE.0038.01",{"$f":"OFFSET(Composições!$A$1,MATCH(COUNTIF($H$1:$H18,\"Composições\"),Composições!$K:$K,0)-1,COLUMN(Banco!B$6)-1)","v":"Composição"},{"$f":"OFFSET(Composições!$A$1,MATCH(COUNTIF($H$1:$H18,\"Composições\"),Composições!$K:$K,0)-1,COLUMN(Banco!C$6)-1)","v":"COBE.0038.01"},{"$f":"IF(COUNTIF(OFFSET(Banco!$A$6,1,0,NCOMPOSICOES),$A18)>1,\"CÓDIGO REPETIDO\",OFFSET(Composições!$A$1,MATCH(COUNTIF($H$1:$H18,\"Composições\"),Composições!$K:$K,0)-1,COLUMN(Banco!D$6)-1))","v":"RUFO DE ACABAMENTO, EM CHAPA PRÉ-PINTADA DE FÁBRICA, E = 0,5 MM, CORTE 20 CM, INCLUSO IÇAMENTO - FORNECIMENTO E INSTALAÇÃO"},{"$f":"OFFSET(Composições!$A$1,MATCH(COUNTIF($H$1:$H18,\"Composições\"),Composições!$K:$K,0)-1,COLUMN(Banco!E$6)-1)","v":"m"},{"$f":"OFFSET(Composições!$A$1,MATCH(COUNTIF($H$1:$H18,\"Composições\"),Composições!$K:$K,0)-1,COLUMN(Banco!F$6)-1)","v":32.33},{"$f":"OFFSET(Composições!$A$1,MATCH(COUNTIF($H$1:$H18,\"Composições\"),Composições!$K:$K,0)-1,COLUMN(Banco!G$6)-1)","v":33.36},"Composições",null,{"$f":"OFFSET(Composições!$A$1,MATCH(COUNTIF($H$1:$H18,\"Composições\"),Composições!$K:$K,0)-1,COLUMN(Banco!J$6)+4)","v":0},{"$f":"OFFSET(Composições!$A$1,MATCH(COUNTIF($H$1:$H18,\"Composições\"),Composições!$K:$K,0)-1,COLUMN(Banco!K$6)+4)","v":0}]
["Composição ESQV.0187.01",{"$f":"OFFSET(Composições!$A$1,MATCH(COUNTIF($H$1:$H19,\"Composições\"),Composições!$K:$K,0)-1,COLUMN(Banco!B$6)-1)","v":"Composição"},{"$f":"OFFSET(Composições!$A$1,MATCH(COUNTIF($H$1:$H19,\"Composições\"),Composições!$K:$K,0)-1,COLUMN(Banco!C$6)-1)","v":"ESQV.0187.01"},{"$f":"IF(COUNTIF(OFFSET(Banco!$A$6,1,0,NCOMPOSICOES),$A19)>1,\"CÓDIGO REPETIDO\",OFFSET(Composições!$A$1,MATCH(COUNTIF($H$1:$H19,\"Composições\"),Composições!$K:$K,0)-1,COLUMN(Banco!D$6)-1))","v":"TELA DE ARAME GALVANIZADA QUADRANGULAR / LOSANGULAR, FIO 18 BWG, MALHA 19MM, REVESTIDO EM PVC, PARA FECHAMENTO DE BEIRAL E LANTERNIM ESTRUTURADA POR TUBOS DE ACO 30X30MM, INCLUSIVE PINTURA DO PERFIL - FORNECIMENTO E INSTALAÇÃO"},{"$f":"OFFSET(Composições!$A$1,MATCH(COUNTIF($H$1:$H19,\"Composições\"),Composições!$K:$K,0)-1,COLUMN(Banco!E$6)-1)","v":"m²"},{"$f":"OFFSET(Composições!$A$1,MATCH(COUNTIF($H$1:$H19,\"Composições\"),Composições!$K:$K,0)-1,COLUMN(Banco!F$6)-1)","v":230.21},{"$f":"OFFSET(Composições!$A$1,MATCH(COUNTIF($H$1:$H19,\"Composições\"),Composições!$K:$K,0)-1,COLUMN(Banco!G$6)-1)","v":232.64000000000001},"Composições",null,{"$f":"OFFSET(Composições!$A$1,MATCH(COUNTIF($H$1:$H19,\"Composições\"),Composições!$K:$K,0)-1,COLUMN(Banco!J$6)+4)","v":0},{"$f":"OFFSET(Composições!$A$1,MATCH(COUNTIF($H$1:$H19,\"Composições\"),Composições!$K:$K,0)-1,COLUMN(Banco!K$6)+4)","v":0}]
["Composição DROP.0064.01",{"$f":"OFFSET(Composições!$A$1,MATCH(COUNTIF($H$1:$H20,\"Composições\"),Composições!$K:$K,0)-1,COLUMN(Banco!B$6)-1)","v":"Composição"},{"$f":"OFFSET(Composições!$A$1,MATCH(COUNTIF($H$1:$H20,\"Composições\"),Composições!$K:$K,0)-1,COLUMN(Banco!C$6)-1)","v":"DROP.0064.01"},{"$f":"IF(COUNTIF(OFFSET(Banco!$A$6,1,0,NCOMPOSICOES),$A20)>1,\"CÓDIGO REPETIDO\",OFFSET(Composições!$A$1,MATCH(COUNTIF($H$1:$H20,\"Composições\"),Composições!$K:$K,0)-1,COLUMN(Banco!D$6)-1))","v":"FABRICAÇÃO E INSTALAÇÃO DE GRELHA METÁLICA 30 X 100 CM EM CANTONEIRAS 1 1/4 X 3/16\", BARRAS CHATAS 1 1/4 X 3/16\", CONFORME PROJETO ESPECÍFICO"},{"$f":"OFFSET(Composições!$A$1,MATCH(COUNTIF($H$1:$H20,\"Composições\"),Composições!$K:$K,0)-1,COLUMN(Banco!E$6)-1)","v":"M"},{"$f":"OFFSET(Composições!$A$1,MATCH(COUNTIF($H$1:$H20,\"Composições\"),Composições!$K:$K,0)-1,COLUMN(Banco!F$6)-1)","v":977.06},{"$f":"OFFSET(Composições!$A$1,MATCH(COUNTIF($H$1:$H20,\"Composições\"),Composições!$K:$K,0)-1,COLUMN(Banco!G$6)-1)","v":1022.3299999999999},"Composições",null,{"$f":"OFFSET(Composições!$A$1,MATCH(COUNTIF($H$1:$H20,\"Composições\"),Composições!$K:$K,0)-1,COLUMN(Banco!J$6)+4)","v":0},{"$f":"OFFSET(Composições!$A$1,MATCH(COUNTIF($H$1:$H20,\"Composições\"),Composições!$K:$K,0)-1,COLUMN(Banco!K$6)+4)","v":0}]
["Composição INEL.0408.01",{"$f":"OFFSET(Composições!$A$1,MATCH(COUNTIF($H$1:$H21,\"Composições\"),Composições!$K:$K,0)-1,COLUMN(Banco!B$6)-1)","v":"Composição"},{"$f":"OFFSET(Composições!$A$1,MATCH(COUNTIF($H$1:$H21,\"Composições\"),Composições!$K:$K,0)-1,COLUMN(Banco!C$6)-1)","v":"INEL.0408.01"},{"$f":"IF(COUNTIF(OFFSET(Banco!$A$6,1,0,NCOMPOSICOES),$A21)>1,\"CÓDIGO REPETIDO\",OFFSET(Composições!$A$1,MATCH(COUNTIF($H$1:$H21,\"Composições\"),Composições!$K:$K,0)-1,COLUMN(Banco!D$6)-1))","v":"ELETRODUTO DE AÇO GALVANIZADO, CLASSE LEVE, DN 20 MM (3/4\"), APARENTE, INSTALADO EM PAREDE - FORNECIMENTO E INSTALAÇÃO."},{"$f":"OFFSET(Composições!$A$1,MATCH(COUNTIF($H$1:$H21,\"Composições\"),Composições!$K:$K,0)-1,COLUMN(Banco!E$6)-1)","v":"M"},{"$f":"OFFSET(Composições!$A$1,MATCH(COUNTIF($H$1:$H21,\"Composições\"),Composições!$K:$K,0)-1,COLUMN(Banco!F$6)-1)","v":35.81},{"$f":"OFFSET(Composições!$A$1,MATCH(COUNTIF($H$1:$H21,\"Composições\"),Composições!$K:$K,0)-1,COLUMN(Banco!G$6)-1)","v":37.57},"Composições",null,{"$f":"OFFSET(Composições!$A$1,MATCH(COUNTIF($H$1:$H21,\"Composições\"),Composições!$K:$K,0)-1,COLUMN(Banco!J$6)+4)","v":0},{"$f":"OFFSET(Composições!$A$1,MATCH(COUNTIF($H$1:$H21,\"Composições\"),Composições!$K:$K,0)-1,COLUMN(Banco!K$6)+4)","v":0}]
["Composição INEL.0169.01",{"$f":"OFFSET(Composições!$A$1,MATCH(COUNTIF($H$1:$H22,\"Composições\"),Composições!$K:$K,0)-1,COLUMN(Banco!B$6)-1)","v":"Composição"},{"$f":"OFFSET(Composições!$A$1,MATCH(COUNTIF($H$1:$H22,\"Composições\"),Composições!$K:$K,0)-1,COLUMN(Banco!C$6)-1)","v":"INEL.0169.01"},{"$f":"IF(COUNTIF(OFFSET(Banco!$A$6,1,0,NCOMPOSICOES),$A22)>1,\"CÓDIGO REPETIDO\",OFFSET(Composições!$A$1,MATCH(COUNTIF($H$1:$H22,\"Composições\"),Composições!$K:$K,0)-1,COLUMN(Banco!D$6)-1))","v":"REFLETOR LED COM POTÊNCIA NA FAIXA DE 100W, 220V, ÂNGULO DE ABERTURA DE 60º, FLUXO LUMINOSO MÍNIMO DE 11.000 LUMENS, TEMPERATURA DE COR DE 5.700K, EFEICIÊNCIA LUMINOSA  MÍNIMA DE 110LM/W ,  COM VIDA ÚTIL MÍNIMA DE 50.000H E GARANTIA MÍNIMA DE 5 ANOS GARANTIDA PELO FABRICANTE COM CERTIFICAÇÃO, INSTALADO SOBRE CRUZETA EM POSTE - FORNECIMENTO E INSTALAÇÃO."},{"$f":"OFFSET(Composições!$A$1,MATCH(COUNTIF($H$1:$H22,\"Composições\"),Composições!$K:$K,0)-1,COLUMN(Banco!E$6)-1)","v":"UND."},{"$f":"OFFSET(Composições!$A$1,MATCH(COUNTIF($H$1:$H22,\"Composições\"),Composições!$K:$K,0)-1,COLUMN(Banco!F$6)-1)","v":682.59},{"$f":"OFFSET(Composições!$A$1,MATCH(COUNTIF($H$1:$H22,\"Composições\"),Composições!$K:$K,0)-1,COLUMN(Banco!G$6)-1)","v":688.06000000000006},"Composições",null,{"$f":"OFFSET(Composições!$A$1,MATCH(COUNTIF($H$1:$H22,\"Composições\"),Composições!$K:$K,0)-1,COLUMN(Banco!J$6)+4)","v":5.6099999999999997E-2},{"$f":"OFFSET(Composições!$A$1,MATCH(COUNTIF($H$1:$H22,\"Composições\"),Composições!$K:$K,0)-1,COLUMN(Banco!K$6)+4)","v":5.5599999999999997E-2}]
["Composição INEL.0521.03",{"$f":"OFFSET(Composições!$A$1,MATCH(COUNTIF($H$1:$H23,\"Composições\"),Composições!$K:$K,0)-1,COLUMN(Banco!B$6)-1)","v":"Composição"},{"$f":"OFFSET(Composições!$A$1,MATCH(COUNTIF($H$1:$H23,\"Composições\"),Composições!$K:$K,0)-1,COLUMN(Banco!C$6)-1)","v":"INEL.0521.03"},{"$f":"IF(COUNTIF(OFFSET(Banco!$A$6,1,0,NCOMPOSICOES),$A23)>1,\"CÓDIGO REPETIDO\",OFFSET(Composições!$A$1,MATCH(COUNTIF($H$1:$H23,\"Composições\"),Composições!$K:$K,0)-1,COLUMN(Banco!D$6)-1))","v":"ELETROCALHA PERFURADA EM AÇO GALVANIZADO, CHAPA GSG 18, LARGURA 100MM E ALTURA 50MM, INCLUSIVE EMENDA E FIXAÇÃO - FORNECIMENTO E INSTALAÇÃO"},{"$f":"OFFSET(Composições!$A$1,MATCH(COUNTIF($H$1:$H23,\"Composições\"),Composições!$K:$K,0)-1,COLUMN(Banco!E$6)-1)","v":"M"},{"$f":"OFFSET(Composições!$A$1,MATCH(COUNTIF($H$1:$H23,\"Composições\"),Composições!$K:$K,0)-1,COLUMN(Banco!F$6)-1)","v":101.16},{"$f":"OFFSET(Composições!$A$1,MATCH(COUNTIF($H$1:$H23,\"Composições\"),Composições!$K:$K,0)-1,COLUMN(Banco!G$6)-1)","v":104.06},"Composições",null,{"$f":"OFFSET(Composições!$A$1,MATCH(COUNTIF($H$1:$H23,\"Composições\"),Composições!$K:$K,0)-1,COLUMN(Banco!J$6)+4)","v":0},{"$f":"OFFSET(Composições!$A$1,MATCH(COUNTIF($H$1:$H23,\"Composições\"),Composições!$K:$K,0)-1,COLUMN(Banco!K$6)+4)","v":0}]
["Composição ESQV.0045.02",{"$f":"OFFSET(Composições!$A$1,MATCH(COUNTIF($H$1:$H24,\"Composições\"),Composições!$K:$K,0)-1,COLUMN(Banco!B$6)-1)","v":"Composição"},{"$f":"OFFSET(Composições!$A$1,MATCH(COUNTIF($H$1:$H24,\"Composições\"),Composições!$K:$K,0)-1,COLUMN(Banco!C$6)-1)","v":"ESQV.0045.02"},{"$f":"IF(COUNTIF(OFFSET(Banco!$A$6,1,0,NCOMPOSICOES),$A24)>1,\"CÓDIGO REPETIDO\",OFFSET(Composições!$A$1,MATCH(COUNTIF($H$1:$H24,\"Composições\"),Composições!$K:$K,0)-1,COLUMN(Banco!D$6)-1))","v":"PORTÃO DE CONTRA-PESO ESTRUTURADO EM TUBO 80X80 #2,0 MM, REVESTIDO COM TELHA GALVANIZADA TRAPÉZIO 40 PRÉ-PINTADA DE FÁBRICA, ESP. 0,50 MM, COM CHUMBAMENTO E PINTURA - FORNECIMENTO E INSTALAÇÃO"},{"$f":"OFFSET(Composições!$A$1,MATCH(COUNTIF($H$1:$H24,\"Composições\"),Composições!$K:$K,0)-1,COLUMN(Banco!E$6)-1)","v":"m²"},{"$f":"OFFSET(Composições!$A$1,MATCH(COUNTIF($H$1:$H24,\"Composições\"),Composições!$K:$K,0)-1,COLUMN(Banco!F$6)-1)","v":393.65},{"$f":"OFFSET(Composições!$A$1,MATCH(COUNTIF($H$1:$H24,\"Composições\"),Composições!$K:$K,0)-1,COLUMN(Banco!G$6)-1)","v":396.14},"Composições",null,{"$f":"OFFSET(Composições!$A$1,MATCH(COUNTIF($H$1:$H24,\"Composições\"),Composições!$K:$K,0)-1,COLUMN(Banco!J$6)+4)","v":0},{"$f":"OFFSET(Composições!$A$1,MATCH(COUNTIF($H$1:$H24,\"Composições\"),Composições!$K:$K,0)-1,COLUMN(Banco!K$6)+4)","v":0}]
["Composição INES.0001.01",{"$f":"OFFSET(Composições!$A$1,MATCH(COUNTIF($H$1:$H25,\"Composições\"),Composições!$K:$K,0)-1,COLUMN(Banco!B$6)-1)","v":"Composição"},{"$f":"OFFSET(Composições!$A$1,MATCH(COUNTIF($H$1:$H25,\"Composições\"),Composições!$K:$K,0)-1,COLUMN(Banco!C$6)-1)","v":"INES.0001.01"},{"$f":"IF(COUNTIF(OFFSET(Banco!$A$6,1,0,NCOMPOSICOES),$A25)>1,\"CÓDIGO REPETIDO\",OFFSET(Composições!$A$1,MATCH(COUNTIF($H$1:$H25,\"Composições\"),Composições!$K:$K,0)-1,COLUMN(Banco!D$6)-1))","v":"PLACA DE SINALIZAÇÃO DE SEGURANÇA CONTRA INCÊNDIO, FOTOLUMINESCENTE, RETANGULAR, *13 X 26* CM, EM PVC *2* MM ANTI-CHAMAS (SÍMBOLOS, CORES E PICTOGRAMAS CONFORME NBR 13434) (TIPO S1 A S11) - FORNECIMENTO E INSTALAÇÃO"},{"$f":"OFFSET(Composições!$A$1,MATCH(COUNTIF($H$1:$H25,\"Composições\"),Composições!$K:$K,0)-1,COLUMN(Banco!E$6)-1)","v":"UN"},{"$f":"OFFSET(Composições!$A$1,MATCH(COUNTIF($H$1:$H25,\"Composições\"),Composições!$K:$K,0)-1,COLUMN(Banco!F$6)-1)","v":20.329999999999998},{"$f":"OFFSET(Composições!$A$1,MATCH(COUNTIF($H$1:$H25,\"Composições\"),Composições!$K:$K,0)-1,COLUMN(Banco!G$6)-1)","v":20.740000000000002},"Composições",null,{"$f":"OFFSET(Composições!$A$1,MATCH(COUNTIF($H$1:$H25,\"Composições\"),Composições!$K:$K,0)-1,COLUMN(Banco!J$6)+4)","v":0},{"$f":"OFFSET(Composições!$A$1,MATCH(COUNTIF($H$1:$H25,\"Composições\"),Composições!$K:$K,0)-1,COLUMN(Banco!K$6)+4)","v":0}]
["Composição INES.0003.01",{"$f":"OFFSET(Composições!$A$1,MATCH(COUNTIF($H$1:$H26,\"Composições\"),Composições!$K:$K,0)-1,COLUMN(Banco!B$6)-1)","v":"Composição"},{"$f":"OFFSET(Composições!$A$1,MATCH(COUNTIF($H$1:$H26,\"Composições\"),Composições!$K:$K,0)-1,COLUMN(Banco!C$6)-1)","v":"INES.0003.01"},{"$f":"IF(COUNTIF(OFFSET(Banco!$A$6,1,0,NCOMPOSICOES),$A26)>1,\"CÓDIGO REPETIDO\",OFFSET(Composições!$A$1,MATCH(COUNTIF($H$1:$H26,\"Composições\"),Composições!$K:$K,0)-1,COLUMN(Banco!D$6)-1))","v":"PLACA DE SINALIZAÇÃO DE SEGURANÇA CONTRA INCÊNDIO, FOTOLUMINESCENTE, RETANGULAR, *12 X 40* CM, EM PVC *2* MM ANTI-CHAMAS (SÍMBOLOS, CORES E PICTOGRAMAS CONFORME NBR 13434) (TIPO S12) - FORNECIMENTO E INSTALAÇÃO"},{"$f":"OFFSET(Composições!$A$1,MATCH(COUNTIF($H$1:$H26,\"Composições\"),Composições!$K:$K,0)-1,COLUMN(Banco!E$6)-1)","v":"UN"},{"$f":"OFFSET(Composições!$A$1,MATCH(COUNTIF($H$1:$H26,\"Composições\"),Composições!$K:$K,0)-1,COLUMN(Banco!F$6)-1)","v":26.61},{"$f":"OFFSET(Composições!$A$1,MATCH(COUNTIF($H$1:$H26,\"Composições\"),Composições!$K:$K,0)-1,COLUMN(Banco!G$6)-1)","v":27.020000000000003},"Composições",null,{"$f":"OFFSET(Composições!$A$1,MATCH(COUNTIF($H$1:$H26,\"Composições\"),Composições!$K:$K,0)-1,COLUMN(Banco!J$6)+4)","v":0},{"$f":"OFFSET(Composições!$A$1,MATCH(COUNTIF($H$1:$H26,\"Composições\"),Composições!$K:$K,0)-1,COLUMN(Banco!K$6)+4)","v":0}]
["Composição INES.0012.01",{"$f":"OFFSET(Composições!$A$1,MATCH(COUNTIF($H$1:$H27,\"Composições\"),Composições!$K:$K,0)-1,COLUMN(Banco!B$6)-1)","v":"Composição"},{"$f":"OFFSET(Composições!$A$1,MATCH(COUNTIF($H$1:$H27,\"Composições\"),Composições!$K:$K,0)-1,COLUMN(Banco!C$6)-1)","v":"INES.0012.01"},{"$f":"IF(COUNTIF(OFFSET(Banco!$A$6,1,0,NCOMPOSICOES),$A27)>1,\"CÓDIGO REPETIDO\",OFFSET(Composições!$A$1,MATCH(COUNTIF($H$1:$H27,\"Composições\"),Composições!$K:$K,0)-1,COLUMN(Banco!D$6)-1))","v":"PLACA DE SINALIZAÇÃO DE SEGURANÇA CONTRA INCENDIO, RETANGULAR 100X60 CM, EM PVC 2MM, ANTI-CHAMAS, NA COR VERDE CONFORME PROJETO, TIPO M1 (MEDIDAS DE SEGURANÇA), M2 (CAPACIDADE DE PÚBLICO) - FORNECIMENTO E INSTALAÇÃO."},{"$f":"OFFSET(Composições!$A$1,MATCH(COUNTIF($H$1:$H27,\"Composições\"),Composições!$K:$K,0)-1,COLUMN(Banco!E$6)-1)","v":"UN"},{"$f":"OFFSET(Composições!$A$1,MATCH(COUNTIF($H$1:$H27,\"Composições\"),Composições!$K:$K,0)-1,COLUMN(Banco!F$6)-1)","v":133.66},{"$f":"OFFSET(Composições!$A$1,MATCH(COUNTIF($H$1:$H27,\"Composições\"),Composições!$K:$K,0)-1,COLUMN(Banco!G$6)-1)","v":134.18},"Composições",null,{"$f":"OFFSET(Composições!$A$1,MATCH(COUNTIF($H$1:$H27,\"Composições\"),Composições!$K:$K,0)-1,COLUMN(Banco!J$6)+4)","v":0},{"$f":"OFFSET(Composições!$A$1,MATCH(COUNTIF($H$1:$H27,\"Composições\"),Composições!$K:$K,0)-1,COLUMN(Banco!K$6)+4)","v":0}]
["Composição INES.0002.01",{"$f":"OFFSET(Composições!$A$1,MATCH(COUNTIF($H$1:$H28,\"Composições\"),Composições!$K:$K,0)-1,COLUMN(Banco!B$6)-1)","v":"Composição"},{"$f":"OFFSET(Composições!$A$1,MATCH(COUNTIF($H$1:$H28,\"Composições\"),Composições!$K:$K,0)-1,COLUMN(Banco!C$6)-1)","v":"INES.0002.01"},{"$f":"IF(COUNTIF(OFFSET(Banco!$A$6,1,0,NCOMPOSICOES),$A28)>1,\"CÓDIGO REPETIDO\",OFFSET(Composições!$A$1,MATCH(COUNTIF($H$1:$H28,\"Composições\"),Composições!$K:$K,0)-1,COLUMN(Banco!D$6)-1))","v":"PLACA DE SINALIZAÇÃO DE SEGURANÇA CONTRA INCÊNDIO, FOTOLUMINESCENTE, QUADRADA, *20 X 20* CM, EM PVC *2* MM ANTI-CHAMAS (SÍMBOLOS, CORES E PICTOGRAMAS CONFORME NBR 13434) (TIPO E1, E4 A E16) - FORNECIMENTO E INSTALAÇÃO"},{"$f":"OFFSET(Composições!$A$1,MATCH(COUNTIF($H$1:$H28,\"Composições\"),Composições!$K:$K,0)-1,COLUMN(Banco!E$6)-1)","v":"UN"},{"$f":"OFFSET(Composições!$A$1,MATCH(COUNTIF($H$1:$H28,\"Composições\"),Composições!$K:$K,0)-1,COLUMN(Banco!F$6)-1)","v":22.68},{"$f":"OFFSET(Composições!$A$1,MATCH(COUNTIF($H$1:$H28,\"Composições\"),Composições!$K:$K,0)-1,COLUMN(Banco!G$6)-1)","v":23.090000000000003},"Composições",null,{"$f":"OFFSET(Composições!$A$1,MATCH(COUNTIF($H$1:$H28,\"Composições\"),Composições!$K:$K,0)-1,COLUMN(Banco!J$6)+4)","v":0},{"$f":"OFFSET(Composições!$A$1,MATCH(COUNTIF($H$1:$H28,\"Composições\"),Composições!$K:$K,0)-1,COLUMN(Banco!K$6)+4)","v":0}]
[{"$f":"CONCATENATE($B29,\" \",$C29)","v":"Composição SEDI.0018.01"},{"$f":"OFFSET(Composições!$A$1,MATCH(COUNTIF($H$1:$H29,\"Composições\"),Composições!$K:$K,0)-1,COLUMN(Banco!B$6)-1)","v":"Composição"},{"$f":"OFFSET(Composições!$A$1,MATCH(COUNTIF($H$1:$H29,\"Composições\"),Composições!$K:$K,0)-1,COLUMN(Banco!C$6)-1)","v":"SEDI.0018.01"},{"$f":"IF(COUNTIF(OFFSET(Banco!$A$6,1,0,NCOMPOSICOES),$A29)>1,\"CÓDIGO REPETIDO\",OFFSET(Composições!$A$1,MATCH(COUNTIF($H$1:$H29,\"Composições\"),Composições!$K:$K,0)-1,COLUMN(Banco!D$6)-1))","v":"(COMPOSIÇÃO REPRESENTATIVA) - LIMPEZA FINAL DE OBRA, PARA EDIFICAÇÕES PÚBLICAS PADRÃO, INCLUSIVE LIMPEZA DE PISOS, PAREDES, APARELHOS"},{"$f":"OFFSET(Composições!$A$1,MATCH(COUNTIF($H$1:$H29,\"Composições\"),Composições!$K:$K,0)-1,COLUMN(Banco!E$6)-1)","v":"m²"},{"$f":"OFFSET(Composições!$A$1,MATCH(COUNTIF($H$1:$H29,\"Composições\"),Composições!$K:$K,0)-1,COLUMN(Banco!F$6)-1)","v":3.75},{"$f":"OFFSET(Composições!$A$1,MATCH(COUNTIF($H$1:$H29,\"Composições\"),Composições!$K:$K,0)-1,COLUMN(Banco!G$6)-1)","v":3.9999999999999996},"Composições",null,{"$f":"OFFSET(Composições!$A$1,MATCH(COUNTIF($H$1:$H29,\"Composições\"),Composições!$K:$K,0)-1,COLUMN(Banco!J$6)+4)","v":0},{"$f":"OFFSET(Composições!$A$1,MATCH(COUNTIF($H$1:$H29,\"Composições\"),Composições!$K:$K,0)-1,COLUMN(Banco!K$6)+4)","v":0}]
["Composição COMP. 01",{"$f":"OFFSET(Composições!$A$1,MATCH(COUNTIF($H$1:$H30,\"Composições\"),Composições!$K:$K,0)-1,COLUMN(Banco!B$6)-1)","v":"Composição"},{"$f":"OFFSET(Composições!$A$1,MATCH(COUNTIF($H$1:$H30,\"Composições\"),Composições!$K:$K,0)-1,COLUMN(Banco!C$6)-1)","v":"COMP. 01"},{"$f":"IF(COUNTIF(OFFSET(Banco!$A$6,1,0,NCOMPOSICOES),$A30)>1,\"CÓDIGO REPETIDO\",OFFSET(Composições!$A$1,MATCH(COUNTIF($H$1:$H30,\"Composições\"),Composições!$K:$K,0)-1,COLUMN(Banco!D$6)-1))","v":"LAJE PRE-MOLDADA P/FORRO, H16, C/ CAP.C/CONC FCK=25MPA,4CM, C/ESCORAMENTO (REAPR.3X) E FERRAGEM NEGATIVA"},{"$f":"OFFSET(Composições!$A$1,MATCH(COUNTIF($H$1:$H30,\"Composições\"),Composições!$K:$K,0)-1,COLUMN(Banco!E$6)-1)","v":"m²"},{"$f":"OFFSET(Composições!$A$1,MATCH(COUNTIF($H$1:$H30,\"Composições\"),Composições!$K:$K,0)-1,COLUMN(Banco!F$6)-1)","v":162.30000000000001},{"$f":"OFFSET(Composições!$A$1,MATCH(COUNTIF($H$1:$H30,\"Composições\"),Composições!$K:$K,0)-1,COLUMN(Banco!G$6)-1)","v":165.85},"Composições",null,{"$f":"OFFSET(Composições!$A$1,MATCH(COUNTIF($H$1:$H30,\"Composições\"),Composições!$K:$K,0)-1,COLUMN(Banco!J$6)+4)","v":1E-4},{"$f":"OFFSET(Composições!$A$1,MATCH(COUNTIF($H$1:$H30,\"Composições\"),Composições!$K:$K,0)-1,COLUMN(Banco!K$6)+4)","v":1E-4}]
["Composição COBE.0003.01",{"$f":"OFFSET(Composições!$A$1,MATCH(COUNTIF($H$1:$H31,\"Composições\"),Composições!$K:$K,0)-1,COLUMN(Banco!B$6)-1)","v":"Composição"},{"$f":"OFFSET(Composições!$A$1,MATCH(COUNTIF($H$1:$H31,\"Composições\"),Composições!$K:$K,0)-1,COLUMN(Banco!C$6)-1)","v":"COBE.0003.01"},{"$f":"IF(COUNTIF(OFFSET(Banco!$A$6,1,0,NCOMPOSICOES),$A31)>1,\"CÓDIGO REPETIDO\",OFFSET(Composições!$A$1,MATCH(COUNTIF($H$1:$H31,\"Composições\"),Composições!$K:$K,0)-1,COLUMN(Banco!D$6)-1))","v":"CHAPEAMENTO EM CHAPA GALVANIZADA Nº 24, INCLUSIVE TRANSPORTE VERTICAL - FORNECIMENTO E INSTALAÇÃO"},{"$f":"OFFSET(Composições!$A$1,MATCH(COUNTIF($H$1:$H31,\"Composições\"),Composições!$K:$K,0)-1,COLUMN(Banco!E$6)-1)","v":"m²"},{"$f":"OFFSET(Composições!$A$1,MATCH(COUNTIF($H$1:$H31,\"Composições\"),Composições!$K:$K,0)-1,COLUMN(Banco!F$6)-1)","v":137.87},{"$f":"OFFSET(Composições!$A$1,MATCH(COUNTIF($H$1:$H31,\"Composições\"),Composições!$K:$K,0)-1,COLUMN(Banco!G$6)-1)","v":140.95999999999998},"Composições",null,{"$f":"OFFSET(Composições!$A$1,MATCH(COUNTIF($H$1:$H31,\"Composições\"),Composições!$K:$K,0)-1,COLUMN(Banco!J$6)+4)","v":0},{"$f":"OFFSET(Composições!$A$1,MATCH(COUNTIF($H$1:$H31,\"Composições\"),Composições!$K:$K,0)-1,COLUMN(Banco!K$6)+4)","v":0}]
["Composição INHI.0056.01",{"$f":"OFFSET(Composições!$A$1,MATCH(COUNTIF($H$1:$H32,\"Composições\"),Composições!$K:$K,0)-1,COLUMN(Banco!B$6)-1)","v":"Composição"},{"$f":"OFFSET(Composições!$A$1,MATCH(COUNTIF($H$1:$H32,\"Composições\"),Composições!$K:$K,0)-1,COLUMN(Banco!C$6)-1)","v":"INHI.0056.01"},{"$f":"IF(COUNTIF(OFFSET(Banco!$A$6,1,0,NCOMPOSICOES),$A32)>1,\"CÓDIGO REPETIDO\",OFFSET(Composições!$A$1,MATCH(COUNTIF($H$1:$H32,\"Composições\"),Composições!$K:$K,0)-1,COLUMN(Banco!D$6)-1))","v":"LAVATÓRIO LOUÇA BRANCA COM COLUNA, *55 X 45* CM, PADRÃO MÉDIO, INCLUSO SIFÃO FLEXÍVEL EM PVC, VÁLVULA EM METAL CROMADO E ENGATE FLEXÍVEL 30CM EM PLÁSTICO E COM TORNEIRA CROMADA DE MESA, BICA ALTA, PADRÃO MÉDIO - FORNECIMENTO E INSTALAÇÃO."},{"$f":"OFFSET(Composições!$A$1,MATCH(COUNTIF($H$1:$H32,\"Composições\"),Composições!$K:$K,0)-1,COLUMN(Banco!E$6)-1)","v":"UN"},{"$f":"OFFSET(Composições!$A$1,MATCH(COUNTIF($H$1:$H32,\"Composições\"),Composições!$K:$K,0)-1,COLUMN(Banco!F$6)-1)","v":659.64},{"$f":"OFFSET(Composições!$A$1,MATCH(COUNTIF($H$1:$H32,\"Composições\"),Composições!$K:$K,0)-1,COLUMN(Banco!G$6)-1)","v":667.06},"Composições",null,{"$f":"OFFSET(Composições!$A$1,MATCH(COUNTIF($H$1:$H32,\"Composições\"),Composições!$K:$K,0)-1,COLUMN(Banco!J$6)+4)","v":0},{"$f":"OFFSET(Composições!$A$1,MATCH(COUNTIF($H$1:$H32,\"Composições\"),Composições!$K:$K,0)-1,COLUMN(Banco!K$6)+4)","v":0}]
["Composição INHI.0032.01",{"$f":"OFFSET(Composições!$A$1,MATCH(COUNTIF($H$1:$H33,\"Composições\"),Composições!$K:$K,0)-1,COLUMN(Banco!B$6)-1)","v":"Composição"},{"$f":"OFFSET(Composições!$A$1,MATCH(COUNTIF($H$1:$H33,\"Composições\"),Composições!$K:$K,0)-1,COLUMN(Banco!C$6)-1)","v":"INHI.0032.01"},{"$f":"IF(COUNTIF(OFFSET(Banco!$A$6,1,0,NCOMPOSICOES),$A33)>1,\"CÓDIGO REPETIDO\",OFFSET(Composições!$A$1,MATCH(COUNTIF($H$1:$H33,\"Composições\"),Composições!$K:$K,0)-1,COLUMN(Banco!D$6)-1))","v":"LAVATÓRIO LOUÇA BRANCA SUSPENSO, 36 X 45,5CM OU EQUIVALENTE, INCLUSO SIFÃO FLEXÍVEL EM PVC, ENGATE FLEXÍVEL 30CM EM PLÁSTICO E VÁLVULA EM METAL CROMADO 1\"  E ENGATE FLEXÍVEL 30CM EM PLÁSTICO E TORNEIRA CROMADA DE MESA BICA ALTA, PADRÃO MÉDIO - FORNECIMENTO E INSTALAÇÃO. AF_01/2020"},{"$f":"OFFSET(Composições!$A$1,MATCH(COUNTIF($H$1:$H33,\"Composições\"),Composições!$K:$K,0)-1,COLUMN(Banco!E$6)-1)","v":"UN"},{"$f":"OFFSET(Composições!$A$1,MATCH(COUNTIF($H$1:$H33,\"Composições\"),Composições!$K:$K,0)-1,COLUMN(Banco!F$6)-1)","v":408.12},{"$f":"OFFSET(Composições!$A$1,MATCH(COUNTIF($H$1:$H33,\"Composições\"),Composições!$K:$K,0)-1,COLUMN(Banco!G$6)-1)","v":411.42},"Composições",null,{"$f":"OFFSET(Composições!$A$1,MATCH(COUNTIF($H$1:$H33,\"Composições\"),Composições!$K:$K,0)-1,COLUMN(Banco!J$6)+4)","v":0},{"$f":"OFFSET(Composições!$A$1,MATCH(COUNTIF($H$1:$H33,\"Composições\"),Composições!$K:$K,0)-1,COLUMN(Banco!K$6)+4)","v":0}]
["Composição INHI.0011.01",{"$f":"OFFSET(Composições!$A$1,MATCH(COUNTIF($H$1:$H34,\"Composições\"),Composições!$K:$K,0)-1,COLUMN(Banco!B$6)-1)","v":"Composição"},{"$f":"OFFSET(Composições!$A$1,MATCH(COUNTIF($H$1:$H34,\"Composições\"),Composições!$K:$K,0)-1,COLUMN(Banco!C$6)-1)","v":"INHI.0011.01"},{"$f":"IF(COUNTIF(OFFSET(Banco!$A$6,1,0,NCOMPOSICOES),$A34)>1,\"CÓDIGO REPETIDO\",OFFSET(Composições!$A$1,MATCH(COUNTIF($H$1:$H34,\"Composições\"),Composições!$K:$K,0)-1,COLUMN(Banco!D$6)-1))","v":"TORNEIRA CROMADA 1/2\" OU 3/4\" PARA JARDIM, PADRÃO MÉDIO - FORNECIMENTO E INSTALAÇÃO."},{"$f":"OFFSET(Composições!$A$1,MATCH(COUNTIF($H$1:$H34,\"Composições\"),Composições!$K:$K,0)-1,COLUMN(Banco!E$6)-1)","v":"UN"},{"$f":"OFFSET(Composições!$A$1,MATCH(COUNTIF($H$1:$H34,\"Composições\"),Composições!$K:$K,0)-1,COLUMN(Banco!F$6)-1)","v":61.42},{"$f":"OFFSET(Composições!$A$1,MATCH(COUNTIF($H$1:$H34,\"Composições\"),Composições!$K:$K,0)-1,COLUMN(Banco!G$6)-1)","v":61.97},"Composições",null,{"$f":"OFFSET(Composições!$A$1,MATCH(COUNTIF($H$1:$H34,\"Composições\"),Composições!$K:$K,0)-1,COLUMN(Banco!J$6)+4)","v":0},{"$f":"OFFSET(Composições!$A$1,MATCH(COUNTIF($H$1:$H34,\"Composições\"),Composições!$K:$K,0)-1,COLUMN(Banco!K$6)+4)","v":0}]
["Composição INHI.0040.01",{"$f":"OFFSET(Composições!$A$1,MATCH(COUNTIF($H$1:$H35,\"Composições\"),Composições!$K:$K,0)-1,COLUMN(Banco!B$6)-1)","v":"Composição"},{"$f":"OFFSET(Composições!$A$1,MATCH(COUNTIF($H$1:$H35,\"Composições\"),Composições!$K:$K,0)-1,COLUMN(Banco!C$6)-1)","v":"INHI.0040.01"},{"$f":"IF(COUNTIF(OFFSET(Banco!$A$6,1,0,NCOMPOSICOES),$A35)>1,\"CÓDIGO REPETIDO\",OFFSET(Composições!$A$1,MATCH(COUNTIF($H$1:$H35,\"Composições\"),Composições!$K:$K,0)-1,COLUMN(Banco!D$6)-1))","v":"ESTRUTURA DE MADEIRA PARA SUPORTE DE CAIXA D?ÁGUA DE ATÉ 2000 LITROS."},{"$f":"OFFSET(Composições!$A$1,MATCH(COUNTIF($H$1:$H35,\"Composições\"),Composições!$K:$K,0)-1,COLUMN(Banco!E$6)-1)","v":"UN"},{"$f":"OFFSET(Composições!$A$1,MATCH(COUNTIF($H$1:$H35,\"Composições\"),Composições!$K:$K,0)-1,COLUMN(Banco!F$6)-1)","v":1379.8799999999999},{"$f":"OFFSET(Composições!$A$1,MATCH(COUNTIF($H$1:$H35,\"Composições\"),Composições!$K:$K,0)-1,COLUMN(Banco!G$6)-1)","v":1385.36},"Composições",null,{"$f":"OFFSET(Composições!$A$1,MATCH(COUNTIF($H$1:$H35,\"Composições\"),Composições!$K:$K,0)-1,COLUMN(Banco!J$6)+4)","v":0},{"$f":"OFFSET(Composições!$A$1,MATCH(COUNTIF($H$1:$H35,\"Composições\"),Composições!$K:$K,0)-1,COLUMN(Banco!K$6)+4)","v":0}]
["Composição INHI.0015.01",{"$f":"OFFSET(Composições!$A$1,MATCH(COUNTIF($H$1:$H36,\"Composições\"),Composições!$K:$K,0)-1,COLUMN(Banco!B$6)-1)","v":"Composição"},{"$f":"OFFSET(Composições!$A$1,MATCH(COUNTIF($H$1:$H36,\"Composições\"),Composições!$K:$K,0)-1,COLUMN(Banco!C$6)-1)","v":"INHI.0015.01"},{"$f":"IF(COUNTIF(OFFSET(Banco!$A$6,1,0,NCOMPOSICOES),$A36)>1,\"CÓDIGO REPETIDO\",OFFSET(Composições!$A$1,MATCH(COUNTIF($H$1:$H36,\"Composições\"),Composições!$K:$K,0)-1,COLUMN(Banco!D$6)-1))","v":"CAIXA SIFONADA, PVC, DN 150 X 150 X 50 MM, JUNTA ELÁSTICA, FORNECIDA E INSTALADA EM RAMAL DE DESCARGA OU EM RAMAL DE ESGOTO SANITÁRIO."},{"$f":"OFFSET(Composições!$A$1,MATCH(COUNTIF($H$1:$H36,\"Composições\"),Composições!$K:$K,0)-1,COLUMN(Banco!E$6)-1)","v":"UN"},{"$f":"OFFSET(Composições!$A$1,MATCH(COUNTIF($H$1:$H36,\"Composições\"),Composições!$K:$K,0)-1,COLUMN(Banco!F$6)-1)","v":72.39},{"$f":"OFFSET(Composições!$A$1,MATCH(COUNTIF($H$1:$H36,\"Composições\"),Composições!$K:$K,0)-1,COLUMN(Banco!G$6)-1)","v":73.669999999999987},"Composições",null,{"$f":"OFFSET(Composições!$A$1,MATCH(COUNTIF($H$1:$H36,\"Composições\"),Composições!$K:$K,0)-1,COLUMN(Banco!J$6)+4)","v":0},{"$f":"OFFSET(Composições!$A$1,MATCH(COUNTIF($H$1:$H36,\"Composições\"),Composições!$K:$K,0)-1,COLUMN(Banco!K$6)+4)","v":0}]
["Composição INHI.0219.01",{"$f":"OFFSET(Composições!$A$1,MATCH(COUNTIF($H$1:$H37,\"Composições\"),Composições!$K:$K,0)-1,COLUMN(Banco!B$6)-1)","v":"Composição"},{"$f":"OFFSET(Composições!$A$1,MATCH(COUNTIF($H$1:$H37,\"Composições\"),Composições!$K:$K,0)-1,COLUMN(Banco!C$6)-1)","v":"INHI.0219.01"},{"$f":"IF(COUNTIF(OFFSET(Banco!$A$6,1,0,NCOMPOSICOES),$A37)>1,\"CÓDIGO REPETIDO\",OFFSET(Composições!$A$1,MATCH(COUNTIF($H$1:$H37,\"Composições\"),Composições!$K:$K,0)-1,COLUMN(Banco!D$6)-1))","v":"SUMIDOURO RETANGULAR, COM VIGA CINTA EM CONCRETO ARMADO, DIMENSÕES 3,0 X 3,6 X 2,20 M, CONFORME PROJETO"},{"$f":"OFFSET(Composições!$A$1,MATCH(COUNTIF($H$1:$H37,\"Composições\"),Composições!$K:$K,0)-1,COLUMN(Banco!E$6)-1)","v":"UN"},{"$f":"OFFSET(Composições!$A$1,MATCH(COUNTIF($H$1:$H37,\"Composições\"),Composições!$K:$K,0)-1,COLUMN(Banco!F$6)-1)","v":6514.08},{"$f":"OFFSET(Composições!$A$1,MATCH(COUNTIF($H$1:$H37,\"Composições\"),Composições!$K:$K,0)-1,COLUMN(Banco!G$6)-1)","v":6769.7300000000005},"Composições",null,{"$f":"OFFSET(Composições!$A$1,MATCH(COUNTIF($H$1:$H37,\"Composições\"),Composições!$K:$K,0)-1,COLUMN(Banco!J$6)+4)","v":2.0899999999999998E-2},{"$f":"OFFSET(Composições!$A$1,MATCH(COUNTIF($H$1:$H37,\"Composições\"),Composições!$K:$K,0)-1,COLUMN(Banco!K$6)+4)","v":2.01E-2}]
["Composição INHI.0215.01",{"$f":"OFFSET(Composições!$A$1,MATCH(COUNTIF($H$1:$H38,\"Composições\"),Composições!$K:$K,0)-1,COLUMN(Banco!B$6)-1)","v":"Composição"},{"$f":"OFFSET(Composições!$A$1,MATCH(COUNTIF($H$1:$H38,\"Composições\"),Composições!$K:$K,0)-1,COLUMN(Banco!C$6)-1)","v":"INHI.0215.01"},{"$f":"IF(COUNTIF(OFFSET(Banco!$A$6,1,0,NCOMPOSICOES),$A38)>1,\"CÓDIGO REPETIDO\",OFFSET(Composições!$A$1,MATCH(COUNTIF($H$1:$H38,\"Composições\"),Composições!$K:$K,0)-1,COLUMN(Banco!D$6)-1))","v":"(COMPOSIÇÃO REPRESENTATIVA) DO SERVIÇO DE INST. TUBO PVC, SÉRIE N, ESGOTO PREDIAL, 100 MM (INST. RAMAL DESCARGA, RAMAL DE ESG. SANIT., PRUMADA ESG. SANIT., VENTILAÇÃO OU SUB-COLETOR AÉREO), INCL. CONEXÕES E CORTES, FIXAÇÕES, P/ PRÉDIOS."},{"$f":"OFFSET(Composições!$A$1,MATCH(COUNTIF($H$1:$H38,\"Composições\"),Composições!$K:$K,0)-1,COLUMN(Banco!E$6)-1)","v":"M"},{"$f":"OFFSET(Composições!$A$1,MATCH(COUNTIF($H$1:$H38,\"Composições\"),Composições!$K:$K,0)-1,COLUMN(Banco!F$6)-1)","v":81.960000000000008},{"$f":"OFFSET(Composições!$A$1,MATCH(COUNTIF($H$1:$H38,\"Composições\"),Composições!$K:$K,0)-1,COLUMN(Banco!G$6)-1)","v":85.609999999999985},"Composições",null,{"$f":"OFFSET(Composições!$A$1,MATCH(COUNTIF($H$1:$H38,\"Composições\"),Composições!$K:$K,0)-1,COLUMN(Banco!J$6)+4)","v":1.6999999999999999E-3},{"$f":"OFFSET(Composições!$A$1,MATCH(COUNTIF($H$1:$H38,\"Composições\"),Composições!$K:$K,0)-1,COLUMN(Banco!K$6)+4)","v":1.6000000000000001E-3}]
["Composição INHI.0220.01",{"$f":"OFFSET(Composições!$A$1,MATCH(COUNTIF($H$1:$H39,\"Composições\"),Composições!$K:$K,0)-1,COLUMN(Banco!B$6)-1)","v":"Composição"},{"$f":"OFFSET(Composições!$A$1,MATCH(COUNTIF($H$1:$H39,\"Composições\"),Composições!$K:$K,0)-1,COLUMN(Banco!C$6)-1)","v":"INHI.0220.01"},{"$f":"IF(COUNTIF(OFFSET(Banco!$A$6,1,0,NCOMPOSICOES),$A39)>1,\"CÓDIGO REPETIDO\",OFFSET(Composições!$A$1,MATCH(COUNTIF($H$1:$H39,\"Composições\"),Composições!$K:$K,0)-1,COLUMN(Banco!D$6)-1))","v":"TANQUE SÉPTICO CIRCULAR, EM CONCRETO PRÉ-MOLDADO, DIÂMETRO INTERNO = 1,50 M, ALTURA INTERNA = 2,50 M, COM TAMPA EM CONCRETO ARMADO 10 CM COM ABERTURA CONFORME PROJETO"},{"$f":"OFFSET(Composições!$A$1,MATCH(COUNTIF($H$1:$H39,\"Composições\"),Composições!$K:$K,0)-1,COLUMN(Banco!E$6)-1)","v":"UN"},{"$f":"OFFSET(Composições!$A$1,MATCH(COUNTIF($H$1:$H39,\"Composições\"),Composições!$K:$K,0)-1,COLUMN(Banco!F$6)-1)","v":7242.9000000000005},{"$f":"OFFSET(Composições!$A$1,MATCH(COUNTIF($H$1:$H39,\"Composições\"),Composições!$K:$K,0)-1,COLUMN(Banco!G$6)-1)","v":7332.2300000000005},"Composições",null,{"$f":"OFFSET(Composições!$A$1,MATCH(COUNTIF($H$1:$H39,\"Composições\"),Composições!$K:$K,0)-1,COLUMN(Banco!J$6)+4)","v":5.4000000000000003E-3},{"$f":"OFFSET(Composições!$A$1,MATCH(COUNTIF($H$1:$H39,\"Composições\"),Composições!$K:$K,0)-1,COLUMN(Banco!K$6)+4)","v":5.3E-3}]
["Composição INHI.0221.01",{"$f":"OFFSET(Composições!$A$1,MATCH(COUNTIF($H$1:$H40,\"Composições\"),Composições!$K:$K,0)-1,COLUMN(Banco!B$6)-1)","v":"Composição"},{"$f":"OFFSET(Composições!$A$1,MATCH(COUNTIF($H$1:$H40,\"Composições\"),Composições!$K:$K,0)-1,COLUMN(Banco!C$6)-1)","v":"INHI.0221.01"},{"$f":"IF(COUNTIF(OFFSET(Banco!$A$6,1,0,NCOMPOSICOES),$A40)>1,\"CÓDIGO REPETIDO\",OFFSET(Composições!$A$1,MATCH(COUNTIF($H$1:$H40,\"Composições\"),Composições!$K:$K,0)-1,COLUMN(Banco!D$6)-1))","v":"FILTRO ANAERÓBIO CIRCULAR, EM CONCRETO PRÉ-MOLDADO, DIÂMETRO INTERNO = 1,50 M, ALTURA INTERNA = 1,87 M, COM TAMPA EM CONCRETO ARMADO 10 CM COM ABERTURA, COM FUNDO FALSO E LASTRO DE BRITA N4, CONFORME PROJETO"},{"$f":"OFFSET(Composições!$A$1,MATCH(COUNTIF($H$1:$H40,\"Composições\"),Composições!$K:$K,0)-1,COLUMN(Banco!E$6)-1)","v":"UN"},{"$f":"OFFSET(Composições!$A$1,MATCH(COUNTIF($H$1:$H40,\"Composições\"),Composições!$K:$K,0)-1,COLUMN(Banco!F$6)-1)","v":5830.8},{"$f":"OFFSET(Composições!$A$1,MATCH(COUNTIF($H$1:$H40,\"Composições\"),Composições!$K:$K,0)-1,COLUMN(Banco!G$6)-1)","v":5918.71},"Composições",null,{"$f":"OFFSET(Composições!$A$1,MATCH(COUNTIF($H$1:$H40,\"Composições\"),Composições!$K:$K,0)-1,COLUMN(Banco!J$6)+4)","v":6.8999999999999999E-3},{"$f":"OFFSET(Composições!$A$1,MATCH(COUNTIF($H$1:$H40,\"Composições\"),Composições!$K:$K,0)-1,COLUMN(Banco!K$6)+4)","v":6.7999999999999996E-3}]
["Composição INEL.0081.1",{"$f":"OFFSET(Composições!$A$1,MATCH(COUNTIF($H$1:$H41,\"Composições\"),Composições!$K:$K,0)-1,COLUMN(Banco!B$6)-1)","v":"Composição"},{"$f":"OFFSET(Composições!$A$1,MATCH(COUNTIF($H$1:$H41,\"Composições\"),Composições!$K:$K,0)-1,COLUMN(Banco!C$6)-1)","v":"INEL.0081.1"},{"$f":"IF(COUNTIF(OFFSET(Banco!$A$6,1,0,NCOMPOSICOES),$A41)>1,\"CÓDIGO REPETIDO\",OFFSET(Composições!$A$1,MATCH(COUNTIF($H$1:$H41,\"Composições\"),Composições!$K:$K,0)-1,COLUMN(Banco!D$6)-1))","v":"ESPELHO/PLACA CEGA PARA CAIXA 4\" X 2\", COM FURO CENTRAL PARA PASSAGEM DE CABOS, PARA LIGAÇÃO DE CHUVEIRO. -FORNECIMENTO E INSTALAÇÃO."},{"$f":"OFFSET(Composições!$A$1,MATCH(COUNTIF($H$1:$H41,\"Composições\"),Composições!$K:$K,0)-1,COLUMN(Banco!E$6)-1)","v":"UND."},{"$f":"OFFSET(Composições!$A$1,MATCH(COUNTIF($H$1:$H41,\"Composições\"),Composições!$K:$K,0)-1,COLUMN(Banco!F$6)-1)","v":15.19},{"$f":"OFFSET(Composições!$A$1,MATCH(COUNTIF($H$1:$H41,\"Composições\"),Composições!$K:$K,0)-1,COLUMN(Banco!G$6)-1)","v":16.23},"Composições",null,{"$f":"OFFSET(Composições!$A$1,MATCH(COUNTIF($H$1:$H41,\"Composições\"),Composições!$K:$K,0)-1,COLUMN(Banco!J$6)+4)","v":0},{"$f":"OFFSET(Composições!$A$1,MATCH(COUNTIF($H$1:$H41,\"Composições\"),Composições!$K:$K,0)-1,COLUMN(Banco!K$6)+4)","v":0}]
["Composição COMP. 02",{"$f":"OFFSET(Composições!$A$1,MATCH(COUNTIF($H$1:$H42,\"Composições\"),Composições!$K:$K,0)-1,COLUMN(Banco!B$6)-1)","v":"Composição"},{"$f":"OFFSET(Composições!$A$1,MATCH(COUNTIF($H$1:$H42,\"Composições\"),Composições!$K:$K,0)-1,COLUMN(Banco!C$6)-1)","v":"COMP. 02"},{"$f":"IF(COUNTIF(OFFSET(Banco!$A$6,1,0,NCOMPOSICOES),$A42)>1,\"CÓDIGO REPETIDO\",OFFSET(Composições!$A$1,MATCH(COUNTIF($H$1:$H42,\"Composições\"),Composições!$K:$K,0)-1,COLUMN(Banco!D$6)-1))","v":"LUMINÁRIA TIPO PLAFON DE SOBREPOR, COR BRANCA, BIVOLT 12W. -FORNECIMENTO E INSTALAÇÃO."},{"$f":"OFFSET(Composições!$A$1,MATCH(COUNTIF($H$1:$H42,\"Composições\"),Composições!$K:$K,0)-1,COLUMN(Banco!E$6)-1)","v":"UND."},{"$f":"OFFSET(Composições!$A$1,MATCH(COUNTIF($H$1:$H42,\"Composições\"),Composições!$K:$K,0)-1,COLUMN(Banco!F$6)-1)","v":42.290000000000006},{"$f":"OFFSET(Composições!$A$1,MATCH(COUNTIF($H$1:$H42,\"Composições\"),Composições!$K:$K,0)-1,COLUMN(Banco!G$6)-1)","v":43.08},"Composições",null,{"$f":"OFFSET(Composições!$A$1,MATCH(COUNTIF($H$1:$H42,\"Composições\"),Composições!$K:$K,0)-1,COLUMN(Banco!J$6)+4)","v":0},{"$f":"OFFSET(Composições!$A$1,MATCH(COUNTIF($H$1:$H42,\"Composições\"),Composições!$K:$K,0)-1,COLUMN(Banco!K$6)+4)","v":0}]
["Composição FUES.0097.01",{"$f":"OFFSET(Composições!$A$1,MATCH(COUNTIF($H$1:$H43,\"Composições\"),Composições!$K:$K,0)-1,COLUMN(Banco!B$6)-1)","v":"Composição"},{"$f":"OFFSET(Composições!$A$1,MATCH(COUNTIF($H$1:$H43,\"Composições\"),Composições!$K:$K,0)-1,COLUMN(Banco!C$6)-1)","v":"FUES.0097.01"},{"$f":"IF(COUNTIF(OFFSET(Banco!$A$6,1,0,NCOMPOSICOES),$A43)>1,\"CÓDIGO REPETIDO\",OFFSET(Composições!$A$1,MATCH(COUNTIF($H$1:$H43,\"Composições\"),Composições!$K:$K,0)-1,COLUMN(Banco!D$6)-1))","v":"COMPOSIÇÃO REPRESENTATIVA DE VERGA E CONTRA-VERGA 14X10 (LxH) PRÉ-MOLDADA PARA ESQUADRIAS - FORNECIMENTO E INSTALAÇÃO"},{"$f":"OFFSET(Composições!$A$1,MATCH(COUNTIF($H$1:$H43,\"Composições\"),Composições!$K:$K,0)-1,COLUMN(Banco!E$6)-1)","v":"M"},{"$f":"OFFSET(Composições!$A$1,MATCH(COUNTIF($H$1:$H43,\"Composições\"),Composições!$K:$K,0)-1,COLUMN(Banco!F$6)-1)","v":39.19},{"$f":"OFFSET(Composições!$A$1,MATCH(COUNTIF($H$1:$H43,\"Composições\"),Composições!$K:$K,0)-1,COLUMN(Banco!G$6)-1)","v":40.020000000000003},"Composições",null,{"$f":"OFFSET(Composições!$A$1,MATCH(COUNTIF($H$1:$H43,\"Composições\"),Composições!$K:$K,0)-1,COLUMN(Banco!J$6)+4)","v":0},{"$f":"OFFSET(Composições!$A$1,MATCH(COUNTIF($H$1:$H43,\"Composições\"),Composições!$K:$K,0)-1,COLUMN(Banco!K$6)+4)","v":0}]
["Composição ESQV.0052.01",{"$f":"OFFSET(Composições!$A$1,MATCH(COUNTIF($H$1:$H44,\"Composições\"),Composições!$K:$K,0)-1,COLUMN(Banco!B$6)-1)","v":"Composição"},{"$f":"OFFSET(Composições!$A$1,MATCH(COUNTIF($H$1:$H44,\"Composições\"),Composições!$K:$K,0)-1,COLUMN(Banco!C$6)-1)","v":"ESQV.0052.01"},{"$f":"IF(COUNTIF(OFFSET(Banco!$A$6,1,0,NCOMPOSICOES),$A44)>1,\"CÓDIGO REPETIDO\",OFFSET(Composições!$A$1,MATCH(COUNTIF($H$1:$H44,\"Composições\"),Composições!$K:$K,0)-1,COLUMN(Banco!D$6)-1))","v":"JANELA DE VIDRO TEMPERADO 8 MM INCOLOR, INCLUSO PERFIS DE ALUMÍNIO (COR CONFORME PROJETO) E FERRAGENS - FORNECIMENTO E INSTALAÇÃO"},{"$f":"OFFSET(Composições!$A$1,MATCH(COUNTIF($H$1:$H44,\"Composições\"),Composições!$K:$K,0)-1,COLUMN(Banco!E$6)-1)","v":"m²"},{"$f":"OFFSET(Composições!$A$1,MATCH(COUNTIF($H$1:$H44,\"Composições\"),Composições!$K:$K,0)-1,COLUMN(Banco!F$6)-1)","v":678.97},{"$f":"OFFSET(Composições!$A$1,MATCH(COUNTIF($H$1:$H44,\"Composições\"),Composições!$K:$K,0)-1,COLUMN(Banco!G$6)-1)","v":697.64},"Composições",null,{"$f":"OFFSET(Composições!$A$1,MATCH(COUNTIF($H$1:$H44,\"Composições\"),Composições!$K:$K,0)-1,COLUMN(Banco!J$6)+4)","v":0},{"$f":"OFFSET(Composições!$A$1,MATCH(COUNTIF($H$1:$H44,\"Composições\"),Composições!$K:$K,0)-1,COLUMN(Banco!K$6)+4)","v":0}]
["Composição ESQV.0013.01",{"$f":"OFFSET(Composições!$A$1,MATCH(COUNTIF($H$1:$H45,\"Composições\"),Composições!$K:$K,0)-1,COLUMN(Banco!B$6)-1)","v":"Composição"},{"$f":"OFFSET(Composições!$A$1,MATCH(COUNTIF($H$1:$H45,\"Composições\"),Composições!$K:$K,0)-1,COLUMN(Banco!C$6)-1)","v":"ESQV.0013.01"},{"$f":"IF(COUNTIF(OFFSET(Banco!$A$6,1,0,NCOMPOSICOES),$A45)>1,\"CÓDIGO REPETIDO\",OFFSET(Composições!$A$1,MATCH(COUNTIF($H$1:$H45,\"Composições\"),Composições!$K:$K,0)-1,COLUMN(Banco!D$6)-1))","v":"GRADE DE FERRO COM VERGALHÃO LISO 5/16\" E CANTONEIRA DE ABAS IGUAIS 1\" #1/8\", INCLUSO PINTURA ESMALTE FOSCO"},{"$f":"OFFSET(Composições!$A$1,MATCH(COUNTIF($H$1:$H45,\"Composições\"),Composições!$K:$K,0)-1,COLUMN(Banco!E$6)-1)","v":"m²"},{"$f":"OFFSET(Composições!$A$1,MATCH(COUNTIF($H$1:$H45,\"Composições\"),Composições!$K:$K,0)-1,COLUMN(Banco!F$6)-1)","v":239.83},{"$f":"OFFSET(Composições!$A$1,MATCH(COUNTIF($H$1:$H45,\"Composições\"),Composições!$K:$K,0)-1,COLUMN(Banco!G$6)-1)","v":249.99},"Composições",null,{"$f":"OFFSET(Composições!$A$1,MATCH(COUNTIF($H$1:$H45,\"Composições\"),Composições!$K:$K,0)-1,COLUMN(Banco!J$6)+4)","v":0},{"$f":"OFFSET(Composições!$A$1,MATCH(COUNTIF($H$1:$H45,\"Composições\"),Composições!$K:$K,0)-1,COLUMN(Banco!K$6)+4)","v":0}]
["Composição ESQV.0019.01",{"$f":"OFFSET(Composições!$A$1,MATCH(COUNTIF($H$1:$H46,\"Composições\"),Composições!$K:$K,0)-1,COLUMN(Banco!B$6)-1)","v":"Composição"},{"$f":"OFFSET(Composições!$A$1,MATCH(COUNTIF($H$1:$H46,\"Composições\"),Composições!$K:$K,0)-1,COLUMN(Banco!C$6)-1)","v":"ESQV.0019.01"},{"$f":"IF(COUNTIF(OFFSET(Banco!$A$6,1,0,NCOMPOSICOES),$A46)>1,\"CÓDIGO REPETIDO\",OFFSET(Composições!$A$1,MATCH(COUNTIF($H$1:$H46,\"Composições\"),Composições!$K:$K,0)-1,COLUMN(Banco!D$6)-1))","v":"ALCAPAO EM FERRO 90X90CM, INCLUSO FERRAGENS - FORNECIMENTO E INSTALAÇÃO"},{"$f":"OFFSET(Composições!$A$1,MATCH(COUNTIF($H$1:$H46,\"Composições\"),Composições!$K:$K,0)-1,COLUMN(Banco!E$6)-1)","v":"UN"},{"$f":"OFFSET(Composições!$A$1,MATCH(COUNTIF($H$1:$H46,\"Composições\"),Composições!$K:$K,0)-1,COLUMN(Banco!F$6)-1)","v":231.04000000000002},{"$f":"OFFSET(Composições!$A$1,MATCH(COUNTIF($H$1:$H46,\"Composições\"),Composições!$K:$K,0)-1,COLUMN(Banco!G$6)-1)","v":240.11},"Composições",null,{"$f":"OFFSET(Composições!$A$1,MATCH(COUNTIF($H$1:$H46,\"Composições\"),Composições!$K:$K,0)-1,COLUMN(Banco!J$6)+4)","v":0},{"$f":"OFFSET(Composições!$A$1,MATCH(COUNTIF($H$1:$H46,\"Composições\"),Composições!$K:$K,0)-1,COLUMN(Banco!K$6)+4)","v":0}]
["Composição INES.0009.01",{"$f":"OFFSET(Composições!$A$1,MATCH(COUNTIF($H$1:$H47,\"Composições\"),Composições!$K:$K,0)-1,COLUMN(Banco!B$6)-1)","v":"Composição"},{"$f":"OFFSET(Composições!$A$1,MATCH(COUNTIF($H$1:$H47,\"Composições\"),Composições!$K:$K,0)-1,COLUMN(Banco!C$6)-1)","v":"INES.0009.01"},{"$f":"IF(COUNTIF(OFFSET(Banco!$A$6,1,0,NCOMPOSICOES),$A47)>1,\"CÓDIGO REPETIDO\",OFFSET(Composições!$A$1,MATCH(COUNTIF($H$1:$H47,\"Composições\"),Composições!$K:$K,0)-1,COLUMN(Banco!D$6)-1))","v":"EXTINTOR DE INCÊNDIO PÓ QUÍMICO 4 KG TIPO ABC CARGA COMPLETA - FORNECIMENTO E INSTALAÇÃO"},{"$f":"OFFSET(Composições!$A$1,MATCH(COUNTIF($H$1:$H47,\"Composições\"),Composições!$K:$K,0)-1,COLUMN(Banco!E$6)-1)","v":"UN"},{"$f":"OFFSET(Composições!$A$1,MATCH(COUNTIF($H$1:$H47,\"Composições\"),Composições!$K:$K,0)-1,COLUMN(Banco!F$6)-1)","v":219.08},{"$f":"OFFSET(Composições!$A$1,MATCH(COUNTIF($H$1:$H47,\"Composições\"),Composições!$K:$K,0)-1,COLUMN(Banco!G$6)-1)","v":220.56},"Composições",null,{"$f":"OFFSET(Composições!$A$1,MATCH(COUNTIF($H$1:$H47,\"Composições\"),Composições!$K:$K,0)-1,COLUMN(Banco!J$6)+4)","v":0},{"$f":"OFFSET(Composições!$A$1,MATCH(COUNTIF($H$1:$H47,\"Composições\"),Composições!$K:$K,0)-1,COLUMN(Banco!K$6)+4)","v":0}]
["Composição INES.0054.01",{"$f":"OFFSET(Composições!$A$1,MATCH(COUNTIF($H$1:$H48,\"Composições\"),Composições!$K:$K,0)-1,COLUMN(Banco!B$6)-1)","v":"Composição"},{"$f":"OFFSET(Composições!$A$1,MATCH(COUNTIF($H$1:$H48,\"Composições\"),Composições!$K:$K,0)-1,COLUMN(Banco!C$6)-1)","v":"INES.0054.01"},{"$f":"IF(COUNTIF(OFFSET(Banco!$A$6,1,0,NCOMPOSICOES),$A48)>1,\"CÓDIGO REPETIDO\",OFFSET(Composições!$A$1,MATCH(COUNTIF($H$1:$H48,\"Composições\"),Composições!$K:$K,0)-1,COLUMN(Banco!D$6)-1))","v":"ABRIGO PARA 01 BOTIJÃO DE GÁS P13 KG, 86X66X95 CM (LXCXA), PINTURA ACRÍLICA COM TINTA TEXTURIZADA, GRADIL COM TELA E CANTONEIRA COM PINTURA ESMALTE, LAJE EM CONCRETO ARMADO, INCLUSO UMA MANGUEIRA PARA GÁS 3/8"},{"$f":"OFFSET(Composições!$A$1,MATCH(COUNTIF($H$1:$H48,\"Composições\"),Composições!$K:$K,0)-1,COLUMN(Banco!E$6)-1)","v":"UN"},{"$f":"OFFSET(Composições!$A$1,MATCH(COUNTIF($H$1:$H48,\"Composições\"),Composições!$K:$K,0)-1,COLUMN(Banco!F$6)-1)","v":763.55},{"$f":"OFFSET(Composições!$A$1,MATCH(COUNTIF($H$1:$H48,\"Composições\"),Composições!$K:$K,0)-1,COLUMN(Banco!G$6)-1)","v":801.62999999999988},"Composições",null,{"$f":"OFFSET(Composições!$A$1,MATCH(COUNTIF($H$1:$H48,\"Composições\"),Composições!$K:$K,0)-1,COLUMN(Banco!J$6)+4)","v":2.3E-3},{"$f":"OFFSET(Composições!$A$1,MATCH(COUNTIF($H$1:$H48,\"Composições\"),Composições!$K:$K,0)-1,COLUMN(Banco!K$6)+4)","v":2.0999999999999999E-3}]
["Composição INHI.0021.01",{"$f":"OFFSET(Composições!$A$1,MATCH(COUNTIF($H$1:$H49,\"Composições\"),Composições!$K:$K,0)-1,COLUMN(Banco!B$6)-1)","v":"Composição"},{"$f":"OFFSET(Composições!$A$1,MATCH(COUNTIF($H$1:$H49,\"Composições\"),Composições!$K:$K,0)-1,COLUMN(Banco!C$6)-1)","v":"INHI.0021.01"},{"$f":"IF(COUNTIF(OFFSET(Banco!$A$6,1,0,NCOMPOSICOES),$A49)>1,\"CÓDIGO REPETIDO\",OFFSET(Composições!$A$1,MATCH(COUNTIF($H$1:$H49,\"Composições\"),Composições!$K:$K,0)-1,COLUMN(Banco!D$6)-1))","v":"TOALHEIRO PLASTICO TIPO DISPENSER PARA PAPEL TOALHA INTERFOLHADO, INCLUSO FIXAÇÃO."},{"$f":"OFFSET(Composições!$A$1,MATCH(COUNTIF($H$1:$H49,\"Composições\"),Composições!$K:$K,0)-1,COLUMN(Banco!E$6)-1)","v":"UN"},{"$f":"OFFSET(Composições!$A$1,MATCH(COUNTIF($H$1:$H49,\"Composições\"),Composições!$K:$K,0)-1,COLUMN(Banco!F$6)-1)","v":160.68},{"$f":"OFFSET(Composições!$A$1,MATCH(COUNTIF($H$1:$H49,\"Composições\"),Composições!$K:$K,0)-1,COLUMN(Banco!G$6)-1)","v":171.08},"Composições",null,{"$f":"OFFSET(Composições!$A$1,MATCH(COUNTIF($H$1:$H49,\"Composições\"),Composições!$K:$K,0)-1,COLUMN(Banco!J$6)+4)","v":0},{"$f":"OFFSET(Composições!$A$1,MATCH(COUNTIF($H$1:$H49,\"Composições\"),Composições!$K:$K,0)-1,COLUMN(Banco!K$6)+4)","v":0}]
["Composição ESQV.0010.01",{"$f":"OFFSET(Composições!$A$1,MATCH(COUNTIF($H$1:$H50,\"Composições\"),Composições!$K:$K,0)-1,COLUMN(Banco!B$6)-1)","v":"Composição"},{"$f":"OFFSET(Composições!$A$1,MATCH(COUNTIF($H$1:$H50,\"Composições\"),Composições!$K:$K,0)-1,COLUMN(Banco!C$6)-1)","v":"ESQV.0010.01"},{"$f":"IF(COUNTIF(OFFSET(Banco!$A$6,1,0,NCOMPOSICOES),$A50)>1,\"CÓDIGO REPETIDO\",OFFSET(Composições!$A$1,MATCH(COUNTIF($H$1:$H50,\"Composições\"),Composições!$K:$K,0)-1,COLUMN(Banco!D$6)-1))","v":"BARRA DE APOIO EM U, EM ACO INOX POLIDO, COMPRIMENTO 30CM, DIAMETRO MINIMO 3 CM - FORNECIMENTO E INSTALAÇÃO"},{"$f":"OFFSET(Composições!$A$1,MATCH(COUNTIF($H$1:$H50,\"Composições\"),Composições!$K:$K,0)-1,COLUMN(Banco!E$6)-1)","v":"UN"},{"$f":"OFFSET(Composições!$A$1,MATCH(COUNTIF($H$1:$H50,\"Composições\"),Composições!$K:$K,0)-1,COLUMN(Banco!F$6)-1)","v":292.78000000000003},{"$f":"OFFSET(Composições!$A$1,MATCH(COUNTIF($H$1:$H50,\"Composições\"),Composições!$K:$K,0)-1,COLUMN(Banco!G$6)-1)","v":308.38},"Composições",null,{"$f":"OFFSET(Composições!$A$1,MATCH(COUNTIF($H$1:$H50,\"Composições\"),Composições!$K:$K,0)-1,COLUMN(Banco!J$6)+4)","v":0},{"$f":"OFFSET(Composições!$A$1,MATCH(COUNTIF($H$1:$H50,\"Composições\"),Composições!$K:$K,0)-1,COLUMN(Banco!K$6)+4)","v":0}]
["Composição SERT.0039.01",{"$f":"OFFSET(Composições!$A$1,MATCH(COUNTIF($H$1:$H51,\"Composições\"),Composições!$K:$K,0)-1,COLUMN(Banco!B$6)-1)","v":"Composição"},{"$f":"OFFSET(Composições!$A$1,MATCH(COUNTIF($H$1:$H51,\"Composições\"),Composições!$K:$K,0)-1,COLUMN(Banco!C$6)-1)","v":"SERT.0039.01"},{"$f":"IF(COUNTIF(OFFSET(Banco!$A$6,1,0,NCOMPOSICOES),$A51)>1,\"CÓDIGO REPETIDO\",OFFSET(Composições!$A$1,MATCH(COUNTIF($H$1:$H51,\"Composições\"),Composições!$K:$K,0)-1,COLUMN(Banco!D$6)-1))","v":"ADMINISTRAÇÃO LOCAL DA OBRA COM UM ENGENHEIRO CIVIL (2,5H POR DIA), INCLUSIVE ENCARGOS COMPLEMENTARES E TODOS OS DEMAIS CUSTOS ADMINISTRATIVOS DA OBRA"},{"$f":"OFFSET(Composições!$A$1,MATCH(COUNTIF($H$1:$H51,\"Composições\"),Composições!$K:$K,0)-1,COLUMN(Banco!E$6)-1)","v":"MÊS"},{"$f":"OFFSET(Composições!$A$1,MATCH(COUNTIF($H$1:$H51,\"Composições\"),Composições!$K:$K,0)-1,COLUMN(Banco!F$6)-1)","v":5870.5},{"$f":"OFFSET(Composições!$A$1,MATCH(COUNTIF($H$1:$H51,\"Composições\"),Composições!$K:$K,0)-1,COLUMN(Banco!G$6)-1)","v":6553},"Composições",null,{"$f":"OFFSET(Composições!$A$1,MATCH(COUNTIF($H$1:$H51,\"Composições\"),Composições!$K:$K,0)-1,COLUMN(Banco!J$6)+4)","v":0},{"$f":"OFFSET(Composições!$A$1,MATCH(COUNTIF($H$1:$H51,\"Composições\"),Composições!$K:$K,0)-1,COLUMN(Banco!K$6)+4)","v":0}]
["Composição COBE.0085.01",{"$f":"OFFSET(Composições!$A$1,MATCH(COUNTIF($H$1:$H52,\"Composições\"),Composições!$K:$K,0)-1,COLUMN(Banco!B$6)-1)","v":"Composição"},{"$f":"OFFSET(Composições!$A$1,MATCH(COUNTIF($H$1:$H52,\"Composições\"),Composições!$K:$K,0)-1,COLUMN(Banco!C$6)-1)","v":"COBE.0085.01"},{"$f":"IF(COUNTIF(OFFSET(Banco!$A$6,1,0,NCOMPOSICOES),$A52)>1,\"CÓDIGO REPETIDO\",OFFSET(Composições!$A$1,MATCH(COUNTIF($H$1:$H52,\"Composições\"),Composições!$K:$K,0)-1,COLUMN(Banco!D$6)-1))","v":"CALHA EM CHAPA DE AÇO GALVANIZADO NÚMERO 22, DESENVOLVIMENTO DE 110 CM, INCLUSO TRANSPORTE VERTICAL."},{"$f":"OFFSET(Composições!$A$1,MATCH(COUNTIF($H$1:$H52,\"Composições\"),Composições!$K:$K,0)-1,COLUMN(Banco!E$6)-1)","v":"M"},{"$f":"OFFSET(Composições!$A$1,MATCH(COUNTIF($H$1:$H52,\"Composições\"),Composições!$K:$K,0)-1,COLUMN(Banco!F$6)-1)","v":189.3},{"$f":"OFFSET(Composições!$A$1,MATCH(COUNTIF($H$1:$H52,\"Composições\"),Composições!$K:$K,0)-1,COLUMN(Banco!G$6)-1)","v":194.26},"Composições",null,{"$f":"OFFSET(Composições!$A$1,MATCH(COUNTIF($H$1:$H52,\"Composições\"),Composições!$K:$K,0)-1,COLUMN(Banco!J$6)+4)","v":0},{"$f":"OFFSET(Composições!$A$1,MATCH(COUNTIF($H$1:$H52,\"Composições\"),Composições!$K:$K,0)-1,COLUMN(Banco!K$6)+4)","v":0}]
["Composição INHI.0017.01",{"$f":"OFFSET(Composições!$A$1,MATCH(COUNTIF($H$1:$H53,\"Composições\"),Composições!$K:$K,0)-1,COLUMN(Banco!B$6)-1)","v":"Composição"},{"$f":"OFFSET(Composições!$A$1,MATCH(COUNTIF($H$1:$H53,\"Composições\"),Composições!$K:$K,0)-1,COLUMN(Banco!C$6)-1)","v":"INHI.0017.01"},{"$f":"IF(COUNTIF(OFFSET(Banco!$A$6,1,0,NCOMPOSICOES),$A53)>1,\"CÓDIGO REPETIDO\",OFFSET(Composições!$A$1,MATCH(COUNTIF($H$1:$H53,\"Composições\"),Composições!$K:$K,0)-1,COLUMN(Banco!D$6)-1))","v":"FILTRO VOLUMÉTRICO PARA REAPROVEITAMENTO DE ÁGUA DE CHUVA (MODELO DIN 1989-2) - FORNECIMENTO E INSTALAÇÃO"},{"$f":"OFFSET(Composições!$A$1,MATCH(COUNTIF($H$1:$H53,\"Composições\"),Composições!$K:$K,0)-1,COLUMN(Banco!E$6)-1)","v":"UN"},{"$f":"OFFSET(Composições!$A$1,MATCH(COUNTIF($H$1:$H53,\"Composições\"),Composições!$K:$K,0)-1,COLUMN(Banco!F$6)-1)","v":1601.5},{"$f":"OFFSET(Composições!$A$1,MATCH(COUNTIF($H$1:$H53,\"Composições\"),Composições!$K:$K,0)-1,COLUMN(Banco!G$6)-1)","v":1611.78},"Composições",null,{"$f":"OFFSET(Composições!$A$1,MATCH(COUNTIF($H$1:$H53,\"Composições\"),Composições!$K:$K,0)-1,COLUMN(Banco!J$6)+4)","v":0},{"$f":"OFFSET(Composições!$A$1,MATCH(COUNTIF($H$1:$H53,\"Composições\"),Composições!$K:$K,0)-1,COLUMN(Banco!K$6)+4)","v":0}]
["Composição INEL.0611.01",{"$f":"OFFSET(Composições!$A$1,MATCH(COUNTIF($H$1:$H54,\"Composições\"),Composições!$K:$K,0)-1,COLUMN(Banco!B$6)-1)","v":"Composição"},{"$f":"OFFSET(Composições!$A$1,MATCH(COUNTIF($H$1:$H54,\"Composições\"),Composições!$K:$K,0)-1,COLUMN(Banco!C$6)-1)","v":"INEL.0611.01"},{"$f":"IF(COUNTIF(OFFSET(Banco!$A$6,1,0,NCOMPOSICOES),$A54)>1,\"CÓDIGO REPETIDO\",OFFSET(Composições!$A$1,MATCH(COUNTIF($H$1:$H54,\"Composições\"),Composições!$K:$K,0)-1,COLUMN(Banco!D$6)-1))","v":"ENTRADA DE ENERGIA ELÉTRICA, SUBTERRÂNEA, TRIFÁSICA, COM CAIXA DE SOBREPOR, CABO DE 70 MM2 E DISJUNTOR DIN 200A, INCLUSA MURETA DE ALVENARIA E POSTE."},{"$f":"OFFSET(Composições!$A$1,MATCH(COUNTIF($H$1:$H54,\"Composições\"),Composições!$K:$K,0)-1,COLUMN(Banco!E$6)-1)","v":"UN"},{"$f":"OFFSET(Composições!$A$1,MATCH(COUNTIF($H$1:$H54,\"Composições\"),Composições!$K:$K,0)-1,COLUMN(Banco!F$6)-1)","v":7334.34},{"$f":"OFFSET(Composições!$A$1,MATCH(COUNTIF($H$1:$H54,\"Composições\"),Composições!$K:$K,0)-1,COLUMN(Banco!G$6)-1)","v":7549.33},"Composições",null,{"$f":"OFFSET(Composições!$A$1,MATCH(COUNTIF($H$1:$H54,\"Composições\"),Composições!$K:$K,0)-1,COLUMN(Banco!J$6)+4)","v":7.6E-3},{"$f":"OFFSET(Composições!$A$1,MATCH(COUNTIF($H$1:$H54,\"Composições\"),Composições!$K:$K,0)-1,COLUMN(Banco!K$6)+4)","v":7.4000000000000003E-3}]
["Composição INEL.0125.01",{"$f":"OFFSET(Composições!$A$1,MATCH(COUNTIF($H$1:$H55,\"Composições\"),Composições!$K:$K,0)-1,COLUMN(Banco!B$6)-1)","v":"Composição"},{"$f":"OFFSET(Composições!$A$1,MATCH(COUNTIF($H$1:$H55,\"Composições\"),Composições!$K:$K,0)-1,COLUMN(Banco!C$6)-1)","v":"INEL.0125.01"},{"$f":"IF(COUNTIF(OFFSET(Banco!$A$6,1,0,NCOMPOSICOES),$A55)>1,\"CÓDIGO REPETIDO\",OFFSET(Composições!$A$1,MATCH(COUNTIF($H$1:$H55,\"Composições\"),Composições!$K:$K,0)-1,COLUMN(Banco!D$6)-1))","v":"POSTE CONCRETO SEÇÃO CIRCULAR COMPRIMENTO DE 14 METROS,  CARGA NOMINAL NO TOPO 300DAN, INCLUSIVE ESCAVAÇÃO E CAMINHÃO GUINDAUTO PARA INSTALAÇÃO - FORNECIMENTO E INSTALAÇÃO"},{"$f":"OFFSET(Composições!$A$1,MATCH(COUNTIF($H$1:$H55,\"Composições\"),Composições!$K:$K,0)-1,COLUMN(Banco!E$6)-1)","v":"UND."},{"$f":"OFFSET(Composições!$A$1,MATCH(COUNTIF($H$1:$H55,\"Composições\"),Composições!$K:$K,0)-1,COLUMN(Banco!F$6)-1)","v":2878.5299999999997},{"$f":"OFFSET(Composições!$A$1,MATCH(COUNTIF($H$1:$H55,\"Composições\"),Composições!$K:$K,0)-1,COLUMN(Banco!G$6)-1)","v":2887.13},"Composições",null,{"$f":"OFFSET(Composições!$A$1,MATCH(COUNTIF($H$1:$H55,\"Composições\"),Composições!$K:$K,0)-1,COLUMN(Banco!J$6)+4)","v":2.4299999999999999E-2},{"$f":"OFFSET(Composições!$A$1,MATCH(COUNTIF($H$1:$H55,\"Composições\"),Composições!$K:$K,0)-1,COLUMN(Banco!K$6)+4)","v":2.4199999999999999E-2}]
["Composição INEL.0377.01",{"$f":"OFFSET(Composições!$A$1,MATCH(COUNTIF($H$1:$H56,\"Composições\"),Composições!$K:$K,0)-1,COLUMN(Banco!B$6)-1)","v":"Composição"},{"$f":"OFFSET(Composições!$A$1,MATCH(COUNTIF($H$1:$H56,\"Composições\"),Composições!$K:$K,0)-1,COLUMN(Banco!C$6)-1)","v":"INEL.0377.01"},{"$f":"IF(COUNTIF(OFFSET(Banco!$A$6,1,0,NCOMPOSICOES),$A56)>1,\"CÓDIGO REPETIDO\",OFFSET(Composições!$A$1,MATCH(COUNTIF($H$1:$H56,\"Composições\"),Composições!$K:$K,0)-1,COLUMN(Banco!D$6)-1))","v":"SUPORTE CENTRAL TIPO X PARA INSTALAÇÃO DE 4 LUMINÁRIAS EM PÉTALAS TIPO PÚBLICA NO TOPO DO POSTE, FABRICADO EM TUBOS DE AÇO ESTRUTURAL, PROVIDO DE BRAÇO COM DIÂMETRO DE 48MM, COMPRIMENTO 30CM, ÂNGULO DE INCLINAÇÃO HORIZONTAL DE 10º, PROVIDO DE TAMPA REMOVÍVEL EM ALUMÍNIO, FIXADO AO TOPO DO POSTE ATRAVÉS DE 3 PARAFUSOS INCLUSOS, DIÂMETRO DE FIXAÇÃO NO POSTE DE 111MM. ACABAMENTO GALVANIZADO A FOGO CONFORME NBR 6323.  - FORNECIMENTO E INSTALAÇÃO."},{"$f":"OFFSET(Composições!$A$1,MATCH(COUNTIF($H$1:$H56,\"Composições\"),Composições!$K:$K,0)-1,COLUMN(Banco!E$6)-1)","v":"UND."},{"$f":"OFFSET(Composições!$A$1,MATCH(COUNTIF($H$1:$H56,\"Composições\"),Composições!$K:$K,0)-1,COLUMN(Banco!F$6)-1)","v":188.37999999999997},{"$f":"OFFSET(Composições!$A$1,MATCH(COUNTIF($H$1:$H56,\"Composições\"),Composições!$K:$K,0)-1,COLUMN(Banco!G$6)-1)","v":191.29999999999998},"Composições",null,{"$f":"OFFSET(Composições!$A$1,MATCH(COUNTIF($H$1:$H56,\"Composições\"),Composições!$K:$K,0)-1,COLUMN(Banco!J$6)+4)","v":0},{"$f":"OFFSET(Composições!$A$1,MATCH(COUNTIF($H$1:$H56,\"Composições\"),Composições!$K:$K,0)-1,COLUMN(Banco!K$6)+4)","v":0}]
["Composição URBA.0006.01",{"$f":"OFFSET(Composições!$A$1,MATCH(COUNTIF($H$1:$H57,\"Composições\"),Composições!$K:$K,0)-1,COLUMN(Banco!B$6)-1)","v":"Composição"},{"$f":"OFFSET(Composições!$A$1,MATCH(COUNTIF($H$1:$H57,\"Composições\"),Composições!$K:$K,0)-1,COLUMN(Banco!C$6)-1)","v":"URBA.0006.01"},{"$f":"IF(COUNTIF(OFFSET(Banco!$A$6,1,0,NCOMPOSICOES),$A57)>1,\"CÓDIGO REPETIDO\",OFFSET(Composições!$A$1,MATCH(COUNTIF($H$1:$H57,\"Composições\"),Composições!$K:$K,0)-1,COLUMN(Banco!D$6)-1))","v":"LOCAÇÃO DE MUROS, CERCAS E ESTRUTURAS SIMILARES"},{"$f":"OFFSET(Composições!$A$1,MATCH(COUNTIF($H$1:$H57,\"Composições\"),Composições!$K:$K,0)-1,COLUMN(Banco!E$6)-1)","v":"M"},{"$f":"OFFSET(Composições!$A$1,MATCH(COUNTIF($H$1:$H57,\"Composições\"),Composições!$K:$K,0)-1,COLUMN(Banco!F$6)-1)","v":1.66},{"$f":"OFFSET(Composições!$A$1,MATCH(COUNTIF($H$1:$H57,\"Composições\"),Composições!$K:$K,0)-1,COLUMN(Banco!G$6)-1)","v":1.71},"Composições",null,{"$f":"OFFSET(Composições!$A$1,MATCH(COUNTIF($H$1:$H57,\"Composições\"),Composições!$K:$K,0)-1,COLUMN(Banco!J$6)+4)","v":0},{"$f":"OFFSET(Composições!$A$1,MATCH(COUNTIF($H$1:$H57,\"Composições\"),Composições!$K:$K,0)-1,COLUMN(Banco!K$6)+4)","v":0}]
["Composição URBA.0002.01",{"$f":"OFFSET(Composições!$A$1,MATCH(COUNTIF($H$1:$H58,\"Composições\"),Composições!$K:$K,0)-1,COLUMN(Banco!B$6)-1)","v":"Composição"},{"$f":"OFFSET(Composições!$A$1,MATCH(COUNTIF($H$1:$H58,\"Composições\"),Composições!$K:$K,0)-1,COLUMN(Banco!C$6)-1)","v":"URBA.0002.01"},{"$f":"IF(COUNTIF(OFFSET(Banco!$A$6,1,0,NCOMPOSICOES),$A58)>1,\"CÓDIGO REPETIDO\",OFFSET(Composições!$A$1,MATCH(COUNTIF($H$1:$H58,\"Composições\"),Composições!$K:$K,0)-1,COLUMN(Banco!D$6)-1))","v":"CERCA ALAMBRADO, COM MOURÕES (13X8 E REFORÇO DE 14X14), TELA ARAME GALVANIZADO FIO 12 BWG (2,77 MM) MALHA 7X7 CM, REFORÇO DE 4 FIOS 10BWG (3,4MM), VIGA BALDRAME EM CONCRETO 20X30, ALTURA 2,40 M -  FORNECIMENTO E INSTALAÇÃO CONFORME PROJETO"},{"$f":"OFFSET(Composições!$A$1,MATCH(COUNTIF($H$1:$H58,\"Composições\"),Composições!$K:$K,0)-1,COLUMN(Banco!E$6)-1)","v":"M"},{"$f":"OFFSET(Composições!$A$1,MATCH(COUNTIF($H$1:$H58,\"Composições\"),Composições!$K:$K,0)-1,COLUMN(Banco!F$6)-1)","v":253.13},{"$f":"OFFSET(Composições!$A$1,MATCH(COUNTIF($H$1:$H58,\"Composições\"),Composições!$K:$K,0)-1,COLUMN(Banco!G$6)-1)","v":262.05},"Composições",null,{"$f":"OFFSET(Composições!$A$1,MATCH(COUNTIF($H$1:$H58,\"Composições\"),Composições!$K:$K,0)-1,COLUMN(Banco!J$6)+4)","v":4.0000000000000002E-4},{"$f":"OFFSET(Composições!$A$1,MATCH(COUNTIF($H$1:$H58,\"Composições\"),Composições!$K:$K,0)-1,COLUMN(Banco!K$6)+4)","v":4.0000000000000002E-4}]
["Composição ESQV.0034.01",{"$f":"OFFSET(Composições!$A$1,MATCH(COUNTIF($H$1:$H59,\"Composições\"),Composições!$K:$K,0)-1,COLUMN(Banco!B$6)-1)","v":"Composição"},{"$f":"OFFSET(Composições!$A$1,MATCH(COUNTIF($H$1:$H59,\"Composições\"),Composições!$K:$K,0)-1,COLUMN(Banco!C$6)-1)","v":"ESQV.0034.01"},{"$f":"IF(COUNTIF(OFFSET(Banco!$A$6,1,0,NCOMPOSICOES),$A59)>1,\"CÓDIGO REPETIDO\",OFFSET(Composições!$A$1,MATCH(COUNTIF($H$1:$H59,\"Composições\"),Composições!$K:$K,0)-1,COLUMN(Banco!D$6)-1))","v":"PORTAO EM TELA ARAME GALVANIZADO N.14 MALHA 5X5 CM E MOLDURA EM TUBOS DE ACO GALVANIZADO 3\", INCLUSO FERRAGENS, CONFORME PROJETO - FORNECIMENTO E INSTALAÇÃO"},{"$f":"OFFSET(Composições!$A$1,MATCH(COUNTIF($H$1:$H59,\"Composições\"),Composições!$K:$K,0)-1,COLUMN(Banco!E$6)-1)","v":"m²"},{"$f":"OFFSET(Composições!$A$1,MATCH(COUNTIF($H$1:$H59,\"Composições\"),Composições!$K:$K,0)-1,COLUMN(Banco!F$6)-1)","v":687.79000000000008},{"$f":"OFFSET(Composições!$A$1,MATCH(COUNTIF($H$1:$H59,\"Composições\"),Composições!$K:$K,0)-1,COLUMN(Banco!G$6)-1)","v":701.41},"Composições",null,{"$f":"OFFSET(Composições!$A$1,MATCH(COUNTIF($H$1:$H59,\"Composições\"),Composições!$K:$K,0)-1,COLUMN(Banco!J$6)+4)","v":0},{"$f":"OFFSET(Composições!$A$1,MATCH(COUNTIF($H$1:$H59,\"Composições\"),Composições!$K:$K,0)-1,COLUMN(Banco!K$6)+4)","v":0}]
["Composição SERP.0012.01",{"$f":"OFFSET(Composições!$A$1,MATCH(COUNTIF($H$1:$H60,\"Composições\"),Composições!$K:$K,0)-1,COLUMN(Banco!B$6)-1)","v":"Composição"},{"$f":"OFFSET(Composições!$A$1,MATCH(COUNTIF($H$1:$H60,\"Composições\"),Composições!$K:$K,0)-1,COLUMN(Banco!C$6)-1)","v":"SERP.0012.01"},{"$f":"IF(COUNTIF(OFFSET(Banco!$A$6,1,0,NCOMPOSICOES),$A60)>1,\"CÓDIGO REPETIDO\",OFFSET(Composições!$A$1,MATCH(COUNTIF($H$1:$H60,\"Composições\"),Composições!$K:$K,0)-1,COLUMN(Banco!D$6)-1))","v":"DEMOLIÇÃO DE MEIO FIO, COM CARGA DO ENTULHO EM CAMINHÃO"},{"$f":"OFFSET(Composições!$A$1,MATCH(COUNTIF($H$1:$H60,\"Composições\"),Composições!$K:$K,0)-1,COLUMN(Banco!E$6)-1)","v":"m"},{"$f":"OFFSET(Composições!$A$1,MATCH(COUNTIF($H$1:$H60,\"Composições\"),Composições!$K:$K,0)-1,COLUMN(Banco!F$6)-1)","v":12.02},{"$f":"OFFSET(Composições!$A$1,MATCH(COUNTIF($H$1:$H60,\"Composições\"),Composições!$K:$K,0)-1,COLUMN(Banco!G$6)-1)","v":12.96},"Composições",null,{"$f":"OFFSET(Composições!$A$1,MATCH(COUNTIF($H$1:$H60,\"Composições\"),Composições!$K:$K,0)-1,COLUMN(Banco!J$6)+4)","v":0},{"$f":"OFFSET(Composições!$A$1,MATCH(COUNTIF($H$1:$H60,\"Composições\"),Composições!$K:$K,0)-1,COLUMN(Banco!K$6)+4)","v":0}]
[{"$f":"CONCATENATE($B61,\" \",$C61)","v":"Composição SERP.0041.01"},{"$f":"OFFSET(Composições!$A$1,MATCH(COUNTIF($H$1:$H61,\"Composições\"),Composições!$K:$K,0)-1,COLUMN(Banco!B$6)-1)","v":"Composição"},{"$f":"OFFSET(Composições!$A$1,MATCH(COUNTIF($H$1:$H61,\"Composições\"),Composições!$K:$K,0)-1,COLUMN(Banco!C$6)-1)","v":"SERP.0041.01"},{"$f":"IF(COUNTIF(OFFSET(Banco!$A$6,1,0,NCOMPOSICOES),$A61)>1,\"CÓDIGO REPETIDO\",OFFSET(Composições!$A$1,MATCH(COUNTIF($H$1:$H61,\"Composições\"),Composições!$K:$K,0)-1,COLUMN(Banco!D$6)-1))","v":"DEMOLIÇÃO DE PISO EM CONCRETO (ARMADOS OU NÃO ARMADOS) ATÉ 15 CM DE ESPESSURA, COM RETROESCAVADEIRA"},{"$f":"OFFSET(Composições!$A$1,MATCH(COUNTIF($H$1:$H61,\"Composições\"),Composições!$K:$K,0)-1,COLUMN(Banco!E$6)-1)","v":"m²"},{"$f":"OFFSET(Composições!$A$1,MATCH(COUNTIF($H$1:$H61,\"Composições\"),Composições!$K:$K,0)-1,COLUMN(Banco!F$6)-1)","v":13.62},{"$f":"OFFSET(Composições!$A$1,MATCH(COUNTIF($H$1:$H61,\"Composições\"),Composições!$K:$K,0)-1,COLUMN(Banco!G$6)-1)","v":13.99},"Composições",null,{"$f":"OFFSET(Composições!$A$1,MATCH(COUNTIF($H$1:$H61,\"Composições\"),Composições!$K:$K,0)-1,COLUMN(Banco!J$6)+4)","v":0},{"$f":"OFFSET(Composições!$A$1,MATCH(COUNTIF($H$1:$H61,\"Composições\"),Composições!$K:$K,0)-1,COLUMN(Banco!K$6)+4)","v":0}]
["Composição PISO.0026.01",{"$f":"OFFSET(Composições!$A$1,MATCH(COUNTIF($H$1:$H62,\"Composições\"),Composições!$K:$K,0)-1,COLUMN(Banco!B$6)-1)","v":"Composição"},{"$f":"OFFSET(Composições!$A$1,MATCH(COUNTIF($H$1:$H62,\"Composições\"),Composições!$K:$K,0)-1,COLUMN(Banco!C$6)-1)","v":"PISO.0026.01"},{"$f":"IF(COUNTIF(OFFSET(Banco!$A$6,1,0,NCOMPOSICOES),$A62)>1,\"CÓDIGO REPETIDO\",OFFSET(Composições!$A$1,MATCH(COUNTIF($H$1:$H62,\"Composições\"),Composições!$K:$K,0)-1,COLUMN(Banco!D$6)-1))","v":"EXECUÇÃO DE PISO DE CONCRETO (fck 35MPA) COM CONCRETO USINADO, ACABAMENTO CONVENCIONAL, ESPESSURA 10 CM, ARMADO - FORNECIMENTO DE MATERIAL E EXECUÇÃO"},{"$f":"OFFSET(Composições!$A$1,MATCH(COUNTIF($H$1:$H62,\"Composições\"),Composições!$K:$K,0)-1,COLUMN(Banco!E$6)-1)","v":"m²"},{"$f":"OFFSET(Composições!$A$1,MATCH(COUNTIF($H$1:$H62,\"Composições\"),Composições!$K:$K,0)-1,COLUMN(Banco!F$6)-1)","v":134.81},{"$f":"OFFSET(Composições!$A$1,MATCH(COUNTIF($H$1:$H62,\"Composições\"),Composições!$K:$K,0)-1,COLUMN(Banco!G$6)-1)","v":137.59},"Composições",null,{"$f":"OFFSET(Composições!$A$1,MATCH(COUNTIF($H$1:$H62,\"Composições\"),Composições!$K:$K,0)-1,COLUMN(Banco!J$6)+4)","v":0},{"$f":"OFFSET(Composições!$A$1,MATCH(COUNTIF($H$1:$H62,\"Composições\"),Composições!$K:$K,0)-1,COLUMN(Banco!K$6)+4)","v":0}]
["Composição DROP.0021.01",{"$f":"OFFSET(Composições!$A$1,MATCH(COUNTIF($H$1:$H63,\"Composições\"),Composições!$K:$K,0)-1,COLUMN(Banco!B$6)-1)","v":"Composição"},{"$f":"OFFSET(Composições!$A$1,MATCH(COUNTIF($H$1:$H63,\"Composições\"),Composições!$K:$K,0)-1,COLUMN(Banco!C$6)-1)","v":"DROP.0021.01"},{"$f":"IF(COUNTIF(OFFSET(Banco!$A$6,1,0,NCOMPOSICOES),$A63)>1,\"CÓDIGO REPETIDO\",OFFSET(Composições!$A$1,MATCH(COUNTIF($H$1:$H63,\"Composições\"),Composições!$K:$K,0)-1,COLUMN(Banco!D$6)-1))","v":"RECOMPOSIÇÃO DE BOCA DE LOBO SIMPLES EXISTENTE EM ALVENARIA INCLUSIVE TROCA DA GUIA CHAPÉU E TAMPA DE CONCRETO ARMADO"},{"$f":"OFFSET(Composições!$A$1,MATCH(COUNTIF($H$1:$H63,\"Composições\"),Composições!$K:$K,0)-1,COLUMN(Banco!E$6)-1)","v":"UN"},{"$f":"OFFSET(Composições!$A$1,MATCH(COUNTIF($H$1:$H63,\"Composições\"),Composições!$K:$K,0)-1,COLUMN(Banco!F$6)-1)","v":376.78000000000003},{"$f":"OFFSET(Composições!$A$1,MATCH(COUNTIF($H$1:$H63,\"Composições\"),Composições!$K:$K,0)-1,COLUMN(Banco!G$6)-1)","v":395.71999999999997},"Composições",null,{"$f":"OFFSET(Composições!$A$1,MATCH(COUNTIF($H$1:$H63,\"Composições\"),Composições!$K:$K,0)-1,COLUMN(Banco!J$6)+4)","v":6.1000000000000004E-3},{"$f":"OFFSET(Composições!$A$1,MATCH(COUNTIF($H$1:$H63,\"Composições\"),Composições!$K:$K,0)-1,COLUMN(Banco!K$6)+4)","v":5.7999999999999996E-3}]
["Composição FUES.0132.01",{"$f":"OFFSET(Composições!$A$1,MATCH(COUNTIF($H$1:$H64,\"Composições\"),Composições!$K:$K,0)-1,COLUMN(Banco!B$6)-1)","v":"Composição"},{"$f":"OFFSET(Composições!$A$1,MATCH(COUNTIF($H$1:$H64,\"Composições\"),Composições!$K:$K,0)-1,COLUMN(Banco!C$6)-1)","v":"FUES.0132.01"},{"$f":"IF(COUNTIF(OFFSET(Banco!$A$6,1,0,NCOMPOSICOES),$A64)>1,\"CÓDIGO REPETIDO\",OFFSET(Composições!$A$1,MATCH(COUNTIF($H$1:$H64,\"Composições\"),Composições!$K:$K,0)-1,COLUMN(Banco!D$6)-1))","v":"BENEFICIAMENTO DE ESTRUTURA TRELIÇADA DE COBERTURA, COM LIGAÇÕES SOLDADAS, EXCLUSIVE SOLDA."},{"$f":"OFFSET(Composições!$A$1,MATCH(COUNTIF($H$1:$H64,\"Composições\"),Composições!$K:$K,0)-1,COLUMN(Banco!E$6)-1)","v":"M"},{"$f":"OFFSET(Composições!$A$1,MATCH(COUNTIF($H$1:$H64,\"Composições\"),Composições!$K:$K,0)-1,COLUMN(Banco!F$6)-1)","v":8.2900000000000009},{"$f":"OFFSET(Composições!$A$1,MATCH(COUNTIF($H$1:$H64,\"Composições\"),Composições!$K:$K,0)-1,COLUMN(Banco!G$6)-1)","v":8.9999999999999982},"Composições",null,{"$f":"OFFSET(Composições!$A$1,MATCH(COUNTIF($H$1:$H64,\"Composições\"),Composições!$K:$K,0)-1,COLUMN(Banco!J$6)+4)","v":0},{"$f":"OFFSET(Composições!$A$1,MATCH(COUNTIF($H$1:$H64,\"Composições\"),Composições!$K:$K,0)-1,COLUMN(Banco!K$6)+4)","v":0}]
["Composição INEL.0440.17",{"$f":"OFFSET(Composições!$A$1,MATCH(COUNTIF($H$1:$H65,\"Composições\"),Composições!$K:$K,0)-1,COLUMN(Banco!B$6)-1)","v":"Composição"},{"$f":"OFFSET(Composições!$A$1,MATCH(COUNTIF($H$1:$H65,\"Composições\"),Composições!$K:$K,0)-1,COLUMN(Banco!C$6)-1)","v":"INEL.0440.17"},{"$f":"IF(COUNTIF(OFFSET(Banco!$A$6,1,0,NCOMPOSICOES),$A65)>1,\"CÓDIGO REPETIDO\",OFFSET(Composições!$A$1,MATCH(COUNTIF($H$1:$H65,\"Composições\"),Composições!$K:$K,0)-1,COLUMN(Banco!D$6)-1))","v":"CANTONEIRA ZZ ALTA 38X38MM - APENAS INSUMO"},{"$f":"OFFSET(Composições!$A$1,MATCH(COUNTIF($H$1:$H65,\"Composições\"),Composições!$K:$K,0)-1,COLUMN(Banco!E$6)-1)","v":"UN"},{"$f":"OFFSET(Composições!$A$1,MATCH(COUNTIF($H$1:$H65,\"Composições\"),Composições!$K:$K,0)-1,COLUMN(Banco!F$6)-1)","v":2.39},{"$f":"OFFSET(Composições!$A$1,MATCH(COUNTIF($H$1:$H65,\"Composições\"),Composições!$K:$K,0)-1,COLUMN(Banco!G$6)-1)","v":2.39},"Composições",null,{"$f":"OFFSET(Composições!$A$1,MATCH(COUNTIF($H$1:$H65,\"Composições\"),Composições!$K:$K,0)-1,COLUMN(Banco!J$6)+4)","v":0},{"$f":"OFFSET(Composições!$A$1,MATCH(COUNTIF($H$1:$H65,\"Composições\"),Composições!$K:$K,0)-1,COLUMN(Banco!K$6)+4)","v":0}]
["Composição INEL.0516.03",{"$f":"OFFSET(Composições!$A$1,MATCH(COUNTIF($H$1:$H66,\"Composições\"),Composições!$K:$K,0)-1,COLUMN(Banco!B$6)-1)","v":"Composição"},{"$f":"OFFSET(Composições!$A$1,MATCH(COUNTIF($H$1:$H66,\"Composições\"),Composições!$K:$K,0)-1,COLUMN(Banco!C$6)-1)","v":"INEL.0516.03"},{"$f":"IF(COUNTIF(OFFSET(Banco!$A$6,1,0,NCOMPOSICOES),$A66)>1,\"CÓDIGO REPETIDO\",OFFSET(Composições!$A$1,MATCH(COUNTIF($H$1:$H66,\"Composições\"),Composições!$K:$K,0)-1,COLUMN(Banco!D$6)-1))","v":"ELETROCALHA PERFURADA TIPO U, EM CHAPA DE ACO GALVANIZADO GSG 18, SEM TAMPA, DE 100 X 50 MM - APENAS INSUMO"},{"$f":"OFFSET(Composições!$A$1,MATCH(COUNTIF($H$1:$H66,\"Composições\"),Composições!$K:$K,0)-1,COLUMN(Banco!E$6)-1)","v":"M"},{"$f":"OFFSET(Composições!$A$1,MATCH(COUNTIF($H$1:$H66,\"Composições\"),Composições!$K:$K,0)-1,COLUMN(Banco!F$6)-1)","v":50.31},{"$f":"OFFSET(Composições!$A$1,MATCH(COUNTIF($H$1:$H66,\"Composições\"),Composições!$K:$K,0)-1,COLUMN(Banco!G$6)-1)","v":50.31},"Composições",null,{"$f":"OFFSET(Composições!$A$1,MATCH(COUNTIF($H$1:$H66,\"Composições\"),Composições!$K:$K,0)-1,COLUMN(Banco!J$6)+4)","v":0},{"$f":"OFFSET(Composições!$A$1,MATCH(COUNTIF($H$1:$H66,\"Composições\"),Composições!$K:$K,0)-1,COLUMN(Banco!K$6)+4)","v":0}]
["Composição INEL.0466.03",{"$f":"OFFSET(Composições!$A$1,MATCH(COUNTIF($H$1:$H67,\"Composições\"),Composições!$K:$K,0)-1,COLUMN(Banco!B$6)-1)","v":"Composição"},{"$f":"OFFSET(Composições!$A$1,MATCH(COUNTIF($H$1:$H67,\"Composições\"),Composições!$K:$K,0)-1,COLUMN(Banco!C$6)-1)","v":"INEL.0466.03"},{"$f":"IF(COUNTIF(OFFSET(Banco!$A$6,1,0,NCOMPOSICOES),$A67)>1,\"CÓDIGO REPETIDO\",OFFSET(Composições!$A$1,MATCH(COUNTIF($H$1:$H67,\"Composições\"),Composições!$K:$K,0)-1,COLUMN(Banco!D$6)-1))","v":"EMENDA PARA ELETROCALHA, LISA OU PERFURADA EM AÇO GALVANIZADO, LARGURA 100MM E ALTURA 50MM - APENAS INSUMO"},{"$f":"OFFSET(Composições!$A$1,MATCH(COUNTIF($H$1:$H67,\"Composições\"),Composições!$K:$K,0)-1,COLUMN(Banco!E$6)-1)","v":"UN"},{"$f":"OFFSET(Composições!$A$1,MATCH(COUNTIF($H$1:$H67,\"Composições\"),Composições!$K:$K,0)-1,COLUMN(Banco!F$6)-1)","v":3.64},{"$f":"OFFSET(Composições!$A$1,MATCH(COUNTIF($H$1:$H67,\"Composições\"),Composições!$K:$K,0)-1,COLUMN(Banco!G$6)-1)","v":3.64},"Composições",null,{"$f":"OFFSET(Composições!$A$1,MATCH(COUNTIF($H$1:$H67,\"Composições\"),Composições!$K:$K,0)-1,COLUMN(Banco!J$6)+4)","v":0},{"$f":"OFFSET(Composições!$A$1,MATCH(COUNTIF($H$1:$H67,\"Composições\"),Composições!$K:$K,0)-1,COLUMN(Banco!K$6)+4)","v":0}]
["Composição INEL.0471.03",{"$f":"OFFSET(Composições!$A$1,MATCH(COUNTIF($H$1:$H68,\"Composições\"),Composições!$K:$K,0)-1,COLUMN(Banco!B$6)-1)","v":"Composição"},{"$f":"OFFSET(Composições!$A$1,MATCH(COUNTIF($H$1:$H68,\"Composições\"),Composições!$K:$K,0)-1,COLUMN(Banco!C$6)-1)","v":"INEL.0471.03"},{"$f":"IF(COUNTIF(OFFSET(Banco!$A$6,1,0,NCOMPOSICOES),$A68)>1,\"CÓDIGO REPETIDO\",OFFSET(Composições!$A$1,MATCH(COUNTIF($H$1:$H68,\"Composições\"),Composições!$K:$K,0)-1,COLUMN(Banco!D$6)-1))","v":"EMENDA PARA ELETROCALHA, LISA OU PERFURADA EM AÇO GALVANIZADO, LARGURA 100MM E ALTURA 50MM - FORNECIMENTO E INSTALAÇÃO."},{"$f":"OFFSET(Composições!$A$1,MATCH(COUNTIF($H$1:$H68,\"Composições\"),Composições!$K:$K,0)-1,COLUMN(Banco!E$6)-1)","v":"UN"},{"$f":"OFFSET(Composições!$A$1,MATCH(COUNTIF($H$1:$H68,\"Composições\"),Composições!$K:$K,0)-1,COLUMN(Banco!F$6)-1)","v":28.59},{"$f":"OFFSET(Composições!$A$1,MATCH(COUNTIF($H$1:$H68,\"Composições\"),Composições!$K:$K,0)-1,COLUMN(Banco!G$6)-1)","v":30.1},"Composições",null,{"$f":"OFFSET(Composições!$A$1,MATCH(COUNTIF($H$1:$H68,\"Composições\"),Composições!$K:$K,0)-1,COLUMN(Banco!J$6)+4)","v":0},{"$f":"OFFSET(Composições!$A$1,MATCH(COUNTIF($H$1:$H68,\"Composições\"),Composições!$K:$K,0)-1,COLUMN(Banco!K$6)+4)","v":0}]
["Composição FUES.0065.01",{"$f":"OFFSET(Composições!$A$1,MATCH(COUNTIF($H$1:$H69,\"Composições\"),Composições!$K:$K,0)-1,COLUMN(Banco!B$6)-1)","v":"Composição"},{"$f":"OFFSET(Composições!$A$1,MATCH(COUNTIF($H$1:$H69,\"Composições\"),Composições!$K:$K,0)-1,COLUMN(Banco!C$6)-1)","v":"FUES.0065.01"},{"$f":"IF(COUNTIF(OFFSET(Banco!$A$6,1,0,NCOMPOSICOES),$A69)>1,\"CÓDIGO REPETIDO\",OFFSET(Composições!$A$1,MATCH(COUNTIF($H$1:$H69,\"Composições\"),Composições!$K:$K,0)-1,COLUMN(Banco!D$6)-1))","v":"ESTACA BROCA DE CONCRETO, DIÂMETRO DE 25CM, ESCAVAÇÃO MANUAL COM TRADO CONCHA, EXCETO ARMADURA"},{"$f":"OFFSET(Composições!$A$1,MATCH(COUNTIF($H$1:$H69,\"Composições\"),Composições!$K:$K,0)-1,COLUMN(Banco!E$6)-1)","v":"M"},{"$f":"OFFSET(Composições!$A$1,MATCH(COUNTIF($H$1:$H69,\"Composições\"),Composições!$K:$K,0)-1,COLUMN(Banco!F$6)-1)","v":81.69},{"$f":"OFFSET(Composições!$A$1,MATCH(COUNTIF($H$1:$H69,\"Composições\"),Composições!$K:$K,0)-1,COLUMN(Banco!G$6)-1)","v":86.53},"Composições",null,{"$f":"OFFSET(Composições!$A$1,MATCH(COUNTIF($H$1:$H69,\"Composições\"),Composições!$K:$K,0)-1,COLUMN(Banco!J$6)+4)","v":0},{"$f":"OFFSET(Composições!$A$1,MATCH(COUNTIF($H$1:$H69,\"Composições\"),Composições!$K:$K,0)-1,COLUMN(Banco!K$6)+4)","v":0}]
["Composição INHI.0216.01",{"$f":"OFFSET(Composições!$A$1,MATCH(COUNTIF($H$1:$H70,\"Composições\"),Composições!$K:$K,0)-1,COLUMN(Banco!B$6)-1)","v":"Composição"},{"$f":"OFFSET(Composições!$A$1,MATCH(COUNTIF($H$1:$H70,\"Composições\"),Composições!$K:$K,0)-1,COLUMN(Banco!C$6)-1)","v":"INHI.0216.01"},{"$f":"IF(COUNTIF(OFFSET(Banco!$A$6,1,0,NCOMPOSICOES),$A70)>1,\"CÓDIGO REPETIDO\",OFFSET(Composições!$A$1,MATCH(COUNTIF($H$1:$H70,\"Composições\"),Composições!$K:$K,0)-1,COLUMN(Banco!D$6)-1))","v":"FIXAÇÃO UTILIZANDO PARAFUSO E BUCHA DE NYLON, SOMENTE MÃO DE OBRA"},{"$f":"OFFSET(Composições!$A$1,MATCH(COUNTIF($H$1:$H70,\"Composições\"),Composições!$K:$K,0)-1,COLUMN(Banco!E$6)-1)","v":"UN"},{"$f":"OFFSET(Composições!$A$1,MATCH(COUNTIF($H$1:$H70,\"Composições\"),Composições!$K:$K,0)-1,COLUMN(Banco!F$6)-1)","v":6.01},{"$f":"OFFSET(Composições!$A$1,MATCH(COUNTIF($H$1:$H70,\"Composições\"),Composições!$K:$K,0)-1,COLUMN(Banco!G$6)-1)","v":6.53},"Composições",null,{"$f":"OFFSET(Composições!$A$1,MATCH(COUNTIF($H$1:$H70,\"Composições\"),Composições!$K:$K,0)-1,COLUMN(Banco!J$6)+4)","v":0},{"$f":"OFFSET(Composições!$A$1,MATCH(COUNTIF($H$1:$H70,\"Composições\"),Composições!$K:$K,0)-1,COLUMN(Banco!K$6)+4)","v":0}]
["Composição DROP.0009.01",{"$f":"OFFSET(Composições!$A$1,MATCH(COUNTIF($H$1:$H71,\"Composições\"),Composições!$K:$K,0)-1,COLUMN(Banco!B$6)-1)","v":"Composição"},{"$f":"OFFSET(Composições!$A$1,MATCH(COUNTIF($H$1:$H71,\"Composições\"),Composições!$K:$K,0)-1,COLUMN(Banco!C$6)-1)","v":"DROP.0009.01"},{"$f":"IF(COUNTIF(OFFSET(Banco!$A$6,1,0,NCOMPOSICOES),$A71)>1,\"CÓDIGO REPETIDO\",OFFSET(Composições!$A$1,MATCH(COUNTIF($H$1:$H71,\"Composições\"),Composições!$K:$K,0)-1,COLUMN(Banco!D$6)-1))","v":"GUIA CHAPÉU EM CONCRETO FCK=20MPA 1,20 X 0,30 X 0,19M - FORNECIMENTO E INSTALAÇÃO"},{"$f":"OFFSET(Composições!$A$1,MATCH(COUNTIF($H$1:$H71,\"Composições\"),Composições!$K:$K,0)-1,COLUMN(Banco!E$6)-1)","v":"UN"},{"$f":"OFFSET(Composições!$A$1,MATCH(COUNTIF($H$1:$H71,\"Composições\"),Composições!$K:$K,0)-1,COLUMN(Banco!F$6)-1)","v":121.98},{"$f":"OFFSET(Composições!$A$1,MATCH(COUNTIF($H$1:$H71,\"Composições\"),Composições!$K:$K,0)-1,COLUMN(Banco!G$6)-1)","v":126.94},"Composições",null,{"$f":"OFFSET(Composições!$A$1,MATCH(COUNTIF($H$1:$H71,\"Composições\"),Composições!$K:$K,0)-1,COLUMN(Banco!J$6)+4)","v":5.0000000000000001E-4},{"$f":"OFFSET(Composições!$A$1,MATCH(COUNTIF($H$1:$H71,\"Composições\"),Composições!$K:$K,0)-1,COLUMN(Banco!K$6)+4)","v":5.0000000000000001E-4}]
["Composição FUES.0052.01",{"$f":"OFFSET(Composições!$A$1,MATCH(COUNTIF($H$1:$H72,\"Composições\"),Composições!$K:$K,0)-1,COLUMN(Banco!B$6)-1)","v":"Composição"},{"$f":"OFFSET(Composições!$A$1,MATCH(COUNTIF($H$1:$H72,\"Composições\"),Composições!$K:$K,0)-1,COLUMN(Banco!C$6)-1)","v":"FUES.0052.01"},{"$f":"IF(COUNTIF(OFFSET(Banco!$A$6,1,0,NCOMPOSICOES),$A72)>1,\"CÓDIGO REPETIDO\",OFFSET(Composições!$A$1,MATCH(COUNTIF($H$1:$H72,\"Composições\"),Composições!$K:$K,0)-1,COLUMN(Banco!D$6)-1))","v":"MURETA EM ALVENARIA PARA ENTRADA DE ENERGIA ELÉTRICA, COM DIMENSÕES 2,55 X 1,85 M E ESPESSURA DE 30CM, EXECUTADO CONFORME PROJETO, INCLUSIVE FUNDAÇÕES, ESTRUTURAS E ACABAMENTOS (REBOCO, PINTURA E DETALHES) - FORNECIMENTO E EXECUÇÃO"},{"$f":"OFFSET(Composições!$A$1,MATCH(COUNTIF($H$1:$H72,\"Composições\"),Composições!$K:$K,0)-1,COLUMN(Banco!E$6)-1)","v":"UN"},{"$f":"OFFSET(Composições!$A$1,MATCH(COUNTIF($H$1:$H72,\"Composições\"),Composições!$K:$K,0)-1,COLUMN(Banco!F$6)-1)","v":3218.65},{"$f":"OFFSET(Composições!$A$1,MATCH(COUNTIF($H$1:$H72,\"Composições\"),Composições!$K:$K,0)-1,COLUMN(Banco!G$6)-1)","v":3374.76},"Composições",null,{"$f":"OFFSET(Composições!$A$1,MATCH(COUNTIF($H$1:$H72,\"Composições\"),Composições!$K:$K,0)-1,COLUMN(Banco!J$6)+4)","v":2.5000000000000001E-3},{"$f":"OFFSET(Composições!$A$1,MATCH(COUNTIF($H$1:$H72,\"Composições\"),Composições!$K:$K,0)-1,COLUMN(Banco!K$6)+4)","v":2.3999999999999998E-3}]
["Composição ESQV.0029.01",{"$f":"OFFSET(Composições!$A$1,MATCH(COUNTIF($H$1:$H73,\"Composições\"),Composições!$K:$K,0)-1,COLUMN(Banco!B$6)-1)","v":"Composição"},{"$f":"OFFSET(Composições!$A$1,MATCH(COUNTIF($H$1:$H73,\"Composições\"),Composições!$K:$K,0)-1,COLUMN(Banco!C$6)-1)","v":"ESQV.0029.01"},{"$f":"IF(COUNTIF(OFFSET(Banco!$A$6,1,0,NCOMPOSICOES),$A73)>1,\"CÓDIGO REPETIDO\",OFFSET(Composições!$A$1,MATCH(COUNTIF($H$1:$H73,\"Composições\"),Composições!$K:$K,0)-1,COLUMN(Banco!D$6)-1))","v":"PORTÃO COM QUADRO DE CANTONEIRA EM AÇO GALVANIZADO 1''X1/8'' E FECHAMENTO TELA DE ARAME GALVANIZADO ONDULADA MALHA 5X5 CM FIO 2,77MM – FORNECIMENTO E INSTALAÇÃO"},{"$f":"OFFSET(Composições!$A$1,MATCH(COUNTIF($H$1:$H73,\"Composições\"),Composições!$K:$K,0)-1,COLUMN(Banco!E$6)-1)","v":"m²"},{"$f":"OFFSET(Composições!$A$1,MATCH(COUNTIF($H$1:$H73,\"Composições\"),Composições!$K:$K,0)-1,COLUMN(Banco!F$6)-1)","v":645.97000000000014},{"$f":"OFFSET(Composições!$A$1,MATCH(COUNTIF($H$1:$H73,\"Composições\"),Composições!$K:$K,0)-1,COLUMN(Banco!G$6)-1)","v":674.58},"Composições",null,{"$f":"OFFSET(Composições!$A$1,MATCH(COUNTIF($H$1:$H73,\"Composições\"),Composições!$K:$K,0)-1,COLUMN(Banco!J$6)+4)","v":0},{"$f":"OFFSET(Composições!$A$1,MATCH(COUNTIF($H$1:$H73,\"Composições\"),Composições!$K:$K,0)-1,COLUMN(Banco!K$6)+4)","v":0}]
["Composição INEL.0441.01",{"$f":"OFFSET(Composições!$A$1,MATCH(COUNTIF($H$1:$H74,\"Composições\"),Composições!$K:$K,0)-1,COLUMN(Banco!B$6)-1)","v":"Composição"},{"$f":"OFFSET(Composições!$A$1,MATCH(COUNTIF($H$1:$H74,\"Composições\"),Composições!$K:$K,0)-1,COLUMN(Banco!C$6)-1)","v":"INEL.0441.01"},{"$f":"IF(COUNTIF(OFFSET(Banco!$A$6,1,0,NCOMPOSICOES),$A74)>1,\"CÓDIGO REPETIDO\",OFFSET(Composições!$A$1,MATCH(COUNTIF($H$1:$H74,\"Composições\"),Composições!$K:$K,0)-1,COLUMN(Banco!D$6)-1))","v":"SUPORTE PARA FIXAÇÃO DE ELETROCALHA LISA OU PERFURADA COM LARGURA DE ATÉ 200MM E ALTURA DE ATÉ 100MM, POR METRO DE ELETROCALHA FIXADA - FORNECIMENTO E INSTALAÇÃO"},{"$f":"OFFSET(Composições!$A$1,MATCH(COUNTIF($H$1:$H74,\"Composições\"),Composições!$K:$K,0)-1,COLUMN(Banco!E$6)-1)","v":"M"},{"$f":"OFFSET(Composições!$A$1,MATCH(COUNTIF($H$1:$H74,\"Composições\"),Composições!$K:$K,0)-1,COLUMN(Banco!F$6)-1)","v":36.880000000000003},{"$f":"OFFSET(Composições!$A$1,MATCH(COUNTIF($H$1:$H74,\"Composições\"),Composições!$K:$K,0)-1,COLUMN(Banco!G$6)-1)","v":38.840000000000003},"Composições",null,{"$f":"OFFSET(Composições!$A$1,MATCH(COUNTIF($H$1:$H74,\"Composições\"),Composições!$K:$K,0)-1,COLUMN(Banco!J$6)+4)","v":0},{"$f":"OFFSET(Composições!$A$1,MATCH(COUNTIF($H$1:$H74,\"Composições\"),Composições!$K:$K,0)-1,COLUMN(Banco!K$6)+4)","v":0}]
["Composição INEL.0440.12",{"$f":"OFFSET(Composições!$A$1,MATCH(COUNTIF($H$1:$H75,\"Composições\"),Composições!$K:$K,0)-1,COLUMN(Banco!B$6)-1)","v":"Composição"},{"$f":"OFFSET(Composições!$A$1,MATCH(COUNTIF($H$1:$H75,\"Composições\"),Composições!$K:$K,0)-1,COLUMN(Banco!C$6)-1)","v":"INEL.0440.12"},{"$f":"IF(COUNTIF(OFFSET(Banco!$A$6,1,0,NCOMPOSICOES),$A75)>1,\"CÓDIGO REPETIDO\",OFFSET(Composições!$A$1,MATCH(COUNTIF($H$1:$H75,\"Composições\"),Composições!$K:$K,0)-1,COLUMN(Banco!D$6)-1))","v":"SUPORTE VERTICAL (IGREJINHA) PARA ELETROCALHA 200X100 - APENAS INSUMO"},{"$f":"OFFSET(Composições!$A$1,MATCH(COUNTIF($H$1:$H75,\"Composições\"),Composições!$K:$K,0)-1,COLUMN(Banco!E$6)-1)","v":"UN"},{"$f":"OFFSET(Composições!$A$1,MATCH(COUNTIF($H$1:$H75,\"Composições\"),Composições!$K:$K,0)-1,COLUMN(Banco!F$6)-1)","v":7.9},{"$f":"OFFSET(Composições!$A$1,MATCH(COUNTIF($H$1:$H75,\"Composições\"),Composições!$K:$K,0)-1,COLUMN(Banco!G$6)-1)","v":7.9},"Composições",null,{"$f":"OFFSET(Composições!$A$1,MATCH(COUNTIF($H$1:$H75,\"Composições\"),Composições!$K:$K,0)-1,COLUMN(Banco!J$6)+4)","v":0},{"$f":"OFFSET(Composições!$A$1,MATCH(COUNTIF($H$1:$H75,\"Composições\"),Composições!$K:$K,0)-1,COLUMN(Banco!K$6)+4)","v":0}]
["Composição INEL.0312.12",{"$f":"OFFSET(Composições!$A$1,MATCH(COUNTIF($H$1:$H76,\"Composições\"),Composições!$K:$K,0)-1,COLUMN(Banco!B$6)-1)","v":"Composição"},{"$f":"OFFSET(Composições!$A$1,MATCH(COUNTIF($H$1:$H76,\"Composições\"),Composições!$K:$K,0)-1,COLUMN(Banco!C$6)-1)","v":"INEL.0312.12"},{"$f":"IF(COUNTIF(OFFSET(Banco!$A$6,1,0,NCOMPOSICOES),$A76)>1,\"CÓDIGO REPETIDO\",OFFSET(Composições!$A$1,MATCH(COUNTIF($H$1:$H76,\"Composições\"),Composições!$K:$K,0)-1,COLUMN(Banco!D$6)-1))","v":"SUPORTE VERTICAL PARA SUSPENSÃO DE ELETROCALHA 200X100MM COM PARAFUSOS DE FIXAÇÃO, INCLUSIVE CANTONEIRA ZZ E BARRA ROSCADA . - FORNECIMENTO E INSTALAÇÃO."},{"$f":"OFFSET(Composições!$A$1,MATCH(COUNTIF($H$1:$H76,\"Composições\"),Composições!$K:$K,0)-1,COLUMN(Banco!E$6)-1)","v":"UND."},{"$f":"OFFSET(Composições!$A$1,MATCH(COUNTIF($H$1:$H76,\"Composições\"),Composições!$K:$K,0)-1,COLUMN(Banco!F$6)-1)","v":44.260000000000005},{"$f":"OFFSET(Composições!$A$1,MATCH(COUNTIF($H$1:$H76,\"Composições\"),Composições!$K:$K,0)-1,COLUMN(Banco!G$6)-1)","v":46.61},"Composições",null,{"$f":"OFFSET(Composições!$A$1,MATCH(COUNTIF($H$1:$H76,\"Composições\"),Composições!$K:$K,0)-1,COLUMN(Banco!J$6)+4)","v":0},{"$f":"OFFSET(Composições!$A$1,MATCH(COUNTIF($H$1:$H76,\"Composições\"),Composições!$K:$K,0)-1,COLUMN(Banco!K$6)+4)","v":0}]
["Composição INHI.0016.01",{"$f":"OFFSET(Composições!$A$1,MATCH(COUNTIF($H$1:$H77,\"Composições\"),Composições!$K:$K,0)-1,COLUMN(Banco!B$6)-1)","v":"Composição"},{"$f":"OFFSET(Composições!$A$1,MATCH(COUNTIF($H$1:$H77,\"Composições\"),Composições!$K:$K,0)-1,COLUMN(Banco!C$6)-1)","v":"INHI.0016.01"},{"$f":"IF(COUNTIF(OFFSET(Banco!$A$6,1,0,NCOMPOSICOES),$A77)>1,\"CÓDIGO REPETIDO\",OFFSET(Composições!$A$1,MATCH(COUNTIF($H$1:$H77,\"Composições\"),Composições!$K:$K,0)-1,COLUMN(Banco!D$6)-1))","v":"VÁLVULA EM METAL CROMADO 1\" PARA TANQUE OU LAVATÓRIO, COM OU SEM LADRÃO - FORNECIMENTO E INSTALAÇÃO."},{"$f":"OFFSET(Composições!$A$1,MATCH(COUNTIF($H$1:$H77,\"Composições\"),Composições!$K:$K,0)-1,COLUMN(Banco!E$6)-1)","v":"UN"},{"$f":"OFFSET(Composições!$A$1,MATCH(COUNTIF($H$1:$H77,\"Composições\"),Composições!$K:$K,0)-1,COLUMN(Banco!F$6)-1)","v":74.650000000000006},{"$f":"OFFSET(Composições!$A$1,MATCH(COUNTIF($H$1:$H77,\"Composições\"),Composições!$K:$K,0)-1,COLUMN(Banco!G$6)-1)","v":75.260000000000005},"Composições",null,{"$f":"OFFSET(Composições!$A$1,MATCH(COUNTIF($H$1:$H77,\"Composições\"),Composições!$K:$K,0)-1,COLUMN(Banco!J$6)+4)","v":0},{"$f":"OFFSET(Composições!$A$1,MATCH(COUNTIF($H$1:$H77,\"Composições\"),Composições!$K:$K,0)-1,COLUMN(Banco!K$6)+4)","v":0}]
["Composição ESQV.0081.01",{"$f":"OFFSET(Composições!$A$1,MATCH(COUNTIF($H$1:$H78,\"Composições\"),Composições!$K:$K,0)-1,COLUMN(Banco!B$6)-1)","v":"Composição"},{"$f":"OFFSET(Composições!$A$1,MATCH(COUNTIF($H$1:$H78,\"Composições\"),Composições!$K:$K,0)-1,COLUMN(Banco!C$6)-1)","v":"ESQV.0081.01"},{"$f":"IF(COUNTIF(OFFSET(Banco!$A$6,1,0,NCOMPOSICOES),$A78)>1,\"CÓDIGO REPETIDO\",OFFSET(Composições!$A$1,MATCH(COUNTIF($H$1:$H78,\"Composições\"),Composições!$K:$K,0)-1,COLUMN(Banco!D$6)-1))","v":"ESPELHO CRISTAL, ESPESSURA 4MM, COM PARAFUSOS DE FIXACAO, SEM MOLDURA - FORNECIMENTO E INSTALAÇÃO"},{"$f":"OFFSET(Composições!$A$1,MATCH(COUNTIF($H$1:$H78,\"Composições\"),Composições!$K:$K,0)-1,COLUMN(Banco!E$6)-1)","v":"M2"},{"$f":"OFFSET(Composições!$A$1,MATCH(COUNTIF($H$1:$H78,\"Composições\"),Composições!$K:$K,0)-1,COLUMN(Banco!F$6)-1)","v":504.77},{"$f":"OFFSET(Composições!$A$1,MATCH(COUNTIF($H$1:$H78,\"Composições\"),Composições!$K:$K,0)-1,COLUMN(Banco!G$6)-1)","v":511.48999999999995},"Composições",null,{"$f":"OFFSET(Composições!$A$1,MATCH(COUNTIF($H$1:$H78,\"Composições\"),Composições!$K:$K,0)-1,COLUMN(Banco!J$6)+4)","v":0},{"$f":"OFFSET(Composições!$A$1,MATCH(COUNTIF($H$1:$H78,\"Composições\"),Composições!$K:$K,0)-1,COLUMN(Banco!K$6)+4)","v":0}]
["Composição INHI.0241.01",{"$f":"OFFSET(Composições!$A$1,MATCH(COUNTIF($H$1:$H79,\"Composições\"),Composições!$K:$K,0)-1,COLUMN(Banco!B$6)-1)","v":"Composição"},{"$f":"OFFSET(Composições!$A$1,MATCH(COUNTIF($H$1:$H79,\"Composições\"),Composições!$K:$K,0)-1,COLUMN(Banco!C$6)-1)","v":"INHI.0241.01"},{"$f":"IF(COUNTIF(OFFSET(Banco!$A$6,1,0,NCOMPOSICOES),$A79)>1,\"CÓDIGO REPETIDO\",OFFSET(Composições!$A$1,MATCH(COUNTIF($H$1:$H79,\"Composições\"),Composições!$K:$K,0)-1,COLUMN(Banco!D$6)-1))","v":"(COMPOSIÇÃO REPRESENTATIVA) DO SERVIÇO DE INSTALAÇÃO DE TUBOS DE PVC, SÉRIE R, ÁGUA PLUVIAL, DN 150 MM (INSTALADO EM CONDUTORES VERTICAIS), INCLUSIVE CONEXÕES, CORTES E FIXAÇÕES, PARA PRÉDIOS."},{"$f":"OFFSET(Composições!$A$1,MATCH(COUNTIF($H$1:$H79,\"Composições\"),Composições!$K:$K,0)-1,COLUMN(Banco!E$6)-1)","v":"M"},{"$f":"OFFSET(Composições!$A$1,MATCH(COUNTIF($H$1:$H79,\"Composições\"),Composições!$K:$K,0)-1,COLUMN(Banco!F$6)-1)","v":74.78},{"$f":"OFFSET(Composições!$A$1,MATCH(COUNTIF($H$1:$H79,\"Composições\"),Composições!$K:$K,0)-1,COLUMN(Banco!G$6)-1)","v":75.69},"Composições",null,{"$f":"OFFSET(Composições!$A$1,MATCH(COUNTIF($H$1:$H79,\"Composições\"),Composições!$K:$K,0)-1,COLUMN(Banco!J$6)+4)","v":6.9999999999999999E-4},{"$f":"OFFSET(Composições!$A$1,MATCH(COUNTIF($H$1:$H79,\"Composições\"),Composições!$K:$K,0)-1,COLUMN(Banco!K$6)+4)","v":6.9999999999999999E-4}]
["Composição CANT.0005.01",{"$f":"OFFSET(Composições!$A$1,MATCH(COUNTIF($H$1:$H80,\"Composições\"),Composições!$K:$K,0)-1,COLUMN(Banco!B$6)-1)","v":"Composição"},{"$f":"OFFSET(Composições!$A$1,MATCH(COUNTIF($H$1:$H80,\"Composições\"),Composições!$K:$K,0)-1,COLUMN(Banco!C$6)-1)","v":"CANT.0005.01"},{"$f":"IF(COUNTIF(OFFSET(Banco!$A$6,1,0,NCOMPOSICOES),$A80)>1,\"CÓDIGO REPETIDO\",OFFSET(Composições!$A$1,MATCH(COUNTIF($H$1:$H80,\"Composições\"),Composições!$K:$K,0)-1,COLUMN(Banco!D$6)-1))","v":"LOCACAO DE CONTAINER COM 1 SANITARIO, PARA ESCRITORIO, COMPLETO, SEM DIVISORIAS INTERNAS (INCLUSIVE MOBILIZAÇÃO E DESMOBILIZAÇÃO)"},{"$f":"OFFSET(Composições!$A$1,MATCH(COUNTIF($H$1:$H80,\"Composições\"),Composições!$K:$K,0)-1,COLUMN(Banco!E$6)-1)","v":"MÊS"},{"$f":"OFFSET(Composições!$A$1,MATCH(COUNTIF($H$1:$H80,\"Composições\"),Composições!$K:$K,0)-1,COLUMN(Banco!F$6)-1)","v":754.05000000000007},{"$f":"OFFSET(Composições!$A$1,MATCH(COUNTIF($H$1:$H80,\"Composições\"),Composições!$K:$K,0)-1,COLUMN(Banco!G$6)-1)","v":754.88},"Composições",null,{"$f":"OFFSET(Composições!$A$1,MATCH(COUNTIF($H$1:$H80,\"Composições\"),Composições!$K:$K,0)-1,COLUMN(Banco!J$6)+4)","v":2.4E-2},{"$f":"OFFSET(Composições!$A$1,MATCH(COUNTIF($H$1:$H80,\"Composições\"),Composições!$K:$K,0)-1,COLUMN(Banco!K$6)+4)","v":2.4E-2}]
["Composição INHI.0212.01",{"$f":"OFFSET(Composições!$A$1,MATCH(COUNTIF($H$1:$H81,\"Composições\"),Composições!$K:$K,0)-1,COLUMN(Banco!B$6)-1)","v":"Composição"},{"$f":"OFFSET(Composições!$A$1,MATCH(COUNTIF($H$1:$H81,\"Composições\"),Composições!$K:$K,0)-1,COLUMN(Banco!C$6)-1)","v":"INHI.0212.01"},{"$f":"IF(COUNTIF(OFFSET(Banco!$A$6,1,0,NCOMPOSICOES),$A81)>1,\"CÓDIGO REPETIDO\",OFFSET(Composições!$A$1,MATCH(COUNTIF($H$1:$H81,\"Composições\"),Composições!$K:$K,0)-1,COLUMN(Banco!D$6)-1))","v":"(COMPOSIÇÃO REPRESENTATIVA) DO SERVIÇO DE INSTALAÇÃO DE TUBO DE PVC, SÉRIE NORMAL, ESGOTO PREDIAL, DN 40 MM (INSTALADO EM RAMAL DE DESCARGA OU RAMAL DE ESGOTO SANITÁRIO), INCLUSIVE CONEXÕES, CORTES E FIXAÇÕES, PARA PRÉDIOS."},{"$f":"OFFSET(Composições!$A$1,MATCH(COUNTIF($H$1:$H81,\"Composições\"),Composições!$K:$K,0)-1,COLUMN(Banco!E$6)-1)","v":"M"},{"$f":"OFFSET(Composições!$A$1,MATCH(COUNTIF($H$1:$H81,\"Composições\"),Composições!$K:$K,0)-1,COLUMN(Banco!F$6)-1)","v":90.57},{"$f":"OFFSET(Composições!$A$1,MATCH(COUNTIF($H$1:$H81,\"Composições\"),Composições!$K:$K,0)-1,COLUMN(Banco!G$6)-1)","v":96.54},"Composições",null,{"$f":"OFFSET(Composições!$A$1,MATCH(COUNTIF($H$1:$H81,\"Composições\"),Composições!$K:$K,0)-1,COLUMN(Banco!J$6)+4)","v":8.0999999999999996E-3},{"$f":"OFFSET(Composições!$A$1,MATCH(COUNTIF($H$1:$H81,\"Composições\"),Composições!$K:$K,0)-1,COLUMN(Banco!K$6)+4)","v":7.6E-3}]
[{"$f":"CONCATENATE($B82,\" \",$C82)","v":"Composição INHI.0213.01"},{"$f":"OFFSET(Composições!$A$1,MATCH(COUNTIF($H$1:$H82,\"Composições\"),Composições!$K:$K,0)-1,COLUMN(Banco!B$6)-1)","v":"Composição"},{"$f":"OFFSET(Composições!$A$1,MATCH(COUNTIF($H$1:$H82,\"Composições\"),Composições!$K:$K,0)-1,COLUMN(Banco!C$6)-1)","v":"INHI.0213.01"},{"$f":"IF(COUNTIF(OFFSET(Banco!$A$6,1,0,NCOMPOSICOES),$A82)>1,\"CÓDIGO REPETIDO\",OFFSET(Composições!$A$1,MATCH(COUNTIF($H$1:$H82,\"Composições\"),Composições!$K:$K,0)-1,COLUMN(Banco!D$6)-1))","v":"(COMPOSIÇÃO REPRESENTATIVA) DO SERVIÇO DE INSTALAÇÃO DE TUBO DE PVC, SÉRIE NORMAL, ESGOTO PREDIAL, DN 50 MM (INSTALADO EM RAMAL DE DESCARGA OU RAMAL DE ESGOTO SANITÁRIO), INCLUSIVE CONEXÕES, CORTES E FIXAÇÕES PARA, PRÉDIOS."},{"$f":"OFFSET(Composições!$A$1,MATCH(COUNTIF($H$1:$H82,\"Composições\"),Composições!$K:$K,0)-1,COLUMN(Banco!E$6)-1)","v":"M"},{"$f":"OFFSET(Composições!$A$1,MATCH(COUNTIF($H$1:$H82,\"Composições\"),Composições!$K:$K,0)-1,COLUMN(Banco!F$6)-1)","v":110.19},{"$f":"OFFSET(Composições!$A$1,MATCH(COUNTIF($H$1:$H82,\"Composições\"),Composições!$K:$K,0)-1,COLUMN(Banco!G$6)-1)","v":115.84},"Composições",null,{"$f":"OFFSET(Composições!$A$1,MATCH(COUNTIF($H$1:$H82,\"Composições\"),Composições!$K:$K,0)-1,COLUMN(Banco!J$6)+4)","v":4.0000000000000002E-4},{"$f":"OFFSET(Composições!$A$1,MATCH(COUNTIF($H$1:$H82,\"Composições\"),Composições!$K:$K,0)-1,COLUMN(Banco!K$6)+4)","v":2.9999999999999997E-4}]
["Composição INHI.0210.01",{"$f":"OFFSET(Composições!$A$1,MATCH(COUNTIF($H$1:$H83,\"Composições\"),Composições!$K:$K,0)-1,COLUMN(Banco!B$6)-1)","v":"Composição"},{"$f":"OFFSET(Composições!$A$1,MATCH(COUNTIF($H$1:$H83,\"Composições\"),Composições!$K:$K,0)-1,COLUMN(Banco!C$6)-1)","v":"INHI.0210.01"},{"$f":"IF(COUNTIF(OFFSET(Banco!$A$6,1,0,NCOMPOSICOES),$A83)>1,\"CÓDIGO REPETIDO\",OFFSET(Composições!$A$1,MATCH(COUNTIF($H$1:$H83,\"Composições\"),Composições!$K:$K,0)-1,COLUMN(Banco!D$6)-1))","v":"(COMPOSIÇÃO REPRESENTATIVA) DO SERVIÇO DE INSTALAÇÃO DE TUBOS DE PVC, SOLDÁVEL, ÁGUA FRIA, DN 25 MM (INSTALADO EM RAMAL, SUB-RAMAL, RAMAL DE DISTRIBUIÇÃO OU PRUMADA), INCLUSIVE CONEXÕES, CORTES E FIXAÇÕES, PARA PRÉDIOS."},{"$f":"OFFSET(Composições!$A$1,MATCH(COUNTIF($H$1:$H83,\"Composições\"),Composições!$K:$K,0)-1,COLUMN(Banco!E$6)-1)","v":"M"},{"$f":"OFFSET(Composições!$A$1,MATCH(COUNTIF($H$1:$H83,\"Composições\"),Composições!$K:$K,0)-1,COLUMN(Banco!F$6)-1)","v":52.25},{"$f":"OFFSET(Composições!$A$1,MATCH(COUNTIF($H$1:$H83,\"Composições\"),Composições!$K:$K,0)-1,COLUMN(Banco!G$6)-1)","v":55.820000000000007},"Composições",null,{"$f":"OFFSET(Composições!$A$1,MATCH(COUNTIF($H$1:$H83,\"Composições\"),Composições!$K:$K,0)-1,COLUMN(Banco!J$6)+4)","v":2.0000000000000001E-4},{"$f":"OFFSET(Composições!$A$1,MATCH(COUNTIF($H$1:$H83,\"Composições\"),Composições!$K:$K,0)-1,COLUMN(Banco!K$6)+4)","v":2.0000000000000001E-4}]
["Composição INHI.0242.01",{"$f":"OFFSET(Composições!$A$1,MATCH(COUNTIF($H$1:$H84,\"Composições\"),Composições!$K:$K,0)-1,COLUMN(Banco!B$6)-1)","v":"Composição"},{"$f":"OFFSET(Composições!$A$1,MATCH(COUNTIF($H$1:$H84,\"Composições\"),Composições!$K:$K,0)-1,COLUMN(Banco!C$6)-1)","v":"INHI.0242.01"},{"$f":"IF(COUNTIF(OFFSET(Banco!$A$6,1,0,NCOMPOSICOES),$A84)>1,\"CÓDIGO REPETIDO\",OFFSET(Composições!$A$1,MATCH(COUNTIF($H$1:$H84,\"Composições\"),Composições!$K:$K,0)-1,COLUMN(Banco!D$6)-1))","v":"(COMPOSIÇÃO REPRESENTATIVA) DO SERVIÇO DE INSTALAÇÃO DE TUBOS DE PVC, SOLDÁVEL, ÁGUA FRIA, DN 40 MM (INSTALADO EM PRUMADA), INCLUSIVE CONEXÕES, CORTES E FIXAÇÕES, PARA PRÉDIOS."},{"$f":"OFFSET(Composições!$A$1,MATCH(COUNTIF($H$1:$H84,\"Composições\"),Composições!$K:$K,0)-1,COLUMN(Banco!E$6)-1)","v":"M"},{"$f":"OFFSET(Composições!$A$1,MATCH(COUNTIF($H$1:$H84,\"Composições\"),Composições!$K:$K,0)-1,COLUMN(Banco!F$6)-1)","v":34.57},{"$f":"OFFSET(Composições!$A$1,MATCH(COUNTIF($H$1:$H84,\"Composições\"),Composições!$K:$K,0)-1,COLUMN(Banco!G$6)-1)","v":35.369999999999997},"Composições",null,{"$f":"OFFSET(Composições!$A$1,MATCH(COUNTIF($H$1:$H84,\"Composições\"),Composições!$K:$K,0)-1,COLUMN(Banco!J$6)+4)","v":1.1999999999999999E-3},{"$f":"OFFSET(Composições!$A$1,MATCH(COUNTIF($H$1:$H84,\"Composições\"),Composições!$K:$K,0)-1,COLUMN(Banco!K$6)+4)","v":1.1000000000000001E-3}]
["Composição INEL.0107.01",{"$f":"OFFSET(Composições!$A$1,MATCH(COUNTIF($H$1:$H85,\"Composições\"),Composições!$K:$K,0)-1,COLUMN(Banco!B$6)-1)","v":"Composição"},{"$f":"OFFSET(Composições!$A$1,MATCH(COUNTIF($H$1:$H85,\"Composições\"),Composições!$K:$K,0)-1,COLUMN(Banco!C$6)-1)","v":"INEL.0107.01"},{"$f":"IF(COUNTIF(OFFSET(Banco!$A$6,1,0,NCOMPOSICOES),$A85)>1,\"CÓDIGO REPETIDO\",OFFSET(Composições!$A$1,MATCH(COUNTIF($H$1:$H85,\"Composições\"),Composições!$K:$K,0)-1,COLUMN(Banco!D$6)-1))","v":"CABO DE COBRE NÚ 16mm². - FORNECIMENTO E INSTALAÇÃO"},{"$f":"OFFSET(Composições!$A$1,MATCH(COUNTIF($H$1:$H85,\"Composições\"),Composições!$K:$K,0)-1,COLUMN(Banco!E$6)-1)","v":"M"},{"$f":"OFFSET(Composições!$A$1,MATCH(COUNTIF($H$1:$H85,\"Composições\"),Composições!$K:$K,0)-1,COLUMN(Banco!F$6)-1)","v":28.12},{"$f":"OFFSET(Composições!$A$1,MATCH(COUNTIF($H$1:$H85,\"Composições\"),Composições!$K:$K,0)-1,COLUMN(Banco!G$6)-1)","v":28.91},"Composições",null,{"$f":"OFFSET(Composições!$A$1,MATCH(COUNTIF($H$1:$H85,\"Composições\"),Composições!$K:$K,0)-1,COLUMN(Banco!J$6)+4)","v":0},{"$f":"OFFSET(Composições!$A$1,MATCH(COUNTIF($H$1:$H85,\"Composições\"),Composições!$K:$K,0)-1,COLUMN(Banco!K$6)+4)","v":0}]
["Composição INEL.0503.01",{"$f":"OFFSET(Composições!$A$1,MATCH(COUNTIF($H$1:$H86,\"Composições\"),Composições!$K:$K,0)-1,COLUMN(Banco!B$6)-1)","v":"Composição"},{"$f":"OFFSET(Composições!$A$1,MATCH(COUNTIF($H$1:$H86,\"Composições\"),Composições!$K:$K,0)-1,COLUMN(Banco!C$6)-1)","v":"INEL.0503.01"},{"$f":"IF(COUNTIF(OFFSET(Banco!$A$6,1,0,NCOMPOSICOES),$A86)>1,\"CÓDIGO REPETIDO\",OFFSET(Composições!$A$1,MATCH(COUNTIF($H$1:$H86,\"Composições\"),Composições!$K:$K,0)-1,COLUMN(Banco!D$6)-1))","v":"CABO DE COBRE NÚ 25mm². - FORNECIMENTO E INSTALAÇÃO"},{"$f":"OFFSET(Composições!$A$1,MATCH(COUNTIF($H$1:$H86,\"Composições\"),Composições!$K:$K,0)-1,COLUMN(Banco!E$6)-1)","v":"M     "},{"$f":"OFFSET(Composições!$A$1,MATCH(COUNTIF($H$1:$H86,\"Composições\"),Composições!$K:$K,0)-1,COLUMN(Banco!F$6)-1)","v":36.06},{"$f":"OFFSET(Composições!$A$1,MATCH(COUNTIF($H$1:$H86,\"Composições\"),Composições!$K:$K,0)-1,COLUMN(Banco!G$6)-1)","v":36.85},"Composições",null,{"$f":"OFFSET(Composições!$A$1,MATCH(COUNTIF($H$1:$H86,\"Composições\"),Composições!$K:$K,0)-1,COLUMN(Banco!J$6)+4)","v":0},{"$f":"OFFSET(Composições!$A$1,MATCH(COUNTIF($H$1:$H86,\"Composições\"),Composições!$K:$K,0)-1,COLUMN(Banco!K$6)+4)","v":0}]
["Composição INEL.0407.01",{"$f":"OFFSET(Composições!$A$1,MATCH(COUNTIF($H$1:$H87,\"Composições\"),Composições!$K:$K,0)-1,COLUMN(Banco!B$6)-1)","v":"Composição"},{"$f":"OFFSET(Composições!$A$1,MATCH(COUNTIF($H$1:$H87,\"Composições\"),Composições!$K:$K,0)-1,COLUMN(Banco!C$6)-1)","v":"INEL.0407.01"},{"$f":"IF(COUNTIF(OFFSET(Banco!$A$6,1,0,NCOMPOSICOES),$A87)>1,\"CÓDIGO REPETIDO\",OFFSET(Composições!$A$1,MATCH(COUNTIF($H$1:$H87,\"Composições\"),Composições!$K:$K,0)-1,COLUMN(Banco!D$6)-1))","v":"BARRA CHATA EM ALUMÍNIO 5/8\"X1/8\" COM FUROS, COM FIXAÇÃO POR ISOLADOR/SUPORTE GUIA D=44M H=50MM (REF. GELCAM), COM PARAFUSOS DE FIXAÇÃO EM AÇO INOX 1/4\"X7/8\". - FORNECIMENTO E INSTALAÇÃO."},{"$f":"OFFSET(Composições!$A$1,MATCH(COUNTIF($H$1:$H87,\"Composições\"),Composições!$K:$K,0)-1,COLUMN(Banco!E$6)-1)","v":"M"},{"$f":"OFFSET(Composições!$A$1,MATCH(COUNTIF($H$1:$H87,\"Composições\"),Composições!$K:$K,0)-1,COLUMN(Banco!F$6)-1)","v":30.240000000000002},{"$f":"OFFSET(Composições!$A$1,MATCH(COUNTIF($H$1:$H87,\"Composições\"),Composições!$K:$K,0)-1,COLUMN(Banco!G$6)-1)","v":31.28},"Composições",null,{"$f":"OFFSET(Composições!$A$1,MATCH(COUNTIF($H$1:$H87,\"Composições\"),Composições!$K:$K,0)-1,COLUMN(Banco!J$6)+4)","v":0},{"$f":"OFFSET(Composições!$A$1,MATCH(COUNTIF($H$1:$H87,\"Composições\"),Composições!$K:$K,0)-1,COLUMN(Banco!K$6)+4)","v":0}]
["Composição INEL.0423.01",{"$f":"OFFSET(Composições!$A$1,MATCH(COUNTIF($H$1:$H88,\"Composições\"),Composições!$K:$K,0)-1,COLUMN(Banco!B$6)-1)","v":"Composição"},{"$f":"OFFSET(Composições!$A$1,MATCH(COUNTIF($H$1:$H88,\"Composições\"),Composições!$K:$K,0)-1,COLUMN(Banco!C$6)-1)","v":"INEL.0423.01"},{"$f":"IF(COUNTIF(OFFSET(Banco!$A$6,1,0,NCOMPOSICOES),$A88)>1,\"CÓDIGO REPETIDO\",OFFSET(Composições!$A$1,MATCH(COUNTIF($H$1:$H88,\"Composições\"),Composições!$K:$K,0)-1,COLUMN(Banco!D$6)-1))","v":"HASTE DE ATERRAMENTO, DIÂMETRO 3/8\", COM 2,4 METROS - FORNECIMENTO E INSTALAÇÃO. AF_08/2023"},{"$f":"OFFSET(Composições!$A$1,MATCH(COUNTIF($H$1:$H88,\"Composições\"),Composições!$K:$K,0)-1,COLUMN(Banco!E$6)-1)","v":"UN    "},{"$f":"OFFSET(Composições!$A$1,MATCH(COUNTIF($H$1:$H88,\"Composições\"),Composições!$K:$K,0)-1,COLUMN(Banco!F$6)-1)","v":48.97},{"$f":"OFFSET(Composições!$A$1,MATCH(COUNTIF($H$1:$H88,\"Composições\"),Composições!$K:$K,0)-1,COLUMN(Banco!G$6)-1)","v":50.26},"Composições",null,{"$f":"OFFSET(Composições!$A$1,MATCH(COUNTIF($H$1:$H88,\"Composições\"),Composições!$K:$K,0)-1,COLUMN(Banco!J$6)+4)","v":0},{"$f":"OFFSET(Composições!$A$1,MATCH(COUNTIF($H$1:$H88,\"Composições\"),Composições!$K:$K,0)-1,COLUMN(Banco!K$6)+4)","v":0}]
["Composição COBE.0078.01",{"$f":"OFFSET(Composições!$A$1,MATCH(COUNTIF($H$1:$H89,\"Composições\"),Composições!$K:$K,0)-1,COLUMN(Banco!B$6)-1)","v":"Composição"},{"$f":"OFFSET(Composições!$A$1,MATCH(COUNTIF($H$1:$H89,\"Composições\"),Composições!$K:$K,0)-1,COLUMN(Banco!C$6)-1)","v":"COBE.0078.01"},{"$f":"IF(COUNTIF(OFFSET(Banco!$A$6,1,0,NCOMPOSICOES),$A89)>1,\"CÓDIGO REPETIDO\",OFFSET(Composições!$A$1,MATCH(COUNTIF($H$1:$H89,\"Composições\"),Composições!$K:$K,0)-1,COLUMN(Banco!D$6)-1))","v":"TELHAMENTO COM TELHA METÁLICA TRAPÉZIO 40, ESP. 0,5 MM PRÉ-PINTADA DE FÁBRICA, INCLUINDO ACESSORIOS DE FIXACAO."},{"$f":"OFFSET(Composições!$A$1,MATCH(COUNTIF($H$1:$H89,\"Composições\"),Composições!$K:$K,0)-1,COLUMN(Banco!E$6)-1)","v":"M2"},{"$f":"OFFSET(Composições!$A$1,MATCH(COUNTIF($H$1:$H89,\"Composições\"),Composições!$K:$K,0)-1,COLUMN(Banco!F$6)-1)","v":102},{"$f":"OFFSET(Composições!$A$1,MATCH(COUNTIF($H$1:$H89,\"Composições\"),Composições!$K:$K,0)-1,COLUMN(Banco!G$6)-1)","v":102.67999999999999},"Composições",null,{"$f":"OFFSET(Composições!$A$1,MATCH(COUNTIF($H$1:$H89,\"Composições\"),Composições!$K:$K,0)-1,COLUMN(Banco!J$6)+4)","v":0},{"$f":"OFFSET(Composições!$A$1,MATCH(COUNTIF($H$1:$H89,\"Composições\"),Composições!$K:$K,0)-1,COLUMN(Banco!K$6)+4)","v":0}]
["Composição CANT.0006.01",{"$f":"OFFSET(Composições!$A$1,MATCH(COUNTIF($H$1:$H90,\"Composições\"),Composições!$K:$K,0)-1,COLUMN(Banco!B$6)-1)","v":"Composição"},{"$f":"OFFSET(Composições!$A$1,MATCH(COUNTIF($H$1:$H90,\"Composições\"),Composições!$K:$K,0)-1,COLUMN(Banco!C$6)-1)","v":"CANT.0006.01"},{"$f":"IF(COUNTIF(OFFSET(Banco!$A$6,1,0,NCOMPOSICOES),$A90)>1,\"CÓDIGO REPETIDO\",OFFSET(Composições!$A$1,MATCH(COUNTIF($H$1:$H90,\"Composições\"),Composições!$K:$K,0)-1,COLUMN(Banco!D$6)-1))","v":"LOCACAO DE CONTAINER 2,30 X 4,30 M, ALT. 2,50 M, PARA SANITARIO, COM 3 BACIAS, 4 CHUVEIROS, 1 LAVATORIO E 1 MICTORIO (INCLUSIVE MOBILIZAÇÃO E DESMOBILIZAÇÃO)"},{"$f":"OFFSET(Composições!$A$1,MATCH(COUNTIF($H$1:$H90,\"Composições\"),Composições!$K:$K,0)-1,COLUMN(Banco!E$6)-1)","v":"MÊS"},{"$f":"OFFSET(Composições!$A$1,MATCH(COUNTIF($H$1:$H90,\"Composições\"),Composições!$K:$K,0)-1,COLUMN(Banco!F$6)-1)","v":848.84},{"$f":"OFFSET(Composições!$A$1,MATCH(COUNTIF($H$1:$H90,\"Composições\"),Composições!$K:$K,0)-1,COLUMN(Banco!G$6)-1)","v":849.67},"Composições",null,{"$f":"OFFSET(Composições!$A$1,MATCH(COUNTIF($H$1:$H90,\"Composições\"),Composições!$K:$K,0)-1,COLUMN(Banco!J$6)+4)","v":2.1299999999999999E-2},{"$f":"OFFSET(Composições!$A$1,MATCH(COUNTIF($H$1:$H90,\"Composições\"),Composições!$K:$K,0)-1,COLUMN(Banco!K$6)+4)","v":2.1299999999999999E-2}]
["Composição CANT.0007.01",{"$f":"OFFSET(Composições!$A$1,MATCH(COUNTIF($H$1:$H91,\"Composições\"),Composições!$K:$K,0)-1,COLUMN(Banco!B$6)-1)","v":"Composição"},{"$f":"OFFSET(Composições!$A$1,MATCH(COUNTIF($H$1:$H91,\"Composições\"),Composições!$K:$K,0)-1,COLUMN(Banco!C$6)-1)","v":"CANT.0007.01"},{"$f":"IF(COUNTIF(OFFSET(Banco!$A$6,1,0,NCOMPOSICOES),$A91)>1,\"CÓDIGO REPETIDO\",OFFSET(Composições!$A$1,MATCH(COUNTIF($H$1:$H91,\"Composições\"),Composições!$K:$K,0)-1,COLUMN(Banco!D$6)-1))","v":"LOCACAO DE CONTAINER ALMOXARIFADO, COMPLETO, SEM DIVISORIAS INTERNAS  (INCLUSIVE MOBILIZAÇÃO E DESMOBILIZAÇÃO)"},{"$f":"OFFSET(Composições!$A$1,MATCH(COUNTIF($H$1:$H91,\"Composições\"),Composições!$K:$K,0)-1,COLUMN(Banco!E$6)-1)","v":"MÊS"},{"$f":"OFFSET(Composições!$A$1,MATCH(COUNTIF($H$1:$H91,\"Composições\"),Composições!$K:$K,0)-1,COLUMN(Banco!F$6)-1)","v":754.05000000000007},{"$f":"OFFSET(Composições!$A$1,MATCH(COUNTIF($H$1:$H91,\"Composições\"),Composições!$K:$K,0)-1,COLUMN(Banco!G$6)-1)","v":754.88},"Composições",null,{"$f":"OFFSET(Composições!$A$1,MATCH(COUNTIF($H$1:$H91,\"Composições\"),Composições!$K:$K,0)-1,COLUMN(Banco!J$6)+4)","v":2.4E-2},{"$f":"OFFSET(Composições!$A$1,MATCH(COUNTIF($H$1:$H91,\"Composições\"),Composições!$K:$K,0)-1,COLUMN(Banco!K$6)+4)","v":2.4E-2}]
[{"$f":"CONCATENATE($B92,\" \",$C92)","v":"Cotação I.INEL.0145.01"},{"$f":"OFFSET(Cotações!$A$1,MATCH(COUNTIF($H$1:$H92,\"Cotações\"),Cotações!$J:$J,0)-1,COLUMN(Banco!B$6)-1)","v":"Cotação"},{"$f":"OFFSET(Cotações!$A$1,MATCH(COUNTIF($H$1:$H92,\"Cotações\"),Cotações!$J:$J,0)-1,COLUMN(Banco!C$6)-1)","v":"I.INEL.0145.01"},{"$f":"IF(COUNTIF(OFFSET(Banco!$A$6,1+NCOMPOSICOES,0,NCOTACOES),$A92)>1,\"CÓDIGO REPETIDO\",OFFSET(Cotações!$A$1,MATCH(COUNTIF($H$1:$H92,\"Cotações\"),Cotações!$J:$J,0)-1,COLUMN(Banco!D$6)-1))","v":"REFLETOR LED, COM POTÊNCIA NA FAIXA DE 100W, FLUXO LUMINOSO MÍNIMO DE 11.000 LUMENS, EFICIÊNCIA LUMINOSA MÍNIMA DE 110LM/W, INDICE DE PROTEÇÃO MÍNIMO IP66, BRANCO FRIO 5.700K, FATOR DE POTÊNCIA MÍNIMO DE 0,95, ÍNDICE DE REPRODUÇÃO DE CORES 70%, ÂNGULO DE ABERTURA DE 60º, VIDA ÚTIL MÍNIMA DE 50.000H GARANTIDA PELO FABRICANTE COM CERTIFICAÇÃO"},{"$f":"OFFSET(Cotações!$A$1,MATCH(COUNTIF($H$1:$H92,\"Cotações\"),Cotações!$J:$J,0)-1,COLUMN(Banco!E$6)-1)","v":"PÇ"},{"$f":"OFFSET(Cotações!$A$1,MATCH(COUNTIF($H$1:$H92,\"Cotações\"),Cotações!$J:$J,0)-1,COLUMN(Banco!F$6)-1)","v":582.71130000000005},{"$f":"OFFSET(Cotações!$A$1,MATCH(COUNTIF($H$1:$H92,\"Cotações\"),Cotações!$J:$J,0)-1,COLUMN(Banco!F$6)-1)","v":582.71130000000005},"Cotações"]
["Cotação I.INHI.0007.01",{"$f":"OFFSET(Cotações!$A$1,MATCH(COUNTIF($H$1:$H93,\"Cotações\"),Cotações!$J:$J,0)-1,COLUMN(Banco!B$6)-1)","v":"Cotação"},{"$f":"OFFSET(Cotações!$A$1,MATCH(COUNTIF($H$1:$H93,\"Cotações\"),Cotações!$J:$J,0)-1,COLUMN(Banco!C$6)-1)","v":"I.INHI.0007.01"},{"$f":"IF(COUNTIF(OFFSET(Banco!$A$6,1+NCOMPOSICOES,0,NCOTACOES),$A93)>1,\"CÓDIGO REPETIDO\",OFFSET(Cotações!$A$1,MATCH(COUNTIF($H$1:$H93,\"Cotações\"),Cotações!$J:$J,0)-1,COLUMN(Banco!D$6)-1))","v":"FILTRO VOLUMÉTRICO PARA REAPROVEITAMENTO DE ÁGUA DE CHUVA (MODELO DIN 1989-2)"},{"$f":"OFFSET(Cotações!$A$1,MATCH(COUNTIF($H$1:$H93,\"Cotações\"),Cotações!$J:$J,0)-1,COLUMN(Banco!E$6)-1)","v":"UNIDADE"},{"$f":"OFFSET(Cotações!$A$1,MATCH(COUNTIF($H$1:$H93,\"Cotações\"),Cotações!$J:$J,0)-1,COLUMN(Banco!F$6)-1)","v":1480},{"$f":"OFFSET(Cotações!$A$1,MATCH(COUNTIF($H$1:$H93,\"Cotações\"),Cotações!$J:$J,0)-1,COLUMN(Banco!F$6)-1)","v":1480},"Cotações"]
["Cotação I.INES.0001.01",{"$f":"OFFSET(Cotações!$A$1,MATCH(COUNTIF($H$1:$H94,\"Cotações\"),Cotações!$J:$J,0)-1,COLUMN(Banco!B$6)-1)","v":"Cotação"},{"$f":"OFFSET(Cotações!$A$1,MATCH(COUNTIF($H$1:$H94,\"Cotações\"),Cotações!$J:$J,0)-1,COLUMN(Banco!C$6)-1)","v":"I.INES.0001.01"},{"$f":"IF(COUNTIF(OFFSET(Banco!$A$6,1+NCOMPOSICOES,0,NCOTACOES),$A94)>1,\"CÓDIGO REPETIDO\",OFFSET(Cotações!$A$1,MATCH(COUNTIF($H$1:$H94,\"Cotações\"),Cotações!$J:$J,0)-1,COLUMN(Banco!D$6)-1))","v":"EXTINTOR DE INCÊNDIO PORTÁTIL COM CARGA DE PÓ QUÍMICO SECO (PQS) DE 4 KG, CLASSE ABC"},{"$f":"OFFSET(Cotações!$A$1,MATCH(COUNTIF($H$1:$H94,\"Cotações\"),Cotações!$J:$J,0)-1,COLUMN(Banco!E$6)-1)","v":"UNIDADE"},{"$f":"OFFSET(Cotações!$A$1,MATCH(COUNTIF($H$1:$H94,\"Cotações\"),Cotações!$J:$J,0)-1,COLUMN(Banco!F$6)-1)","v":200.53},{"$f":"OFFSET(Cotações!$A$1,MATCH(COUNTIF($H$1:$H94,\"Cotações\"),Cotações!$J:$J,0)-1,COLUMN(Banco!F$6)-1)","v":200.53},"Cotações"]
["Cotação I.ESQV.0003.01",{"$f":"OFFSET(Cotações!$A$1,MATCH(COUNTIF($H$1:$H95,\"Cotações\"),Cotações!$J:$J,0)-1,COLUMN(Banco!B$6)-1)","v":"Cotação"},{"$f":"OFFSET(Cotações!$A$1,MATCH(COUNTIF($H$1:$H95,\"Cotações\"),Cotações!$J:$J,0)-1,COLUMN(Banco!C$6)-1)","v":"I.ESQV.0003.01"},{"$f":"IF(COUNTIF(OFFSET(Banco!$A$6,1+NCOMPOSICOES,0,NCOTACOES),$A95)>1,\"CÓDIGO REPETIDO\",OFFSET(Cotações!$A$1,MATCH(COUNTIF($H$1:$H95,\"Cotações\"),Cotações!$J:$J,0)-1,COLUMN(Banco!D$6)-1))","v":"SPRAY PARA GALVANIZAÇÃO A FRIO"},{"$f":"OFFSET(Cotações!$A$1,MATCH(COUNTIF($H$1:$H95,\"Cotações\"),Cotações!$J:$J,0)-1,COLUMN(Banco!E$6)-1)","v":"L"},{"$f":"OFFSET(Cotações!$A$1,MATCH(COUNTIF($H$1:$H95,\"Cotações\"),Cotações!$J:$J,0)-1,COLUMN(Banco!F$6)-1)","v":226.33},{"$f":"OFFSET(Cotações!$A$1,MATCH(COUNTIF($H$1:$H95,\"Cotações\"),Cotações!$J:$J,0)-1,COLUMN(Banco!F$6)-1)","v":226.33},"Cotações"]
["Cotação I.COBE.0008.01",{"$f":"OFFSET(Cotações!$A$1,MATCH(COUNTIF($H$1:$H96,\"Cotações\"),Cotações!$J:$J,0)-1,COLUMN(Banco!B$6)-1)","v":"Cotação"},{"$f":"OFFSET(Cotações!$A$1,MATCH(COUNTIF($H$1:$H96,\"Cotações\"),Cotações!$J:$J,0)-1,COLUMN(Banco!C$6)-1)","v":"I.COBE.0008.01"},{"$f":"IF(COUNTIF(OFFSET(Banco!$A$6,1+NCOMPOSICOES,0,NCOTACOES),$A96)>1,\"CÓDIGO REPETIDO\",OFFSET(Cotações!$A$1,MATCH(COUNTIF($H$1:$H96,\"Cotações\"),Cotações!$J:$J,0)-1,COLUMN(Banco!D$6)-1))","v":"TELHA TERMOISOLANTE REVESTIDA EM ACO GALVANIZADO, FACE SUPERIOR EM TELHA TRAPEZOIDAL E FACE INFERIOR EM CHAPA PLANA, REVESTIMENTO COM ESPESSURA DE 0,50 MM NATURAL, NUCLEO EM POLIESTIRENO (EPS) DE 50 MM"},{"$f":"OFFSET(Cotações!$A$1,MATCH(COUNTIF($H$1:$H96,\"Cotações\"),Cotações!$J:$J,0)-1,COLUMN(Banco!E$6)-1)","v":"m2"},{"$f":"OFFSET(Cotações!$A$1,MATCH(COUNTIF($H$1:$H96,\"Cotações\"),Cotações!$J:$J,0)-1,COLUMN(Banco!F$6)-1)","v":117.85760000000002},{"$f":"OFFSET(Cotações!$A$1,MATCH(COUNTIF($H$1:$H96,\"Cotações\"),Cotações!$J:$J,0)-1,COLUMN(Banco!F$6)-1)","v":117.85760000000002},"Cotações"]
["Cotação I.INES.0004.01",{"$f":"OFFSET(Cotações!$A$1,MATCH(COUNTIF($H$1:$H97,\"Cotações\"),Cotações!$J:$J,0)-1,COLUMN(Banco!B$6)-1)","v":"Cotação"},{"$f":"OFFSET(Cotações!$A$1,MATCH(COUNTIF($H$1:$H97,\"Cotações\"),Cotações!$J:$J,0)-1,COLUMN(Banco!C$6)-1)","v":"I.INES.0004.01"},{"$f":"IF(COUNTIF(OFFSET(Banco!$A$6,1+NCOMPOSICOES,0,NCOTACOES),$A97)>1,\"CÓDIGO REPETIDO\",OFFSET(Cotações!$A$1,MATCH(COUNTIF($H$1:$H97,\"Cotações\"),Cotações!$J:$J,0)-1,COLUMN(Banco!D$6)-1))","v":"PLACA DE SINALIZAÇÃO DE SEGURANÇA CONTRA INCENDIO, RETANGULAR 100X60 CM, EM PVC 2MM, ANTI-CHAMAS, NA COR VERDE CONFORME PROJETO, TIPO M1 (MEDIDAS DE SEGURANÇA), M2A E M2B (CAPACIDADE DE PÚBLICO)"},{"$f":"OFFSET(Cotações!$A$1,MATCH(COUNTIF($H$1:$H97,\"Cotações\"),Cotações!$J:$J,0)-1,COLUMN(Banco!E$6)-1)","v":""},{"$f":"OFFSET(Cotações!$A$1,MATCH(COUNTIF($H$1:$H97,\"Cotações\"),Cotações!$J:$J,0)-1,COLUMN(Banco!F$6)-1)","v":127},{"$f":"OFFSET(Cotações!$A$1,MATCH(COUNTIF($H$1:$H97,\"Cotações\"),Cotações!$J:$J,0)-1,COLUMN(Banco!F$6)-1)","v":127},"Cotações"]
["Cotação I.INEL.0209.01",{"$f":"OFFSET(Cotações!$A$1,MATCH(COUNTIF($H$1:$H98,\"Cotações\"),Cotações!$J:$J,0)-1,COLUMN(Banco!B$6)-1)","v":"Cotação"},{"$f":"OFFSET(Cotações!$A$1,MATCH(COUNTIF($H$1:$H98,\"Cotações\"),Cotações!$J:$J,0)-1,COLUMN(Banco!C$6)-1)","v":"I.INEL.0209.01"},{"$f":"IF(COUNTIF(OFFSET(Banco!$A$6,1+NCOMPOSICOES,0,NCOTACOES),$A98)>1,\"CÓDIGO REPETIDO\",OFFSET(Cotações!$A$1,MATCH(COUNTIF($H$1:$H98,\"Cotações\"),Cotações!$J:$J,0)-1,COLUMN(Banco!D$6)-1))","v":"BARRA CHATA EM ALUMÍNIO 7/8\"X1/8\"X 3METROS, COM FUROS"},{"$f":"OFFSET(Cotações!$A$1,MATCH(COUNTIF($H$1:$H98,\"Cotações\"),Cotações!$J:$J,0)-1,COLUMN(Banco!E$6)-1)","v":"PÇ"},{"$f":"OFFSET(Cotações!$A$1,MATCH(COUNTIF($H$1:$H98,\"Cotações\"),Cotações!$J:$J,0)-1,COLUMN(Banco!F$6)-1)","v":30.127500000000001},{"$f":"OFFSET(Cotações!$A$1,MATCH(COUNTIF($H$1:$H98,\"Cotações\"),Cotações!$J:$J,0)-1,COLUMN(Banco!F$6)-1)","v":30.127500000000001},"Cotações"]
["Cotação I.INEL.0211.01",{"$f":"OFFSET(Cotações!$A$1,MATCH(COUNTIF($H$1:$H99,\"Cotações\"),Cotações!$J:$J,0)-1,COLUMN(Banco!B$6)-1)","v":"Cotação"},{"$f":"OFFSET(Cotações!$A$1,MATCH(COUNTIF($H$1:$H99,\"Cotações\"),Cotações!$J:$J,0)-1,COLUMN(Banco!C$6)-1)","v":"I.INEL.0211.01"},{"$f":"IF(COUNTIF(OFFSET(Banco!$A$6,1+NCOMPOSICOES,0,NCOTACOES),$A99)>1,\"CÓDIGO REPETIDO\",OFFSET(Cotações!$A$1,MATCH(COUNTIF($H$1:$H99,\"Cotações\"),Cotações!$J:$J,0)-1,COLUMN(Banco!D$6)-1))","v":"ISOLADOR/SUPORTE GUIA D=44MM E H=50MM, PARA BARRA DE ALUMÍNIO 7/8\"X1/8\" 15X15CM, PARA SPDA. (REFERÊNCIA: GELCAM)."},{"$f":"OFFSET(Cotações!$A$1,MATCH(COUNTIF($H$1:$H99,\"Cotações\"),Cotações!$J:$J,0)-1,COLUMN(Banco!E$6)-1)","v":"UNIDADE"},{"$f":"OFFSET(Cotações!$A$1,MATCH(COUNTIF($H$1:$H99,\"Cotações\"),Cotações!$J:$J,0)-1,COLUMN(Banco!F$6)-1)","v":9.3000000000000007},{"$f":"OFFSET(Cotações!$A$1,MATCH(COUNTIF($H$1:$H99,\"Cotações\"),Cotações!$J:$J,0)-1,COLUMN(Banco!F$6)-1)","v":9.3000000000000007},"Cotações"]
["Cotação I.INEL.0212.01",{"$f":"OFFSET(Cotações!$A$1,MATCH(COUNTIF($H$1:$H100,\"Cotações\"),Cotações!$J:$J,0)-1,COLUMN(Banco!B$6)-1)","v":"Cotação"},{"$f":"OFFSET(Cotações!$A$1,MATCH(COUNTIF($H$1:$H100,\"Cotações\"),Cotações!$J:$J,0)-1,COLUMN(Banco!C$6)-1)","v":"I.INEL.0212.01"},{"$f":"IF(COUNTIF(OFFSET(Banco!$A$6,1+NCOMPOSICOES,0,NCOTACOES),$A100)>1,\"CÓDIGO REPETIDO\",OFFSET(Cotações!$A$1,MATCH(COUNTIF($H$1:$H100,\"Cotações\"),Cotações!$J:$J,0)-1,COLUMN(Banco!D$6)-1))","v":"PARAFUSO E PORCA EM INOX 1/4\"X 7/8\""},{"$f":"OFFSET(Cotações!$A$1,MATCH(COUNTIF($H$1:$H100,\"Cotações\"),Cotações!$J:$J,0)-1,COLUMN(Banco!E$6)-1)","v":"UNIDADE"},{"$f":"OFFSET(Cotações!$A$1,MATCH(COUNTIF($H$1:$H100,\"Cotações\"),Cotações!$J:$J,0)-1,COLUMN(Banco!F$6)-1)","v":0.61},{"$f":"OFFSET(Cotações!$A$1,MATCH(COUNTIF($H$1:$H100,\"Cotações\"),Cotações!$J:$J,0)-1,COLUMN(Banco!F$6)-1)","v":0.61},"Cotações"]
["Cotação I.INEL.0583.01",{"$f":"OFFSET(Cotações!$A$1,MATCH(COUNTIF($H$1:$H101,\"Cotações\"),Cotações!$J:$J,0)-1,COLUMN(Banco!B$6)-1)","v":"Cotação"},{"$f":"OFFSET(Cotações!$A$1,MATCH(COUNTIF($H$1:$H101,\"Cotações\"),Cotações!$J:$J,0)-1,COLUMN(Banco!C$6)-1)","v":"I.INEL.0583.01"},{"$f":"IF(COUNTIF(OFFSET(Banco!$A$6,1+NCOMPOSICOES,0,NCOTACOES),$A101)>1,\"CÓDIGO REPETIDO\",OFFSET(Cotações!$A$1,MATCH(COUNTIF($H$1:$H101,\"Cotações\"),Cotações!$J:$J,0)-1,COLUMN(Banco!D$6)-1))","v":"haste de aterramento 3/8\"x 2,40 m "},{"$f":"OFFSET(Cotações!$A$1,MATCH(COUNTIF($H$1:$H101,\"Cotações\"),Cotações!$J:$J,0)-1,COLUMN(Banco!E$6)-1)","v":"UNIDADE"},{"$f":"OFFSET(Cotações!$A$1,MATCH(COUNTIF($H$1:$H101,\"Cotações\"),Cotações!$J:$J,0)-1,COLUMN(Banco!F$6)-1)","v":33.33},{"$f":"OFFSET(Cotações!$A$1,MATCH(COUNTIF($H$1:$H101,\"Cotações\"),Cotações!$J:$J,0)-1,COLUMN(Banco!F$6)-1)","v":33.33},"Cotações"]
["Cotação 442",{"$f":"OFFSET(Cotações!$A$1,MATCH(COUNTIF($H$1:$H102,\"Cotações\"),Cotações!$J:$J,0)-1,COLUMN(Banco!B$6)-1)","v":"Cotação"},{"$f":"OFFSET(Cotações!$A$1,MATCH(COUNTIF($H$1:$H102,\"Cotações\"),Cotações!$J:$J,0)-1,COLUMN(Banco!C$6)-1)","v":"442"},{"$f":"IF(COUNTIF(OFFSET(Banco!$A$6,1+NCOMPOSICOES,0,NCOTACOES),$A102)>1,\"CÓDIGO REPETIDO\",OFFSET(Cotações!$A$1,MATCH(COUNTIF($H$1:$H102,\"Cotações\"),Cotações!$J:$J,0)-1,COLUMN(Banco!D$6)-1))","v":"PARAFUSO FRANCES M16 EM ACO GALVANIZADO, COMPRIMENTO = 45 MM, DIAMETRO = 16 MM, CABECA ABAULADA"},{"$f":"OFFSET(Cotações!$A$1,MATCH(COUNTIF($H$1:$H102,\"Cotações\"),Cotações!$J:$J,0)-1,COLUMN(Banco!E$6)-1)","v":"UN"},{"$f":"OFFSET(Cotações!$A$1,MATCH(COUNTIF($H$1:$H102,\"Cotações\"),Cotações!$J:$J,0)-1,COLUMN(Banco!F$6)-1)","v":7.17},{"$f":"OFFSET(Cotações!$A$1,MATCH(COUNTIF($H$1:$H102,\"Cotações\"),Cotações!$J:$J,0)-1,COLUMN(Banco!F$6)-1)","v":7.17},"Cotações"]
["Cotação 1318",{"$f":"OFFSET(Cotações!$A$1,MATCH(COUNTIF($H$1:$H103,\"Cotações\"),Cotações!$J:$J,0)-1,COLUMN(Banco!B$6)-1)","v":"Cotação"},{"$f":"OFFSET(Cotações!$A$1,MATCH(COUNTIF($H$1:$H103,\"Cotações\"),Cotações!$J:$J,0)-1,COLUMN(Banco!C$6)-1)","v":"1318"},{"$f":"IF(COUNTIF(OFFSET(Banco!$A$6,1+NCOMPOSICOES,0,NCOTACOES),$A103)>1,\"CÓDIGO REPETIDO\",OFFSET(Cotações!$A$1,MATCH(COUNTIF($H$1:$H103,\"Cotações\"),Cotações!$J:$J,0)-1,COLUMN(Banco!D$6)-1))","v":"CHAPA DE ACO FINA A QUENTE BITOLA MSG 14, E = 2,00 MM (16,0 KG/M2)"},{"$f":"OFFSET(Cotações!$A$1,MATCH(COUNTIF($H$1:$H103,\"Cotações\"),Cotações!$J:$J,0)-1,COLUMN(Banco!E$6)-1)","v":"KG"},{"$f":"OFFSET(Cotações!$A$1,MATCH(COUNTIF($H$1:$H103,\"Cotações\"),Cotações!$J:$J,0)-1,COLUMN(Banco!F$6)-1)","v":8.5},{"$f":"OFFSET(Cotações!$A$1,MATCH(COUNTIF($H$1:$H103,\"Cotações\"),Cotações!$J:$J,0)-1,COLUMN(Banco!F$6)-1)","v":8.5},"Cotações"]
["Cotação 1319",{"$f":"OFFSET(Cotações!$A$1,MATCH(COUNTIF($H$1:$H104,\"Cotações\"),Cotações!$J:$J,0)-1,COLUMN(Banco!B$6)-1)","v":"Cotação"},{"$f":"OFFSET(Cotações!$A$1,MATCH(COUNTIF($H$1:$H104,\"Cotações\"),Cotações!$J:$J,0)-1,COLUMN(Banco!C$6)-1)","v":"1319"},{"$f":"IF(COUNTIF(OFFSET(Banco!$A$6,1+NCOMPOSICOES,0,NCOTACOES),$A104)>1,\"CÓDIGO REPETIDO\",OFFSET(Cotações!$A$1,MATCH(COUNTIF($H$1:$H104,\"Cotações\"),Cotações!$J:$J,0)-1,COLUMN(Banco!D$6)-1))","v":"CHAPA DE ACO FINA A QUENTE BITOLA MSG 3/16\", E = 4,75 MM (38,00 KG/M2)"},{"$f":"OFFSET(Cotações!$A$1,MATCH(COUNTIF($H$1:$H104,\"Cotações\"),Cotações!$J:$J,0)-1,COLUMN(Banco!E$6)-1)","v":"KG"},{"$f":"OFFSET(Cotações!$A$1,MATCH(COUNTIF($H$1:$H104,\"Cotações\"),Cotações!$J:$J,0)-1,COLUMN(Banco!F$6)-1)","v":7.56},{"$f":"OFFSET(Cotações!$A$1,MATCH(COUNTIF($H$1:$H104,\"Cotações\"),Cotações!$J:$J,0)-1,COLUMN(Banco!F$6)-1)","v":7.56},"Cotações"]
["Cotação 1327",{"$f":"OFFSET(Cotações!$A$1,MATCH(COUNTIF($H$1:$H105,\"Cotações\"),Cotações!$J:$J,0)-1,COLUMN(Banco!B$6)-1)","v":"Cotação"},{"$f":"OFFSET(Cotações!$A$1,MATCH(COUNTIF($H$1:$H105,\"Cotações\"),Cotações!$J:$J,0)-1,COLUMN(Banco!C$6)-1)","v":"1327"},{"$f":"IF(COUNTIF(OFFSET(Banco!$A$6,1+NCOMPOSICOES,0,NCOTACOES),$A105)>1,\"CÓDIGO REPETIDO\",OFFSET(Cotações!$A$1,MATCH(COUNTIF($H$1:$H105,\"Cotações\"),Cotações!$J:$J,0)-1,COLUMN(Banco!D$6)-1))","v":"CHAPA DE ACO FINA A FRIO BITOLA MSG 24, E = 0,60 MM (4,80 KG/M2)"},{"$f":"OFFSET(Cotações!$A$1,MATCH(COUNTIF($H$1:$H105,\"Cotações\"),Cotações!$J:$J,0)-1,COLUMN(Banco!E$6)-1)","v":"KG"},{"$f":"OFFSET(Cotações!$A$1,MATCH(COUNTIF($H$1:$H105,\"Cotações\"),Cotações!$J:$J,0)-1,COLUMN(Banco!F$6)-1)","v":9.74},{"$f":"OFFSET(Cotações!$A$1,MATCH(COUNTIF($H$1:$H105,\"Cotações\"),Cotações!$J:$J,0)-1,COLUMN(Banco!F$6)-1)","v":9.74},"Cotações"]
["Cotação 1332",{"$f":"OFFSET(Cotações!$A$1,MATCH(COUNTIF($H$1:$H106,\"Cotações\"),Cotações!$J:$J,0)-1,COLUMN(Banco!B$6)-1)","v":"Cotação"},{"$f":"OFFSET(Cotações!$A$1,MATCH(COUNTIF($H$1:$H106,\"Cotações\"),Cotações!$J:$J,0)-1,COLUMN(Banco!C$6)-1)","v":"1332"},{"$f":"IF(COUNTIF(OFFSET(Banco!$A$6,1+NCOMPOSICOES,0,NCOTACOES),$A106)>1,\"CÓDIGO REPETIDO\",OFFSET(Cotações!$A$1,MATCH(COUNTIF($H$1:$H106,\"Cotações\"),Cotações!$J:$J,0)-1,COLUMN(Banco!D$6)-1))","v":"CHAPA DE ACO GROSSA, ASTM A36, E = 3/8\" (9,53 MM) 74,69 KG/M2"},{"$f":"OFFSET(Cotações!$A$1,MATCH(COUNTIF($H$1:$H106,\"Cotações\"),Cotações!$J:$J,0)-1,COLUMN(Banco!E$6)-1)","v":"KG"},{"$f":"OFFSET(Cotações!$A$1,MATCH(COUNTIF($H$1:$H106,\"Cotações\"),Cotações!$J:$J,0)-1,COLUMN(Banco!F$6)-1)","v":8.3699999999999992},{"$f":"OFFSET(Cotações!$A$1,MATCH(COUNTIF($H$1:$H106,\"Cotações\"),Cotações!$J:$J,0)-1,COLUMN(Banco!F$6)-1)","v":8.3699999999999992},"Cotações"]
["Cotação 4777",{"$f":"OFFSET(Cotações!$A$1,MATCH(COUNTIF($H$1:$H107,\"Cotações\"),Cotações!$J:$J,0)-1,COLUMN(Banco!B$6)-1)","v":"Cotação"},{"$f":"OFFSET(Cotações!$A$1,MATCH(COUNTIF($H$1:$H107,\"Cotações\"),Cotações!$J:$J,0)-1,COLUMN(Banco!C$6)-1)","v":"4777"},{"$f":"IF(COUNTIF(OFFSET(Banco!$A$6,1+NCOMPOSICOES,0,NCOTACOES),$A107)>1,\"CÓDIGO REPETIDO\",OFFSET(Cotações!$A$1,MATCH(COUNTIF($H$1:$H107,\"Cotações\"),Cotações!$J:$J,0)-1,COLUMN(Banco!D$6)-1))","v":"CANTONEIRA ACO ABAS IGUAIS (QUALQUER BITOLA), ESPESSURA ENTRE 1/8\" E 1/4\""},{"$f":"OFFSET(Cotações!$A$1,MATCH(COUNTIF($H$1:$H107,\"Cotações\"),Cotações!$J:$J,0)-1,COLUMN(Banco!E$6)-1)","v":"KG"},{"$f":"OFFSET(Cotações!$A$1,MATCH(COUNTIF($H$1:$H107,\"Cotações\"),Cotações!$J:$J,0)-1,COLUMN(Banco!F$6)-1)","v":8.02},{"$f":"OFFSET(Cotações!$A$1,MATCH(COUNTIF($H$1:$H107,\"Cotações\"),Cotações!$J:$J,0)-1,COLUMN(Banco!F$6)-1)","v":8.02},"Cotações"]
["Cotação 5036",{"$f":"OFFSET(Cotações!$A$1,MATCH(COUNTIF($H$1:$H108,\"Cotações\"),Cotações!$J:$J,0)-1,COLUMN(Banco!B$6)-1)","v":"Cotação"},{"$f":"OFFSET(Cotações!$A$1,MATCH(COUNTIF($H$1:$H108,\"Cotações\"),Cotações!$J:$J,0)-1,COLUMN(Banco!C$6)-1)","v":"5036"},{"$f":"IF(COUNTIF(OFFSET(Banco!$A$6,1+NCOMPOSICOES,0,NCOTACOES),$A108)>1,\"CÓDIGO REPETIDO\",OFFSET(Cotações!$A$1,MATCH(COUNTIF($H$1:$H108,\"Cotações\"),Cotações!$J:$J,0)-1,COLUMN(Banco!D$6)-1))","v":"POSTE DE CONCRETO ARMADO DE SECAO CIRCULAR, EXTENSAO DE 14,00 M, RESISTENCIA DE 300 A 400 DAN, TIPO C-17"},{"$f":"OFFSET(Cotações!$A$1,MATCH(COUNTIF($H$1:$H108,\"Cotações\"),Cotações!$J:$J,0)-1,COLUMN(Banco!E$6)-1)","v":"UN"},{"$f":"OFFSET(Cotações!$A$1,MATCH(COUNTIF($H$1:$H108,\"Cotações\"),Cotações!$J:$J,0)-1,COLUMN(Banco!F$6)-1)","v":2576.06},{"$f":"OFFSET(Cotações!$A$1,MATCH(COUNTIF($H$1:$H108,\"Cotações\"),Cotações!$J:$J,0)-1,COLUMN(Banco!F$6)-1)","v":2576.06},"Cotações"]
["Cotação 7243",{"$f":"OFFSET(Cotações!$A$1,MATCH(COUNTIF($H$1:$H109,\"Cotações\"),Cotações!$J:$J,0)-1,COLUMN(Banco!B$6)-1)","v":"Cotação"},{"$f":"OFFSET(Cotações!$A$1,MATCH(COUNTIF($H$1:$H109,\"Cotações\"),Cotações!$J:$J,0)-1,COLUMN(Banco!C$6)-1)","v":"7243"},{"$f":"IF(COUNTIF(OFFSET(Banco!$A$6,1+NCOMPOSICOES,0,NCOTACOES),$A109)>1,\"CÓDIGO REPETIDO\",OFFSET(Cotações!$A$1,MATCH(COUNTIF($H$1:$H109,\"Cotações\"),Cotações!$J:$J,0)-1,COLUMN(Banco!D$6)-1))","v":"TELHA TRAPEZOIDAL EM ACO ZINCADO, SEM PINTURA, ALTURA DE APROXIMADAMENTE 40 MM, ESPESSURA DE 0,50 MM E LARGURA UTIL DE 980 MM"},{"$f":"OFFSET(Cotações!$A$1,MATCH(COUNTIF($H$1:$H109,\"Cotações\"),Cotações!$J:$J,0)-1,COLUMN(Banco!E$6)-1)","v":"M2"},{"$f":"OFFSET(Cotações!$A$1,MATCH(COUNTIF($H$1:$H109,\"Cotações\"),Cotações!$J:$J,0)-1,COLUMN(Banco!F$6)-1)","v":49.84},{"$f":"OFFSET(Cotações!$A$1,MATCH(COUNTIF($H$1:$H109,\"Cotações\"),Cotações!$J:$J,0)-1,COLUMN(Banco!F$6)-1)","v":49.84},"Cotações"]
["Cotação 7694",{"$f":"OFFSET(Cotações!$A$1,MATCH(COUNTIF($H$1:$H110,\"Cotações\"),Cotações!$J:$J,0)-1,COLUMN(Banco!B$6)-1)","v":"Cotação"},{"$f":"OFFSET(Cotações!$A$1,MATCH(COUNTIF($H$1:$H110,\"Cotações\"),Cotações!$J:$J,0)-1,COLUMN(Banco!C$6)-1)","v":"7694"},{"$f":"IF(COUNTIF(OFFSET(Banco!$A$6,1+NCOMPOSICOES,0,NCOTACOES),$A110)>1,\"CÓDIGO REPETIDO\",OFFSET(Cotações!$A$1,MATCH(COUNTIF($H$1:$H110,\"Cotações\"),Cotações!$J:$J,0)-1,COLUMN(Banco!D$6)-1))","v":"TUBO ACO GALVANIZADO COM COSTURA, CLASSE MEDIA, DN 3\", E = *4,05* MM, PESO *8,47* KG/M (NBR 5580)"},{"$f":"OFFSET(Cotações!$A$1,MATCH(COUNTIF($H$1:$H110,\"Cotações\"),Cotações!$J:$J,0)-1,COLUMN(Banco!E$6)-1)","v":"M"},{"$f":"OFFSET(Cotações!$A$1,MATCH(COUNTIF($H$1:$H110,\"Cotações\"),Cotações!$J:$J,0)-1,COLUMN(Banco!F$6)-1)","v":124.28},{"$f":"OFFSET(Cotações!$A$1,MATCH(COUNTIF($H$1:$H110,\"Cotações\"),Cotações!$J:$J,0)-1,COLUMN(Banco!F$6)-1)","v":124.28},"Cotações"]
["Cotação 7696",{"$f":"OFFSET(Cotações!$A$1,MATCH(COUNTIF($H$1:$H111,\"Cotações\"),Cotações!$J:$J,0)-1,COLUMN(Banco!B$6)-1)","v":"Cotação"},{"$f":"OFFSET(Cotações!$A$1,MATCH(COUNTIF($H$1:$H111,\"Cotações\"),Cotações!$J:$J,0)-1,COLUMN(Banco!C$6)-1)","v":"7696"},{"$f":"IF(COUNTIF(OFFSET(Banco!$A$6,1+NCOMPOSICOES,0,NCOTACOES),$A111)>1,\"CÓDIGO REPETIDO\",OFFSET(Cotações!$A$1,MATCH(COUNTIF($H$1:$H111,\"Cotações\"),Cotações!$J:$J,0)-1,COLUMN(Banco!D$6)-1))","v":"TUBO ACO GALVANIZADO COM COSTURA, CLASSE MEDIA, DN 2\", E = *3,65* MM, PESO *5,10* KG/M (NBR 5580)"},{"$f":"OFFSET(Cotações!$A$1,MATCH(COUNTIF($H$1:$H111,\"Cotações\"),Cotações!$J:$J,0)-1,COLUMN(Banco!E$6)-1)","v":"M"},{"$f":"OFFSET(Cotações!$A$1,MATCH(COUNTIF($H$1:$H111,\"Cotações\"),Cotações!$J:$J,0)-1,COLUMN(Banco!F$6)-1)","v":74.42},{"$f":"OFFSET(Cotações!$A$1,MATCH(COUNTIF($H$1:$H111,\"Cotações\"),Cotações!$J:$J,0)-1,COLUMN(Banco!F$6)-1)","v":74.42},"Cotações"]
["Cotação 9829",{"$f":"OFFSET(Cotações!$A$1,MATCH(COUNTIF($H$1:$H112,\"Cotações\"),Cotações!$J:$J,0)-1,COLUMN(Banco!B$6)-1)","v":"Cotação"},{"$f":"OFFSET(Cotações!$A$1,MATCH(COUNTIF($H$1:$H112,\"Cotações\"),Cotações!$J:$J,0)-1,COLUMN(Banco!C$6)-1)","v":"9829"},{"$f":"IF(COUNTIF(OFFSET(Banco!$A$6,1+NCOMPOSICOES,0,NCOTACOES),$A112)>1,\"CÓDIGO REPETIDO\",OFFSET(Cotações!$A$1,MATCH(COUNTIF($H$1:$H112,\"Cotações\"),Cotações!$J:$J,0)-1,COLUMN(Banco!D$6)-1))","v":"TUBO PVC DEFOFO, JEI, 1 MPA, DN 200 MM, PARA REDE DE AGUA (NBR 7665)"},{"$f":"OFFSET(Cotações!$A$1,MATCH(COUNTIF($H$1:$H112,\"Cotações\"),Cotações!$J:$J,0)-1,COLUMN(Banco!E$6)-1)","v":"M"},{"$f":"OFFSET(Cotações!$A$1,MATCH(COUNTIF($H$1:$H112,\"Cotações\"),Cotações!$J:$J,0)-1,COLUMN(Banco!F$6)-1)","v":231.08},{"$f":"OFFSET(Cotações!$A$1,MATCH(COUNTIF($H$1:$H112,\"Cotações\"),Cotações!$J:$J,0)-1,COLUMN(Banco!F$6)-1)","v":231.08},"Cotações"]
["Cotação 10966",{"$f":"OFFSET(Cotações!$A$1,MATCH(COUNTIF($H$1:$H113,\"Cotações\"),Cotações!$J:$J,0)-1,COLUMN(Banco!B$6)-1)","v":"Cotação"},{"$f":"OFFSET(Cotações!$A$1,MATCH(COUNTIF($H$1:$H113,\"Cotações\"),Cotações!$J:$J,0)-1,COLUMN(Banco!C$6)-1)","v":"10966"},{"$f":"IF(COUNTIF(OFFSET(Banco!$A$6,1+NCOMPOSICOES,0,NCOTACOES),$A113)>1,\"CÓDIGO REPETIDO\",OFFSET(Cotações!$A$1,MATCH(COUNTIF($H$1:$H113,\"Cotações\"),Cotações!$J:$J,0)-1,COLUMN(Banco!D$6)-1))","v":"PERFIL \"U\" SIMPLES, EM CHAPA DOBRADA DE ACO LAMINADO, E = 8 MM, H = 150 MM, L = 75 MM (16,97 KG/M)"},{"$f":"OFFSET(Cotações!$A$1,MATCH(COUNTIF($H$1:$H113,\"Cotações\"),Cotações!$J:$J,0)-1,COLUMN(Banco!E$6)-1)","v":"KG"},{"$f":"OFFSET(Cotações!$A$1,MATCH(COUNTIF($H$1:$H113,\"Cotações\"),Cotações!$J:$J,0)-1,COLUMN(Banco!F$6)-1)","v":9.1199999999999992},{"$f":"OFFSET(Cotações!$A$1,MATCH(COUNTIF($H$1:$H113,\"Cotações\"),Cotações!$J:$J,0)-1,COLUMN(Banco!F$6)-1)","v":9.1199999999999992},"Cotações"]
["Cotação 11026",{"$f":"OFFSET(Cotações!$A$1,MATCH(COUNTIF($H$1:$H114,\"Cotações\"),Cotações!$J:$J,0)-1,COLUMN(Banco!B$6)-1)","v":"Cotação"},{"$f":"OFFSET(Cotações!$A$1,MATCH(COUNTIF($H$1:$H114,\"Cotações\"),Cotações!$J:$J,0)-1,COLUMN(Banco!C$6)-1)","v":"11026"},{"$f":"IF(COUNTIF(OFFSET(Banco!$A$6,1+NCOMPOSICOES,0,NCOTACOES),$A114)>1,\"CÓDIGO REPETIDO\",OFFSET(Cotações!$A$1,MATCH(COUNTIF($H$1:$H114,\"Cotações\"),Cotações!$J:$J,0)-1,COLUMN(Banco!D$6)-1))","v":"CHAPA DE ACO GALVANIZADA BITOLA GSG 14, E = 1,95 MM (15,60 KG/M2)"},{"$f":"OFFSET(Cotações!$A$1,MATCH(COUNTIF($H$1:$H114,\"Cotações\"),Cotações!$J:$J,0)-1,COLUMN(Banco!E$6)-1)","v":"KG"},{"$f":"OFFSET(Cotações!$A$1,MATCH(COUNTIF($H$1:$H114,\"Cotações\"),Cotações!$J:$J,0)-1,COLUMN(Banco!F$6)-1)","v":10.4},{"$f":"OFFSET(Cotações!$A$1,MATCH(COUNTIF($H$1:$H114,\"Cotações\"),Cotações!$J:$J,0)-1,COLUMN(Banco!F$6)-1)","v":10.4},"Cotações"]
["Cotação 11046",{"$f":"OFFSET(Cotações!$A$1,MATCH(COUNTIF($H$1:$H115,\"Cotações\"),Cotações!$J:$J,0)-1,COLUMN(Banco!B$6)-1)","v":"Cotação"},{"$f":"OFFSET(Cotações!$A$1,MATCH(COUNTIF($H$1:$H115,\"Cotações\"),Cotações!$J:$J,0)-1,COLUMN(Banco!C$6)-1)","v":"11046"},{"$f":"IF(COUNTIF(OFFSET(Banco!$A$6,1+NCOMPOSICOES,0,NCOTACOES),$A115)>1,\"CÓDIGO REPETIDO\",OFFSET(Cotações!$A$1,MATCH(COUNTIF($H$1:$H115,\"Cotações\"),Cotações!$J:$J,0)-1,COLUMN(Banco!D$6)-1))","v":"CHAPA DE ACO GALVANIZADA BITOLA GSG 18, E = 1,25 MM (10,00 KG/M2)"},{"$f":"OFFSET(Cotações!$A$1,MATCH(COUNTIF($H$1:$H115,\"Cotações\"),Cotações!$J:$J,0)-1,COLUMN(Banco!E$6)-1)","v":"KG"},{"$f":"OFFSET(Cotações!$A$1,MATCH(COUNTIF($H$1:$H115,\"Cotações\"),Cotações!$J:$J,0)-1,COLUMN(Banco!F$6)-1)","v":10.37},{"$f":"OFFSET(Cotações!$A$1,MATCH(COUNTIF($H$1:$H115,\"Cotações\"),Cotações!$J:$J,0)-1,COLUMN(Banco!F$6)-1)","v":10.37},"Cotações"]
["Cotação 11049",{"$f":"OFFSET(Cotações!$A$1,MATCH(COUNTIF($H$1:$H116,\"Cotações\"),Cotações!$J:$J,0)-1,COLUMN(Banco!B$6)-1)","v":"Cotação"},{"$f":"OFFSET(Cotações!$A$1,MATCH(COUNTIF($H$1:$H116,\"Cotações\"),Cotações!$J:$J,0)-1,COLUMN(Banco!C$6)-1)","v":"11049"},{"$f":"IF(COUNTIF(OFFSET(Banco!$A$6,1+NCOMPOSICOES,0,NCOTACOES),$A116)>1,\"CÓDIGO REPETIDO\",OFFSET(Cotações!$A$1,MATCH(COUNTIF($H$1:$H116,\"Cotações\"),Cotações!$J:$J,0)-1,COLUMN(Banco!D$6)-1))","v":"CHAPA DE ACO GALVANIZADA BITOLA GSG 22, E = 0,80 MM (6,40 KG/M2)"},{"$f":"OFFSET(Cotações!$A$1,MATCH(COUNTIF($H$1:$H116,\"Cotações\"),Cotações!$J:$J,0)-1,COLUMN(Banco!E$6)-1)","v":"KG"},{"$f":"OFFSET(Cotações!$A$1,MATCH(COUNTIF($H$1:$H116,\"Cotações\"),Cotações!$J:$J,0)-1,COLUMN(Banco!F$6)-1)","v":10.81},{"$f":"OFFSET(Cotações!$A$1,MATCH(COUNTIF($H$1:$H116,\"Cotações\"),Cotações!$J:$J,0)-1,COLUMN(Banco!F$6)-1)","v":10.81},"Cotações"]
["Cotação 11051",{"$f":"OFFSET(Cotações!$A$1,MATCH(COUNTIF($H$1:$H117,\"Cotações\"),Cotações!$J:$J,0)-1,COLUMN(Banco!B$6)-1)","v":"Cotação"},{"$f":"OFFSET(Cotações!$A$1,MATCH(COUNTIF($H$1:$H117,\"Cotações\"),Cotações!$J:$J,0)-1,COLUMN(Banco!C$6)-1)","v":"11051"},{"$f":"IF(COUNTIF(OFFSET(Banco!$A$6,1+NCOMPOSICOES,0,NCOTACOES),$A117)>1,\"CÓDIGO REPETIDO\",OFFSET(Cotações!$A$1,MATCH(COUNTIF($H$1:$H117,\"Cotações\"),Cotações!$J:$J,0)-1,COLUMN(Banco!D$6)-1))","v":"CHAPA DE ACO GALVANIZADA BITOLA GSG 26, E = 0,50 MM (4,00 KG/M2)"},{"$f":"OFFSET(Cotações!$A$1,MATCH(COUNTIF($H$1:$H117,\"Cotações\"),Cotações!$J:$J,0)-1,COLUMN(Banco!E$6)-1)","v":"KG"},{"$f":"OFFSET(Cotações!$A$1,MATCH(COUNTIF($H$1:$H117,\"Cotações\"),Cotações!$J:$J,0)-1,COLUMN(Banco!F$6)-1)","v":11.35},{"$f":"OFFSET(Cotações!$A$1,MATCH(COUNTIF($H$1:$H117,\"Cotações\"),Cotações!$J:$J,0)-1,COLUMN(Banco!F$6)-1)","v":11.35},"Cotações"]
["Cotação 12575",{"$f":"OFFSET(Cotações!$A$1,MATCH(COUNTIF($H$1:$H118,\"Cotações\"),Cotações!$J:$J,0)-1,COLUMN(Banco!B$6)-1)","v":"Cotação"},{"$f":"OFFSET(Cotações!$A$1,MATCH(COUNTIF($H$1:$H118,\"Cotações\"),Cotações!$J:$J,0)-1,COLUMN(Banco!C$6)-1)","v":"12575"},{"$f":"IF(COUNTIF(OFFSET(Banco!$A$6,1+NCOMPOSICOES,0,NCOTACOES),$A118)>1,\"CÓDIGO REPETIDO\",OFFSET(Cotações!$A$1,MATCH(COUNTIF($H$1:$H118,\"Cotações\"),Cotações!$J:$J,0)-1,COLUMN(Banco!D$6)-1))","v":"TUBO DE CONCRETO ARMADO PARA AGUAS PLUVIAIS, CLASSE PA-3, COM ENCAIXE PONTA E BOLSA, DIAMETRO NOMINAL DE 1500 MM"},{"$f":"OFFSET(Cotações!$A$1,MATCH(COUNTIF($H$1:$H118,\"Cotações\"),Cotações!$J:$J,0)-1,COLUMN(Banco!E$6)-1)","v":"M"},{"$f":"OFFSET(Cotações!$A$1,MATCH(COUNTIF($H$1:$H118,\"Cotações\"),Cotações!$J:$J,0)-1,COLUMN(Banco!F$6)-1)","v":1754.7},{"$f":"OFFSET(Cotações!$A$1,MATCH(COUNTIF($H$1:$H118,\"Cotações\"),Cotações!$J:$J,0)-1,COLUMN(Banco!F$6)-1)","v":1754.7},"Cotações"]
[{"$f":"CONCATENATE($B119,\" \",$C119)","v":"Cotação 21010"},{"$f":"OFFSET(Cotações!$A$1,MATCH(COUNTIF($H$1:$H119,\"Cotações\"),Cotações!$J:$J,0)-1,COLUMN(Banco!B$6)-1)","v":"Cotação"},{"$f":"OFFSET(Cotações!$A$1,MATCH(COUNTIF($H$1:$H119,\"Cotações\"),Cotações!$J:$J,0)-1,COLUMN(Banco!C$6)-1)","v":"21010"},{"$f":"IF(COUNTIF(OFFSET(Banco!$A$6,1+NCOMPOSICOES,0,NCOTACOES),$A119)>1,\"CÓDIGO REPETIDO\",OFFSET(Cotações!$A$1,MATCH(COUNTIF($H$1:$H119,\"Cotações\"),Cotações!$J:$J,0)-1,COLUMN(Banco!D$6)-1))","v":"TUBO ACO GALVANIZADO COM COSTURA, CLASSE LEVE, DN 25 MM (1\"), E = 2,65 MM, *2,11* KG/M (NBR 5580)"},{"$f":"OFFSET(Cotações!$A$1,MATCH(COUNTIF($H$1:$H119,\"Cotações\"),Cotações!$J:$J,0)-1,COLUMN(Banco!E$6)-1)","v":"M"},{"$f":"OFFSET(Cotações!$A$1,MATCH(COUNTIF($H$1:$H119,\"Cotações\"),Cotações!$J:$J,0)-1,COLUMN(Banco!F$6)-1)","v":32.01},{"$f":"OFFSET(Cotações!$A$1,MATCH(COUNTIF($H$1:$H119,\"Cotações\"),Cotações!$J:$J,0)-1,COLUMN(Banco!F$6)-1)","v":32.01},"Cotações"]
["Cotação 21016",{"$f":"OFFSET(Cotações!$A$1,MATCH(COUNTIF($H$1:$H120,\"Cotações\"),Cotações!$J:$J,0)-1,COLUMN(Banco!B$6)-1)","v":"Cotação"},{"$f":"OFFSET(Cotações!$A$1,MATCH(COUNTIF($H$1:$H120,\"Cotações\"),Cotações!$J:$J,0)-1,COLUMN(Banco!C$6)-1)","v":"21016"},{"$f":"IF(COUNTIF(OFFSET(Banco!$A$6,1+NCOMPOSICOES,0,NCOTACOES),$A120)>1,\"CÓDIGO REPETIDO\",OFFSET(Cotações!$A$1,MATCH(COUNTIF($H$1:$H120,\"Cotações\"),Cotações!$J:$J,0)-1,COLUMN(Banco!D$6)-1))","v":"TUBO ACO GALVANIZADO COM COSTURA, CLASSE LEVE, DN 100 MM (4\"), E = 3,75 MM, *10,55* KG/M (NBR 5580)"},{"$f":"OFFSET(Cotações!$A$1,MATCH(COUNTIF($H$1:$H120,\"Cotações\"),Cotações!$J:$J,0)-1,COLUMN(Banco!E$6)-1)","v":"M"},{"$f":"OFFSET(Cotações!$A$1,MATCH(COUNTIF($H$1:$H120,\"Cotações\"),Cotações!$J:$J,0)-1,COLUMN(Banco!F$6)-1)","v":156.74},{"$f":"OFFSET(Cotações!$A$1,MATCH(COUNTIF($H$1:$H120,\"Cotações\"),Cotações!$J:$J,0)-1,COLUMN(Banco!F$6)-1)","v":156.74},"Cotações"]
["Cotação 39017",{"$f":"OFFSET(Cotações!$A$1,MATCH(COUNTIF($H$1:$H121,\"Cotações\"),Cotações!$J:$J,0)-1,COLUMN(Banco!B$6)-1)","v":"Cotação"},{"$f":"OFFSET(Cotações!$A$1,MATCH(COUNTIF($H$1:$H121,\"Cotações\"),Cotações!$J:$J,0)-1,COLUMN(Banco!C$6)-1)","v":"39017"},{"$f":"IF(COUNTIF(OFFSET(Banco!$A$6,1+NCOMPOSICOES,0,NCOTACOES),$A121)>1,\"CÓDIGO REPETIDO\",OFFSET(Cotações!$A$1,MATCH(COUNTIF($H$1:$H121,\"Cotações\"),Cotações!$J:$J,0)-1,COLUMN(Banco!D$6)-1))","v":"ESPACADOR / DISTANCIADOR CIRCULAR COM ENTRADA LATERAL, EM PLASTICO, PARA VERGALHAO *4,2 A 12,5* MM, COBRIMENTO 20 MM"},{"$f":"OFFSET(Cotações!$A$1,MATCH(COUNTIF($H$1:$H121,\"Cotações\"),Cotações!$J:$J,0)-1,COLUMN(Banco!E$6)-1)","v":"UN"},{"$f":"OFFSET(Cotações!$A$1,MATCH(COUNTIF($H$1:$H121,\"Cotações\"),Cotações!$J:$J,0)-1,COLUMN(Banco!F$6)-1)","v":0.22},{"$f":"OFFSET(Cotações!$A$1,MATCH(COUNTIF($H$1:$H121,\"Cotações\"),Cotações!$J:$J,0)-1,COLUMN(Banco!F$6)-1)","v":0.22},"Cotações"]
["Cotação 39995",{"$f":"OFFSET(Cotações!$A$1,MATCH(COUNTIF($H$1:$H122,\"Cotações\"),Cotações!$J:$J,0)-1,COLUMN(Banco!B$6)-1)","v":"Cotação"},{"$f":"OFFSET(Cotações!$A$1,MATCH(COUNTIF($H$1:$H122,\"Cotações\"),Cotações!$J:$J,0)-1,COLUMN(Banco!C$6)-1)","v":"39995"},{"$f":"IF(COUNTIF(OFFSET(Banco!$A$6,1+NCOMPOSICOES,0,NCOTACOES),$A122)>1,\"CÓDIGO REPETIDO\",OFFSET(Cotações!$A$1,MATCH(COUNTIF($H$1:$H122,\"Cotações\"),Cotações!$J:$J,0)-1,COLUMN(Banco!D$6)-1))","v":"POLIESTIRENO EXPANDIDO/EPS (ISOPOR), TIPO 2F, BLOCO"},{"$f":"OFFSET(Cotações!$A$1,MATCH(COUNTIF($H$1:$H122,\"Cotações\"),Cotações!$J:$J,0)-1,COLUMN(Banco!E$6)-1)","v":"M3"},{"$f":"OFFSET(Cotações!$A$1,MATCH(COUNTIF($H$1:$H122,\"Cotações\"),Cotações!$J:$J,0)-1,COLUMN(Banco!F$6)-1)","v":439.92},{"$f":"OFFSET(Cotações!$A$1,MATCH(COUNTIF($H$1:$H122,\"Cotações\"),Cotações!$J:$J,0)-1,COLUMN(Banco!F$6)-1)","v":439.92},"Cotações"]
["Cotação 40535",{"$f":"OFFSET(Cotações!$A$1,MATCH(COUNTIF($H$1:$H123,\"Cotações\"),Cotações!$J:$J,0)-1,COLUMN(Banco!B$6)-1)","v":"Cotação"},{"$f":"OFFSET(Cotações!$A$1,MATCH(COUNTIF($H$1:$H123,\"Cotações\"),Cotações!$J:$J,0)-1,COLUMN(Banco!C$6)-1)","v":"40535"},{"$f":"IF(COUNTIF(OFFSET(Banco!$A$6,1+NCOMPOSICOES,0,NCOTACOES),$A123)>1,\"CÓDIGO REPETIDO\",OFFSET(Cotações!$A$1,MATCH(COUNTIF($H$1:$H123,\"Cotações\"),Cotações!$J:$J,0)-1,COLUMN(Banco!D$6)-1))","v":"PERFIL \"U\" SIMPLES, EM CHAPA DOBRADA DE ACO LAMINADO, E = 2,65 MM, H = 75 MM, L = 40 MM (3,04 KG/M)"},{"$f":"OFFSET(Cotações!$A$1,MATCH(COUNTIF($H$1:$H123,\"Cotações\"),Cotações!$J:$J,0)-1,COLUMN(Banco!E$6)-1)","v":"KG"},{"$f":"OFFSET(Cotações!$A$1,MATCH(COUNTIF($H$1:$H123,\"Cotações\"),Cotações!$J:$J,0)-1,COLUMN(Banco!F$6)-1)","v":8.66},{"$f":"OFFSET(Cotações!$A$1,MATCH(COUNTIF($H$1:$H123,\"Cotações\"),Cotações!$J:$J,0)-1,COLUMN(Banco!F$6)-1)","v":8.66},"Cotações"]
["Cotação 41200",{"$f":"OFFSET(Cotações!$A$1,MATCH(COUNTIF($H$1:$H124,\"Cotações\"),Cotações!$J:$J,0)-1,COLUMN(Banco!B$6)-1)","v":"Cotação"},{"$f":"OFFSET(Cotações!$A$1,MATCH(COUNTIF($H$1:$H124,\"Cotações\"),Cotações!$J:$J,0)-1,COLUMN(Banco!C$6)-1)","v":"41200"},{"$f":"IF(COUNTIF(OFFSET(Banco!$A$6,1+NCOMPOSICOES,0,NCOTACOES),$A124)>1,\"CÓDIGO REPETIDO\",OFFSET(Cotações!$A$1,MATCH(COUNTIF($H$1:$H124,\"Cotações\"),Cotações!$J:$J,0)-1,COLUMN(Banco!D$6)-1))","v":"POSTE DE CONCRETO ARMADO DE SECAO DUPLO T, EXTENSAO DE 10,00 M, RESISTENCIA DE 600 DAN, TIPO B"},{"$f":"OFFSET(Cotações!$A$1,MATCH(COUNTIF($H$1:$H124,\"Cotações\"),Cotações!$J:$J,0)-1,COLUMN(Banco!E$6)-1)","v":"UN"},{"$f":"OFFSET(Cotações!$A$1,MATCH(COUNTIF($H$1:$H124,\"Cotações\"),Cotações!$J:$J,0)-1,COLUMN(Banco!F$6)-1)","v":1382.48},{"$f":"OFFSET(Cotações!$A$1,MATCH(COUNTIF($H$1:$H124,\"Cotações\"),Cotações!$J:$J,0)-1,COLUMN(Banco!F$6)-1)","v":1382.48},"Cotações"]
["Cotação 43106",{"$f":"OFFSET(Cotações!$A$1,MATCH(COUNTIF($H$1:$H125,\"Cotações\"),Cotações!$J:$J,0)-1,COLUMN(Banco!B$6)-1)","v":"Cotação"},{"$f":"OFFSET(Cotações!$A$1,MATCH(COUNTIF($H$1:$H125,\"Cotações\"),Cotações!$J:$J,0)-1,COLUMN(Banco!C$6)-1)","v":"43106"},{"$f":"IF(COUNTIF(OFFSET(Banco!$A$6,1+NCOMPOSICOES,0,NCOTACOES),$A125)>1,\"CÓDIGO REPETIDO\",OFFSET(Cotações!$A$1,MATCH(COUNTIF($H$1:$H125,\"Cotações\"),Cotações!$J:$J,0)-1,COLUMN(Banco!D$6)-1))","v":"CHAPA DE ACO GALVANIZADA BITOLA GSG 24, E = 0,64 (5,12 KG/M2)"},{"$f":"OFFSET(Cotações!$A$1,MATCH(COUNTIF($H$1:$H125,\"Cotações\"),Cotações!$J:$J,0)-1,COLUMN(Banco!E$6)-1)","v":"KG"},{"$f":"OFFSET(Cotações!$A$1,MATCH(COUNTIF($H$1:$H125,\"Cotações\"),Cotações!$J:$J,0)-1,COLUMN(Banco!F$6)-1)","v":10.87},{"$f":"OFFSET(Cotações!$A$1,MATCH(COUNTIF($H$1:$H125,\"Cotações\"),Cotações!$J:$J,0)-1,COLUMN(Banco!F$6)-1)","v":10.87},"Cotações"]
["Cotação 43692",{"$f":"OFFSET(Cotações!$A$1,MATCH(COUNTIF($H$1:$H126,\"Cotações\"),Cotações!$J:$J,0)-1,COLUMN(Banco!B$6)-1)","v":"Cotação"},{"$f":"OFFSET(Cotações!$A$1,MATCH(COUNTIF($H$1:$H126,\"Cotações\"),Cotações!$J:$J,0)-1,COLUMN(Banco!C$6)-1)","v":"43692"},{"$f":"IF(COUNTIF(OFFSET(Banco!$A$6,1+NCOMPOSICOES,0,NCOTACOES),$A126)>1,\"CÓDIGO REPETIDO\",OFFSET(Cotações!$A$1,MATCH(COUNTIF($H$1:$H126,\"Cotações\"),Cotações!$J:$J,0)-1,COLUMN(Banco!D$6)-1))","v":"PERFIL \"U\" SIMPLES, EM CHAPA DOBRADA DE ACO LAMINADO, E = 3 MM, H = 200 MM, L = 50 MM (6,83 KG/M)"},{"$f":"OFFSET(Cotações!$A$1,MATCH(COUNTIF($H$1:$H126,\"Cotações\"),Cotações!$J:$J,0)-1,COLUMN(Banco!E$6)-1)","v":"KG"},{"$f":"OFFSET(Cotações!$A$1,MATCH(COUNTIF($H$1:$H126,\"Cotações\"),Cotações!$J:$J,0)-1,COLUMN(Banco!F$6)-1)","v":9.1199999999999992},{"$f":"OFFSET(Cotações!$A$1,MATCH(COUNTIF($H$1:$H126,\"Cotações\"),Cotações!$J:$J,0)-1,COLUMN(Banco!F$6)-1)","v":9.1199999999999992},"Cotações"]
["Cotação 100737",{"$f":"OFFSET(Cotações!$A$1,MATCH(COUNTIF($H$1:$H127,\"Cotações\"),Cotações!$J:$J,0)-1,COLUMN(Banco!B$6)-1)","v":"Cotação"},{"$f":"OFFSET(Cotações!$A$1,MATCH(COUNTIF($H$1:$H127,\"Cotações\"),Cotações!$J:$J,0)-1,COLUMN(Banco!C$6)-1)","v":"100737"},{"$f":"IF(COUNTIF(OFFSET(Banco!$A$6,1+NCOMPOSICOES,0,NCOTACOES),$A127)>1,\"CÓDIGO REPETIDO\",OFFSET(Cotações!$A$1,MATCH(COUNTIF($H$1:$H127,\"Cotações\"),Cotações!$J:$J,0)-1,COLUMN(Banco!D$6)-1))","v":"PINTURA COM TINTA POLIURETÂNICA DE ACABAMENTO PULVERIZADA SOBRE PERFIL METÁLICO EXECUTADO EM FÁBRICA (POR DEMÃO). AF_01/2020"},{"$f":"OFFSET(Cotações!$A$1,MATCH(COUNTIF($H$1:$H127,\"Cotações\"),Cotações!$J:$J,0)-1,COLUMN(Banco!E$6)-1)","v":"M2"},{"$f":"OFFSET(Cotações!$A$1,MATCH(COUNTIF($H$1:$H127,\"Cotações\"),Cotações!$J:$J,0)-1,COLUMN(Banco!F$6)-1)","v":56.89},{"$f":"OFFSET(Cotações!$A$1,MATCH(COUNTIF($H$1:$H127,\"Cotações\"),Cotações!$J:$J,0)-1,COLUMN(Banco!F$6)-1)","v":56.89},"Cotações"]
["Cotação I.URBA.0097.01",{"$f":"OFFSET(Cotações!$A$1,MATCH(COUNTIF($H$1:$H128,\"Cotações\"),Cotações!$J:$J,0)-1,COLUMN(Banco!B$6)-1)","v":"Cotação"},{"$f":"OFFSET(Cotações!$A$1,MATCH(COUNTIF($H$1:$H128,\"Cotações\"),Cotações!$J:$J,0)-1,COLUMN(Banco!C$6)-1)","v":"I.URBA.0097.01"},{"$f":"IF(COUNTIF(OFFSET(Banco!$A$6,1+NCOMPOSICOES,0,NCOTACOES),$A128)>1,\"CÓDIGO REPETIDO\",OFFSET(Cotações!$A$1,MATCH(COUNTIF($H$1:$H128,\"Cotações\"),Cotações!$J:$J,0)-1,COLUMN(Banco!D$6)-1))","v":"TELA METÁLICA GALVANIZADA FIO 18, MALHA 19 MM REVESTIDO PVC"},{"$f":"OFFSET(Cotações!$A$1,MATCH(COUNTIF($H$1:$H128,\"Cotações\"),Cotações!$J:$J,0)-1,COLUMN(Banco!E$6)-1)","v":"M2"},{"$f":"OFFSET(Cotações!$A$1,MATCH(COUNTIF($H$1:$H128,\"Cotações\"),Cotações!$J:$J,0)-1,COLUMN(Banco!F$6)-1)","v":83.33},{"$f":"OFFSET(Cotações!$A$1,MATCH(COUNTIF($H$1:$H128,\"Cotações\"),Cotações!$J:$J,0)-1,COLUMN(Banco!F$6)-1)","v":83.33},"Cotações"]
[{"$f":"CONCATENATE($B129,\" \",$C129)","v":"SINAPI-I 45333"},"SINAPI-I",45333,"ABERTURA PARA ENCAIXE DE CUBA OU LAVATORIO EM BANCADA DE MARMORE/ GRANITO OU OUTRO TIPO DE PEDRA NATURAL","UN",163.47999999999999,163.47999999999999,null,"CR"]
["SINAPI-I 11270","SINAPI-I",11270,"ABRACADEIRA DE LATAO PARA FIXACAO DE CABO PARA-RAIO, DIMENSOES 32 X 24 X 24 MM","UN",2.34,2.34,null,"CR"]
["SINAPI-I 412","SINAPI-I",412,"ABRACADEIRA DE NYLON PARA AMARRACAO DE CABOS, COMPRIMENTO DE *230* X *7,6* MM","UN",1.08,1.08,null,"CR"]
["SINAPI-I 414","SINAPI-I",414,"ABRACADEIRA DE NYLON PARA AMARRACAO DE CABOS, COMPRIMENTO DE 100 X 2,5 MM","UN",0.06,0.06,null,"CR"]
["SINAPI-I 410","SINAPI-I",410,"ABRACADEIRA DE NYLON PARA AMARRACAO DE CABOS, COMPRIMENTO DE 150 X *3,6* MM","UN",0.16,0.16,null,"CR"]
["SINAPI-I 411","SINAPI-I",411,"ABRACADEIRA DE NYLON PARA AMARRACAO DE CABOS, COMPRIMENTO DE 200 X *4,6* MM","UN",0.21,0.21,null,"C"]
["SINAPI-I 408","SINAPI-I",408,"ABRACADEIRA DE NYLON PARA AMARRACAO DE CABOS, COMPRIMENTO DE 390 X *4,6* MM","UN",1.04,1.04,null,"CR"]
["SINAPI-I 39131","SINAPI-I",39131,"ABRACADEIRA EM ACO PARA AMARRACAO DE ELETRODUTOS, TIPO D, COM 1 1/2\" E CUNHA DE FIXACAO","UN",4.59,4.59,null,"CR"]
["SINAPI-I 394","SINAPI-I",394,"ABRACADEIRA EM ACO PARA AMARRACAO DE ELETRODUTOS, TIPO D, COM 1 1/2\" E PARAFUSO DE FIXACAO","UN",4.6500000000000004,4.6500000000000004,null,"CR"]
["SINAPI-I 39130","SINAPI-I",39130,"ABRACADEIRA EM ACO PARA AMARRACAO DE ELETRODUTOS, TIPO D, COM 1 1/4\" E CUNHA DE FIXACAO","UN",4.1900000000000004,4.1900000000000004,null,"CR"]
["SINAPI-I 395","SINAPI-I",395,"ABRACADEIRA EM ACO PARA AMARRACAO DE ELETRODUTOS, TIPO D, COM 1 1/4\" E PARAFUSO DE FIXACAO","UN",4.4800000000000004,4.4800000000000004,null,"CR"]
["SINAPI-I 39129","SINAPI-I",39129,"ABRACADEIRA EM ACO PARA AMARRACAO DE ELETRODUTOS, TIPO D, COM 1\" E CUNHA DE FIXACAO","UN",2.58,2.58,null,"CR"]
["SINAPI-I 393","SINAPI-I",393,"ABRACADEIRA EM ACO PARA AMARRACAO DE ELETRODUTOS, TIPO D, COM 1\" E PARAFUSO DE FIXACAO","UN",2.7,2.7,null,"C"]
["SINAPI-I 39127","SINAPI-I",39127,"ABRACADEIRA EM ACO PARA AMARRACAO DE ELETRODUTOS, TIPO D, COM 1/2\" E CUNHA DE FIXACAO","UN",2.21,2.21,null,"CR"]
["SINAPI-I 392","SINAPI-I",392,"ABRACADEIRA EM ACO PARA AMARRACAO DE ELETRODUTOS, TIPO D, COM 1/2\" E PARAFUSO DE FIXACAO","UN",2.2599999999999998,2.2599999999999998,null,"CR"]
["SINAPI-I 39133","SINAPI-I",39133,"ABRACADEIRA EM ACO PARA AMARRACAO DE ELETRODUTOS, TIPO D, COM 2 1/2\" E CUNHA DE FIXACAO","UN",6.03,6.03,null,"CR"]
["SINAPI-I 397","SINAPI-I",397,"ABRACADEIRA EM ACO PARA AMARRACAO DE ELETRODUTOS, TIPO D, COM 2 1/2\" E PARAFUSO DE FIXACAO","UN",6.66,6.66,null,"CR"]
["SINAPI-I 39132","SINAPI-I",39132,"ABRACADEIRA EM ACO PARA AMARRACAO DE ELETRODUTOS, TIPO D, COM 2\" E CUNHA DE FIXACAO","UN",4.82,4.82,null,"CR"]
["SINAPI-I 396","SINAPI-I",396,"ABRACADEIRA EM ACO PARA AMARRACAO DE ELETRODUTOS, TIPO D, COM 2\" E PARAFUSO DE FIXACAO","UN",5.17,5.17,null,"CR"]
["SINAPI-I 39135","SINAPI-I",39135,"ABRACADEIRA EM ACO PARA AMARRACAO DE ELETRODUTOS, TIPO D, COM 3 1/2\" E CUNHA DE FIXACAO","UN",9.65,9.65,null,"CR"]
["SINAPI-I 39134","SINAPI-I",39134,"ABRACADEIRA EM ACO PARA AMARRACAO DE ELETRODUTOS, TIPO D, COM 3\" E CUNHA DE FIXACAO","UN",8.0399999999999991,8.0399999999999991,null,"CR"]
["SINAPI-I 398","SINAPI-I",398,"ABRACADEIRA EM ACO PARA AMARRACAO DE ELETRODUTOS, TIPO D, COM 3\" E PARAFUSO DE FIXACAO","UN",7.41,7.41,null,"CR"]
["SINAPI-I 39128","SINAPI-I",39128,"ABRACADEIRA EM ACO PARA AMARRACAO DE ELETRODUTOS, TIPO D, COM 3/4\" E CUNHA DE FIXACAO","UN",2.41,2.41,null,"CR"]
["SINAPI-I 400","SINAPI-I",400,"ABRACADEIRA EM ACO PARA AMARRACAO DE ELETRODUTOS, TIPO D, COM 3/4\" E PARAFUSO DE FIXACAO","UN",2.35,2.35,null,"CR"]
["SINAPI-I 39125","SINAPI-I",39125,"ABRACADEIRA EM ACO PARA AMARRACAO DE ELETRODUTOS, TIPO D, COM 3/8\" E PARAFUSO DE FIXACAO","UN",2.41,2.41,null,"CR"]
["SINAPI-I 39126","SINAPI-I",39126,"ABRACADEIRA EM ACO PARA AMARRACAO DE ELETRODUTOS, TIPO D, COM 4\" E CUNHA DE FIXACAO","UN",10.85,10.85,null,"CR"]
["SINAPI-I 399","SINAPI-I",399,"ABRACADEIRA EM ACO PARA AMARRACAO DE ELETRODUTOS, TIPO D, COM 4\" E PARAFUSO DE FIXACAO","UN",9.56,9.56,null,"CR"]
["SINAPI-I 39158","SINAPI-I",39158,"ABRACADEIRA EM ACO PARA AMARRACAO DE ELETRODUTOS, TIPO ECONOMICA (GOTA), COM 8\"","UN",25.67,25.67,null,"CR"]
["SINAPI-I 39141","SINAPI-I",39141,"ABRACADEIRA EM ACO PARA AMARRACAO DE ELETRODUTOS, TIPO U SIMPLES, COM 1 1/2\"","UN",1.86,1.86,null,"CR"]
["SINAPI-I 39140","SINAPI-I",39140,"ABRACADEIRA EM ACO PARA AMARRACAO DE ELETRODUTOS, TIPO U SIMPLES, COM 1 1/4\"","UN",1.69,1.69,null,"CR"]
["SINAPI-I 39139","SINAPI-I",39139,"ABRACADEIRA EM ACO PARA AMARRACAO DE ELETRODUTOS, TIPO U SIMPLES, COM 1\"","UN",1.4,1.4,null,"CR"]
["SINAPI-I 39137","SINAPI-I",39137,"ABRACADEIRA EM ACO PARA AMARRACAO DE ELETRODUTOS, TIPO U SIMPLES, COM 1/2\"","UN",0.97,0.97,null,"CR"]
["SINAPI-I 39143","SINAPI-I",39143,"ABRACADEIRA EM ACO PARA AMARRACAO DE ELETRODUTOS, TIPO U SIMPLES, COM 2 1/2\"","UN",3.84,3.84,null,"CR"]
["SINAPI-I 39142","SINAPI-I",39142,"ABRACADEIRA EM ACO PARA AMARRACAO DE ELETRODUTOS, TIPO U SIMPLES, COM 2\"","UN",2.75,2.75,null,"CR"]
["SINAPI-I 39144","SINAPI-I",39144,"ABRACADEIRA EM ACO PARA AMARRACAO DE ELETRODUTOS, TIPO U SIMPLES, COM 3\"","UN",4.4800000000000004,4.4800000000000004,null,"CR"]
["SINAPI-I 39138","SINAPI-I",39138,"ABRACADEIRA EM ACO PARA AMARRACAO DE ELETRODUTOS, TIPO U SIMPLES, COM 3/4\"","UN",1.03,1.03,null,"CR"]
["SINAPI-I 39136","SINAPI-I",39136,"ABRACADEIRA EM ACO PARA AMARRACAO DE ELETRODUTOS, TIPO U SIMPLES, COM 3/8\"","UN",0.68,0.68,null,"CR"]
["SINAPI-I 39145","SINAPI-I",39145,"ABRACADEIRA EM ACO PARA AMARRACAO DE ELETRODUTOS, TIPO U SIMPLES, COM 4\"","UN",7.38,7.38,null,"CR"]
["SINAPI-I 12615","SINAPI-I",12615,"ABRACADEIRA PVC, PARA CALHA PLUVIAL, DIAMETRO ENTRE *80 E 100* MM, PARA DRENAGEM PLUVIAL PREDIAL","UN",12.06,12.06,null,"CR"]
["SINAPI-I 11927","SINAPI-I",11927,"ABRACADEIRA, GALVANIZADA/ZINCADA, ROSCA SEM FIM, PARAFUSO INOX, LARGURA FITA *12,6 A *14 MM, D = 2\" A 2 1/2\"","UN",6.98,6.98,null,"CR"]
["SINAPI-I 11928","SINAPI-I",11928,"ABRACADEIRA, GALVANIZADA/ZINCADA, ROSCA SEM FIM, PARAFUSO INOX, LARGURA FITA *12,6 A *14 MM, D = 3\" A 3 3/4\"","UN",8,8,null,"CR"]
["SINAPI-I 11929","SINAPI-I",11929,"ABRACADEIRA, GALVANIZADA/ZINCADA, ROSCA SEM FIM, PARAFUSO INOX, LARGURA FITA *12,6 A *14 MM, D = 4\" A 4 3/4\"","UN",12.37,12.37,null,"CR"]
["SINAPI-I 36801","SINAPI-I",36801,"ACABAMENTO DE METAL CROMADO PARA REGISTRO PEQUENO, DE PAREDE, 1/2\" OU 3/4\"","UN",32.549999999999997,32.549999999999997,null,"CR"]
["SINAPI-I 36246","SINAPI-I",36246,"ACABAMENTO SIMPLES/CONVENCIONAL PARA FORRO PVC, TIPO \"U\" OU \"C\", COR BRANCA, COMPRIMENTO 6 M","M",4.91,4.91,null,"CR"]
["SINAPI-I 37600","SINAPI-I",37600,"ACESSORIO DE LIGACAO NAO ELETRICO PARA CARGAS EXPLOSIVAS, TUBO DE 6 M","UN"]
["SINAPI-I 37599","SINAPI-I",37599,"ACESSORIO INICIADOR NAO ELETRICO, TUBO DE 6 M, TEMPO DE RETARDO DE *160* MS","UN"]
["SINAPI-I 1","SINAPI-I",1,"ACETILENO - RECARGA DE GAS PARA CILINDRO (NAO INCLUI TROCA/MANUTENCAO DO CILINDRO)","KG",100,100,null,"C"]
["SINAPI-I 3","SINAPI-I",3,"ACIDO CLORIDRICO / ACIDO MURIATICO, DILUICAO 10% A 12% PARA USO EM LIMPEZA","L",16.079999999999998,16.079999999999998,null,"CR"]
["SINAPI-I 43054","SINAPI-I",43054,"ACO CA-25, 10,0 MM, OU 12,5 MM, OU 16,0 MM, OU 20,0 MM, OU 25,0 MM, VERGALHAO","KG",8.6199999999999992,8.6199999999999992,null,"CR"]
["SINAPI-I 42402","SINAPI-I",42402,"ACO CA-25, 16,0 MM, BARRA DE TRANSFERENCIA","KG",8.24,8.24,null,"CR"]
["SINAPI-I 42403","SINAPI-I",42403,"ACO CA-25, 20,0 MM, BARRA DE TRANSFERENCIA","KG",10.57,10.57,null,"CR"]
["SINAPI-I 42404","SINAPI-I",42404,"ACO CA-25, 25,0 MM, BARRA DE TRANSFERENCIA","KG",10.51,10.51,null,"CR"]
["SINAPI-I 42405","SINAPI-I",42405,"ACO CA-25, 32,0 MM, BARRA DE TRANSFERENCIA","KG",11.19,11.19,null,"CR"]
["SINAPI-I 34341","SINAPI-I",34341,"ACO CA-25, 32,0 MM, VERGALHAO","KG",9.7200000000000006,9.7200000000000006,null,"CR"]
["SINAPI-I 43053","SINAPI-I",43053,"ACO CA-25, 6,3 MM OU 8,0 MM, VERGALHAO","KG",7.7,7.7,null,"CR"]
["SINAPI-I 43058","SINAPI-I",43058,"ACO CA-50, 10,0 MM, OU 12,5 MM, OU 16,0 MM, OU 20,0 MM, DOBRADO E CORTADO","KG",7.98,7.98,null,"CR"]
["SINAPI-I 34","SINAPI-I",34,"ACO CA-50, 10,0 MM, VERGALHAO","KG",8.02,8.02,null,"CR"]
["SINAPI-I 43055","SINAPI-I",43055,"ACO CA-50, 12,5 MM OU 16,0 MM, VERGALHAO","KG",6.95,6.95,null,"C"]
["SINAPI-I 43056","SINAPI-I",43056,"ACO CA-50, 20,0 MM OU 25,0 MM, VERGALHAO","KG",8.01,8.01,null,"CR"]
["SINAPI-I 43057","SINAPI-I",43057,"ACO CA-50, 32,0 MM, VERGALHAO","KG",8.8000000000000007,8.8000000000000007,null,"CR"]
["SINAPI-I 34449","SINAPI-I",34449,"ACO CA-50, 6,3 MM, DOBRADO E CORTADO","KG",9.41,9.41,null,"CR"]
["SINAPI-I 32","SINAPI-I",32,"ACO CA-50, 6,3 MM, VERGALHAO","KG",8.4600000000000009,8.4600000000000009,null,"CR"]
["SINAPI-I 33","SINAPI-I",33,"ACO CA-50, 8,0 MM, VERGALHAO","KG",8.51,8.51,null,"CR"]
["SINAPI-I 43061","SINAPI-I",43061,"ACO CA-60, 4,2 MM OU 5,0 MM, DOBRADO E CORTADO","KG",7.95,7.95,null,"CR"]
[{"$f":"CONCATENATE($B193,\" \",$C193)","v":"SINAPI-I 43059"},"SINAPI-I",43059,"ACO CA-60, 4,2 MM, OU 5,0 MM, OU 6,0 MM, OU 7,0 MM, VERGALHAO","KG",7.59,7.59,null,"CR"]
["SINAPI-I 43062","SINAPI-I",43062,"ACO CA-60, 6,0 MM OU 7,0 MM, DOBRADO E CORTADO","KG",8.41,8.41,null,"CR"]
["SINAPI-I 43060","SINAPI-I",43060,"ACO CA-60, 8,0 MM OU 9,5 MM, VERGALHAO","KG",6.61,6.61,null,"CR"]
["SINAPI-I 40410","SINAPI-I",40410,"ACOPLAMENTO RIGIDO EM FERRO FUNDIDO PARA SISTEMA DE TUBULACAO RANHURADA, DN 50 MM (2\")","UN"]
["SINAPI-I 40411","SINAPI-I",40411,"ACOPLAMENTO RIGIDO EM FERRO FUNDIDO PARA SISTEMA DE TUBULACAO RANHURADA, DN 65 MM (2 1/2\")","UN"]
["SINAPI-I 40412","SINAPI-I",40412,"ACOPLAMENTO RIGIDO EM FERRO FUNDIDO PARA SISTEMA DE TUBULACAO RANHURADA, DN 80 MM (3\")","UN"]
["SINAPI-I 44254","SINAPI-I",44254,"ADAPTADOR CPVC, ROSCAVEL, COM FLANGES E ANEL DE VEDACAO, 15 MM, CAIXA D'AGUA PARA AGUA QUENTE","UN",30.09,30.09,null,"CR"]
["SINAPI-I 44255","SINAPI-I",44255,"ADAPTADOR CPVC, ROSCAVEL, COM FLANGES E ANEL DE VEDACAO, 22 MM, CAIXA D'AGUA PARA AGUA QUENTE","UN",33.35,33.35,null,"CR"]
["SINAPI-I 44256","SINAPI-I",44256,"ADAPTADOR CPVC, ROSCAVEL, COM FLANGES E ANEL DE VEDACAO, 28 MM, CAIXA D'AGUA PARA AGUA QUENTE","UN",37.659999999999997,37.659999999999997,null,"CR"]
["SINAPI-I 44257","SINAPI-I",44257,"ADAPTADOR CPVC, ROSCAVEL, COM FLANGES E ANEL DE VEDACAO, 35 MM, CAIXA D'AGUA PARA AGUA QUENTE","UN",59.59,59.59,null,"CR"]
["SINAPI-I 44258","SINAPI-I",44258,"ADAPTADOR CPVC, ROSCAVEL, COM FLANGES E ANEL DE VEDACAO, 42 MM, CAIXA D'AGUA PARA AGUA QUENTE","UN",68.099999999999994,68.099999999999994,null,"CR"]
["SINAPI-I 44259","SINAPI-I",44259,"ADAPTADOR CPVC, ROSCAVEL, COM FLANGES E ANEL DE VEDACAO, 54 MM, CAIXA D'AGUA PARA AGUA QUENTE","UN",93.48,93.48,null,"CR"]
["SINAPI-I 37997","SINAPI-I",37997,"ADAPTADOR CPVC, SOLDAVEL, 15 MM, PARA AGUA QUENTE","UN",17.93,17.93,null,"CR"]
["SINAPI-I 37998","SINAPI-I",37998,"ADAPTADOR CPVC, SOLDAVEL, 22 MM, PARA AGUA QUENTE","UN",23.99,23.99,null,"CR"]
["SINAPI-I 55","SINAPI-I",55,"ADAPTADOR DE COMPRESSAO EM POLIPROPILENO (PP), PARA TUBO EM PEAD, 20 MM X 1/2\", PARA LIGACAO PREDIAL DE AGUA (NTS 179)","UN"]
["SINAPI-I 61","SINAPI-I",61,"ADAPTADOR DE COMPRESSAO EM POLIPROPILENO (PP), PARA TUBO EM PEAD, 20 MM X 3/4\", PARA LIGACAO PREDIAL DE AGUA (NTS 179)","UN"]
["SINAPI-I 62","SINAPI-I",62,"ADAPTADOR DE COMPRESSAO EM POLIPROPILENO (PP), PARA TUBO EM PEAD, 32 MM X 1\", PARA LIGACAO PREDIAL DE AGUA (NTS 179)","UN"]
["SINAPI-I 10899","SINAPI-I",10899,"ADAPTADOR EM LATAO, ENGATE RAPIDO 2 1/2\" X ROSCA INTERNA 5 FIOS 2 1/2\", PARA INSTALACAO PREDIAL DE COMBATE A INCENDIO","UN",125.29,125.29,null,"CR"]
["SINAPI-I 10900","SINAPI-I",10900,"ADAPTADOR EM LATAO, ENGATE RAPIDO1 1/2\" X ROSCA INTERNA 5 FIOS 2 1/2\", PARA INSTALACAO PREDIAL DE COMBATE A INCENDIO","UN",98.05,98.05,null,"CR"]
["SINAPI-I 47","SINAPI-I",47,"ADAPTADOR PVC PBA, BOLSA/ROSCA, JE, DN 100 / DE 110 MM","UN"]
["SINAPI-I 48","SINAPI-I",48,"ADAPTADOR PVC PBA, BOLSA/ROSCA, JE, DN 50 / DE 60 MM","UN"]
["SINAPI-I 46","SINAPI-I",46,"ADAPTADOR PVC PBA, BOLSA/ROSCA, JE, DN 75 / DE 85 MM","UN"]
["SINAPI-I 52","SINAPI-I",52,"ADAPTADOR PVC PBA, PONTA/ROSCA, JE, DN 50 / DE 60 MM","UN"]
["SINAPI-I 43","SINAPI-I",43,"ADAPTADOR PVC PBA, PONTA/ROSCA, JE, DN 75 / DE 85 MM","UN"]
["SINAPI-I 103","SINAPI-I",103,"ADAPTADOR PVC SOLDAVEL CURTO COM BOLSA E ROSCA, 110 MM X 4\", PARA AGUA FRIA","UN",40.1,40.1,null,"CR"]
["SINAPI-I 107","SINAPI-I",107,"ADAPTADOR PVC SOLDAVEL CURTO COM BOLSA E ROSCA, 20 MM X 1/2\", PARA AGUA FRIA","UN",0.75,0.75,null,"CR"]
["SINAPI-I 65","SINAPI-I",65,"ADAPTADOR PVC SOLDAVEL CURTO COM BOLSA E ROSCA, 25 MM X 3/4\", PARA AGUA FRIA","UN",0.82,0.82,null,"CR"]
["SINAPI-I 108","SINAPI-I",108,"ADAPTADOR PVC SOLDAVEL CURTO COM BOLSA E ROSCA, 32 MM X 1\", PARA AGUA FRIA","UN",1.66,1.66,null,"CR"]
["SINAPI-I 110","SINAPI-I",110,"ADAPTADOR PVC SOLDAVEL CURTO COM BOLSA E ROSCA, 40 MM X 1 1/2\", PARA AGUA FRIA","UN",5.77,5.77,null,"CR"]
["SINAPI-I 109","SINAPI-I",109,"ADAPTADOR PVC SOLDAVEL CURTO COM BOLSA E ROSCA, 40 MM X 1 1/4\", PARA AGUA FRIA","UN",3.43,3.43,null,"CR"]
["SINAPI-I 111","SINAPI-I",111,"ADAPTADOR PVC SOLDAVEL CURTO COM BOLSA E ROSCA, 50 MM X 1 1/4\", PARA AGUA FRIA","UN",7.8,7.8,null,"CR"]
["SINAPI-I 112","SINAPI-I",112,"ADAPTADOR PVC SOLDAVEL CURTO COM BOLSA E ROSCA, 50 MM X1 1/2\", PARA AGUA FRIA","UN",4.13,4.13,null,"CR"]
["SINAPI-I 113","SINAPI-I",113,"ADAPTADOR PVC SOLDAVEL CURTO COM BOLSA E ROSCA, 60 MM X 2\", PARA AGUA FRIA","UN",10.35,10.35,null,"CR"]
["SINAPI-I 104","SINAPI-I",104,"ADAPTADOR PVC SOLDAVEL CURTO COM BOLSA E ROSCA, 75 MM X 2 1/2\", PARA AGUA FRIA","UN",18.02,18.02,null,"CR"]
["SINAPI-I 102","SINAPI-I",102,"ADAPTADOR PVC SOLDAVEL CURTO COM BOLSA E ROSCA, 85 MM X 3\", PARA AGUA FRIA","UN",24.85,24.85,null,"CR"]
["SINAPI-I 95","SINAPI-I",95,"ADAPTADOR PVC SOLDAVEL, COM FLANGE E ANEL DE VEDACAO, 20 MM X 1/2\", PARA CAIXA D'AGUA","UN",10.5,10.5,null,"CR"]
["SINAPI-I 96","SINAPI-I",96,"ADAPTADOR PVC SOLDAVEL, COM FLANGE E ANEL DE VEDACAO, 25 MM X 3/4\", PARA CAIXA D'AGUA","UN",11.42,11.42,null,"CR"]
["SINAPI-I 97","SINAPI-I",97,"ADAPTADOR PVC SOLDAVEL, COM FLANGE E ANEL DE VEDACAO, 32 MM X 1\", PARA CAIXA D'AGUA","UN",17.18,17.18,null,"CR"]
["SINAPI-I 98","SINAPI-I",98,"ADAPTADOR PVC SOLDAVEL, COM FLANGE E ANEL DE VEDACAO, 40 MM X 1 1/4\", PARA CAIXA D'AGUA","UN",25.72,25.72,null,"CR"]
["SINAPI-I 99","SINAPI-I",99,"ADAPTADOR PVC SOLDAVEL, COM FLANGE E ANEL DE VEDACAO, 50 MM X 1 1/2\", PARA CAIXA D'AGUA","UN",24.31,24.31,null,"CR"]
["SINAPI-I 60","SINAPI-I",60,"ADAPTADOR PVC, COM REGISTRO, PARA PEAD, 20 MM X 3/4\", PARA LIGACAO PREDIAL DE AGUA","UN"]
["SINAPI-I 72","SINAPI-I",72,"ADAPTADOR PVC, ROSCAVEL, COM FLANGES E ANEL DE VEDACAO, 1 1/2\", PARA CAIXA D'AGUA","UN",46.62,46.62,null,"CR"]
["SINAPI-I 71","SINAPI-I",71,"ADAPTADOR PVC, ROSCAVEL, COM FLANGES E ANEL DE VEDACAO, 1\", PARA CAIXA D'AGUA","UN",28.79,28.79,null,"CR"]
["SINAPI-I 67","SINAPI-I",67,"ADAPTADOR PVC, ROSCAVEL, COM FLANGES E ANEL DE VEDACAO, 1/2\", PARA CAIXA D'AGUA","UN",15.07,15.07,null,"CR"]
["SINAPI-I 73","SINAPI-I",73,"ADAPTADOR PVC, ROSCAVEL, COM FLANGES E ANEL DE VEDACAO, 3/4\", PARA CAIXA D'AGUA","UN",14.42,14.42,null,"CR"]
["SINAPI-I 100","SINAPI-I",100,"ADAPTADOR PVC, SOLDAVEL, COM FLANGES E ANEL DE VEDACAO, 60 MM X 2\", PARA CAIXA D'AGUA","UN",42.47,42.47,null,"CR"]
["SINAPI-I 75","SINAPI-I",75,"ADAPTADOR PVC, SOLDAVEL, COM FLANGES LIVRES, 110 MM X 4\", PARA CAIXA D'AGUA","UN",247.63,247.63,null,"CR"]
["SINAPI-I 83","SINAPI-I",83,"ADAPTADOR PVC, SOLDAVEL, COM FLANGES LIVRES, 75 MM X 2 1/2\", PARA CAIXA D'AGUA","UN",197.97,197.97,null,"CR"]
["SINAPI-I 74","SINAPI-I",74,"ADAPTADOR PVC, SOLDAVEL, COM FLANGES LIVRES, 85 MM X 3\", PARA CAIXA D'AGUA","UN",283.05,283.05,null,"CR"]
["SINAPI-I 106","SINAPI-I",106,"ADAPTADOR PVC, SOLDAVEL, LONGO, COM FLANGE LIVRE, 110 MM X 4\", PARA CAIXA D'AGUA","UN",357.93,357.93,null,"CR"]
["SINAPI-I 88","SINAPI-I",88,"ADAPTADOR PVC, SOLDAVEL, LONGO, COM FLANGE LIVRE, 32 MM X 1\", PARA CAIXA D'AGUA","UN",10.06,10.06,null,"CR"]
["SINAPI-I 82","SINAPI-I",82,"ADAPTADOR PVC, SOLDAVEL, LONGO, COM FLANGE LIVRE, 75 MM X 2 1/2\", PARA CAIXA D'AGUA","UN",188.36,188.36,null,"CR"]
["SINAPI-I 105","SINAPI-I",105,"ADAPTADOR PVC, SOLDAVEL, LONGO, COM FLANGE LIVRE, 85 MM X 3\", PARA CAIXA D'AGUA","UN",266.89999999999998,266.89999999999998,null,"CR"]
["SINAPI-I 39719","SINAPI-I",39719,"ADESIVO / COLA DE CONTATO LIQUIDO, A BASE DE RESINAS, PARA COLAGEM DE ESPUMA PARA ISOLAMENTO TERMICO FLEXIVEL","L",191.15,191.15,null,"CR"]
["SINAPI-I 3410","SINAPI-I",3410,"ADESIVO / COLA PARA EPS (ISOPOR) E OUTROS MATERIAIS","KG",43,43,null,"CR"]
["SINAPI-I 4791","SINAPI-I",4791,"ADESIVO ACRILICO DE BASE AQUOSA / COLA DE CONTATO","KG",37.090000000000003,37.090000000000003,null,"CR"]
["SINAPI-I 157","SINAPI-I",157,"ADESIVO ESTRUTURAL A BASE DE RESINA EPOXI PARA INJECAO EM TRINCAS, BICOMPONENTE, BAIXA VISCOSIDADE","KG",136.76,136.76,null,"CR"]
["SINAPI-I 156","SINAPI-I",156,"ADESIVO ESTRUTURAL A BASE DE RESINA EPOXI, BICOMPONENTE, FLUIDO","KG",48.69,48.69,null,"CR"]
["SINAPI-I 131","SINAPI-I",131,"ADESIVO ESTRUTURAL A BASE DE RESINA EPOXI, BICOMPONENTE, PASTOSO (TIXOTROPICO)","KG",41.64,41.64,null,"CR"]
["SINAPI-I 21114","SINAPI-I",21114,"ADESIVO PARA TUBOS CPVC, *75* G","UN",37.68,37.68,null,"CR"]
["SINAPI-I 119","SINAPI-I",119,"ADESIVO PLASTICO PARA PVC, BISNAGA COM 75 GR","UN",9.5500000000000007,9.5500000000000007,null,"C"]
["SINAPI-I 122","SINAPI-I",122,"ADESIVO PLASTICO PARA PVC, FRASCO COM *850* GR","UN",73.48,73.48,null,"CR"]
["SINAPI-I 20080","SINAPI-I",20080,"ADESIVO PLASTICO PARA PVC, FRASCO COM 175 GR","UN",23.98,23.98,null,"CR"]
["SINAPI-I 124","SINAPI-I",124,"ADITIVO ACELERADOR DE PEGA E ENDURECIMENTO PARA ARGAMASSAS E CONCRETOS, LIQUIDO E ISENTO DE CLORETOS","L",16.059999999999999,16.059999999999999,null,"CR"]
[{"$f":"CONCATENATE($B257,\" \",$C257)","v":"SINAPI-I 7334"},"SINAPI-I",7334,"ADITIVO ADESIVO LIQUIDO PARA ARGAMASSAS DE REVESTIMENTOS CIMENTICIOS","L",15.35,15.35,null,"CR"]
["SINAPI-I 45146","SINAPI-I",45146,"ADITIVO IMPERMEABILIZANTE CRISTALIZANTE PARA CONCRETO","KG",30.79,30.79,null,"CR"]
["SINAPI-I 123","SINAPI-I",123,"ADITIVO IMPERMEABILIZANTE DE PEGA NORMAL PARA ARGAMASSAS E CONCRETOS SEM ARMACAO, LIQUIDO E ISENTO DE CLORETOS","L",6.57,6.57,null,"C"]
["SINAPI-I 127","SINAPI-I",127,"ADITIVO IMPERMEABILIZANTE DE PEGA ULTRARRAPIDA, LIQUIDO E ISENTO DE CLORETOS","L",15.68,15.68,null,"CR"]
["SINAPI-I 133","SINAPI-I",133,"ADITIVO LIQUIDO INCORPORADOR DE AR PARA CONCRETO E ARGAMASSA, LIQUIDO E ISENTO DE CLORETOS","L",6.51,6.51,null,"CR"]
["SINAPI-I 43617","SINAPI-I",43617,"ADITIVO PLASTIFICANTE E ESTABILIZADOR PARA ARGAMASSAS DE ASSENTAMENTO E REBOCO, LIQUIDO E ISENTO DE CLORETOS","L",7.28,7.28,null,"CR"]
["SINAPI-I 132","SINAPI-I",132,"ADITIVO PLASTIFICANTE RETARDADOR DE PEGA E REDUTOR DE AGUA PARA CONCRETO, LIQUIDO E ISENTO DE CLORETOS","L",6.75,6.75,null,"CR"]
["SINAPI-I 43618","SINAPI-I",43618,"ADITIVO SUPERPLASTIFICANTE DE PEGA NORMAL PARA CONCRETO, LIQUIDO E ISENTO DE CLORETOS","KG",17,17,null,"CR"]
["SINAPI-I 37476","SINAPI-I",37476,"ADUELA/ GALERIA PRE-MOLDADA DE CONCRETO ARMADO, SECAO QUADRADA INTERNA DE 1,50 X 1,50 M (L X A), MISULA DE 20 X 20 CM, C = 1,00 M, ESPESSURA MIN = 15 CM, TB-45 E FCK DO CONCRETO = 30 MPA","UN"]
["SINAPI-I 37478","SINAPI-I",37478,"ADUELA/ GALERIA PRE-MOLDADA DE CONCRETO ARMADO, SECAO RETANGULAR INTERNA DE 2,00 X 2,00 M (L X A), MISULA DE 20 X 20 CM, C = 1,00 M, ESPESSURA MIN = 15 CM, TB-45 E FCK DO CONCRETO = 30 MPA","UN"]
["SINAPI-I 37477","SINAPI-I",37477,"ADUELA/ GALERIA PRE-MOLDADA DE CONCRETO ARMADO, SECAO RETANGULAR INTERNA DE 2,50 X 2,50 M (L X A), MISULA DE 20 X 20 CM, C = 1,00 M, ESPESSURA MIN = 15 CM, TB-45 E FCK DO CONCRETO = 30 MPA","UN"]
["SINAPI-I 37479","SINAPI-I",37479,"ADUELA/ GALERIA PRE-MOLDADA DE CONCRETO ARMADO, SECAO RETANGULAR INTERNA DE 3,00 X 3,00 M (L X A), MISULA DE 20 X 20 CM, C = 1.00 M, ESPESSURA MIN = 20 CM, TB-45 E FCK DO CONCRETO = 30 MPA","UN"]
["SINAPI-I 4319","SINAPI-I",4319,"AFASTADOR PARA TELHA DE FIBROCIMENTO CANALETE 90 OU KALHETAO","UN",1.22,1.22,null,"CR"]
["SINAPI-I 42409","SINAPI-I",42409,"AGENTE DE CURA, PROTETOR DA EVAPORACAO DA AGUA DE HIDRATACAO DO CONCRETO","KG",10.7,10.7,null,"CR"]
["SINAPI-I 40553","SINAPI-I",40553,"AGREGADO RECICLADO, TIPO RACHAO RECICLADO CINZA, CLASSE A","M3",39,39,null,"C"]
["SINAPI-I 6114","SINAPI-I",6114,"AJUDANTE DE ARMADOR (HORISTA)","H",18.53,20.72,null,"CR"]
["SINAPI-I 40912","SINAPI-I",40912,"AJUDANTE DE ARMADOR (MENSALISTA)","MES",3251.67,3637.57,null,"CR"]
["SINAPI-I 247","SINAPI-I",247,"AJUDANTE DE ELETRICISTA (HORISTA)","H",18.53,20.72,null,"CR"]
["SINAPI-I 40919","SINAPI-I",40919,"AJUDANTE DE ELETRICISTA (MENSALISTA)","MES",3251.67,3637.57,null,"CR"]
["SINAPI-I 44499","SINAPI-I",44499,"AJUDANTE DE ESTRUTURAS METALICAS (HORISTA)","H",18.53,20.72,null,"CR"]
["SINAPI-I 40984","SINAPI-I",40984,"AJUDANTE DE ESTRUTURAS METALICAS (MENSALISTA)","MES",3251.67,3637.57,null,"CR"]
["SINAPI-I 248","SINAPI-I",248,"AJUDANTE DE OPERACAO EM GERAL (HORISTA)","H",18.2,20.36,null,"CR"]
["SINAPI-I 41086","SINAPI-I",41086,"AJUDANTE DE OPERACAO EM GERAL (MENSALISTA)","MES",3192.27,3571.12,null,"CR"]
["SINAPI-I 34466","SINAPI-I",34466,"AJUDANTE DE PINTOR (HORISTA)","H",18.53,20.72,null,"CR"]
["SINAPI-I 41083","SINAPI-I",41083,"AJUDANTE DE PINTOR (MENSALISTA)","MES",3251.67,3637.57,null,"CR"]
["SINAPI-I 252","SINAPI-I",252,"AJUDANTE DE SERRALHEIRO (HORISTA)","H",18.53,20.72,null,"CR"]
["SINAPI-I 40909","SINAPI-I",40909,"AJUDANTE DE SERRALHEIRO (MENSALISTA)","MES",3251.67,3637.57,null,"CR"]
["SINAPI-I 242","SINAPI-I",242,"AJUDANTE ESPECIALIZADO (HORISTA)","H",18.2,20.36,null,"CR"]
["SINAPI-I 41085","SINAPI-I",41085,"AJUDANTE ESPECIALIZADO (MENSALISTA)","MES",3192.27,3571.12,null,"CR"]
["SINAPI-I 427","SINAPI-I",427,"ALCA PREFORMADA DE CONTRA POSTE, EM ACO GALVANIZADO, PARA CABO 3/16\", COMPRIMENTO *860* MM","UN",5.9,5.9,null,"CR"]
["SINAPI-I 417","SINAPI-I",417,"ALCA PREFORMADA DE DISTRIBUICAO, EM ACO GALVANIZADO, PARA CABO DE ALUMINIO DIAMETRO 16 A 25 MM","UN",2.78,2.78,null,"CR"]
["SINAPI-I 11273","SINAPI-I",11273,"ALCA PREFORMADA DE DISTRIBUICAO, EM ACO GALVANIZADO, PARA CONDUTORES DE ALUMINIO AWG 1/0 (CAA 6/1 OU CA 7 FIOS)","UN",8.6300000000000008,8.6300000000000008,null,"CR"]
["SINAPI-I 11272","SINAPI-I",11272,"ALCA PREFORMADA DE DISTRIBUICAO, EM ACO GALVANIZADO, PARA CONDUTORES DE ALUMINIO AWG 2 (CAA 6/1 OU CA 7 FIOS)","UN",5.21,5.21,null,"CR"]
["SINAPI-I 11275","SINAPI-I",11275,"ALCA PREFORMADA DE SERVICO, EM ACO GALVANIZADO, PARA CONDUTORES DE ALUMINIO AWG 4 (CAA 6/1)","UN",2.09,2.09,null,"CR"]
["SINAPI-I 11274","SINAPI-I",11274,"ALCA PREFORMADA DE SERVICO, EM ACO GALVANIZADO, PARA CONDUTORES DE ALUMINIO AWG 6 (CAA 6/1)","UN",1.59,1.59,null,"CR"]
["SINAPI-I 45250","SINAPI-I",45250,"ALICATE BICO LONGO (MEIA CANA) 6\", COM ISOLAMENTO ATE 1000 V","UN",25.59,25.59,null,"CR"]
["SINAPI-I 38470","SINAPI-I",38470,"ALICATE DE CORTE DIAGONAL 6\" COM ISOLAMENTO","UN",44.83,44.83,null,"C"]
["SINAPI-I 38547","SINAPI-I",38547,"ALICATE DE CRIMPAR RJ11, RJ12 E RJ45, COM CATRACA","UN",173.93,173.93,null,"CR"]
["SINAPI-I 38467","SINAPI-I",38467,"ALICATE DE PRESSAO 11\" PARA SOLDA, TIPO C","UN",74.010000000000005,74.010000000000005,null,"CR"]
["SINAPI-I 38468","SINAPI-I",38468,"ALICATE DE PRESSAO 11\" PARA SOLDA, TIPO U","UN",81.44,81.44,null,"CR"]
["SINAPI-I 38469","SINAPI-I",38469,"ALICATE DE PRESSAO PARA SOLDA DE CHAPA 18\"","UN",166.08,166.08,null,"CR"]
["SINAPI-I 45197","SINAPI-I",45197,"ALICATE DESENCAPADOR AUTOMATICO 8\"","UN",132.44999999999999,132.44999999999999,null,"CR"]
["SINAPI-I 38471","SINAPI-I",38471,"ALICATE PARA ANEIS DE PISTAO, CAPACIDADE *50* A 100 MM","UN",177.62,177.62,null,"CR"]
["SINAPI-I 45206","SINAPI-I",45206,"ALICATE PROFISSIONAL 8\", UNIVERSAL, COM ISOLAMENTO ATE 1000 V","UN",35.090000000000003,35.090000000000003,null,"CR"]
["SINAPI-I 37370","SINAPI-I",37370,"ALIMENTACAO - HORISTA (COLETADO CAIXA - ENCARGOS COMPLEMENTARES)","H",4.76,4.76,null,"C"]
["SINAPI-I 40862","SINAPI-I",40862,"ALIMENTACAO - MENSALISTA (COLETADO CAIXA - ENCARGOS COMPLEMENTARES)","MES",897.94,897.94,null,"C"]
["SINAPI-I 10658","SINAPI-I",10658,"ALISADORA DE CONCRETO COM MOTOR A GASOLINA DE 5,5 HP, PESO COM MOTOR DE 78 KG, 4 PAS","UN"]
["SINAPI-I 253","SINAPI-I",253,"ALMOXARIFE (HORISTA)","H",24.2,27.06,null,"C"]
["SINAPI-I 40809","SINAPI-I",40809,"ALMOXARIFE (MENSALISTA)","MES",4243.8900000000003,4747.54,null,"CR"]
["SINAPI-I 42428","SINAPI-I",42428,"ALONGADOR COM TRES ALTURAS, EM TUBO DE ACO CARBONO, PINTURA NO PROCESSO ELETROSTATICO - EQUIPAMENTO DE GINASTICA PARA ACADEMIA AO AR LIVRE / ACADEMIA DA TERCEIRA IDADE - ATI","UN"]
["SINAPI-I 301","SINAPI-I",301,"ANEL BORRACHA PARA TUBO ESGOTO PREDIAL, DN 100 MM (NBR 5688)","UN",2.92,2.92,null,"C"]
["SINAPI-I 296","SINAPI-I",296,"ANEL BORRACHA PARA TUBO ESGOTO PREDIAL, DN 50 MM (NBR 5688)","UN",1.65,1.65,null,"CR"]
["SINAPI-I 297","SINAPI-I",297,"ANEL BORRACHA PARA TUBO ESGOTO PREDIAL, DN 75 MM (NBR 5688)","UN",2.42,2.42,null,"CR"]
["SINAPI-I 299","SINAPI-I",299,"ANEL BORRACHA, DN 100 MM, PARA TUBO SERIE REFORCADA ESGOTO PREDIAL","UN",3.42,3.42,null,"CR"]
["SINAPI-I 300","SINAPI-I",300,"ANEL BORRACHA, DN 150 MM, PARA TUBO SERIE REFORCADA ESGOTO PREDIAL","UN",11.85,11.85,null,"CR"]
["SINAPI-I 20085","SINAPI-I",20085,"ANEL BORRACHA, DN 50 MM, PARA TUBO SERIE REFORCADA ESGOTO PREDIAL","UN",2.16,2.16,null,"CR"]
["SINAPI-I 298","SINAPI-I",298,"ANEL BORRACHA, DN 75 MM, PARA TUBO SERIE REFORCADA ESGOTO PREDIAL","UN",2.63,2.63,null,"CR"]
["SINAPI-I 311","SINAPI-I",311,"ANEL BORRACHA, PARA TUBO PVC DEFOFO, DN 100 MM (NBR 7665)","UN",9.77,9.77,null,"CR"]
["SINAPI-I 318","SINAPI-I",318,"ANEL BORRACHA, PARA TUBO PVC DEFOFO, DN 150 MM (NBR 7665)","UN",19.68,19.68,null,"CR"]
["SINAPI-I 319","SINAPI-I",319,"ANEL BORRACHA, PARA TUBO PVC DEFOFO, DN 200 MM (NBR 7665)","UN",30.86,30.86,null,"CR"]
["SINAPI-I 303","SINAPI-I",303,"ANEL BORRACHA, PARA TUBO PVC, REDE COLETOR ESGOTO, DN 100 MM (NBR 7362)","UN",3.23,3.23,null,"CR"]
["SINAPI-I 305","SINAPI-I",305,"ANEL BORRACHA, PARA TUBO PVC, REDE COLETOR ESGOTO, DN 150 MM (NBR 7362)","UN",10.17,10.17,null,"CR"]
["SINAPI-I 306","SINAPI-I",306,"ANEL BORRACHA, PARA TUBO PVC, REDE COLETOR ESGOTO, DN 200 MM (NBR 7362)","UN",15.43,15.43,null,"CR"]
["SINAPI-I 307","SINAPI-I",307,"ANEL BORRACHA, PARA TUBO PVC, REDE COLETOR ESGOTO, DN 250 MM (NBR 7362)","UN",38.99,38.99,null,"CR"]
[{"$f":"CONCATENATE($B321,\" \",$C321)","v":"SINAPI-I 309"},"SINAPI-I",309,"ANEL BORRACHA, PARA TUBO PVC, REDE COLETOR ESGOTO, DN 350 MM (NBR 7362)","UN",63.87,63.87,null,"CR"]
["SINAPI-I 310","SINAPI-I",310,"ANEL BORRACHA, PARA TUBO PVC, REDE COLETOR ESGOTO, DN 400 MM (NBR 7362)","UN",88.52,88.52,null,"CR"]
["SINAPI-I 308","SINAPI-I",308,"ANEL BORRACHA, PARA TUBO, PVC REDE COLETOR ESGOTO, DN 300 MM (NBR 7362)","UN",87.02,87.02,null,"CR"]
["SINAPI-I 328","SINAPI-I",328,"ANEL BORRACHA, PARA TUBO/CONEXAO PVC PBA, DN 100 MM, PARA REDE AGUA","UN",7.74,7.74,null,"CR"]
["SINAPI-I 325","SINAPI-I",325,"ANEL BORRACHA, PARA TUBO/CONEXAO PVC PBA, DN 50 MM, PARA REDE AGUA","UN",2.2799999999999998,2.2799999999999998,null,"CR"]
["SINAPI-I 20326","SINAPI-I",20326,"ANEL BORRACHA, PARA TUBO/CONEXAO PVC PBA, DN 60 MM, PARA REDE AGUA","UN",4.17,4.17,null,"CR"]
["SINAPI-I 329","SINAPI-I",329,"ANEL BORRACHA, PARA TUBO/CONEXAO PVC PBA, DN 75 MM, PARA REDE AGUA","UN",6.47,6.47,null,"CR"]
["SINAPI-I 39642","SINAPI-I",39642,"ANEL DE BORRACHA PARA VEDACAO DE DUTO PEAD CORRUGADO PARA ELETRICA, DN 1 1/2\" (NBR 15715)","UN",2.86,2.86,null,"CR"]
["SINAPI-I 39641","SINAPI-I",39641,"ANEL DE BORRACHA PARA VEDACAO DE DUTO PEAD CORRUGADO PARA ELETRICA, DN 1 1/4\" (NBR 15715)","UN",2.5099999999999998,2.5099999999999998,null,"CR"]
["SINAPI-I 39643","SINAPI-I",39643,"ANEL DE BORRACHA PARA VEDACAO DE DUTO PEAD CORRUGADO PARA ELETRICA, DN 2\" (NBR 15715)","UN",3.37,3.37,null,"CR"]
["SINAPI-I 39644","SINAPI-I",39644,"ANEL DE BORRACHA PARA VEDACAO DE DUTO PEAD CORRUGADO PARA ELETRICA, DN 3\" (NBR 15715)","UN",5.22,5.22,null,"CR"]
["SINAPI-I 39645","SINAPI-I",39645,"ANEL DE BORRACHA PARA VEDACAO DE DUTO PEAD CORRUGADO PARA ELETRICA, DN 4\" (NBR 15715)","UN",5.72,5.72,null,"CR"]
["SINAPI-I 41610","SINAPI-I",41610,"ANEL DE CONCRETO ARMADO COM FUNDO, PARA FOSSA E POCO 1,50 X *0,50* M","UN"]
["SINAPI-I 41611","SINAPI-I",41611,"ANEL DE CONCRETO ARMADO COM FUNDO, PARA FOSSA E POCO 2,00 X *0,50* M","UN"]
["SINAPI-I 41612","SINAPI-I",41612,"ANEL DE CONCRETO ARMADO COM FUNDO, PARA FOSSA E POCO 2,50 X *0,50* M","UN"]
["SINAPI-I 41637","SINAPI-I",41637,"ANEL DE CONCRETO ARMADO, COM FUROS/DRENO PARA SUMIDOURO, D = 0,80 M, H = 0,50 M","UN"]
["SINAPI-I 41638","SINAPI-I",41638,"ANEL DE CONCRETO ARMADO, COM FUROS/DRENO PARA SUMIDOURO, D = 1,00 M, H = 0,50M","UN"]
["SINAPI-I 41639","SINAPI-I",41639,"ANEL DE CONCRETO ARMADO, COM FUROS/DRENO PARA SUMIDOURO, D = 1,50 M, H = 0,50 M","UN"]
["SINAPI-I 11789","SINAPI-I",11789,"ANEL DE DISTRIBUICAO EM ACO GALVANIZADO PARA FIO FE-160","UN",0.78,0.78,null,"CR"]
["SINAPI-I 20975","SINAPI-I",20975,"ANEL DE EXPANSAO EM COBRE, ENGATE RAPIDO 1 1/2\", PARA EMPATACAO MANGUEIRA DE COMBATE A INCENDIO PREDIAL","UN",19.649999999999999,19.649999999999999,null,"CR"]
["SINAPI-I 20976","SINAPI-I",20976,"ANEL DE EXPANSAO EM COBRE, ENGATE RAPIDO 2 1/2\", PARA EMPATACAO MANGUEIRA DE COMBATE A INCENDIO PREDIAL","UN",29.68,29.68,null,"CR"]
["SINAPI-I 6138","SINAPI-I",6138,"ANEL DE VEDACAO, PVC FLEXIVEL, 100 MM, PARA SAIDA DE BACIA / VASO SANITARIO","UN",11.06,11.06,null,"CR"]
["SINAPI-I 40340","SINAPI-I",40340,"ANEL DE VEDACAO/JUNTA ELASTICA, H = *16* MM, PARA TUBO DE CONCRETO, DN 300 MM","UN",21.48,21.48,null,"CR"]
["SINAPI-I 40341","SINAPI-I",40341,"ANEL DE VEDACAO/JUNTA ELASTICA, H = *16* MM, PARA TUBO DE CONCRETO, DN 400 MM","UN",25.63,25.63,null,"CR"]
["SINAPI-I 40342","SINAPI-I",40342,"ANEL DE VEDACAO/JUNTA ELASTICA, H = *16* MM, PARA TUBO DE CONCRETO, DN 500 MM","UN",30.57,30.57,null,"CR"]
["SINAPI-I 40343","SINAPI-I",40343,"ANEL DE VEDACAO/JUNTA ELASTICA, H = *16* MM, PARA TUBO DE CONCRETO, DN 600 MM","UN",36.26,36.26,null,"CR"]
["SINAPI-I 40344","SINAPI-I",40344,"ANEL DE VEDACAO/JUNTA ELASTICA, H = *18* MM, PARA TUBO DE CONCRETO, DN 700 MM","UN",49.43,49.43,null,"CR"]
["SINAPI-I 40345","SINAPI-I",40345,"ANEL DE VEDACAO/JUNTA ELASTICA, H = *19* MM, PARA TUBO DE CONCRETO, DN 800 MM","UN",60.91,60.91,null,"CR"]
["SINAPI-I 40346","SINAPI-I",40346,"ANEL DE VEDACAO/JUNTA ELASTICA, H = *19* MM, PARA TUBO DE CONCRETO, DN 900 MM","UN",70.66,70.66,null,"CR"]
["SINAPI-I 40347","SINAPI-I",40347,"ANEL DE VEDACAO/JUNTA ELASTICA, H = *21* MM, PARA TUBO DE CONCRETO, DN 1000 MM","UN",88.78,88.78,null,"CR"]
["SINAPI-I 43424","SINAPI-I",43424,"ANEL EM CONCRETO ARMADO, LISO, PARA FOSSAS SEPTICAS E SUMIDOUROS, COM FUNDO, DIAMETRO INTERNO DE 1,20 M E ALTURA DE 0,50 M","UN"]
["SINAPI-I 43426","SINAPI-I",43426,"ANEL EM CONCRETO ARMADO, LISO, PARA FOSSAS SEPTICAS E SUMIDOUROS, COM FUNDO, DIAMETRO INTERNO DE 3,00 M E ALTURA DE 0,50 M","UN"]
["SINAPI-I 12565","SINAPI-I",12565,"ANEL EM CONCRETO ARMADO, LISO, PARA FOSSAS SEPTICAS E SUMIDOUROS, SEM FUNDO, DIAMETRO INTERNO DE 2,00 M E ALTURA DE 0,50 M","UN"]
["SINAPI-I 12567","SINAPI-I",12567,"ANEL EM CONCRETO ARMADO, LISO, PARA FOSSAS SEPTICAS E SUMIDOUROS, SEM FUNDO, DIAMETRO INTERNO DE 2,50 M E ALTURA DE 0,50 M","UN"]
["SINAPI-I 12568","SINAPI-I",12568,"ANEL EM CONCRETO ARMADO, LISO, PARA FOSSAS SEPTICAS E SUMIDOUROS, SEM FUNDO, DIAMETRO INTERNO DE 3,00 M E ALTURA DE 0,50 M","UN"]
["SINAPI-I 43441","SINAPI-I",43441,"ANEL EM CONCRETO ARMADO, LISO, PARA POCOS DE INSPECAO, COM FUNDO, DIAMETRO INTERNO DE 0,60 M E ALTURA DE 0,50 M","UN"]
["SINAPI-I 43423","SINAPI-I",43423,"ANEL EM CONCRETO ARMADO, LISO, PARA POCOS DE INSPECAO, SEM FUNDO, DIAMETRO INTERNO DE 0,60 M E ALTURA DE 0,20 M","UN"]
["SINAPI-I 12532","SINAPI-I",12532,"ANEL EM CONCRETO ARMADO, LISO, PARA POCOS DE INSPECAO, SEM FUNDO, DIAMETRO INTERNO DE 0,60 M E ALTURA DE 0,50 M","UN"]
["SINAPI-I 43444","SINAPI-I",43444,"ANEL EM CONCRETO ARMADO, LISO, PARA POCOS DE VISITA, POCOS DE INSPECAO, FOSSAS SEPTICAS E SUMIDOUROS, COM FUNDO, DIAMETRO INTERNO DE 1,20 M E ALTURA DE 0,75 M","UN"]
["SINAPI-I 12551","SINAPI-I",12551,"ANEL EM CONCRETO ARMADO, LISO, PARA POCOS DE VISITA, POCOS DE INSPECAO, FOSSAS SEPTICAS E SUMIDOUROS, SEM FUNDO, DIAMETRO INTERNO DE 1,20 M E ALTURA DE 0,50 M","UN"]
["SINAPI-I 43442","SINAPI-I",43442,"ANEL EM CONCRETO ARMADO, LISO, PARA POCOS DE VISITAS, POCOS DE INSPECAO, FOSSAS SEPTICAS E SUMIDOUROS, COM FUNDO, DIAMETRO INTERNO DE 0,80 M E ALTURA DE 0,50 M","UN"]
["SINAPI-I 43443","SINAPI-I",43443,"ANEL EM CONCRETO ARMADO, LISO, PARA POCOS DE VISITAS, POCOS DE INSPECAO, FOSSAS SEPTICAS E SUMIDOUROS, COM FUNDO, DIAMETRO INTERNO DE 1,00 M E ALTURA DE 0,50 M","UN"]
["SINAPI-I 12544","SINAPI-I",12544,"ANEL EM CONCRETO ARMADO, LISO, PARA POCOS DE VISITAS, POCOS DE INSPECAO, FOSSAS SEPTICAS E SUMIDOUROS, SEM FUNDO, DIAMETRO INTERNO DE 0,80 M E ALTURA DE 0,50 M","UN"]
["SINAPI-I 12547","SINAPI-I",12547,"ANEL EM CONCRETO ARMADO, LISO, PARA POCOS DE VISITAS, POCOS DE INSPECAO, FOSSAS SEPTICAS E SUMIDOUROS, SEM FUNDO, DIAMETRO INTERNO DE 1,00 M E ALTURA DE 0,50 M","UN"]
["SINAPI-I 43445","SINAPI-I",43445,"ANEL EM CONCRETO ARMADO, LISO, PARA, POCOS DE VISITA, POCOS DE INSPECAO, FOSSAS SEPTICAS E SUMIDOUROS, COM FUNDO, DIAMETRO INTERNO DE 1,50 M E ALTURA DE 1,00 M","UN"]
["SINAPI-I 12563","SINAPI-I",12563,"ANEL EM CONCRETO ARMADO, LISO, PARA, POCOS DE VISITA, POCOS DE INSPECAO, FOSSAS SEPTICAS E SUMIDOUROS, SEM FUNDO, DIAMETRO INTERNO DE 1,50 M E ALTURA DE 0,50 M","UN"]
["SINAPI-I 43425","SINAPI-I",43425,"ANEL EM CONCRETO ARMADO, PERFURADO, PARA FOSSAS SEPTICAS E SUMIDOUROS, SEM FUNDO, DIAMETRO INTERNO DE 1,20 M E ALTURA DE 0,50 M","UN"]
["SINAPI-I 43446","SINAPI-I",43446,"ANEL EM CONCRETO ARMADO, PERFURADO, PARA FOSSAS SEPTICAS E SUMIDOUROS, SEM FUNDO, DIAMETRO INTERNO DE 2,00 M E ALTURA DE 0,50 M","UN"]
["SINAPI-I 43447","SINAPI-I",43447,"ANEL EM CONCRETO ARMADO, PERFURADO, PARA FOSSAS SEPTICAS E SUMIDOUROS, SEM FUNDO, DIAMETRO INTERNO DE 2,50 M E ALTURA DE 0,50 M","UN"]
["SINAPI-I 43448","SINAPI-I",43448,"ANEL EM CONCRETO ARMADO, PERFURADO, PARA FOSSAS SEPTICAS E SUMIDOUROS, SEM FUNDO, DIAMETRO INTERNO DE 3,00 M E ALTURA DE 0,50 M","UN"]
["SINAPI-I 13761","SINAPI-I",13761,"APARELHO CORTE OXI-ACETILENO PARA SOLDA E CORTE CONTENDO MACARICO SOLDA, BICO DE CORTE, CILINDROS, REGULADORES, MANGUEIRAS E CARRINHO","UN",2589.79,2589.79,null,"CR"]
["SINAPI-I 4814","SINAPI-I",4814,"APARELHO SINALIZADOR LUMINOSO COM LED, PARA SAIDA GARAGEM, COM 2 LENTES EM POLICARBONATO, BIVOLT (INCLUI SUPORTE DE FIXACAO)","UN",61.9,61.9,null,"CR"]
["SINAPI-I 44473","SINAPI-I",44473,"APOIO DO PORTA DENTE PARA FRESADORA DE  ASFALTO","UN"]
["SINAPI-I 6122","SINAPI-I",6122,"APONTADOR OU APROPRIADOR DE MAO DE OBRA (HORISTA)","H",21.33,23.86,null,"CR"]
["SINAPI-I 40810","SINAPI-I",40810,"APONTADOR OU APROPRIADOR DE MAO DE OBRA (MENSALISTA)","MES",3745.19,4189.66,null,"CR"]
["SINAPI-I 21100","SINAPI-I",21100,"AQUECEDOR DE AGUA A GAS GLP/GN COM CAPACIDADE DE ARMAZENAMENTO DE 50 A 80 L","UN",3845.1,3845.1,null,"CR"]
["SINAPI-I 11811","SINAPI-I",11811,"AQUECEDOR DE AGUA ELETRICO HORIZONTAL, RESERVATORIO DE 200 L CILINDRICO EM COBRE, REFORCADO COM ACO CARBONO, MONOFASICO, TENSAO NOMINAL 220 V","UN",5550.48,5550.48,null,"CR"]
["SINAPI-I 11816","SINAPI-I",11816,"AQUECEDOR DE AGUA ELETRICO RESERVATORIO DE 100 L CILINDRICO EM COBRE, REFORCADO COM ACO CARBONO, MONOFASICO, TENSAO NOMINAL 220 V","UN",4100,4100,null,"C"]
["SINAPI-I 11814","SINAPI-I",11814,"AQUECEDOR DE AGUA ELETRICO RESERVATORIO DE 500 L CILINDRICO EM COBRE, REFORCADO COM ACO CARBONO, MONOFASICO, TENSAO NOMINAL 220 V","UN",8924.67,8924.67,null,"CR"]
["SINAPI-I 14186","SINAPI-I",14186,"AQUECEDOR DE AGUA ELETRICO RESERVATORIO DE 500 L CILINDRICO EM COBRE, REFORCADO COM ACO CARBONO, TRIFASICO, TENSAO NOMINAL 220/380/400 V, POTENCIA 24 KW","UN",11206.13,11206.13,null,"CR"]
["SINAPI-I 14185","SINAPI-I",14185,"AQUECEDOR DE AGUA ELETRICO RESERVATORIO DE 700 L CILINDRICO EM COBRE, REFORCADO COM ACO CARBONO, MONOFASICO, TENSAO NOMINAL 220 V","UN",14516.3,14516.3,null,"CR"]
["SINAPI-I 44498","SINAPI-I",44498,"AQUECEDOR DE OLEO BPF (FLUIDO) TERMICO, CAPACIDADE DE 300.000  KCAL/H","UN"]
["SINAPI-I 34469","SINAPI-I",34469,"AQUECEDOR SOLAR COM RESERVATORIO TERMICO DE 1000 L E *5* PLACAS COLETORAS DE *2,0* M2 (NAO INCLUI ACESSORIOS) (SEM INSTALACAO)","UN"]
["SINAPI-I 34476","SINAPI-I",34476,"AQUECEDOR SOLAR COM RESERVATORIO TERMICO DE 400 L E *2* PLACAS COLETORAS DE *2,0* M2 (NAO INCLUI ACESSORIOS) (SEM INSTALACAO)","UN"]
[{"$f":"CONCATENATE($B385,\" \",$C385)","v":"SINAPI-I 34477"},"SINAPI-I",34477,"AQUECEDOR SOLAR COM RESERVATORIO TERMICO DE 600 L E *3* PLACAS COLETORAS DE *2,0* M2 (NAO INCLUI ACESSORIOS) (SEM INSTALACAO)","UN"]
["SINAPI-I 34482","SINAPI-I",34482,"AQUECEDOR SOLAR COM RESERVATORIO TERMICO DE 800 L E *4* PLACAS COLETORAS DE *2,0* M2 (NAO INCLUI ACESSORIOS) (SEM INSTALACAO)","UN"]
["SINAPI-I 34472","SINAPI-I",34472,"AQUECEDOR SOLAR DE INSTALACAO EXTERNA, KIT COMPACTO, CONJUNTO COM RESERVATORIO TERMICO DE 200 L, PLACA COLETORA DE *2,0* M2 E INCLUSO ACESSORIOS (RESIDENCIAS ATE 120,00 M2 E DE 4 A 5 BANHOS POR DIA) (SEM INSTALACAO)","UN"]
["SINAPI-I 42425","SINAPI-I",42425,"AR CONDICIONADO SPLIT INVERTER, HI-WALL (PAREDE), 12000 BTU/H, CICLO FRIO, 60HZ, CLASSIFICACAO A (SELO PROCEL), GAS HFC, CONTROLE S/FIO","UN",2719.9,2719.9,null,"CR"]
["SINAPI-I 42422","SINAPI-I",42422,"AR CONDICIONADO SPLIT INVERTER, HI-WALL (PAREDE), 18000 BTU/H, CICLO FRIO, 60HZ, CLASSIFICACAO A (SELO PROCEL), GAS HFC, CONTROLE S/FIO","UN",4037.79,4037.79,null,"C"]
["SINAPI-I 43184","SINAPI-I",43184,"AR CONDICIONADO SPLIT INVERTER, HI-WALL (PAREDE), 24000 BTU/H, CICLO FRIO, 60HZ, CLASSIFICACAO A (SELO PROCEL), GAS HFC, CONTROLE S/FIO","UN",5580.61,5580.61,null,"CR"]
["SINAPI-I 42424","SINAPI-I",42424,"AR CONDICIONADO SPLIT INVERTER, HI-WALL (PAREDE), 9000 BTU/H, CICLO FRIO, 60HZ, CLASSIFICACAO A (SELO PROCEL), GAS HFC, CONTROLE S/FIO","UN",2429.11,2429.11,null,"CR"]
["SINAPI-I 42416","SINAPI-I",42416,"AR CONDICIONADO SPLIT INVERTER, PISO TETO, 18000 BTU/H, CICLO FRIO, 60HZ, CLASSIFICACAO ENERGETICA A OU B (SELO PROCEL), GAS HFC, CONTROLE S/FIO","UN",10471.620000000001,10471.620000000001,null,"CR"]
["SINAPI-I 42417","SINAPI-I",42417,"AR CONDICIONADO SPLIT INVERTER, PISO TETO, 24000 BTU/H, CICLO FRIO, 60HZ, CLASSIFICACAO ENERGETICA A OU B (SELO PROCEL), GAS HFC, CONTROLE S/FIO","UN",11739.54,11739.54,null,"CR"]
["SINAPI-I 42419","SINAPI-I",42419,"AR CONDICIONADO SPLIT INVERTER, PISO TETO, 36000 BTU/H, CICLO FRIO, 60HZ, CLASSIFICACAO ENERGETICA A OU B (SELO PROCEL), GAS HFC, CONTROLE S/FIO","UN",13263.19,13263.19,null,"CR"]
["SINAPI-I 42420","SINAPI-I",42420,"AR CONDICIONADO SPLIT INVERTER, PISO TETO, 48000 BTU/H, CICLO FRIO, 60HZ, CLASSIFICACAO ENERGETICA A OU B (SELO PROCEL), GAS HFC, CONTROLE S/FIO","UN",18229.28,18229.28,null,"CR"]
["SINAPI-I 42421","SINAPI-I",42421,"AR CONDICIONADO SPLIT INVERTER, PISO TETO, APRESENTANDO ENTRE 54000 E 58000 BTU/H, CICLO FRIO, 60HZ, CLASSIFICACAO ENERGETICA A OU B (SELO PROCEL), GAS HFC, CONTROLE S/FIO","UN",22116.799999999999,22116.799999999999,null,"CR"]
["SINAPI-I 39556","SINAPI-I",39556,"AR CONDICIONADO SPLIT ON/OFF, CASSETE (TETO), 18000 BTUS/H, CICLO QUENTE/FRIO, 60 HZ, CLASSIFICACAO ENERGETICA C - SELO PROCEL, GAS HFC, CONTROLE S/ FIO","UN",7680.67,7680.67,null,"CR"]
["SINAPI-I 39557","SINAPI-I",39557,"AR CONDICIONADO SPLIT ON/OFF, CASSETE (TETO), 24000 BTUS/H, CICLO QUENTE/FRIO, 60 HZ, CLASSIFICACAO ENERGETICA C - SELO PROCEL, GAS HFC, CONTROLE S/ FIO","UN",8270.4,8270.4,null,"CR"]
["SINAPI-I 39559","SINAPI-I",39559,"AR CONDICIONADO SPLIT ON/OFF, CASSETE (TETO), 36000 BTUS/H, CICLO QUENTE/FRIO, 60 HZ, CLASSIFICACAO ENERGETICA A - SELO PROCEL, GAS HFC, CONTROLE S/ FIO","UN",12222.06,12222.06,null,"CR"]
["SINAPI-I 39560","SINAPI-I",39560,"AR CONDICIONADO SPLIT ON/OFF, CASSETE (TETO), 48000 BTUS/H, CICLO QUENTE/FRIO, 60 HZ, CLASSIFICACAO ENERGETICA A - SELO PROCEL, GAS HFC, CONTROLE S/ FIO","UN",14139.74,14139.74,null,"CR"]
["SINAPI-I 39561","SINAPI-I",39561,"AR CONDICIONADO SPLIT ON/OFF, CASSETE (TETO), 60000 BTUS/H, CICLO QUENTE/FRIO, 60 HZ, CLASSIFICACAO ENERGETICA A - SELO PROCEL, GAS HFC, CONTROLE S/ FIO","UN",14791.97,14791.97,null,"CR"]
["SINAPI-I 43195","SINAPI-I",43195,"AR CONDICIONADO SPLIT ON/OFF, CASSETE (TETO), FRIO 4 VIAS 18000 BTUS/H, CLASSIFICACAO ENERGETICA C - SELO PROCEL, GAS HFC, CONTROLE S/ FIO","UN",6418.79,6418.79,null,"CR"]
["SINAPI-I 43196","SINAPI-I",43196,"AR CONDICIONADO SPLIT ON/OFF, CASSETE (TETO), FRIO 4 VIAS 24000 BTUS/H, CLASSIFICACAO ENERGETICA C - SELO PROCEL, GAS HFC, CONTROLE S/ FIO","UN",7955.16,7955.16,null,"CR"]
["SINAPI-I 43198","SINAPI-I",43198,"AR CONDICIONADO SPLIT ON/OFF, CASSETE (TETO), FRIO 4 VIAS 36000 BTUS/H, CLASSIFICACAO ENERGETICA C - SELO PROCEL, GAS HFC, CONTROLE S/ FIO","UN",11821.19,11821.19,null,"CR"]
["SINAPI-I 43199","SINAPI-I",43199,"AR CONDICIONADO SPLIT ON/OFF, CASSETE (TETO), FRIO 4 VIAS 48000 BTUS/H, CLASSIFICACAO ENERGETICA C - SELO PROCEL, GAS HFC, CONTROLE S/ FIO","UN",12254.35,12254.35,null,"CR"]
["SINAPI-I 43200","SINAPI-I",43200,"AR CONDICIONADO SPLIT ON/OFF, CASSETE (TETO), FRIO 4 VIAS 60000 BTUS/H, CLASSIFICACAO ENERGETICA C - SELO PROCEL, GAS HFC, CONTROLE S/ FIO","UN",14062.76,14062.76,null,"CR"]
["SINAPI-I 43190","SINAPI-I",43190,"AR CONDICIONADO SPLIT ON/OFF, HI-WALL (PAREDE), 12000 BTUS/H, CICLO FRIO, 60 HZ, CLASSIFICACAO ENERGETICA A - SELO PROCEL, GAS HFC, CONTROLE S/ FIO","UN",2182.9,2182.9,null,"CR"]
["SINAPI-I 39555","SINAPI-I",39555,"AR CONDICIONADO SPLIT ON/OFF, HI-WALL (PAREDE), 12000 BTUS/H, CICLO QUENTE/FRIO, 60 HZ, CLASSIFICACAO ENERGETICA A - SELO PROCEL, GAS HFC, CONTROLE S/ FIO","UN",2361.34,2361.34,null,"CR"]
["SINAPI-I 43191","SINAPI-I",43191,"AR CONDICIONADO SPLIT ON/OFF, HI-WALL (PAREDE), 18000 BTUS/H, CICLO FRIO, 60 HZ, CLASSIFICACAO ENERGETICA A - SELO PROCEL, GAS HFC, CONTROLE S/ FIO","UN",3140.9,3140.9,null,"CR"]
["SINAPI-I 39548","SINAPI-I",39548,"AR CONDICIONADO SPLIT ON/OFF, HI-WALL (PAREDE), 18000 BTUS/H, CICLO QUENTE/FRIO, 60 HZ, CLASSIFICACAO ENERGETICA A - SELO PROCEL, GAS HFC, CONTROLE S/ FIO","UN",3502.59,3502.59,null,"CR"]
["SINAPI-I 43192","SINAPI-I",43192,"AR CONDICIONADO SPLIT ON/OFF, HI-WALL (PAREDE), 24000 BTUS/H, CICLO FRIO, 60 HZ, CLASSIFICACAO ENERGETICA A - SELO PROCEL, GAS HFC, CONTROLE S/ FIO","UN",4114.3,4114.3,null,"CR"]
["SINAPI-I 39554","SINAPI-I",39554,"AR CONDICIONADO SPLIT ON/OFF, HI-WALL (PAREDE), 24000 BTUS/H, CICLO QUENTE/FRIO, 60 HZ, CLASSIFICACAO ENERGETICA A - SELO PROCEL, GAS HFC, CONTROLE S/ FIO","UN",4631.66,4631.66,null,"CR"]
["SINAPI-I 43194","SINAPI-I",43194,"AR CONDICIONADO SPLIT ON/OFF, HI-WALL (PAREDE), 9000 BTUS/H, CICLO FRIO, 60 HZ, CLASSIFICACAO ENERGETICA A - SELO PROCEL, GAS HFC, CONTROLE S/ FIO","UN",1870.03,1870.03,null,"CR"]
["SINAPI-I 39551","SINAPI-I",39551,"AR CONDICIONADO SPLIT ON/OFF, HI-WALL (PAREDE), 9000 BTUS/H, CICLO QUENTE/FRIO, 60 HZ, CLASSIFICACAO ENERGETICA A - SELO PROCEL, GAS HFC, CONTROLE S/ FIO","UN",2059.1,2059.1,null,"CR"]
["SINAPI-I 43185","SINAPI-I",43185,"AR CONDICIONADO SPLIT ON/OFF, PISO TETO, 18.000 BTU/H, CICLO FRIO, 60HZ, CLASSIFICACAO ENERGETICA C - SELO PROCEL, GAS HFC, CONTROLE S/FIO","UN",5851.59,5851.59,null,"CR"]
["SINAPI-I 43186","SINAPI-I",43186,"AR CONDICIONADO SPLIT ON/OFF, PISO TETO, 24.000 BTU/H, CICLO FRIO, 60HZ, CLASSIFICACAO ENERGETICA C - SELO PROCEL, GAS HFC, CONTROLE S/FIO","UN",6172.25,6172.25,null,"CR"]
["SINAPI-I 43187","SINAPI-I",43187,"AR CONDICIONADO SPLIT ON/OFF, PISO TETO, 36.000 BTU/H, CICLO FRIO, 60HZ, CLASSIFICACAO ENERGETICA C - SELO PROCEL, GAS HFC, CONTROLE S/FIO","UN",8190.64,8190.64,null,"CR"]
["SINAPI-I 43188","SINAPI-I",43188,"AR CONDICIONADO SPLIT ON/OFF, PISO TETO, 48.000 BTU/H, CICLO FRIO, 60HZ, CLASSIFICACAO ENERGETICA C - SELO PROCEL, GAS HFC, CONTROLE S/FIO","UN",9924.0400000000009,9924.0400000000009,null,"CR"]
["SINAPI-I 43189","SINAPI-I",43189,"AR CONDICIONADO SPLIT ON/OFF, PISO TETO, 60.000 BTU/H, CICLO FRIO, 60HZ, CLASSIFICACAO ENERGETICA C - SELO PROCEL, GAS HFC, CONTROLE S/FIO","UN",11162.89,11162.89,null,"CR"]
["SINAPI-I 39580","SINAPI-I",39580,"AR-CONDICIONADO FRIO SPLITAO INVERTER 30 TR","UN",87968.18,87968.18,null,"CR"]
["SINAPI-I 39577","SINAPI-I",39577,"AR-CONDICIONADO FRIO SPLITAO MODULAR 10 TR","UN",27533.85,27533.85,null,"CR"]
["SINAPI-I 39578","SINAPI-I",39578,"AR-CONDICIONADO FRIO SPLITAO MODULAR 15 TR","UN",35532.980000000003,35532.980000000003,null,"CR"]
["SINAPI-I 39579","SINAPI-I",39579,"AR-CONDICIONADO FRIO SPLITAO MODULAR 20 TR","UN",51697.71,51697.71,null,"CR"]
["SINAPI-I 39826","SINAPI-I",39826,"AR-CONDICIONADO SPLIT INVERTER, PISO TETO, 24000 BTU/H, QUENTE/FRIO, 60HZ, CLASSIFICACAO ENERGETICA A - SELO PROCEL, GAS HFC, CONTROLE S/FIO","UN",6349.42,6349.42,null,"CR"]
["SINAPI-I 10700","SINAPI-I",10700,"ARADO REVERSIVEL COM 3 DISCOS DE 26\" X 6MM REBOCAVEL","UN"]
["SINAPI-I 346","SINAPI-I",346,"ARAME DE ACO OVALADO 15 X 17 (45,7 KG, 700 KGF), ROLO 1000 M","KG",31.33,31.33,null,"CR"]
["SINAPI-I 3312","SINAPI-I",3312,"ARAME DE AMARRACAO PARA GABIAO GALVANIZADO, DIAMETRO 2,2 MM","KG",27.75,27.75,null,"CR"]
["SINAPI-I 339","SINAPI-I",339,"ARAME FARPADO GALVANIZADO, 14 BWG (2,11 MM), CLASSE 250","M",1.61,1.61,null,"CR"]
["SINAPI-I 340","SINAPI-I",340,"ARAME FARPADO GALVANIZADO, 16 BWG (1,65 MM), CLASSE 250","M",1.46,1.46,null,"CR"]
["SINAPI-I 43130","SINAPI-I",43130,"ARAME GALVANIZADO 12 BWG, D = 2,76 MM (0,048 KG/M) OU 14 BWG, D = 2,11 MM (0,026 KG/M)","KG",26.45,26.45,null,"C"]
["SINAPI-I 344","SINAPI-I",344,"ARAME GALVANIZADO 16 BWG, D = 1,65MM (0,0166 KG/M)","KG",34.770000000000003,34.770000000000003,null,"CR"]
["SINAPI-I 345","SINAPI-I",345,"ARAME GALVANIZADO 18 BWG, D = 1,24MM (0,009 KG/M)","KG",37.729999999999997,37.729999999999997,null,"CR"]
["SINAPI-I 43131","SINAPI-I",43131,"ARAME GALVANIZADO 6 BWG, D = 5,16 MM (0,157 KG/M), OU 8 BWG, D = 4,19 MM (0,101 KG/M), OU 10 BWG, D = 3,40 MM (0,0713 KG/M)","KG",30.72,30.72,null,"CR"]
["SINAPI-I 3313","SINAPI-I",3313,"ARAME PROTEGIDO COM POLIMERO PARA GABIAO, DIAMETRO 2,2 MM","KG",35.71,35.71,null,"CR"]
["SINAPI-I 43132","SINAPI-I",43132,"ARAME RECOZIDO 16 BWG, D = 1,65 MM (0,016 KG/M) OU 18 BWG, D = 1,25 MM (0,01 KG/M)","KG",26.45,26.45,null,"CR"]
["SINAPI-I 45245","SINAPI-I",45245,"ARCO DE SERRA REGULAVEL PARA LAMINAS DE 8\" A 12\"","UN",28.14,28.14,null,"CR"]
["SINAPI-I 366","SINAPI-I",366,"AREIA FINA - POSTO JAZIDA/FORNECEDOR (RETIRADO NA JAZIDA, SEM TRANSPORTE)","M3",119.08,119.08,null,"C"]
["SINAPI-I 367","SINAPI-I",367,"AREIA GROSSA - POSTO JAZIDA/FORNECEDOR (RETIRADO NA JAZIDA, SEM TRANSPORTE)","M3",120.63,120.63,null,"CR"]
["SINAPI-I 370","SINAPI-I",370,"AREIA MEDIA - POSTO JAZIDA/FORNECEDOR (RETIRADO NA JAZIDA, SEM TRANSPORTE)","M3",119.08,119.08,null,"CR"]
["SINAPI-I 368","SINAPI-I",368,"AREIA PARA ATERRO - POSTO JAZIDA/FORNECEDOR (RETIRADO NA JAZIDA, SEM TRANSPORTE)","M3",59.54,59.54,null,"CR"]
["SINAPI-I 11075","SINAPI-I",11075,"AREIA PARA LEITO FILTRANTE (0,42 A 1,68 MM) - POSTO JAZIDA/FORNECEDOR (RETIRADO NA JAZIDA, SEM TRANSPORTE)","M3",1366.67,1366.67,null,"CR"]
["SINAPI-I 1381","SINAPI-I",1381,"ARGAMASSA COLANTE AC I PARA CERAMICAS","KG",0.75,0.75,null,"C"]
["SINAPI-I 34353","SINAPI-I",34353,"ARGAMASSA COLANTE AC II","KG",1.39,1.39,null,"CR"]
["SINAPI-I 37595","SINAPI-I",37595,"ARGAMASSA COLANTE TIPO AC III","KG",2.2999999999999998,2.2999999999999998,null,"CR"]
["SINAPI-I 37596","SINAPI-I",37596,"ARGAMASSA COLANTE TIPO AC III E","KG",2.64,2.64,null,"CR"]
["SINAPI-I 371","SINAPI-I",371,"ARGAMASSA INDUSTRIALIZADA MULTIUSO, PARA REVESTIMENTO INTERNO E EXTERNO E ASSENTAMENTO DE BLOCOS DIVERSOS","KG",0.81,0.81,null,"CR"]
["SINAPI-I 37553","SINAPI-I",37553,"ARGAMASSA INDUSTRIALIZADA PARA CHAPISCO COLANTE","KG",1.53,1.53,null,"CR"]
["SINAPI-I 37552","SINAPI-I",37552,"ARGAMASSA INDUSTRIALIZADA PARA CHAPISCO ROLADO","KG",2.46,2.46,null,"CR"]
[{"$f":"CONCATENATE($B449,\" \",$C449)","v":"SINAPI-I 36880"},"SINAPI-I",36880,"ARGAMASSA PARA REVESTIMENTO DECORATIVO MONOCAMADA","KG",2.5,2.5,null,"CR"]
["SINAPI-I 34355","SINAPI-I",34355,"ARGAMASSA PISO SOBRE PISO","KG",2.15,2.15,null,"CR"]
["SINAPI-I 130","SINAPI-I",130,"ARGAMASSA POLIMERICA DE REPARO ESTRUTURAL, BICOMPONENTE","KG",3.74,3.74,null,"CR"]
["SINAPI-I 135","SINAPI-I",135,"ARGAMASSA POLIMERICA IMPERMEABILIZANTE SEMIFLEXIVEL, BICOMPONENTE, A BASE DE CIMENTO E ADITIVOS","KG",3.01,3.01,null,"CR"]
["SINAPI-I 36886","SINAPI-I",36886,"ARGAMASSA PRONTA PARA CONTRAPISO","KG",0.77,0.77,null,"CR"]
["SINAPI-I 38546","SINAPI-I",38546,"ARGAMASSA USINADA AUTOADENSAVEL E AUTONIVELANTE PARA CONTRAPISO, COM BOMBEAMENTO (DISPONIBILIZACAO DE BOMBA), SEM O LANCAMENTO","M3",492.46,492.46,null,"CR"]
["SINAPI-I 34549","SINAPI-I",34549,"ARGILA EXPANDIDA, GRANULOMETRIA 2215","M3"]
["SINAPI-I 6081","SINAPI-I",6081,"ARGILA OU BARRO PARA ATERRO/REATERRO (COM TRANSPORTE ATE 10 KM)","M3"]
["SINAPI-I 6077","SINAPI-I",6077,"ARGILA OU BARRO PARA ATERRO/REATERRO (RETIRADO NA JAZIDA, SEM TRANSPORTE)","M3"]
["SINAPI-I 6079","SINAPI-I",6079,"ARGILA, ARGILA VERMELHA OU ARGILA ARENOSA (RETIRADA NA JAZIDA, SEM TRANSPORTE)","M3"]
["SINAPI-I 1091","SINAPI-I",1091,"ARMACAO VERTICAL COM HASTE E CONTRA-PINO, EM CHAPA DE ACO GALVANIZADO 3/16\", COM 1 ESTRIBO E 1 ISOLADOR","UN",23.52,23.52,null,"CR"]
["SINAPI-I 1094","SINAPI-I",1094,"ARMACAO VERTICAL COM HASTE E CONTRA-PINO, EM CHAPA DE ACO GALVANIZADO 3/16\", COM 1 ESTRIBO, SEM ISOLADOR","UN",16.45,16.45,null,"CR"]
["SINAPI-I 1095","SINAPI-I",1095,"ARMACAO VERTICAL COM HASTE E CONTRA-PINO, EM CHAPA DE ACO GALVANIZADO 3/16\", COM 2 ESTRIBOS, E 2 ISOLADORES","UN",34.96,34.96,null,"CR"]
["SINAPI-I 1092","SINAPI-I",1092,"ARMACAO VERTICAL COM HASTE E CONTRA-PINO, EM CHAPA DE ACO GALVANIZADO 3/16\", COM 2 ESTRIBOS, SEM ISOLADOR","UN",27.05,27.05,null,"C"]
["SINAPI-I 1093","SINAPI-I",1093,"ARMACAO VERTICAL COM HASTE E CONTRA-PINO, EM CHAPA DE ACO GALVANIZADO 3/16\", COM 3 ESTRIBOS E 3 ISOLADORES","UN",63.17,63.17,null,"CR"]
["SINAPI-I 1090","SINAPI-I",1090,"ARMACAO VERTICAL COM HASTE E CONTRA-PINO, EM CHAPA DE ACO GALVANIZADO 3/16\", COM 3 ESTRIBOS, SEM ISOLADOR","UN",45.23,45.23,null,"CR"]
["SINAPI-I 1096","SINAPI-I",1096,"ARMACAO VERTICAL COM HASTE E CONTRA-PINO, EM CHAPA DE ACO GALVANIZADO 3/16\", COM 4 ESTRIBOS E 4 ISOLADORES","UN",81.39,81.39,null,"CR"]
["SINAPI-I 1097","SINAPI-I",1097,"ARMACAO VERTICAL COM HASTE E CONTRA-PINO, EM CHAPA DE ACO GALVANIZADO 3/16\", COM 4 ESTRIBOS, SEM ISOLADOR","UN",69.09,69.09,null,"CR"]
["SINAPI-I 378","SINAPI-I",378,"ARMADOR (HORISTA)","H",24.2,27.06,null,"CR"]
["SINAPI-I 40911","SINAPI-I",40911,"ARMADOR (MENSALISTA)","MES",4243.8900000000003,4747.54,null,"CR"]
["SINAPI-I 33939","SINAPI-I",33939,"ARQUITETO JUNIOR (HORISTA)","H",111.34,124.54,null,"CR"]
["SINAPI-I 40815","SINAPI-I",40815,"ARQUITETO JUNIOR (MENSALISTA)","MES",19528.68,21846.29,null,"CR"]
["SINAPI-I 33952","SINAPI-I",33952,"ARQUITETO PLENO (HORISTA)","H",117.96,131.94,null,"CR"]
["SINAPI-I 40816","SINAPI-I",40816,"ARQUITETO PLENO (MENSALISTA)","MES",20688.759999999998,23144.04,null,"CR"]
["SINAPI-I 33953","SINAPI-I",33953,"ARQUITETO SENIOR (HORISTA)","H",123.63,138.28,null,"CR"]
["SINAPI-I 40817","SINAPI-I",40817,"ARQUITETO SENIOR (MENSALISTA)","MES",21682.49,24255.7,null,"CR"]
["SINAPI-I 13348","SINAPI-I",13348,"ARRUELA EM ACO GALVANIZADO, DIAMETRO EXTERNO = 35MM, ESPESSURA = 3MM, DIAMETRO DO FURO= 18MM","UN"]
["SINAPI-I 39212","SINAPI-I",39212,"ARRUELA EM ALUMINIO, COM ROSCA, DE 1 1/2\", PARA ELETRODUTO","UN",2.2200000000000002,2.2200000000000002,null,"CR"]
["SINAPI-I 39211","SINAPI-I",39211,"ARRUELA EM ALUMINIO, COM ROSCA, DE 1 1/4\", PARA ELETRODUTO","UN",1.99,1.99,null,"CR"]
["SINAPI-I 39210","SINAPI-I",39210,"ARRUELA EM ALUMINIO, COM ROSCA, DE 1\", PARA ELETRODUTO","UN",1.1100000000000001,1.1100000000000001,null,"CR"]
["SINAPI-I 39208","SINAPI-I",39208,"ARRUELA EM ALUMINIO, COM ROSCA, DE 1/2\", PARA ELETRODUTO","UN",0.6,0.6,null,"CR"]
["SINAPI-I 39214","SINAPI-I",39214,"ARRUELA EM ALUMINIO, COM ROSCA, DE 2 1/2\", PARA ELETRODUTO","UN",4.1100000000000003,4.1100000000000003,null,"CR"]
["SINAPI-I 39213","SINAPI-I",39213,"ARRUELA EM ALUMINIO, COM ROSCA, DE 2\", PARA ELETRODUTO","UN",2.9,2.9,null,"CR"]
["SINAPI-I 39215","SINAPI-I",39215,"ARRUELA EM ALUMINIO, COM ROSCA, DE 3\", PARA ELETRODUTO","UN",7.48,7.48,null,"CR"]
["SINAPI-I 39209","SINAPI-I",39209,"ARRUELA EM ALUMINIO, COM ROSCA, DE 3/4\", PARA ELETRODUTO","UN",0.72,0.72,null,"CR"]
["SINAPI-I 39207","SINAPI-I",39207,"ARRUELA EM ALUMINIO, COM ROSCA, DE 3/8\", PARA ELETRODUTO","UN",1.1100000000000001,1.1100000000000001,null,"CR"]
["SINAPI-I 39216","SINAPI-I",39216,"ARRUELA EM ALUMINIO, COM ROSCA, DE 4\", PARA ELETRODUTO","UN",10.44,10.44,null,"CR"]
["SINAPI-I 11267","SINAPI-I",11267,"ARRUELA LISA, REDONDA, DE LATAO POLIDO, DIAMETRO NOMINAL 5/8\", DIAMETRO EXTERNO = 34 MM, DIAMETRO DO FURO = 17 MM, ESPESSURA = *2,5* MM","UN"]
["SINAPI-I 379","SINAPI-I",379,"ARRUELA QUADRADA EM ACO GALVANIZADO, DIMENSAO = 38 MM, ESPESSURA = 3MM, DIAMETRO DO FURO= 18 MM","UN"]
["SINAPI-I 510","SINAPI-I",510,"ASFALTO MODIFICADO TIPO I - NBR 9910 (ASFALTO OXIDADO PARA IMPERMEABILIZACAO, COEFICIENTE DE PENETRACAO 25-40)","KG",14.6,14.6,null,"CR"]
["SINAPI-I 516","SINAPI-I",516,"ASFALTO MODIFICADO TIPO II - NBR 9910 (ASFALTO OXIDADO PARA IMPERMEABILIZACAO, COEFICIENTE DE PENETRACAO 20-35)","KG",17.3,17.3,null,"CR"]
["SINAPI-I 509","SINAPI-I",509,"ASFALTO MODIFICADO TIPO III - NBR 9910 (ASFALTO OXIDADO PARA IMPERMEABILIZACAO, COEFICIENTE DE PENETRACAO 15-25)","KG",19.41,19.41,null,"CR"]
["SINAPI-I 40331","SINAPI-I",40331,"ASSENTADOR DE MANILHAS (HORISTA)","H",12.57,14.06,null,"CR"]
["SINAPI-I 40930","SINAPI-I",40930,"ASSENTADOR DE MANILHAS (MENSALISTA)","MES",2205.4299999999998,2467.16,null,"CR"]
["SINAPI-I 377","SINAPI-I",377,"ASSENTO SANITARIO DE PLASTICO, TIPO CONVENCIONAL","UN",39.299999999999997,39.299999999999997,null,"C"]
["SINAPI-I 11761","SINAPI-I",11761,"ASSENTO VASO SANITARIO INFANTIL EM PLASTICO BRANCO","UN",83.63,83.63,null,"CR"]
["SINAPI-I 7588","SINAPI-I",7588,"AUTOMATICO DE BOIA SUPERIOR / INFERIOR, *15* A / 250 V","UN",52.35,52.35,null,"C"]
["SINAPI-I 34551","SINAPI-I",34551,"AUXILIAR DE AZULEJISTA (HORISTA)","H",17.079999999999998,19.100000000000001,null,"CR"]
["SINAPI-I 41078","SINAPI-I",41078,"AUXILIAR DE AZULEJISTA (MENSALISTA)","MES",2995.96,3351.51,null,"CR"]
["SINAPI-I 246","SINAPI-I",246,"AUXILIAR DE ENCANADOR OU BOMBEIRO HIDRAULICO (HORISTA)","H",18.53,20.72,null,"CR"]
["SINAPI-I 40927","SINAPI-I",40927,"AUXILIAR DE ENCANADOR OU BOMBEIRO HIDRAULICO (MENSALISTA)","MES",3251.67,3637.57,null,"CR"]
["SINAPI-I 2350","SINAPI-I",2350,"AUXILIAR DE ESCRITORIO (HORISTA)","H",19.38,21.68,null,"CR"]
["SINAPI-I 40812","SINAPI-I",40812,"AUXILIAR DE ESCRITORIO (MENSALISTA)","MES",3400.18,3803.71,null,"CR"]
["SINAPI-I 245","SINAPI-I",245,"AUXILIAR DE LABORATORISTA DE SOLOS E DE CONCRETO (HORISTA)","H",25.84,28.9,null,"CR"]
["SINAPI-I 41090","SINAPI-I",41090,"AUXILIAR DE LABORATORISTA DE SOLOS E DE CONCRETO (MENSALISTA)","MES",4533.58,5071.62,null,"CR"]
["SINAPI-I 251","SINAPI-I",251,"AUXILIAR DE MECANICO (HORISTA)","H",18.53,20.72,null,"CR"]
["SINAPI-I 40975","SINAPI-I",40975,"AUXILIAR DE MECANICO (MENSALISTA)","MES",3251.67,3637.57,null,"CR"]
["SINAPI-I 6127","SINAPI-I",6127,"AUXILIAR DE PEDREIRO (HORISTA)","H",18.53,20.72,null,"CR"]
["SINAPI-I 41072","SINAPI-I",41072,"AUXILIAR DE PEDREIRO (MENSALISTA)","MES",3251.67,3637.57,null,"CR"]
["SINAPI-I 6121","SINAPI-I",6121,"AUXILIAR DE SERVICOS GERAIS (HORISTA)","H",17.100000000000001,19.12,null,"CR"]
["SINAPI-I 41071","SINAPI-I",41071,"AUXILIAR DE SERVICOS GERAIS (MENSALISTA)","MES",2998.88,3354.78,null,"CR"]
["SINAPI-I 244","SINAPI-I",244,"AUXILIAR DE TOPOGRAFO (HORISTA)","H",10.87,12.15,null,"CR"]
["SINAPI-I 41093","SINAPI-I",41093,"AUXILIAR DE TOPOGRAFO (MENSALISTA)","MES",1909.87,2136.5300000000002,null,"CR"]
["SINAPI-I 532","SINAPI-I",532,"AUXILIAR TECNICO / ASSISTENTE DE ENGENHARIA (HORISTA)","H",40.14,44.89,null,"CR"]
[{"$f":"CONCATENATE($B513,\" \",$C513)","v":"SINAPI-I 40931"},"SINAPI-I",40931,"AUXILIAR TECNICO / ASSISTENTE DE ENGENHARIA (MENSALISTA)","MES",7041.69,7877.38,null,"CR"]
["SINAPI-I 36150","SINAPI-I",36150,"AVENTAL DE SEGURANCA DE RASPA DE COURO 1,00 X 0,60 M","UN",46.17,46.17,null,"CR"]
["SINAPI-I 45262","SINAPI-I",45262,"AVENTAL EM PVC, FORRADO, *0,3* MM DE ESPESSURA, *1,15 X 0,70* M (COMPRIMENTO X LARGURA), 100% IMPERMEAVEL","UN",13.75,13.75,null,"CR"]
["SINAPI-I 4760","SINAPI-I",4760,"AZULEJISTA OU LADRILHEIRO (HORISTA)","H",24.2,27.06,null,"CR"]
["SINAPI-I 41069","SINAPI-I",41069,"AZULEJISTA OU LADRILHEIRO (MENSALISTA)","MES",4243.8900000000003,4747.54,null,"CR"]
["SINAPI-I 10422","SINAPI-I",10422,"BACIA SANITARIA (VASO) COM CAIXA ACOPLADA, SIFAO APARENTE, DE LOUCA BRANCA (SEM ASSENTO)","UN",511.13,511.13,null,"CR"]
["SINAPI-I 44019","SINAPI-I",44019,"BACIA SANITARIA (VASO) COM CAIXA ACOPLADA, SIFAO OCULTO / CARENADO, DE LOUCA BRANCA (SEM ASSENTO) - PADRAO ALTO","UN",707.53,707.53,null,"CR"]
["SINAPI-I 36520","SINAPI-I",36520,"BACIA SANITARIA (VASO) CONVENCIONAL PARA PCD, SEM FURO FRONTAL, DE LOUCA BRANCA (SEM ASSENTO)","UN",860.28,860.28,null,"CR"]
["SINAPI-I 42319","SINAPI-I",42319,"BACIA SANITARIA (VASO) CONVENCIONAL PARA USO ESPECIFICO (HOSPITAIS, CLINICAS), COM FURO FRONTAL, DE LOUCA BRANCA, SEM ASSENTO","UN",770.86,770.86,null,"CR"]
["SINAPI-I 10420","SINAPI-I",10420,"BACIA SANITARIA (VASO) CONVENCIONAL, DE LOUCA BRANCA, SIFAO APARENTE, SAIDA VERTICAL (SEM ASSENTO)","UN",273.45,273.45,null,"C"]
["SINAPI-I 10421","SINAPI-I",10421,"BACIA SANITARIA (VASO) CONVENCIONAL, DE LOUCA COLORIDA, SIFAO APARENTE, SAIDA VERTICAL (SEM ASSENTO)","UN",300.49,300.49,null,"CR"]
["SINAPI-I 11786","SINAPI-I",11786,"BACIA SANITARIA (VASO) INFANTIL, SIFONADO, DE LOUCA BRANCA, (SEM ASSENTO)","UN",605.9,605.9,null,"CR"]
["SINAPI-I 45195","SINAPI-I",45195,"BALANCIM INDIVIDUAL, TIPO CADEIRA SUSPENSA SOBE E DESCE","UN",5099.21,5099.21,null,"CR"]
["SINAPI-I 4815","SINAPI-I",4815,"BALDE VERMELHO PARA SINALIZACAO DE VIAS","UN",11.31,11.31,null,"CR"]
["SINAPI-I 541","SINAPI-I",541,"BANCADA DE MARMORE SINTETICO COM UMA CUBA, 120 X *60* CM","UN",210,210,null,"C"]
["SINAPI-I 542","SINAPI-I",542,"BANCADA DE MARMORE SINTETICO COM UMA CUBA, 150 X *60* CM","UN",263.23,263.23,null,"CR"]
["SINAPI-I 540","SINAPI-I",540,"BANCADA DE MARMORE SINTETICO COM UMA CUBA, 200 X *60* CM","UN",593.20000000000005,593.20000000000005,null,"CR"]
["SINAPI-I 38364","SINAPI-I",38364,"BANCADA/ BANCA EM GRANITO, POLIDO, TIPO ANDORINHA/ QUARTZ/ CASTELO/ CORUMBA OU OUTROS EQUIVALENTES DA REGIAO, COM CUBA INOX, FORMATO *120 X 60* CM, E= *2* CM","UN",943.39,943.39,null,"CR"]
["SINAPI-I 11692","SINAPI-I",11692,"BANCADA/ BANCA/ BALCAO/ TAMPO EM MARMORE BRANCO COMUM, POLIDO, LISO, ACABAMENTO RETO, E= *3* CM (SEM FUROS)","M2",553.29999999999995,553.29999999999995,null,"CR"]
["SINAPI-I 1746","SINAPI-I",1746,"BANCADA/BANCA/PIA DE ACO INOXIDAVEL (AISI 430) COM 1 CUBA CENTRAL, COM VALVULA, ESCORREDOR DUPLO, DE *0,55 X 1,20* M","UN",299.89999999999998,299.89999999999998,null,"C"]
["SINAPI-I 1748","SINAPI-I",1748,"BANCADA/BANCA/PIA DE ACO INOXIDAVEL (AISI 430) COM 1 CUBA CENTRAL, COM VALVULA, ESCORREDOR DUPLO, DE *0,55 X 1,40* M","UN",398.79,398.79,null,"CR"]
["SINAPI-I 1749","SINAPI-I",1749,"BANCADA/BANCA/PIA DE ACO INOXIDAVEL (AISI 430) COM 1 CUBA CENTRAL, COM VALVULA, ESCORREDOR DUPLO, DE *0,55 X 1,80* M","UN",577.78,577.78,null,"CR"]
["SINAPI-I 37412","SINAPI-I",37412,"BANCADA/BANCA/PIA DE ACO INOXIDAVEL (AISI 430) COM 1 CUBA CENTRAL, COM VALVULA, LISA (SEM ESCORREDOR), DE *0,55 X 1,20* M","UN",293.14999999999998,293.14999999999998,null,"CR"]
["SINAPI-I 1745","SINAPI-I",1745,"BANCADA/BANCA/PIA DE ACO INOXIDAVEL (AISI 430) COM 1 CUBA CENTRAL, SEM VALVULA, ESCORREDOR DUPLO, DE *0,55 X 1,60* M","UN",348.59,348.59,null,"CR"]
["SINAPI-I 1750","SINAPI-I",1750,"BANCADA/BANCA/PIA DE ACO INOXIDAVEL (AISI 430) COM 2 CUBAS, COM VALVULAS, ESCORREDOR DUPLO, DE *0,55 X 2,00* M","UN",814.62,814.62,null,"CR"]
["SINAPI-I 11687","SINAPI-I",11687,"BANCADA/TAMPO ACO INOX (AISI 304), LARGURA 60 CM, COM RODABANCA (NAO INCLUI PES DE APOIO)","M",1297.93,1297.93,null,"CR"]
["SINAPI-I 11689","SINAPI-I",11689,"BANCADA/TAMPO ACO INOX (AISI 304), LARGURA 70 CM, COM RODABANCA (NAO INCLUI PES DE APOIO)","M",1626.23,1626.23,null,"CR"]
["SINAPI-I 11693","SINAPI-I",11693,"BANCADA/TAMPO LISO (SEM CUBA) EM MARMORE SINTETICO","M2",232.84,232.84,null,"CR"]
["SINAPI-I 36215","SINAPI-I",36215,"BANCO ARTICULADO PARA BANHO, EM ACO INOX POLIDO, 70* CM X 45* CM","UN",531.65,531.65,null,"CR"]
["SINAPI-I 42439","SINAPI-I",42439,"BANCO COM ENCOSTO, 1,60M* DE COMPRIMENTO, EM TUBO DE ACO CARBONO E PINTURA NO PROCESSO ELETROSTATICO - PARA ACADEMIA AO AR LIVRE / ACADEMIA DA TERCEIRA IDADE - ATI","UN"]
["SINAPI-I 38381","SINAPI-I",38381,"BANDEJA DE PINTURA PARA ROLO 23 CM","UN",10.74,10.74,null,"CR"]
["SINAPI-I 39621","SINAPI-I",39621,"BARRA ANTIPANICO DUPLA, CEGA EM LADO OPOSTO, COR CINZA","PAR",1183.7,1183.7,null,"CR"]
["SINAPI-I 39624","SINAPI-I",39624,"BARRA ANTIPANICO DUPLA, PARA PORTA DE VIDRO, COR CINZA","PAR",1305.75,1305.75,null,"CR"]
["SINAPI-I 39615","SINAPI-I",39615,"BARRA ANTIPANICO SIMPLES, CEGA EM LADO OPOSTO, COR CINZA","UN",527.64,527.64,null,"CR"]
["SINAPI-I 39620","SINAPI-I",39620,"BARRA ANTIPANICO SIMPLES, COM FECHADURA LADO OPOSTO, COR CINZA","UN",805.85,805.85,null,"CR"]
["SINAPI-I 39623","SINAPI-I",39623,"BARRA ANTIPANICO SIMPLES, PARA PORTA DE VIDRO, COR CINZA","UN",863.14,863.14,null,"CR"]
["SINAPI-I 546","SINAPI-I",546,"BARRA DE ACO CHATA, RETANGULAR (QUALQUER BITOLA)","KG",9.73,9.73,null,"C"]
["SINAPI-I 566","SINAPI-I",566,"BARRA DE ACO CHATO, RETANGULAR, 19,05 MM X 3,17 MM (L X E), 0,47 KG/M","M",4.6100000000000003,4.6100000000000003,null,"CR"]
["SINAPI-I 565","SINAPI-I",565,"BARRA DE ACO CHATO, RETANGULAR, 25,4 MM X 4,76 MM (L X E), 0,94 KG/M","M",16.829999999999998,16.829999999999998,null,"CR"]
["SINAPI-I 555","SINAPI-I",555,"BARRA DE ACO CHATO, RETANGULAR, 25,4 MM X 6,35 MM (L X E), 1,2265 KG/M","M",11.93,11.93,null,"CR"]
["SINAPI-I 557","SINAPI-I",557,"BARRA DE ACO CHATO, RETANGULAR, 38,1 MM X 12,7 MM (L X E), 3,79 KG/M","M",37.44,37.44,null,"CR"]
["SINAPI-I 552","SINAPI-I",552,"BARRA DE ACO CHATO, RETANGULAR, 38,1 MM X 6,35 MM (L X E), 1,89 KG/M","M",18.57,18.57,null,"CR"]
["SINAPI-I 563","SINAPI-I",563,"BARRA DE ACO CHATO, RETANGULAR, 38,1 MM X 9,53 MM (L X E), 2,84 KG/M","M",27.91,27.91,null,"CR"]
["SINAPI-I 549","SINAPI-I",549,"BARRA DE ACO CHATO, RETANGULAR, 50,8 MM X 12,7 MM (L X E), 5,06 KG/M","M",50.23,50.23,null,"CR"]
["SINAPI-I 551","SINAPI-I",551,"BARRA DE ACO CHATO, RETANGULAR, 50,8 MM X 25,4 MM (L X E), 10,12 KG/M","M",99.47,99.47,null,"CR"]
["SINAPI-I 559","SINAPI-I",559,"BARRA DE ACO CHATO, RETANGULAR, 50,8 MM X 6,35 MM (L X E), 2,53 KG/M","M",24.86,24.86,null,"CR"]
["SINAPI-I 560","SINAPI-I",560,"BARRA DE ACO CHATO, RETANGULAR, 50,8 MM X 7,94 MM (L X E), 3,162 KG/M","M",31.11,31.11,null,"CR"]
["SINAPI-I 547","SINAPI-I",547,"BARRA DE ACO CHATO, RETANGULAR, 50,8 MM X 9,53 MM (L X E), 3,79KG/M","M",37.25,37.25,null,"CR"]
["SINAPI-I 36207","SINAPI-I",36207,"BARRA DE APOIO EM \"L\", EM ACO INOX POLIDO 70 X 70 CM, DIAMETRO MINIMO 3 CM","UN",235.48,235.48,null,"CR"]
["SINAPI-I 36209","SINAPI-I",36209,"BARRA DE APOIO EM \"L\", EM ACO INOX POLIDO 80 X 80 CM, DIAMETRO MINIMO 3 CM","UN",270.25,270.25,null,"CR"]
["SINAPI-I 36210","SINAPI-I",36210,"BARRA DE APOIO LATERAL ARTICULADA, COM TRAVA, EM ACO INOX POLIDO, 70 CM, DIAMETRO MINIMO 3 CM","UN",292.39999999999998,292.39999999999998,null,"CR"]
["SINAPI-I 36204","SINAPI-I",36204,"BARRA DE APOIO RETA, EM ACO INOX POLIDO, COMPRIMENTO 60CM, DIAMETRO MINIMO 3 CM","UN",103.67,103.67,null,"CR"]
["SINAPI-I 36205","SINAPI-I",36205,"BARRA DE APOIO RETA, EM ACO INOX POLIDO, COMPRIMENTO 70CM, DIAMETRO MINIMO 3 CM","UN",115.14,115.14,null,"CR"]
["SINAPI-I 36081","SINAPI-I",36081,"BARRA DE APOIO RETA, EM ACO INOX POLIDO, COMPRIMENTO 80CM, DIAMETRO MINIMO 3 CM","UN",122.77,122.77,null,"C"]
["SINAPI-I 36206","SINAPI-I",36206,"BARRA DE APOIO RETA, EM ACO INOX POLIDO, COMPRIMENTO 90 CM, DIAMETRO MINIMO 3 CM","UN",128.62,128.62,null,"CR"]
["SINAPI-I 36218","SINAPI-I",36218,"BARRA DE APOIO RETA, EM ALUMINIO, COMPRIMENTO 60CM, DIAMETRO MINIMO 3 CM","UN",136.26,136.26,null,"CR"]
["SINAPI-I 36220","SINAPI-I",36220,"BARRA DE APOIO RETA, EM ALUMINIO, COMPRIMENTO 70CM, DIAMETRO MINIMO 3 CM","UN",156.24,156.24,null,"CR"]
["SINAPI-I 36080","SINAPI-I",36080,"BARRA DE APOIO RETA, EM ALUMINIO, COMPRIMENTO 80 CM, DIAMETRO MINIMO 3 CM","UN",169,169,null,"C"]
["SINAPI-I 36223","SINAPI-I",36223,"BARRA DE APOIO RETA, EM ALUMINIO, COMPRIMENTO 90 CM, DIAMETRO MINIMO 3 CM","UN",176.97,176.97,null,"CR"]
["SINAPI-I 38127","SINAPI-I",38127,"BASE DE MISTURADOR MONOCOMANDO PARA CHUVEIRO, DE PAREDE (NAO INCLUI ACABAMENTOS)","UN",414.43,414.43,null,"CR"]
["SINAPI-I 38060","SINAPI-I",38060,"BASE PARA MASTRO DE PARA-RAIOS DIAMETRO NOMINAL 1 1/2\"","UN"]
["SINAPI-I 10956","SINAPI-I",10956,"BASE PARA MASTRO DE PARA-RAIOS DIAMETRO NOMINAL 2\"","UN"]
["SINAPI-I 39380","SINAPI-I",39380,"BASE PARA RELE COM SUPORTE METALICO","UN"]
["SINAPI-I 44172","SINAPI-I",44172,"BASTIDOR PARA BLOCO M10","UN",6.59,6.59,null,"CR"]
[{"$f":"CONCATENATE($B577,\" \",$C577)","v":"SINAPI-I 37597"},"SINAPI-I",37597,"BATE-ESTACAS POR GRAVIDADE, POTENCIA160 HP, PESO DO MARTELO ATE 3 TONELADAS","UN"]
["SINAPI-I 183","SINAPI-I",183,"BATENTE / PORTAL / ADUELA / MARCO EM MADEIRA MACICA COM REBAIXO, E = *3* CM, L = *14* CM, PARA PORTAS DE GIRO DE *60 CM A 120* CM X *210* CM, CEDRINHO / ANGELIM COMERCIAL / TAURI / CURUPIXA / PEROBA / CUMARU OU EQUIVALENTE DA REGIAO (NAO INCLUI ALIZARES)","JG",303,303,null,"C"]
["SINAPI-I 184","SINAPI-I",184,"BATENTE / PORTAL / ADUELA / MARCO EM MADEIRA MACICA COM REBAIXO, E = *3* CM, L = *14* CM, PARA PORTAS DE GIRO DE *60 CM A 120* CM X *210* CM, PINUS / EUCALIPTO / VIROLA OU EQUIVALENTE DA REGIAO (NAO INCLUI ALIZARES)","JG",187.66,187.66,null,"CR"]
["SINAPI-I 181","SINAPI-I",181,"BATENTE / PORTAL / ADUELA / MARCO EM MADEIRA MACICA COM REBAIXO, E = *3* CM, L = *16* CM, PARA PORTAS DE GIRO DE *60 CM A 120* CM X *210* CM, CEDRINHO / ANGELIM COMERCIAL / TAURI / CURUPIXA / PEROBA / CUMARU OU EQUIVALENTE DA REGIAO (NAO INCLUI ALIZARES)","JG",404.65,404.65,null,"CR"]
["SINAPI-I 20001","SINAPI-I",20001,"BATENTE / PORTAL / ADUELA / MARCO EM MADEIRA MACICA COM REBAIXO, E = *3* CM, L = *16* CM, PARA PORTAS DE GIRO DE *60 CM A 120* CM X *210* CM, PINUS / EUCALIPTO / VIROLA OU EQUIVALENTE DA REGIAO (NAO INCLUI ALIZARES)","JG",234.58,234.58,null,"CR"]
["SINAPI-I 39837","SINAPI-I",39837,"BATENTE/PORTAL/ADUELA/MARCO, EM MDF/PVC WOOD/POLIESTIRENO OU MADEIRA LAMINADA, L = *9,0* CM COM GUARNICAO REGULAVEL 2 FACES = *35* MM, PRIMER","JG",399.51,399.51,null,"CR"]
["SINAPI-I 43366","SINAPI-I",43366,"BENTONITA, ARGILA CONSTITUIDA POR  MONTMORILONITA","KG"]
["SINAPI-I 10535","SINAPI-I",10535,"BETONEIRA CAPACIDADE NOMINAL 400 L, CAPACIDADE DE MISTURA 280 L, MOTOR ELETRICO TRIFASICO 220/380 V POTENCIA 2 CV, SEM CARREGADOR","UN",5048.84,5048.84,null,"C"]
["SINAPI-I 10537","SINAPI-I",10537,"BETONEIRA CAPACIDADE NOMINAL 400 L, CAPACIDADE DE MISTURA 310 L, MOTOR A DIESEL POTENCIA 5 CV, SEM CARREGADOR","UN",6885.24,6885.24,null,"CR"]
["SINAPI-I 13891","SINAPI-I",13891,"BETONEIRA CAPACIDADE NOMINAL 400 L, CAPACIDADE DE MISTURA 310 L, MOTOR A GASOLINA POTENCIA 5,5 CV, SEM CARREGADOR","UN",6315.32,6315.32,null,"CR"]
["SINAPI-I 44492","SINAPI-I",44492,"BETONEIRA CAPACIDADE NOMINAL 600 L, CAPACIDADE DE MISTURA 440 L, MOTOR A GASOLINA POTENCIA 10 HP, COM  CARREGADOR","UN",27469.11,27469.11,null,"CR"]
["SINAPI-I 36396","SINAPI-I",36396,"BETONEIRA, CAPACIDADE NOMINAL 400 L, CAPACIDADE DE MISTURA 310L, MOTOR ELETRICO TRIFASICO 220/380V POTENCIA 2 CV, SEM CARREGADOR","UN",5776.21,5776.21,null,"CR"]
["SINAPI-I 36397","SINAPI-I",36397,"BETONEIRA, CAPACIDADE NOMINAL 600 L, CAPACIDADE DE MISTURA 360L, MOTOR ELETRICO TRIFASICO 220/380V, POTENCIA 4CV, EXCLUSO CARREGADOR","UN",20537.650000000001,20537.650000000001,null,"CR"]
["SINAPI-I 36398","SINAPI-I",36398,"BETONEIRA, CAPACIDADE NOMINAL 600 L, CAPACIDADE DE MISTURA 440 L, MOTOR A DIESEL POTENCIA 10 CV, COM CARREGADOR","UN",24961.8,24961.8,null,"CR"]
["SINAPI-I 647","SINAPI-I",647,"BLASTER, DINAMITADOR OU CABO DE FOGO (HORISTA)","H",26.52,29.66,null,"CR"]
["SINAPI-I 40920","SINAPI-I",40920,"BLASTER, DINAMITADOR OU CABO DE FOGO (MENSALISTA)","MES",4653.03,5205.2299999999996,null,"CR"]
["SINAPI-I 715","SINAPI-I",715,"BLOCO / TIJOLO DE VIDRO INCOLOR, CANELADO / ONDULADO, *19 X 19 X 8* CM (A X L X E)","UN",15.9,15.9,null,"C"]
["SINAPI-I 716","SINAPI-I",716,"BLOCO / TIJOLO DE VIDRO INCOLOR, XADREZ, *20 X 20 X 10* CM (A X L X E)","UN",17.98,17.98,null,"CR"]
["SINAPI-I 7270","SINAPI-I",7270,"BLOCO CERAMICO / TIJOLO VAZADO PARA ALVENARIA DE VEDACAO, 4 FUROS NA HORIZONTAL DE 9 X 9 X 19 CM (L X A X C)","UN",0.75,0.75,null,"CR"]
["SINAPI-I 44460","SINAPI-I",44460,"BLOCO CERAMICO / TIJOLO VAZADO PARA ALVENARIA DE VEDACAO, 6 FUROS NA HORIZONTAL DE 11,5 X 19 X 29 CM (L X A X C)","UN",1.25,1.25,null,"CR"]
["SINAPI-I 44461","SINAPI-I",44461,"BLOCO CERAMICO / TIJOLO VAZADO PARA ALVENARIA DE VEDACAO, 6 FUROS NA HORIZONTAL DE 11,5 X 19 X 39 CM (L X A X C)","UN",1.71,1.71,null,"CR"]
["SINAPI-I 7267","SINAPI-I",7267,"BLOCO CERAMICO / TIJOLO VAZADO PARA ALVENARIA DE VEDACAO, 6 FUROS NA HORIZONTAL DE 9 X 14 X 19 CM (L X A X C)","UN",0.63,0.63,null,"CR"]
["SINAPI-I 44458","SINAPI-I",44458,"BLOCO CERAMICO / TIJOLO VAZADO PARA ALVENARIA DE VEDACAO, 6 FUROS NA HORIZONTAL DE 9 X 14 X 24 CM (L X A X C)","UN",0.76,0.76,null,"CR"]
["SINAPI-I 44457","SINAPI-I",44457,"BLOCO CERAMICO / TIJOLO VAZADO PARA ALVENARIA DE VEDACAO, 6 FUROS NA HORIZONTAL DE 9 X 19 X 39 CM (L X A X C)","UN",1.48,1.48,null,"CR"]
["SINAPI-I 7271","SINAPI-I",7271,"BLOCO CERAMICO / TIJOLO VAZADO PARA ALVENARIA DE VEDACAO, 8 FUROS NA HORIZONTAL DE 9 X 19 X 19 CM (L X A X C)","UN",0.8,0.8,null,"C"]
["SINAPI-I 7268","SINAPI-I",7268,"BLOCO CERAMICO / TIJOLO VAZADO PARA ALVENARIA DE VEDACAO, 8 FUROS NA HORIZONTAL DE 9 X 19 X 29 CM (L X A X C)","UN",1.24,1.24,null,"CR"]
["SINAPI-I 44459","SINAPI-I",44459,"BLOCO CERAMICO / TIJOLO VAZADO PARA ALVENARIA DE VEDACAO, 9 FUROS NA HORIZONTAL DE 11,5 X 14 X 24 CM (L X A X C)","UN",0.8,0.8,null,"CR"]
["SINAPI-I 44462","SINAPI-I",44462,"BLOCO CERAMICO / TIJOLO VAZADO PARA ALVENARIA DE VEDACAO, 9 FUROS NA HORIZONTAL DE 14 X 19 X 29 CM (L X A X C)","UN",1.42,1.42,null,"CR"]
["SINAPI-I 44463","SINAPI-I",44463,"BLOCO CERAMICO / TIJOLO VAZADO PARA ALVENARIA DE VEDACAO, 9 FUROS NA HORIZONTAL DE 14 X 19 X 39 CM (L X A X C)","UN",1.84,1.84,null,"CR"]
["SINAPI-I 44464","SINAPI-I",44464,"BLOCO CERAMICO / TIJOLO VAZADO PARA ALVENARIA DE VEDACAO, 9 FUROS NA HORIZONTAL DE 19 X 19 X 29 CM (L X A X C)","UN",1.9,1.9,null,"CR"]
["SINAPI-I 44465","SINAPI-I",44465,"BLOCO CERAMICO / TIJOLO VAZADO PARA ALVENARIA DE VEDACAO, 9 FUROS NA HORIZONTAL DE 19 X 19 X 39 CM (L X A X C)","UN",2.61,2.61,null,"CR"]
["SINAPI-I 38783","SINAPI-I",38783,"BLOCO CERAMICO / TIJOLO VAZADO PARA ALVENARIA DE VEDACAO, FUROS NA HORIZONTAL DE 11,5 X 19 X 19 CM (L X A X C)","UN",0.91,0.91,null,"CR"]
["SINAPI-I 44466","SINAPI-I",44466,"BLOCO CERAMICO / TIJOLO VAZADO PARA ALVENARIA DE VEDACAO, FUROS NA VERTICAL DE 11,5 X 19 X 29 CM (L X A X C)","UN",1.85,1.85,null,"CR"]
["SINAPI-I 44467","SINAPI-I",44467,"BLOCO CERAMICO / TIJOLO VAZADO PARA ALVENARIA DE VEDACAO, FUROS NA VERTICAL DE 11,5 X 19 X 39 CM (L X A X C)","UN",2.23,2.23,null,"CR"]
["SINAPI-I 44468","SINAPI-I",44468,"BLOCO CERAMICO / TIJOLO VAZADO PARA ALVENARIA DE VEDACAO, FUROS NA VERTICAL DE 14 X 19 X 29 CM (L X A X C)","UN",1.94,1.94,null,"CR"]
["SINAPI-I 37593","SINAPI-I",37593,"BLOCO CERAMICO / TIJOLO VAZADO PARA ALVENARIA DE VEDACAO, FUROS NA VERTICAL DE 14 X 19 X 39 CM (L X A X C)","UN",2.4900000000000002,2.4900000000000002,null,"CR"]
["SINAPI-I 37594","SINAPI-I",37594,"BLOCO CERAMICO / TIJOLO VAZADO PARA ALVENARIA DE VEDACAO, FUROS NA VERTICAL DE 19 X 19 X 39 CM (L X A X C)","UN",2.96,2.96,null,"CR"]
["SINAPI-I 37592","SINAPI-I",37592,"BLOCO CERAMICO / TIJOLO VAZADO PARA ALVENARIA DE VEDACAO, FUROS NA VERTICAL DE 9 X 19 X 39 CM (L X A X C)","UN",1.97,1.97,null,"CR"]
["SINAPI-I 41372","SINAPI-I",41372,"BLOCO CONCRETO CELULAR AUTOCLAVADO 12,5 X 30 X 60 CM (E X A X C)","M2"]
["SINAPI-I 41371","SINAPI-I",41371,"BLOCO CONCRETO CELULAR AUTOCLAVADO 7,5 X 30 X 60 CM (E X A X C)","M2"]
["SINAPI-I 34556","SINAPI-I",34556,"BLOCO DE CONCRETO ESTRUTURAL 14 X 19 X 29 CM, FBK 10 MPA (NBR 6136)","UN",4.18,4.18,null,"CR"]
["SINAPI-I 37873","SINAPI-I",37873,"BLOCO DE CONCRETO ESTRUTURAL 14 X 19 X 29 CM, FBK 12 MPA (NBR 6136)","UN",4.26,4.26,null,"CR"]
["SINAPI-I 34564","SINAPI-I",34564,"BLOCO DE CONCRETO ESTRUTURAL 14 X 19 X 29 CM, FBK 14 MPA (NBR 6136)","UN",4.46,4.46,null,"CR"]
["SINAPI-I 34565","SINAPI-I",34565,"BLOCO DE CONCRETO ESTRUTURAL 14 X 19 X 29 CM, FBK 16 MPA (NBR 6136)","UN",4.72,4.72,null,"CR"]
["SINAPI-I 38590","SINAPI-I",38590,"BLOCO DE CONCRETO ESTRUTURAL 14 X 19 X 29 CM, FBK 4,5 MPA (NBR 6136)","UN",3.48,3.48,null,"CR"]
["SINAPI-I 34566","SINAPI-I",34566,"BLOCO DE CONCRETO ESTRUTURAL 14 X 19 X 29 CM, FBK 6 MPA (NBR 6136)","UN",3.66,3.66,null,"CR"]
["SINAPI-I 34567","SINAPI-I",34567,"BLOCO DE CONCRETO ESTRUTURAL 14 X 19 X 29 CM, FBK 8 MPA (NBR 6136)","UN",3.88,3.88,null,"CR"]
["SINAPI-I 38591","SINAPI-I",38591,"BLOCO DE CONCRETO ESTRUTURAL 14 X 19 X 34 CM, FBK 4,5 MPA (NBR 6136)","UN",3.52,3.52,null,"CR"]
["SINAPI-I 34568","SINAPI-I",34568,"BLOCO DE CONCRETO ESTRUTURAL 14 X 19 X 39 CM, FBK 10 MPA (NBR 6136)","UN",4.59,4.59,null,"CR"]
["SINAPI-I 34569","SINAPI-I",34569,"BLOCO DE CONCRETO ESTRUTURAL 14 X 19 X 39 CM, FBK 12 MPA (NBR 6136)","UN",4.72,4.72,null,"CR"]
["SINAPI-I 34570","SINAPI-I",34570,"BLOCO DE CONCRETO ESTRUTURAL 14 X 19 X 39 CM, FBK 14 MPA (NBR 6136)","UN",5.12,5.12,null,"CR"]
["SINAPI-I 25070","SINAPI-I",25070,"BLOCO DE CONCRETO ESTRUTURAL 14 X 19 X 39 CM, FBK 4,5 MPA (NBR 6136)","UN",3.85,3.85,null,"CR"]
["SINAPI-I 34571","SINAPI-I",34571,"BLOCO DE CONCRETO ESTRUTURAL 14 X 19 X 39 CM, FBK 6 MPA (NBR 6136)","UN",3.89,3.89,null,"CR"]
["SINAPI-I 34573","SINAPI-I",34573,"BLOCO DE CONCRETO ESTRUTURAL 14 X 19 X 39 CM, FBK 8 MPA (NBR 6136)","UN",4.09,4.09,null,"CR"]
["SINAPI-I 37107","SINAPI-I",37107,"BLOCO DE CONCRETO ESTRUTURAL 14 X 19 X 39, FCK 16 MPA (NBR 6136)","UN",5.4,5.4,null,"CR"]
["SINAPI-I 34576","SINAPI-I",34576,"BLOCO DE CONCRETO ESTRUTURAL 19 X 19 X 39 CM, FBK 10 MPA (NBR 6136)","UN",5.96,5.96,null,"CR"]
["SINAPI-I 34577","SINAPI-I",34577,"BLOCO DE CONCRETO ESTRUTURAL 19 X 19 X 39 CM, FBK 12 MPA (NBR 6136)","UN",6.22,6.22,null,"CR"]
["SINAPI-I 34578","SINAPI-I",34578,"BLOCO DE CONCRETO ESTRUTURAL 19 X 19 X 39 CM, FBK 14 MPA (NBR 6136)","UN",6.75,6.75,null,"CR"]
["SINAPI-I 34579","SINAPI-I",34579,"BLOCO DE CONCRETO ESTRUTURAL 19 X 19 X 39 CM, FBK 16 MPA (NBR 6136)","UN",7.2,7.2,null,"CR"]
["SINAPI-I 25067","SINAPI-I",25067,"BLOCO DE CONCRETO ESTRUTURAL 19 X 19 X 39 CM, FBK 4,5 MPA (NBR 6136)","UN",4.82,4.82,null,"CR"]
["SINAPI-I 34580","SINAPI-I",34580,"BLOCO DE CONCRETO ESTRUTURAL 19 X 19 X 39 CM, FBK 8 MPA (NBR 6136)","UN",5.38,5.38,null,"CR"]
["SINAPI-I 25071","SINAPI-I",25071,"BLOCO DE CONCRETO ESTRUTURAL 9 X 19 X 39 CM, FBK 4,5 MPA (NBR 6136)","UN",2.68,2.68,null,"CR"]
["SINAPI-I 44171","SINAPI-I",44171,"BLOCO DE ENGATE RAPIDO PARA BASTIDOR TIPO M10","UN",18.82,18.82,null,"CR"]
["SINAPI-I 38395","SINAPI-I",38395,"BLOCO DE ESPUMA MULTIUSO *23X 13 X 8* CM","UN",8.9700000000000006,8.9700000000000006,null,"CR"]
[{"$f":"CONCATENATE($B641,\" \",$C641)","v":"SINAPI-I 34583"},"SINAPI-I",34583,"BLOCO DE GESSO COMPACTO / MACICO, BRANCO, E = 10 CM, DIMENSOES *67 X 50* CM","M2",58.73,58.73,null,"CR"]
["SINAPI-I 34584","SINAPI-I",34584,"BLOCO DE GESSO VAZADO, BRANCO, E = *7* CM, DIMENSOES *67 X 50* CM","M2",43.07,43.07,null,"CR"]
["SINAPI-I 709","SINAPI-I",709,"BLOCO DE POLIETILENO ALTA DENSIDADE, *27* X *30* X *100* CM, ACOMPANHADOS PLACAS TERMINAIS E LONGARINAS, PARA FUNDO DE FILTRO","M2"]
["SINAPI-I 34592","SINAPI-I",34592,"BLOCO DE VEDACAO CONCRETO 14 X 19 X 29 CM (CLASSE C - NBR 6136)","UN",3.06,3.06,null,"CR"]
["SINAPI-I 34599","SINAPI-I",34599,"BLOCO DE VEDACAO CONCRETO APARENTE 9 X 19 X 39 CM (CLASSE C - NBR 6136)","UN",2.75,2.75,null,"CR"]
["SINAPI-I 651","SINAPI-I",651,"BLOCO DE VEDACAO DE CONCRETO 14 X 19 X 39 CM (CLASSE C - NBR 6136)","UN",3.37,3.37,null,"CR"]
["SINAPI-I 654","SINAPI-I",654,"BLOCO DE VEDACAO DE CONCRETO 19 X 19 X 39 CM (CLASSE C - NBR 6136)","UN",4.18,4.18,null,"CR"]
["SINAPI-I 37103","SINAPI-I",37103,"BLOCO DE VEDACAO DE CONCRETO APARENTE 14 X 19 X 39 CM (CLASSE C - NBR 6136)","UN",3.5,3.5,null,"CR"]
["SINAPI-I 34555","SINAPI-I",34555,"BLOCO DE VEDACAO DE CONCRETO APARENTE 19 X 19 X 39 CM (CLASSE C - NBR 6136)","UN",4.45,4.45,null,"CR"]
["SINAPI-I 674","SINAPI-I",674,"BLOCO DE VEDACAO DE CONCRETO CELULAR AUTOCLAVADO 10 X 30 X 60 CM (E X A X C)","M2"]
["SINAPI-I 34600","SINAPI-I",34600,"BLOCO DE VEDACAO DE CONCRETO CELULAR AUTOCLAVADO 15 X 30 X 60 CM (E X A X C)","M2"]
["SINAPI-I 652","SINAPI-I",652,"BLOCO DE VEDACAO DE CONCRETO CELULAR AUTOCLAVADO 20 X 30 X 60 CM (E X A X C)","M2"]
["SINAPI-I 650","SINAPI-I",650,"BLOCO DE VEDACAO DE CONCRETO, 9 X 19 X 39 CM (CLASSE C - NBR 6136)","UN",2.7,2.7,null,"C"]
["SINAPI-I 718","SINAPI-I",718,"BLOCO DE VIDRO / ELEMENTO VAZADO, INCOLOR, VENEZIANA, *20 X 20 X 6* CM (A X L X E)","UN",15.71,15.71,null,"CR"]
["SINAPI-I 11981","SINAPI-I",11981,"BLOCO DE VIDRO / ELEMENTO VAZADO, INCOLOR, VENEZIANA, DE *20 X 10 X 8* CM (A X L X E)","UN",15.26,15.26,null,"CR"]
["SINAPI-I 34586","SINAPI-I",34586,"BLOCO ESTRUTURAL CERAMICO DE 14 X 19 X 29 CM (L X A X C) E 6,0 MPA","UN",1.97,1.97,null,"CR"]
["SINAPI-I 38603","SINAPI-I",38603,"BLOCO ESTRUTURAL CERAMICO DE 14 X 19 X 34 CM (L X A X C) E 6,0 MPA","UN",2.34,2.34,null,"CR"]
["SINAPI-I 34588","SINAPI-I",34588,"BLOCO ESTRUTURAL CERAMICO DE 14 X 19 X 39 CM (L X A X C) E 6,0 MPA","UN",2.66,2.66,null,"CR"]
["SINAPI-I 34590","SINAPI-I",34590,"BLOCO ESTRUTURAL CERAMICO DE 19 X 19 X 29 CM (L X A X C) E 6,0 MPA","UN",2.64,2.64,null,"CR"]
["SINAPI-I 34591","SINAPI-I",34591,"BLOCO ESTRUTURAL CERAMICO DE 19 X 19 X 39 CM (L X A X C) E 6,0 MPA","UN",3.22,3.22,null,"CR"]
["SINAPI-I 40517","SINAPI-I",40517,"BLOQUETE/PISO DE CONCRETO - MODELO PISOGRAMA/CONCREGRAMA 2 FUROS, DIMENSOES APROX. DE *35 X 15* CM E ESPESSURA DE 7 CM (+/- 1 CM), COR NATURAL","M2",54.22,54.22,null,"CR"]
["SINAPI-I 40515","SINAPI-I",40515,"BLOQUETE/PISO DE CONCRETO - MODELO PISOGRAMA/CONCREGRAMA/PAVI-GRADE/GRAMEIRO, DIMENSOES APROXIMADAS DE *60 X 45* CM E ESPESSURA DE 8 CM (+/- 1 CM), COR NATURAL","M2",59.64,59.64,null,"CR"]
["SINAPI-I 40524","SINAPI-I",40524,"BLOQUETE/PISO INTERTRAVADO DE CONCRETO - MODELO ONDA/16 FACES/RETANGULAR/TIJOLINHO/PAVER/HOLANDES/PARALELEPIPEDO, *20 X 10* CM, E = 10 CM, RESISTENCIA DE 35 MPA, COR NATURAL","M2",61.96,61.96,null,"CR"]
["SINAPI-I 40529","SINAPI-I",40529,"BLOQUETE/PISO INTERTRAVADO DE CONCRETO - MODELO ONDA/16 FACES/RETANGULAR/TIJOLINHO/PAVER/HOLANDES/PARALELEPIPEDO, *20 X 10* CM, E = 10 CM, RESISTENCIA DE 50 MPA, COR NATURAL","M2",98.25,98.25,null,"CR"]
["SINAPI-I 36156","SINAPI-I",36156,"BLOQUETE/PISO INTERTRAVADO DE CONCRETO - MODELO ONDA/16 FACES/RETANGULAR/TIJOLINHO/PAVER/HOLANDES/PARALELEPIPEDO, *20 X 10* CM, E = 6 CM, RESISTENCIA DE 35 MPA, COLORIDO","M2",58.7,58.7,null,"CR"]
["SINAPI-I 36155","SINAPI-I",36155,"BLOQUETE/PISO INTERTRAVADO DE CONCRETO - MODELO ONDA/16 FACES/RETANGULAR/TIJOLINHO/PAVER/HOLANDES/PARALELEPIPEDO, *20 X 10* CM, E = 6 CM, RESISTENCIA DE 35 MPA, COR NATURAL","M2",46.47,46.47,null,"CR"]
["SINAPI-I 36154","SINAPI-I",36154,"BLOQUETE/PISO INTERTRAVADO DE CONCRETO - MODELO ONDA/16 FACES/RETANGULAR/TIJOLINHO/PAVER/HOLANDES/PARALELEPIPEDO, *20 X 10* CM, E = 8 CM, RESISTENCIA DE 35 MPA, COLORIDO","M2",70.12,70.12,null,"CR"]
["SINAPI-I 36170","SINAPI-I",36170,"BLOQUETE/PISO INTERTRAVADO DE CONCRETO - MODELO ONDA/16 FACES/RETANGULAR/TIJOLINHO/PAVER/HOLANDES/PARALELEPIPEDO, *20 X 10* CM, E = 8 CM, RESISTENCIA DE 35 MPA, COR NATURAL","M2",53,53,null,"C"]
["SINAPI-I 695","SINAPI-I",695,"BLOQUETE/PISO INTERTRAVADO DE CONCRETO - MODELO RAQUETE, *22 X 13,5* CM, E = 6 CM, RESISTENCIA DE 35 MPA, COR NATURAL","M2",58.91,58.91,null,"CR"]
["SINAPI-I 679","SINAPI-I",679,"BLOQUETE/PISO INTERTRAVADO DE CONCRETO - MODELO SEXTAVADO / HEXAGONAL, *25 X 25* CM, E = 10 CM, RESISTENCIA DE 35 MPA, COR NATURAL","M2",84.06,84.06,null,"CR"]
["SINAPI-I 711","SINAPI-I",711,"BLOQUETE/PISO INTERTRAVADO DE CONCRETO - MODELO SEXTAVADO / HEXAGONAL, *25 X 25* CM, E = 6 CM, RESISTENCIA DE 35 MPA, COR NATURAL","M2",53,53,null,"CR"]
["SINAPI-I 712","SINAPI-I",712,"BLOQUETE/PISO INTERTRAVADO DE CONCRETO - MODELO SEXTAVADO / HEXAGONAL, *25 X 25* CM, E = 8 CM, RESISTENCIA DE 35 MPA, COR NATURAL","M2",63.6,63.6,null,"CR"]
["SINAPI-I 12614","SINAPI-I",12614,"BOCAL PVC, PARA CALHA PLUVIAL, DIAMETRO DA SAIDA ENTRE *75 E 120* MM, PARA DRENAGEM PLUVIAL PREDIAL","UN",52.02,52.02,null,"CR"]
["SINAPI-I 6140","SINAPI-I",6140,"BOLSA DE LIGACAO EM PVC FLEXIVEL PARA VASO SANITARIO 40 MM (1 1/2\")","UN",4.34,4.34,null,"CR"]
["SINAPI-I 38399","SINAPI-I",38399,"BOLSA DE LONA PARA FERRAMENTAS *50 X 35 X 25* CM","UN",185.23,185.23,null,"CR"]
["SINAPI-I 729","SINAPI-I",729,"BOMBA CENTRIFUGA COM MOTOR ELETRICO MONOFASICO, POTENCIA 0,33 HP, BOCAIS 1\" X 3/4\", DIAMETRO DO ROTOR 99 MM, HM/Q = 4 MCA / 8,5 M3/H A 18 MCA / 0,90 M3/H","UN",825,825,null,"C"]
["SINAPI-I 39925","SINAPI-I",39925,"BOMBA CENTRIFUGA MONOESTAGIO COM MOTOR ELETRICO MONOFASICO, POTENCIA 15 HP, DIAMETRO DO ROTOR *173* MM, HM/Q = *30* MCA / *90* M3/H A *45* MCA / *55* M3/H","UN",11921.17,11921.17,null,"CR"]
["SINAPI-I 731","SINAPI-I",731,"BOMBA CENTRIFUGA MOTOR ELETRICO MONOFASICO 0,49 HP BOCAIS 1\" X 3/4\", DIAMETRO DO ROTOR 110 MM, HM/Q: 6 M / 8,3 M3/H A 20 M / 1,2 M3/H","UN",802.93,802.93,null,"CR"]
["SINAPI-I 10575","SINAPI-I",10575,"BOMBA CENTRIFUGA MOTOR ELETRICO MONOFASICO 0,50 CV DIAMETRO DE SUCCAO X ELEVACAO 3/4\" X 3/4\", MONOESTAGIO, DIAMETRO DOS ROTORES 114 MM, HM/Q: 2 M / 2,99 M3/H A 24 M / 0,71 M3/H","UN",1253.03,1253.03,null,"CR"]
["SINAPI-I 733","SINAPI-I",733,"BOMBA CENTRIFUGA MOTOR ELETRICO MONOFASICO 0,74HP DIAMETRO DE SUCCAO X ELEVACAO 1 1/4\" X 1\", DIAMETRO DO ROTOR 120 MM, HM/Q: 8 M / 7,70 M3/H A 24 M / 2,80 M3/H","UN",1371.91,1371.91,null,"CR"]
["SINAPI-I 732","SINAPI-I",732,"BOMBA CENTRIFUGA MOTOR ELETRICO TRIFASICO 0,99HP DIAMETRO DE SUCCAO X ELEVACAO 1\" X 1\", DIAMETRO DO ROTOR 145 MM, HM/Q: 14 M / 8,4 M3/H A 40 M / 0,60 M3/H","UN",1353.47,1353.47,null,"CR"]
["SINAPI-I 735","SINAPI-I",735,"BOMBA CENTRIFUGA MOTOR ELETRICO TRIFASICO 1,48HP DIAMETRO DE SUCCAO X ELEVACAO 1\" X 1\", 4 ESTAGIOS, DIAMETRO DOS ROTORES 3 X 107 MM + 1 X 100 MM, HM/Q: 10 M / 5,3 M3/H A 70 M / 1,8 M3/H","UN",2407.75,2407.75,null,"CR"]
["SINAPI-I 737","SINAPI-I",737,"BOMBA CENTRIFUGA MOTOR ELETRICO TRIFASICO 14,8 HP, DIAMETRO DE SUCCAO X ELEVACAO 2 1/2\" X 2\", DIAMETRO DO ROTOR 195 MM, HM/Q: 62 M / 55,5 M3/H A 80 M / 31,50 M3/H","UN",7589.86,7589.86,null,"CR"]
["SINAPI-I 736","SINAPI-I",736,"BOMBA CENTRIFUGA MOTOR ELETRICO TRIFASICO 2,96HP, DIAMETRO DE SUCCAO X ELEVACAO 1 1/2\" X 1 1/4\", DIAMETRO DO ROTOR 148 MM, HM/Q: 34 M / 14,80 M3/H A 40 M / 8,60 M3/H","UN",2024.48,2024.48,null,"CR"]
["SINAPI-I 738","SINAPI-I",738,"BOMBA CENTRIFUGA MOTOR ELETRICO TRIFASICO 5HP, DIAMETRO DE SUCCAO X ELEVACAO 2\" X 1 1/2\", DIAMETRO DO ROTOR 155 MM, HM/Q: 40 M / 20,40 M3/H A 46 M / 9,20 M3/H","UN",3519.36,3519.36,null,"CR"]
["SINAPI-I 740","SINAPI-I",740,"BOMBA CENTRIFUGA MOTOR ELETRICO TRIFASICO 9,86 DIAMETRO DE SUCCAO X ELEVACAO 1\" X 1\", 4 ESTAGIOS, DIAMETRO DOS ROTORES 4 X 146 MM, HM/Q: 85 M / 14,9 M3/H A 140 M / 4,2 M3/H","UN",7140.06,7140.06,null,"CR"]
["SINAPI-I 734","SINAPI-I",734,"BOMBA CENTRIFUGA, MOTOR ELETRICO TRIFASICO 1,48HP DIAMETRO DE SUCCAO X ELEVACAO 1 1/2\" X 1\", DIAMETRO DO ROTOR 117 MM, HM/Q: 10 M / 21,9 M3/H A 24 M / 6,1 M3/H","UN",1450.92,1450.92,null,"CR"]
["SINAPI-I 39008","SINAPI-I",39008,"BOMBA DE PROJECAO DE CONCRETO SECO, POTENCIA 10 CV, VAZAO 3 M3/H","UN",61546.9,61546.9,null,"CR"]
["SINAPI-I 39009","SINAPI-I",39009,"BOMBA DE PROJECAO DE CONCRETO SECO, POTENCIA 10 CV, VAZAO 6 M3/H","UN",65939.87,65939.87,null,"CR"]
["SINAPI-I 10587","SINAPI-I",10587,"BOMBA SUBMERSA PARA POCOS TUBULARES PROFUNDOS DIAMETRO DE 4 POLEGADAS, ELETRICA, MONOFASICA, POTENCIA 0,49 HP, 13 ESTAGIOS, BOCAL DE DESCARGA DIAMETRO DE UMA POLEGADA E MEIA, HM/Q = 18 M / 1,90 M3/H A 85 M / 0,60 M3/H","UN",4721.99,4721.99,null,"CR"]
["SINAPI-I 759","SINAPI-I",759,"BOMBA SUBMERSA PARA POCOS TUBULARES PROFUNDOS DIAMETRO DE 4 POLEGADAS, ELETRICA, TRIFASICA, POTENCIA 1,97 HP, 20 ESTAGIOS, BOCAL DE DESCARGA DIAMETRO DE UMA POLEGADA E MEIA, HM/Q = 18 M / 5,40 M3/H A 164 M / 0,80 M3/H","UN",6789.29,6789.29,null,"CR"]
["SINAPI-I 761","SINAPI-I",761,"BOMBA SUBMERSA PARA POCOS TUBULARES PROFUNDOS DIAMETRO DE 4 POLEGADAS, ELETRICA, TRIFASICA, POTENCIA 5,42 HP, 15 ESTAGIOS, BOCAL DE DESCARGA DIAMETRO DE 2 POLEGADAS, HM/Q = 18 M / 18,10 M3/H A 121 M / 2,90 M3/H","UN",11508.42,11508.42,null,"CR"]
["SINAPI-I 750","SINAPI-I",750,"BOMBA SUBMERSA PARA POCOS TUBULARES PROFUNDOS DIAMETRO DE 4 POLEGADAS, ELETRICA, TRIFASICA, POTENCIA 5,42 HP, 29 ESTAGIOS, BOCAL DE DESCARGA DE UMA POLEGADA E MEIA, HM/Q = 18 M / 8,10 M3/H A 201 M / 3,2 M3/H","UN",10926.33,10926.33,null,"CR"]
["SINAPI-I 755","SINAPI-I",755,"BOMBA SUBMERSA PARA POCOS TUBULARES PROFUNDOS DIAMETRO DE 6 POLEGADAS, ELETRICA, TRIFASICA, POTENCIA 27,12 HP, 7 ESTAGIOS, BOCAL DE DESCARGA DIAMETRO DE 4 POLEGADAS, HM/Q = 13,9 M / 90 M3/H A 44,0 M / 25,0 M3/H","UN",44836.36,44836.36,null,"CR"]
["SINAPI-I 749","SINAPI-I",749,"BOMBA SUBMERSA PARA POCOS TUBULARES PROFUNDOS DIAMETRO DE 6 POLEGADAS, ELETRICA, TRIFASICA, POTENCIA 3,45 HP, 5 ESTAGIOS, BOCAL DE DESCARGA DIAMETRO DE 2 POLEGADAS, HM/Q = 68,5 M / 6,12 M3/H A 39,5 M / 14,04 M3/H","UN",16489.98,16489.98,null,"CR"]
["SINAPI-I 756","SINAPI-I",756,"BOMBA SUBMERSA PARA POCOS TUBULARES PROFUNDOS DIAMETRO DE 6 POLEGADAS, ELETRICA, TRIFASICA, POTENCIA 32 HP, 9 ESTAGIOS, BOCAL DE DESCARGA DIAMETRO DE 4 POLEGADAS, HM/Q = 114,0 M / 13,9 M3/H A 57,0 M / 25,0 M3/H","UN",48900.05,48900.05,null,"CR"]
["SINAPI-I 10588","SINAPI-I",10588,"BOMBA SUBMERSIVEL, ELETRICA, TRIFASICA, POTENCIA 0,98 HP, DIAMETRO DO ROTOR 142 MM SEMIABERTO, BOCAL DE SAIDA DIAMETRO DE 2 POLEGADAS, HM/Q = 2 M / 32 M3/H A 8 M / 16 M3/H","UN",4902.03,4902.03,null,"CR"]
["SINAPI-I 10592","SINAPI-I",10592,"BOMBA SUBMERSIVEL, ELETRICA, TRIFASICA, POTENCIA 0,99 HP, DIAMETRO ROTOR 98 MM SEMIABERTO, BOCAL DE SAIDA DIAMETRO 2 POLEGADAS, HM/Q = 2 M / 28,90 M3/H A 14 M / 7 M3/H","UN",5921,5921,null,"C"]
["SINAPI-I 10589","SINAPI-I",10589,"BOMBA SUBMERSIVEL, ELETRICA, TRIFASICA, POTENCIA 1,97 HP, DIAMETRO DO ROTOR 144 MM SEMIABERTO, BOCAL DE SAIDA DIAMETRO DE 2 POLEGADAS, HM/Q = 2 M / 26,8 M3/H A 28 M / 4,6 M3/H","UN",7954.49,7954.49,null,"CR"]
["SINAPI-I 760","SINAPI-I",760,"BOMBA SUBMERSIVEL, ELETRICA, TRIFASICA, POTENCIA 13 HP, DIAMETRO DO ROTOR 170 MM, BOCAL DE SAIDA DIAMETRO DE 3 POLEGADAS, HM/Q = 11 M / 68,40 M3/H A 72 M / 3,6 M3/H","UN",44407.5,44407.5,null,"CR"]
["SINAPI-I 751","SINAPI-I",751,"BOMBA SUBMERSIVEL, ELETRICA, TRIFASICA, POTENCIA 2,96 HP, DIAMETRO DO ROTOR 144 MM SEMIABERTO, BOCAL DE SAIDA DIAMETRO DE DUAS POLEGADAS, HM/Q = 2 M / 38,8 M3/H A 28 M / 5 M3/H","UN",6994.18,6994.18,null,"CR"]
["SINAPI-I 754","SINAPI-I",754,"BOMBA SUBMERSIVEL, ELETRICA, TRIFASICA, POTENCIA 3,75 HP, DIAMETRO DO ROTOR 90 MM SEMIABERTO, BOCAL DE SAIDA DIAMETRO DE 2 POLEGADAS, HM/Q = 5 M / 61,2 M3/H A 25,5 M / 3,6 M3/H","UN",11101.87,11101.87,null,"CR"]
["SINAPI-I 757","SINAPI-I",757,"BOMBA SUBMERSIVEL, ELETRICA, TRIFASICA, POTENCIA 6 HP, DIAMETRO DO ROTOR 127 MM, BOCAL DE SAIDA DIAMETRO DE 3 POLEGADAS, HM/Q = 7 M / 66,90 M3/H A 26 M / 2,88 M3/H","UN",22203.75,22203.75,null,"CR"]
["SINAPI-I 44489","SINAPI-I",44489,"BOMBA TRIPLEX COM MOTOR A DIESEL, NACIONAL, DIAMETRO DE SUCCAO DE 2 1/2\"","UN",205094.63,205094.63,null,"CR"]
[{"$f":"CONCATENATE($B705,\" \",$C705)","v":"SINAPI-I 39917"},"SINAPI-I",39917,"BOMBA TRIPLEX, PARA INJECAO DE CALDA DE CIMENTO, VAZAO MAXIMA DE *100* LITROS/MINUTO, PRESSAO MAXIMA DE *70* BAR, POTENCIA DE 15 CV","UN",94540.479999999996,94540.479999999996,null,"CR"]
["SINAPI-I 38167","SINAPI-I",38167,"BORBOLETA PARA JANELA TIPO GUILHOTINA, EM ZAMAC CROMADO","PAR",26.61,26.61,null,"CR"]
["SINAPI-I 36145","SINAPI-I",36145,"BOTA DE PVC PRETA, CANO MEDIO, SEM FORRO","PAR",49.47,49.47,null,"CR"]
["SINAPI-I 12893","SINAPI-I",12893,"BOTA DE SEGURANCA COM BIQUEIRA DE ACO E COLARINHO ACOLCHOADO","PAR",87.07,87.07,null,"CR"]
["SINAPI-I 11685","SINAPI-I",11685,"BRACO / CANO PARA CHUVEIRO ELETRICO, EM ALUMINIO, 30 CM X 1/2\"","UN",43.64,43.64,null,"CR"]
["SINAPI-I 11680","SINAPI-I",11680,"BRACO OU HASTE COM CANOPLA PLASTICA, 1/2 \", PARA CHUVEIRO SIMPLES","UN",16.93,16.93,null,"CR"]
["SINAPI-I 11679","SINAPI-I",11679,"BRACO OU HASTE RETA COM CANOPLA PLASTICA, 1/2 \", PARA CHUVEIRO ELETRICO","UN",22.95,22.95,null,"CR"]
["SINAPI-I 2512","SINAPI-I",2512,"BRACO P/ LUMINARIA PUBLICA 1 X 1,50M ROMAGNOLE OU EQUIV","UN"]
["SINAPI-I 4374","SINAPI-I",4374,"BUCHA DE NYLON SEM ABA S10","UN",0.33,0.33,null,"CR"]
["SINAPI-I 7568","SINAPI-I",7568,"BUCHA DE NYLON SEM ABA S10, COM PARAFUSO DE 6,10 X 65 MM EM ACO ZINCADO COM ROSCA SOBERBA, CABECA CHATA E FENDA PHILLIPS","UN",0.55000000000000004,0.55000000000000004,null,"CR"]
["SINAPI-I 7584","SINAPI-I",7584,"BUCHA DE NYLON SEM ABA S12, COM PARAFUSO DE 5/16\" X 80 MM EM ACO ZINCADO COM ROSCA SOBERBA E CABECA SEXTAVADA","UN",0.84,0.84,null,"CR"]
["SINAPI-I 11945","SINAPI-I",11945,"BUCHA DE NYLON SEM ABA S4","UN",0.05,0.05,null,"CR"]
["SINAPI-I 11946","SINAPI-I",11946,"BUCHA DE NYLON SEM ABA S5","UN",0.06,0.06,null,"CR"]
["SINAPI-I 4375","SINAPI-I",4375,"BUCHA DE NYLON SEM ABA S6","UN",0.09,0.09,null,"C"]
["SINAPI-I 11950","SINAPI-I",11950,"BUCHA DE NYLON SEM ABA S6, COM PARAFUSO DE 4,20 X 40 MM EM ACO ZINCADO COM ROSCA SOBERBA, CABECA CHATA E FENDA PHILLIPS","UN",0.18,0.18,null,"CR"]
["SINAPI-I 4376","SINAPI-I",4376,"BUCHA DE NYLON SEM ABA S8","UN",0.17,0.17,null,"CR"]
["SINAPI-I 7583","SINAPI-I",7583,"BUCHA DE NYLON SEM ABA S8, COM PARAFUSO DE 4,80 X 50 MM EM ACO ZINCADO COM ROSCA SOBERBA, CABECA CHATA E FENDA PHILLIPS","UN",0.37,0.37,null,"CR"]
["SINAPI-I 4350","SINAPI-I",4350,"BUCHA DE NYLON, DIAMETRO DO FURO 8 MM, COMPRIMENTO 40 MM, COM PARAFUSO DE ROSCA SOBERBA, CABECA CHATA, FENDA SIMPLES, 4,8 X 50 MM","UN",0.56999999999999995,0.56999999999999995,null,"CR"]
["SINAPI-I 44400","SINAPI-I",44400,"BUCHA DE REDUCAO CPVC, SOLDAVEL, 54 X 28 MM, PARA AGUA QUENTE","UN",33.22,33.22,null,"CR"]
["SINAPI-I 39886","SINAPI-I",39886,"BUCHA DE REDUCAO DE COBRE SEM ANEL DE SOLDA, PONTA X BOLSA, 22 X 15 MM","UN"]
["SINAPI-I 39887","SINAPI-I",39887,"BUCHA DE REDUCAO DE COBRE SEM ANEL DE SOLDA, PONTA X BOLSA, 28 X 22 MM","UN"]
["SINAPI-I 39888","SINAPI-I",39888,"BUCHA DE REDUCAO DE COBRE SEM ANEL DE SOLDA, PONTA X BOLSA, 35 X 28 MM","UN"]
["SINAPI-I 39890","SINAPI-I",39890,"BUCHA DE REDUCAO DE COBRE SEM ANEL DE SOLDA, PONTA X BOLSA, 42 X 35 MM","UN"]
["SINAPI-I 39891","SINAPI-I",39891,"BUCHA DE REDUCAO DE COBRE SEM ANEL DE SOLDA, PONTA X BOLSA, 54 X 42 MM","UN"]
["SINAPI-I 39892","SINAPI-I",39892,"BUCHA DE REDUCAO DE COBRE SEM ANEL DE SOLDA, PONTA X BOLSA, 66 X 54 MM","UN"]
["SINAPI-I 790","SINAPI-I",790,"BUCHA DE REDUCAO DE FERRO GALVANIZADO, COM ROSCA BSP, DE 1 1/2\" X 1 1/4\"","UN"]
["SINAPI-I 791","SINAPI-I",791,"BUCHA DE REDUCAO DE FERRO GALVANIZADO, COM ROSCA BSP, DE 1 1/2\" X 1\"","UN"]
["SINAPI-I 766","SINAPI-I",766,"BUCHA DE REDUCAO DE FERRO GALVANIZADO, COM ROSCA BSP, DE 1 1/2\" X 1/2\"","UN"]
["SINAPI-I 767","SINAPI-I",767,"BUCHA DE REDUCAO DE FERRO GALVANIZADO, COM ROSCA BSP, DE 1 1/2\" X 3/4\"","UN"]
["SINAPI-I 789","SINAPI-I",789,"BUCHA DE REDUCAO DE FERRO GALVANIZADO, COM ROSCA BSP, DE 1 1/4\" X 1\"","UN"]
["SINAPI-I 768","SINAPI-I",768,"BUCHA DE REDUCAO DE FERRO GALVANIZADO, COM ROSCA BSP, DE 1 1/4\" X 1/2\"","UN"]
["SINAPI-I 769","SINAPI-I",769,"BUCHA DE REDUCAO DE FERRO GALVANIZADO, COM ROSCA BSP, DE 1 1/4\" X 3/4\"","UN"]
["SINAPI-I 764","SINAPI-I",764,"BUCHA DE REDUCAO DE FERRO GALVANIZADO, COM ROSCA BSP, DE 1\" X 1/2\"","UN"]
["SINAPI-I 765","SINAPI-I",765,"BUCHA DE REDUCAO DE FERRO GALVANIZADO, COM ROSCA BSP, DE 1\" X 3/4\"","UN"]
["SINAPI-I 770","SINAPI-I",770,"BUCHA DE REDUCAO DE FERRO GALVANIZADO, COM ROSCA BSP, DE 1/2\" X 1/4\"","UN"]
["SINAPI-I 12394","SINAPI-I",12394,"BUCHA DE REDUCAO DE FERRO GALVANIZADO, COM ROSCA BSP, DE 1/2\" X 3/8\"","UN"]
["SINAPI-I 787","SINAPI-I",787,"BUCHA DE REDUCAO DE FERRO GALVANIZADO, COM ROSCA BSP, DE 2 1/2\" X 1 1/2\"","UN"]
["SINAPI-I 774","SINAPI-I",774,"BUCHA DE REDUCAO DE FERRO GALVANIZADO, COM ROSCA BSP, DE 2 1/2\" X 1 1/4\"","UN"]
["SINAPI-I 773","SINAPI-I",773,"BUCHA DE REDUCAO DE FERRO GALVANIZADO, COM ROSCA BSP, DE 2 1/2\" X 1\"","UN"]
["SINAPI-I 775","SINAPI-I",775,"BUCHA DE REDUCAO DE FERRO GALVANIZADO, COM ROSCA BSP, DE 2 1/2\" X 2\"","UN"]
["SINAPI-I 788","SINAPI-I",788,"BUCHA DE REDUCAO DE FERRO GALVANIZADO, COM ROSCA BSP, DE 2\" X 1 1/2\"","UN"]
["SINAPI-I 772","SINAPI-I",772,"BUCHA DE REDUCAO DE FERRO GALVANIZADO, COM ROSCA BSP, DE 2\" X 1 1/4\"","UN"]
["SINAPI-I 771","SINAPI-I",771,"BUCHA DE REDUCAO DE FERRO GALVANIZADO, COM ROSCA BSP, DE 2\" X 1\"","UN"]
["SINAPI-I 776","SINAPI-I",776,"BUCHA DE REDUCAO DE FERRO GALVANIZADO, COM ROSCA BSP, DE 3\" X 1 1/2\"","UN"]
["SINAPI-I 777","SINAPI-I",777,"BUCHA DE REDUCAO DE FERRO GALVANIZADO, COM ROSCA BSP, DE 3\" X 1 1/4\"","UN"]
["SINAPI-I 780","SINAPI-I",780,"BUCHA DE REDUCAO DE FERRO GALVANIZADO, COM ROSCA BSP, DE 3\" X 2 1/2\"","UN"]
["SINAPI-I 778","SINAPI-I",778,"BUCHA DE REDUCAO DE FERRO GALVANIZADO, COM ROSCA BSP, DE 3\" X 2\"","UN"]
["SINAPI-I 779","SINAPI-I",779,"BUCHA DE REDUCAO DE FERRO GALVANIZADO, COM ROSCA BSP, DE 3/4\" X 1/2\"","UN"]
["SINAPI-I 781","SINAPI-I",781,"BUCHA DE REDUCAO DE FERRO GALVANIZADO, COM ROSCA BSP, DE 4\" X 2 1/2\"","UN"]
["SINAPI-I 786","SINAPI-I",786,"BUCHA DE REDUCAO DE FERRO GALVANIZADO, COM ROSCA BSP, DE 4\" X 2\"","UN"]
["SINAPI-I 782","SINAPI-I",782,"BUCHA DE REDUCAO DE FERRO GALVANIZADO, COM ROSCA BSP, DE 4\" X 3\"","UN"]
["SINAPI-I 783","SINAPI-I",783,"BUCHA DE REDUCAO DE FERRO GALVANIZADO, COM ROSCA BSP, DE 5\" X 4\"","UN"]
["SINAPI-I 785","SINAPI-I",785,"BUCHA DE REDUCAO DE FERRO GALVANIZADO, COM ROSCA BSP, DE 6\" X 4\"","UN"]
["SINAPI-I 784","SINAPI-I",784,"BUCHA DE REDUCAO DE FERRO GALVANIZADO, COM ROSCA BSP, DE 6\" X 5\"","UN"]
["SINAPI-I 828","SINAPI-I",828,"BUCHA DE REDUCAO DE PVC, SOLDAVEL, CURTA, COM 25 X 20 MM, PARA AGUA FRIA PREDIAL","UN",0.55000000000000004,0.55000000000000004,null,"CR"]
["SINAPI-I 829","SINAPI-I",829,"BUCHA DE REDUCAO DE PVC, SOLDAVEL, CURTA, COM 32 X 25 MM, PARA AGUA FRIA PREDIAL","UN",0.88,0.88,null,"CR"]
["SINAPI-I 812","SINAPI-I",812,"BUCHA DE REDUCAO DE PVC, SOLDAVEL, CURTA, COM 40 X 32 MM, PARA AGUA FRIA PREDIAL","UN",1.95,1.95,null,"CR"]
["SINAPI-I 819","SINAPI-I",819,"BUCHA DE REDUCAO DE PVC, SOLDAVEL, CURTA, COM 50 X 40 MM, PARA AGUA FRIA PREDIAL","UN",3.38,3.38,null,"CR"]
["SINAPI-I 818","SINAPI-I",818,"BUCHA DE REDUCAO DE PVC, SOLDAVEL, CURTA, COM 60 X 50 MM, PARA AGUA FRIA PREDIAL","UN",6.32,6.32,null,"CR"]
["SINAPI-I 20086","SINAPI-I",20086,"BUCHA DE REDUCAO DE PVC, SOLDAVEL, LONGA, 50 X 40 MM, PARA ESGOTO PREDIAL","UN",2.97,2.97,null,"CR"]
["SINAPI-I 832","SINAPI-I",832,"BUCHA DE REDUCAO DE PVC, SOLDAVEL, LONGA, COM 32 X 20 MM, PARA AGUA FRIA PREDIAL","UN",2.61,2.61,null,"CR"]
["SINAPI-I 834","SINAPI-I",834,"BUCHA DE REDUCAO DE PVC, SOLDAVEL, LONGA, COM 40 X 25 MM, PARA AGUA FRIA PREDIAL","UN",3.38,3.38,null,"CR"]
["SINAPI-I 813","SINAPI-I",813,"BUCHA DE REDUCAO DE PVC, SOLDAVEL, LONGA, COM 50 X 25 MM, PARA AGUA FRIA PREDIAL","UN",3.93,3.93,null,"CR"]
["SINAPI-I 820","SINAPI-I",820,"BUCHA DE REDUCAO DE PVC, SOLDAVEL, LONGA, COM 50 X 32 MM, PARA AGUA FRIA PREDIAL","UN",5.29,5.29,null,"CR"]
[{"$f":"CONCATENATE($B769,\" \",$C769)","v":"SINAPI-I 816"},"SINAPI-I",816,"BUCHA DE REDUCAO DE PVC, SOLDAVEL, LONGA, COM 60 X 25 MM, PARA AGUA FRIA PREDIAL","UN",9.43,9.43,null,"CR"]
["SINAPI-I 814","SINAPI-I",814,"BUCHA DE REDUCAO DE PVC, SOLDAVEL, LONGA, COM 60 X 32 MM, PARA AGUA FRIA PREDIAL","UN",11.72,11.72,null,"CR"]
["SINAPI-I 822","SINAPI-I",822,"BUCHA DE REDUCAO DE PVC, SOLDAVEL, LONGA, COM 60 X 50 MM, PARA AGUA FRIA PREDIAL","UN",15.3,15.3,null,"CR"]
["SINAPI-I 821","SINAPI-I",821,"BUCHA DE REDUCAO DE PVC, SOLDAVEL, LONGA, COM 75 X 50 MM, PARA AGUA FRIA PREDIAL","UN",17.489999999999998,17.489999999999998,null,"CR"]
["SINAPI-I 39191","SINAPI-I",39191,"BUCHA DE REDUCAO EM ALUMINIO, COM ROSCA, DE 1 1/2\" X 1 1/4\", PARA ELETRODUTO","UN",23.33,23.33,null,"CR"]
["SINAPI-I 39190","SINAPI-I",39190,"BUCHA DE REDUCAO EM ALUMINIO, COM ROSCA, DE 1 1/2\" X 1\", PARA ELETRODUTO","UN",24.37,24.37,null,"CR"]
["SINAPI-I 39189","SINAPI-I",39189,"BUCHA DE REDUCAO EM ALUMINIO, COM ROSCA, DE 1 1/2\" X 3/4\", PARA ELETRODUTO","UN",25.79,25.79,null,"CR"]
["SINAPI-I 39188","SINAPI-I",39188,"BUCHA DE REDUCAO EM ALUMINIO, COM ROSCA, DE 1 1/4\" X 1\", PARA ELETRODUTO","UN",18.98,18.98,null,"CR"]
["SINAPI-I 39186","SINAPI-I",39186,"BUCHA DE REDUCAO EM ALUMINIO, COM ROSCA, DE 1 1/4\" X 1/2\", PARA ELETRODUTO","UN",23.07,23.07,null,"CR"]
["SINAPI-I 39187","SINAPI-I",39187,"BUCHA DE REDUCAO EM ALUMINIO, COM ROSCA, DE 1 1/4\" X 3/4\", PARA ELETRODUTO","UN",19.899999999999999,19.899999999999999,null,"CR"]
["SINAPI-I 39184","SINAPI-I",39184,"BUCHA DE REDUCAO EM ALUMINIO, COM ROSCA, DE 1\" X 1/2\", PARA ELETRODUTO","UN",7.48,7.48,null,"CR"]
["SINAPI-I 39185","SINAPI-I",39185,"BUCHA DE REDUCAO EM ALUMINIO, COM ROSCA, DE 1\" X 3/4\", PARA ELETRODUTO","UN",6.82,6.82,null,"CR"]
["SINAPI-I 39198","SINAPI-I",39198,"BUCHA DE REDUCAO EM ALUMINIO, COM ROSCA, DE 2 1/2\" X 1 1/2\", PARA ELETRODUTO","UN",76.52,76.52,null,"CR"]
["SINAPI-I 39197","SINAPI-I",39197,"BUCHA DE REDUCAO EM ALUMINIO, COM ROSCA, DE 2 1/2\" X 1 1/4\", PARA ELETRODUTO","UN",79.94,79.94,null,"CR"]
["SINAPI-I 39196","SINAPI-I",39196,"BUCHA DE REDUCAO EM ALUMINIO, COM ROSCA, DE 2 1/2\" X 1\", PARA ELETRODUTO","UN",82.44,82.44,null,"CR"]
["SINAPI-I 39199","SINAPI-I",39199,"BUCHA DE REDUCAO EM ALUMINIO, COM ROSCA, DE 2 1/2\" X 2\", PARA ELETRODUTO","UN",73.64,73.64,null,"CR"]
["SINAPI-I 39195","SINAPI-I",39195,"BUCHA DE REDUCAO EM ALUMINIO, COM ROSCA, DE 2\" X 1 1/2\", PARA ELETRODUTO","UN",42.51,42.51,null,"CR"]
["SINAPI-I 39194","SINAPI-I",39194,"BUCHA DE REDUCAO EM ALUMINIO, COM ROSCA, DE 2\" X 1 1/4\", PARA ELETRODUTO","UN",45.49,45.49,null,"CR"]
["SINAPI-I 39193","SINAPI-I",39193,"BUCHA DE REDUCAO EM ALUMINIO, COM ROSCA, DE 2\" X 1\", PARA ELETRODUTO","UN",49.86,49.86,null,"CR"]
["SINAPI-I 39192","SINAPI-I",39192,"BUCHA DE REDUCAO EM ALUMINIO, COM ROSCA, DE 2\" X 3/4\", PARA ELETRODUTO","UN",51.86,51.86,null,"CR"]
["SINAPI-I 39201","SINAPI-I",39201,"BUCHA DE REDUCAO EM ALUMINIO, COM ROSCA, DE 3\" X 1 1/2\", PARA ELETRODUTO","UN",91.49,91.49,null,"CR"]
["SINAPI-I 39200","SINAPI-I",39200,"BUCHA DE REDUCAO EM ALUMINIO, COM ROSCA, DE 3\" X 1 1/4\", PARA ELETRODUTO","UN",92.23,92.23,null,"CR"]
["SINAPI-I 39203","SINAPI-I",39203,"BUCHA DE REDUCAO EM ALUMINIO, COM ROSCA, DE 3\" X 2 1/2\", PARA ELETRODUTO","UN",74.47,74.47,null,"CR"]
["SINAPI-I 39202","SINAPI-I",39202,"BUCHA DE REDUCAO EM ALUMINIO, COM ROSCA, DE 3\" X 2\", PARA ELETRODUTO","UN",87.48,87.48,null,"CR"]
["SINAPI-I 39920","SINAPI-I",39920,"BUCHA DE REDUCAO EM ALUMINIO, COM ROSCA, DE 3/4\" X 1/2\",  PARA ELETRODUTO","UN",6.28,6.28,null,"CR"]
["SINAPI-I 39205","SINAPI-I",39205,"BUCHA DE REDUCAO EM ALUMINIO, COM ROSCA, DE 4\" X 2 1/2\", PARA ELETRODUTO","UN",145.94999999999999,145.94999999999999,null,"CR"]
["SINAPI-I 39204","SINAPI-I",39204,"BUCHA DE REDUCAO EM ALUMINIO, COM ROSCA, DE 4\" X 2\", PARA ELETRODUTO","UN",149.47,149.47,null,"CR"]
["SINAPI-I 39206","SINAPI-I",39206,"BUCHA DE REDUCAO EM ALUMINIO, COM ROSCA, DE 4\" X 3\", PARA ELETRODUTO","UN",141.81,141.81,null,"CR"]
["SINAPI-I 798","SINAPI-I",798,"BUCHA DE REDUCAO PVC ROSCAVEL 3/4\" X 1/2\"","UN",1.0900000000000001,1.0900000000000001,null,"CR"]
["SINAPI-I 797","SINAPI-I",797,"BUCHA DE REDUCAO PVC, ROSCAVEL 1 1/2\" X 1\"","UN",7.92,7.92,null,"CR"]
["SINAPI-I 796","SINAPI-I",796,"BUCHA DE REDUCAO PVC, ROSCAVEL, 1 1/2\" X 3/4\"","UN",6.73,6.73,null,"CR"]
["SINAPI-I 799","SINAPI-I",799,"BUCHA DE REDUCAO PVC, ROSCAVEL, 1\" X 1/2\"","UN",3.25,3.25,null,"CR"]
["SINAPI-I 792","SINAPI-I",792,"BUCHA DE REDUCAO PVC, ROSCAVEL, 1\" X 3/4\"","UN",3.15,3.15,null,"CR"]
["SINAPI-I 38001","SINAPI-I",38001,"BUCHA DE REDUCAO, CPVC, SOLDAVEL, 22 X 15 MM, PARA AGUA QUENTE","UN",1.23,1.23,null,"CR"]
["SINAPI-I 38002","SINAPI-I",38002,"BUCHA DE REDUCAO, CPVC, SOLDAVEL, 28 X 22 MM, PARA AGUA QUENTE","UN",4.29,4.29,null,"CR"]
["SINAPI-I 38003","SINAPI-I",38003,"BUCHA DE REDUCAO, CPVC, SOLDAVEL, 35 X 28 MM, PARA AGUA QUENTE","UN",29.29,29.29,null,"CR"]
["SINAPI-I 38004","SINAPI-I",38004,"BUCHA DE REDUCAO, CPVC, SOLDAVEL, 42 X 22 MM, PARA AGUA QUENTE","UN",33.69,33.69,null,"CR"]
["SINAPI-I 44263","SINAPI-I",44263,"BUCHA DE REDUCAO, CPVC, SOLDAVEL, 54 X 35 MM, PARA AGUA QUENTE","UN",60.49,60.49,null,"CR"]
["SINAPI-I 36327","SINAPI-I",36327,"BUCHA DE REDUCAO, PPR, DN 25 X 20 MM, PARA AGUA QUENTE PREDIAL","UN",5.0599999999999996,5.0599999999999996,null,"CR"]
["SINAPI-I 38992","SINAPI-I",38992,"BUCHA DE REDUCAO, PPR, DN 32 X 25 MM, PARA AGUA QUENTE E FRIA PREDIAL","UN",6.15,6.15,null,"CR"]
["SINAPI-I 38993","SINAPI-I",38993,"BUCHA DE REDUCAO, PPR, DN 40 X 25 MM, PARA AGUA QUENTE E FRIA PREDIAL","UN",15.99,15.99,null,"CR"]
["SINAPI-I 44175","SINAPI-I",44175,"BUCHA DE REDUCAO, PPR, DN 50 X 25 MM, PARA AGUA QUENTE E FRIA PREDIAL","UN",27.89,27.89,null,"CR"]
["SINAPI-I 44177","SINAPI-I",44177,"BUCHA DE REDUCAO, PPR, DN 50 X 32 MM, PARA AGUA QUENTE E FRIA PREDIAL","UN",20.84,20.84,null,"CR"]
["SINAPI-I 38418","SINAPI-I",38418,"BUCHA DE REDUCAO, PVC, LONGA, SERIE R, DN 50 X 40 MM, PARA ESGOTO PREDIAL","UN",5.1100000000000003,5.1100000000000003,null,"CR"]
["SINAPI-I 39178","SINAPI-I",39178,"BUCHA EM ALUMINIO, COM ROSCA, DE 1 1/2\", PARA ELETRODUTO","UN",2.52,2.52,null,"CR"]
["SINAPI-I 39177","SINAPI-I",39177,"BUCHA EM ALUMINIO, COM ROSCA, DE 1 1/4\", PARA ELETRODUTO","UN",2.2799999999999998,2.2799999999999998,null,"CR"]
["SINAPI-I 39176","SINAPI-I",39176,"BUCHA EM ALUMINIO, COM ROSCA, DE 1\", PARA ELETRODUTO","UN",1.49,1.49,null,"CR"]
["SINAPI-I 39174","SINAPI-I",39174,"BUCHA EM ALUMINIO, COM ROSCA, DE 1/2\", PARA ELETRODUTO","UN",1.1399999999999999,1.1399999999999999,null,"CR"]
["SINAPI-I 39180","SINAPI-I",39180,"BUCHA EM ALUMINIO, COM ROSCA, DE 2 1/2\", PARA ELETRODUTO","UN",6.85,6.85,null,"CR"]
["SINAPI-I 39179","SINAPI-I",39179,"BUCHA EM ALUMINIO, COM ROSCA, DE 2\", PARA ELETRODUTO","UN",6.06,6.06,null,"CR"]
["SINAPI-I 39181","SINAPI-I",39181,"BUCHA EM ALUMINIO, COM ROSCA, DE 3\", PARA ELETRODUTO","UN",9.19,9.19,null,"CR"]
["SINAPI-I 39175","SINAPI-I",39175,"BUCHA EM ALUMINIO, COM ROSCA, DE 3/4\", PARA ELETRODUTO","UN",1.39,1.39,null,"CR"]
["SINAPI-I 39217","SINAPI-I",39217,"BUCHA EM ALUMINIO, COM ROSCA, DE 3/8\", PARA ELETRODUTO","UN",1.07,1.07,null,"CR"]
["SINAPI-I 39182","SINAPI-I",39182,"BUCHA EM ALUMINIO, COM ROSCA, DE 4\", PARA ELETRODUTO","UN",12.92,12.92,null,"CR"]
["SINAPI-I 12616","SINAPI-I",12616,"CABECEIRA DIREITA OU ESQUERDA, PVC, PARA CALHA PLUVIAL, DIAMETRO ENTRE *119 E 170* MM, PARA DRENAGEM PLUVIAL PREDIAL","UN",15.78,15.78,null,"CR"]
["SINAPI-I 1049","SINAPI-I",1049,"CABECOTE PARA ENTRADA DE LINHA DE ALIMENTACAO PARA ELETRODUTO, EM LIGA DE ALUMINIO COM ACABAMENTO ANTI CORROSIVO, COM FIXACAO POR ENCAIXE LISO DE 360 GRAUS, DE 1 1/2\"","UN",10.81,10.81,null,"CR"]
["SINAPI-I 1099","SINAPI-I",1099,"CABECOTE PARA ENTRADA DE LINHA DE ALIMENTACAO PARA ELETRODUTO, EM LIGA DE ALUMINIO COM ACABAMENTO ANTI CORROSIVO, COM FIXACAO POR ENCAIXE LISO DE 360 GRAUS, DE 1 1/4\"","UN",8.27,8.27,null,"CR"]
["SINAPI-I 1050","SINAPI-I",1050,"CABECOTE PARA ENTRADA DE LINHA DE ALIMENTACAO PARA ELETRODUTO, EM LIGA DE ALUMINIO COM ACABAMENTO ANTI CORROSIVO, COM FIXACAO POR ENCAIXE LISO DE 360 GRAUS, DE 1\"","UN",5.66,5.66,null,"CR"]
["SINAPI-I 39678","SINAPI-I",39678,"CABECOTE PARA ENTRADA DE LINHA DE ALIMENTACAO PARA ELETRODUTO, EM LIGA DE ALUMINIO COM ACABAMENTO ANTI CORROSIVO, COM FIXACAO POR ENCAIXE LISO DE 360 GRAUS, DE 1/2\"","UN",3.33,3.33,null,"CR"]
["SINAPI-I 1101","SINAPI-I",1101,"CABECOTE PARA ENTRADA DE LINHA DE ALIMENTACAO PARA ELETRODUTO, EM LIGA DE ALUMINIO COM ACABAMENTO ANTI CORROSIVO, COM FIXACAO POR ENCAIXE LISO DE 360 GRAUS, DE 2 1/2\"","UN",35.659999999999997,35.659999999999997,null,"CR"]
["SINAPI-I 1100","SINAPI-I",1100,"CABECOTE PARA ENTRADA DE LINHA DE ALIMENTACAO PARA ELETRODUTO, EM LIGA DE ALUMINIO COM ACABAMENTO ANTI CORROSIVO, COM FIXACAO POR ENCAIXE LISO DE 360 GRAUS, DE 2\"","UN",18.399999999999999,18.399999999999999,null,"CR"]
["SINAPI-I 39679","SINAPI-I",39679,"CABECOTE PARA ENTRADA DE LINHA DE ALIMENTACAO PARA ELETRODUTO, EM LIGA DE ALUMINIO COM ACABAMENTO ANTI CORROSIVO, COM FIXACAO POR ENCAIXE LISO DE 360 GRAUS, DE 3 1/2\"","UN",71.08,71.08,null,"CR"]
["SINAPI-I 1102","SINAPI-I",1102,"CABECOTE PARA ENTRADA DE LINHA DE ALIMENTACAO PARA ELETRODUTO, EM LIGA DE ALUMINIO COM ACABAMENTO ANTI CORROSIVO, COM FIXACAO POR ENCAIXE LISO DE 360 GRAUS, DE 3\"","UN",53.18,53.18,null,"CR"]
["SINAPI-I 1098","SINAPI-I",1098,"CABECOTE PARA ENTRADA DE LINHA DE ALIMENTACAO PARA ELETRODUTO, EM LIGA DE ALUMINIO COM ACABAMENTO ANTI CORROSIVO, COM FIXACAO POR ENCAIXE LISO DE 360 GRAUS, DE 3/4\"","UN",4.41,4.41,null,"CR"]
[{"$f":"CONCATENATE($B833,\" \",$C833)","v":"SINAPI-I 1051"},"SINAPI-I",1051,"CABECOTE PARA ENTRADA DE LINHA DE ALIMENTACAO PARA ELETRODUTO, EM LIGA DE ALUMINIO COM ACABAMENTO ANTI CORROSIVO, COM FIXACAO POR ENCAIXE LISO DE 360 GRAUS, DE 4\"","UN",77.3,77.3,null,"CR"]
["SINAPI-I 37399","SINAPI-I",37399,"CABIDE/GANCHO DE BANHEIRO SIMPLES EM METAL CROMADO","UN",57.25,57.25,null,"CR"]
["SINAPI-I 43834","SINAPI-I",43834,"CABO COAXIAL RG11 95% DE MALHA","M",26.27,26.27,null,"CR"]
["SINAPI-I 43835","SINAPI-I",43835,"CABO COAXIAL RG59 95% DE MALHA","M",2.35,2.35,null,"CR"]
["SINAPI-I 43833","SINAPI-I",43833,"CABO COAXIAL RG6 95% DE MALHA","M",2.44,2.44,null,"CR"]
["SINAPI-I 41955","SINAPI-I",41955,"CABO DE ACO GALVANIZADO, DIAMETRO 12,7 MM (1/2\"), COM ALMA DE ACO CABO INDEPENDENTE 6 X 25 F","KG",88.52,88.52,null,"CR"]
["SINAPI-I 41953","SINAPI-I",41953,"CABO DE ACO GALVANIZADO, DIAMETRO 12,7 MM (1/2\"), COM ALMA DE FIBRA 6 X 25 F","KG",84.48,84.48,null,"CR"]
["SINAPI-I 41954","SINAPI-I",41954,"CABO DE ACO GALVANIZADO, DIAMETRO 9,53 MM (3/8\"), COM ALMA DE FIBRA 6 X 25 F","KG",83.68,83.68,null,"CR"]
["SINAPI-I 25004","SINAPI-I",25004,"CABO DE ALUMINIO NU COM ALMA DE ACO, BITOLA 1/0 AWG","KG",51.6,51.6,null,"CR"]
["SINAPI-I 25002","SINAPI-I",25002,"CABO DE ALUMINIO NU COM ALMA DE ACO, BITOLA 2 AWG","KG",51.6,51.6,null,"CR"]
["SINAPI-I 37409","SINAPI-I",37409,"CABO DE ALUMINIO NU COM ALMA DE ACO, BITOLA 2/0 AWG","KG",51.6,51.6,null,"CR"]
["SINAPI-I 841","SINAPI-I",841,"CABO DE ALUMINIO NU COM ALMA DE ACO, BITOLA 4 AWG","KG",52.23,52.23,null,"CR"]
["SINAPI-I 25005","SINAPI-I",25005,"CABO DE ALUMINIO NU SEM ALMA DE ACO, BITOLA 1/0 AWG","KG",56.62,56.62,null,"CR"]
["SINAPI-I 25003","SINAPI-I",25003,"CABO DE ALUMINIO NU SEM ALMA DE ACO, BITOLA 2 AWG","KG",57.47,57.47,null,"CR"]
["SINAPI-I 37410","SINAPI-I",37410,"CABO DE ALUMINIO NU SEM ALMA DE ACO, BITOLA 2/0 AWG","KG",56.62,56.62,null,"CR"]
["SINAPI-I 842","SINAPI-I",842,"CABO DE ALUMINIO NU SEM ALMA DE ACO, BITOLA 4 AWG","KG",57.43,57.43,null,"CR"]
["SINAPI-I 44391","SINAPI-I",44391,"CABO DE COBRE FLEXIVEL NAO HALOGENADO, SEM EMISSAO DE FUMACA, 750V, SECAO NOMINAL 120 MM","M",122.37,122.37,null,"CR"]
["SINAPI-I 44388","SINAPI-I",44388,"CABO DE COBRE FLEXIVEL NAO HALOGENADO, SEM EMISSAO DE FUMACA, 750V, SECAO NOMINAL 2,5 MM","M",2.65,2.65,null,"CR"]
["SINAPI-I 44392","SINAPI-I",44392,"CABO DE COBRE FLEXIVEL NAO HALOGENADO, SEM EMISSAO DE FUMACA, 750V, SECAO NOMINAL 240 MM","M",243.65,243.65,null,"CR"]
["SINAPI-I 44390","SINAPI-I",44390,"CABO DE COBRE FLEXIVEL NAO HALOGENADO, SEM EMISSAO DE FUMACA, 750V, SECAO NOMINAL 50 MM","M",51.62,51.62,null,"CR"]
["SINAPI-I 44389","SINAPI-I",44389,"CABO DE COBRE FLEXIVEL NAO HALOGENADO, SEM EMISSAO DE FUMACA, 750V, SECAO NOMINAL 6,0 MM","M",6.09,6.09,null,"CR"]
["SINAPI-I 862","SINAPI-I",862,"CABO DE COBRE NU 10 MM2 MEIO-DURO","M",11.16,11.16,null,"CR"]
["SINAPI-I 866","SINAPI-I",866,"CABO DE COBRE NU 120 MM2 MEIO-DURO","M",141.88,141.88,null,"CR"]
["SINAPI-I 892","SINAPI-I",892,"CABO DE COBRE NU 150 MM2 MEIO-DURO","M",171.74,171.74,null,"CR"]
["SINAPI-I 857","SINAPI-I",857,"CABO DE COBRE NU 16 MM2 MEIO-DURO","M",18.68,18.68,null,"CR"]
["SINAPI-I 37404","SINAPI-I",37404,"CABO DE COBRE NU 185 MM2 MEIO-DURO","M",198.7,198.7,null,"CR"]
["SINAPI-I 868","SINAPI-I",868,"CABO DE COBRE NU 25 MM2 MEIO-DURO","M",26.62,26.62,null,"CR"]
["SINAPI-I 863","SINAPI-I",863,"CABO DE COBRE NU 35 MM2 MEIO-DURO","M",39.200000000000003,39.200000000000003,null,"CR"]
["SINAPI-I 867","SINAPI-I",867,"CABO DE COBRE NU 50 MM2 MEIO-DURO","M",55.85,55.85,null,"CR"]
["SINAPI-I 864","SINAPI-I",864,"CABO DE COBRE NU 70 MM2 MEIO-DURO","M",73.77,73.77,null,"CR"]
["SINAPI-I 865","SINAPI-I",865,"CABO DE COBRE NU 95 MM2 MEIO-DURO","M",106.11,106.11,null,"CR"]
["SINAPI-I 39251","SINAPI-I",39251,"CABO DE COBRE, FLEXIVEL, CLASSE 4 OU 5, ISOLACAO EM PVC/A, ANTICHAMA BWF-B, 1 CONDUTOR, 450/750 V, SECAO NOMINAL 0,5 MM2","M",0.7,0.7,null,"CR"]
["SINAPI-I 1011","SINAPI-I",1011,"CABO DE COBRE, FLEXIVEL, CLASSE 4 OU 5, ISOLACAO EM PVC/A, ANTICHAMA BWF-B, 1 CONDUTOR, 450/750 V, SECAO NOMINAL 0,75 MM2","M",0.95,0.95,null,"CR"]
["SINAPI-I 39252","SINAPI-I",39252,"CABO DE COBRE, FLEXIVEL, CLASSE 4 OU 5, ISOLACAO EM PVC/A, ANTICHAMA BWF-B, 1 CONDUTOR, 450/750 V, SECAO NOMINAL 1,0 MM2","M",1.25,1.25,null,"CR"]
["SINAPI-I 1013","SINAPI-I",1013,"CABO DE COBRE, FLEXIVEL, CLASSE 4 OU 5, ISOLACAO EM PVC/A, ANTICHAMA BWF-B, 1 CONDUTOR, 450/750 V, SECAO NOMINAL 1,5 MM2","M",1.5,1.5,null,"CR"]
["SINAPI-I 980","SINAPI-I",980,"CABO DE COBRE, FLEXIVEL, CLASSE 4 OU 5, ISOLACAO EM PVC/A, ANTICHAMA BWF-B, 1 CONDUTOR, 450/750 V, SECAO NOMINAL 10 MM2","M",10.8,10.8,null,"CR"]
["SINAPI-I 39237","SINAPI-I",39237,"CABO DE COBRE, FLEXIVEL, CLASSE 4 OU 5, ISOLACAO EM PVC/A, ANTICHAMA BWF-B, 1 CONDUTOR, 450/750 V, SECAO NOMINAL 120 MM2","M",114.86,114.86,null,"CR"]
["SINAPI-I 39238","SINAPI-I",39238,"CABO DE COBRE, FLEXIVEL, CLASSE 4 OU 5, ISOLACAO EM PVC/A, ANTICHAMA BWF-B, 1 CONDUTOR, 450/750 V, SECAO NOMINAL 150 MM2","M",144.86000000000001,144.86000000000001,null,"CR"]
["SINAPI-I 979","SINAPI-I",979,"CABO DE COBRE, FLEXIVEL, CLASSE 4 OU 5, ISOLACAO EM PVC/A, ANTICHAMA BWF-B, 1 CONDUTOR, 450/750 V, SECAO NOMINAL 16 MM2","M",15.43,15.43,null,"CR"]
["SINAPI-I 39239","SINAPI-I",39239,"CABO DE COBRE, FLEXIVEL, CLASSE 4 OU 5, ISOLACAO EM PVC/A, ANTICHAMA BWF-B, 1 CONDUTOR, 450/750 V, SECAO NOMINAL 185 MM2","M",175.01,175.01,null,"CR"]
["SINAPI-I 1014","SINAPI-I",1014,"CABO DE COBRE, FLEXIVEL, CLASSE 4 OU 5, ISOLACAO EM PVC/A, ANTICHAMA BWF-B, 1 CONDUTOR, 450/750 V, SECAO NOMINAL 2,5 MM2","M",2.37,2.37,null,"CR"]
["SINAPI-I 39240","SINAPI-I",39240,"CABO DE COBRE, FLEXIVEL, CLASSE 4 OU 5, ISOLACAO EM PVC/A, ANTICHAMA BWF-B, 1 CONDUTOR, 450/750 V, SECAO NOMINAL 240 MM2","M",230.18,230.18,null,"CR"]
["SINAPI-I 39232","SINAPI-I",39232,"CABO DE COBRE, FLEXIVEL, CLASSE 4 OU 5, ISOLACAO EM PVC/A, ANTICHAMA BWF-B, 1 CONDUTOR, 450/750 V, SECAO NOMINAL 25 MM2","M",24.16,24.16,null,"CR"]
["SINAPI-I 39233","SINAPI-I",39233,"CABO DE COBRE, FLEXIVEL, CLASSE 4 OU 5, ISOLACAO EM PVC/A, ANTICHAMA BWF-B, 1 CONDUTOR, 450/750 V, SECAO NOMINAL 35 MM2","M",35.21,35.21,null,"CR"]
["SINAPI-I 981","SINAPI-I",981,"CABO DE COBRE, FLEXIVEL, CLASSE 4 OU 5, ISOLACAO EM PVC/A, ANTICHAMA BWF-B, 1 CONDUTOR, 450/750 V, SECAO NOMINAL 4 MM2","M",3.93,3.93,null,"C"]
["SINAPI-I 39234","SINAPI-I",39234,"CABO DE COBRE, FLEXIVEL, CLASSE 4 OU 5, ISOLACAO EM PVC/A, ANTICHAMA BWF-B, 1 CONDUTOR, 450/750 V, SECAO NOMINAL 50 MM2","M",49.01,49.01,null,"CR"]
["SINAPI-I 982","SINAPI-I",982,"CABO DE COBRE, FLEXIVEL, CLASSE 4 OU 5, ISOLACAO EM PVC/A, ANTICHAMA BWF-B, 1 CONDUTOR, 450/750 V, SECAO NOMINAL 6 MM2","M",5.65,5.65,null,"CR"]
["SINAPI-I 39235","SINAPI-I",39235,"CABO DE COBRE, FLEXIVEL, CLASSE 4 OU 5, ISOLACAO EM PVC/A, ANTICHAMA BWF-B, 1 CONDUTOR, 450/750 V, SECAO NOMINAL 70 MM2","M",72.290000000000006,72.290000000000006,null,"CR"]
["SINAPI-I 39236","SINAPI-I",39236,"CABO DE COBRE, FLEXIVEL, CLASSE 4 OU 5, ISOLACAO EM PVC/A, ANTICHAMA BWF-B, 1 CONDUTOR, 450/750 V, SECAO NOMINAL 95 MM2","M",95.8,95.8,null,"CR"]
["SINAPI-I 993","SINAPI-I",993,"CABO DE COBRE, FLEXIVEL, CLASSE 4 OU 5, ISOLACAO EM PVC/A, ANTICHAMA BWF-B, COBERTURA PVC-ST1, ANTICHAMA BWF-B, 1 CONDUTOR, 0,6/1 KV, SECAO NOMINAL 1,5 MM2","M",2.02,2.02,null,"CR"]
["SINAPI-I 1020","SINAPI-I",1020,"CABO DE COBRE, FLEXIVEL, CLASSE 4 OU 5, ISOLACAO EM PVC/A, ANTICHAMA BWF-B, COBERTURA PVC-ST1, ANTICHAMA BWF-B, 1 CONDUTOR, 0,6/1 KV, SECAO NOMINAL 10 MM2","M",10.29,10.29,null,"CR"]
["SINAPI-I 1017","SINAPI-I",1017,"CABO DE COBRE, FLEXIVEL, CLASSE 4 OU 5, ISOLACAO EM PVC/A, ANTICHAMA BWF-B, COBERTURA PVC-ST1, ANTICHAMA BWF-B, 1 CONDUTOR, 0,6/1 KV, SECAO NOMINAL 120 MM2","M",126.17,126.17,null,"CR"]
["SINAPI-I 999","SINAPI-I",999,"CABO DE COBRE, FLEXIVEL, CLASSE 4 OU 5, ISOLACAO EM PVC/A, ANTICHAMA BWF-B, COBERTURA PVC-ST1, ANTICHAMA BWF-B, 1 CONDUTOR, 0,6/1 KV, SECAO NOMINAL 150 MM2","M",152.85,152.85,null,"CR"]
["SINAPI-I 995","SINAPI-I",995,"CABO DE COBRE, FLEXIVEL, CLASSE 4 OU 5, ISOLACAO EM PVC/A, ANTICHAMA BWF-B, COBERTURA PVC-ST1, ANTICHAMA BWF-B, 1 CONDUTOR, 0,6/1 KV, SECAO NOMINAL 16 MM2","M",16.39,16.39,null,"CR"]
["SINAPI-I 1000","SINAPI-I",1000,"CABO DE COBRE, FLEXIVEL, CLASSE 4 OU 5, ISOLACAO EM PVC/A, ANTICHAMA BWF-B, COBERTURA PVC-ST1, ANTICHAMA BWF-B, 1 CONDUTOR, 0,6/1 KV, SECAO NOMINAL 185 MM2","M",187.75,187.75,null,"CR"]
["SINAPI-I 1022","SINAPI-I",1022,"CABO DE COBRE, FLEXIVEL, CLASSE 4 OU 5, ISOLACAO EM PVC/A, ANTICHAMA BWF-B, COBERTURA PVC-ST1, ANTICHAMA BWF-B, 1 CONDUTOR, 0,6/1 KV, SECAO NOMINAL 2,5 MM2","M",2.81,2.81,null,"CR"]
["SINAPI-I 1015","SINAPI-I",1015,"CABO DE COBRE, FLEXIVEL, CLASSE 4 OU 5, ISOLACAO EM PVC/A, ANTICHAMA BWF-B, COBERTURA PVC-ST1, ANTICHAMA BWF-B, 1 CONDUTOR, 0,6/1 KV, SECAO NOMINAL 240 MM2","M",249.49,249.49,null,"CR"]
["SINAPI-I 996","SINAPI-I",996,"CABO DE COBRE, FLEXIVEL, CLASSE 4 OU 5, ISOLACAO EM PVC/A, ANTICHAMA BWF-B, COBERTURA PVC-ST1, ANTICHAMA BWF-B, 1 CONDUTOR, 0,6/1 KV, SECAO NOMINAL 25 MM2","M",25.42,25.42,null,"CR"]
["SINAPI-I 1001","SINAPI-I",1001,"CABO DE COBRE, FLEXIVEL, CLASSE 4 OU 5, ISOLACAO EM PVC/A, ANTICHAMA BWF-B, COBERTURA PVC-ST1, ANTICHAMA BWF-B, 1 CONDUTOR, 0,6/1 KV, SECAO NOMINAL 300 MM2","M",323.70999999999998,323.70999999999998,null,"CR"]
["SINAPI-I 1019","SINAPI-I",1019,"CABO DE COBRE, FLEXIVEL, CLASSE 4 OU 5, ISOLACAO EM PVC/A, ANTICHAMA BWF-B, COBERTURA PVC-ST1, ANTICHAMA BWF-B, 1 CONDUTOR, 0,6/1 KV, SECAO NOMINAL 35 MM2","M",35.92,35.92,null,"CR"]
["SINAPI-I 1021","SINAPI-I",1021,"CABO DE COBRE, FLEXIVEL, CLASSE 4 OU 5, ISOLACAO EM PVC/A, ANTICHAMA BWF-B, COBERTURA PVC-ST1, ANTICHAMA BWF-B, 1 CONDUTOR, 0,6/1 KV, SECAO NOMINAL 4 MM2","M",4.32,4.32,null,"CR"]
["SINAPI-I 39249","SINAPI-I",39249,"CABO DE COBRE, FLEXIVEL, CLASSE 4 OU 5, ISOLACAO EM PVC/A, ANTICHAMA BWF-B, COBERTURA PVC-ST1, ANTICHAMA BWF-B, 1 CONDUTOR, 0,6/1 KV, SECAO NOMINAL 400 MM2","M",435.25,435.25,null,"CR"]
["SINAPI-I 1018","SINAPI-I",1018,"CABO DE COBRE, FLEXIVEL, CLASSE 4 OU 5, ISOLACAO EM PVC/A, ANTICHAMA BWF-B, COBERTURA PVC-ST1, ANTICHAMA BWF-B, 1 CONDUTOR, 0,6/1 KV, SECAO NOMINAL 50 MM2","M",53.12,53.12,null,"CR"]
["SINAPI-I 39250","SINAPI-I",39250,"CABO DE COBRE, FLEXIVEL, CLASSE 4 OU 5, ISOLACAO EM PVC/A, ANTICHAMA BWF-B, COBERTURA PVC-ST1, ANTICHAMA BWF-B, 1 CONDUTOR, 0,6/1 KV, SECAO NOMINAL 500 MM2","M",520.66,520.66,null,"CR"]
[{"$f":"CONCATENATE($B897,\" \",$C897)","v":"SINAPI-I 994"},"SINAPI-I",994,"CABO DE COBRE, FLEXIVEL, CLASSE 4 OU 5, ISOLACAO EM PVC/A, ANTICHAMA BWF-B, COBERTURA PVC-ST1, ANTICHAMA BWF-B, 1 CONDUTOR, 0,6/1 KV, SECAO NOMINAL 6 MM2","M",6.28,6.28,null,"CR"]
["SINAPI-I 977","SINAPI-I",977,"CABO DE COBRE, FLEXIVEL, CLASSE 4 OU 5, ISOLACAO EM PVC/A, ANTICHAMA BWF-B, COBERTURA PVC-ST1, ANTICHAMA BWF-B, 1 CONDUTOR, 0,6/1 KV, SECAO NOMINAL 70 MM2","M",74.31,74.31,null,"CR"]
["SINAPI-I 998","SINAPI-I",998,"CABO DE COBRE, FLEXIVEL, CLASSE 4 OU 5, ISOLACAO EM PVC/A, ANTICHAMA BWF-B, COBERTURA PVC-ST1, ANTICHAMA BWF-B, 1 CONDUTOR, 0,6/1 KV, SECAO NOMINAL 95 MM2","M",96.48,96.48,null,"CR"]
["SINAPI-I 1006","SINAPI-I",1006,"CABO DE COBRE, RIGIDO, CLASSE 2, ISOLACAO EM PVC, ANTI-CHAMA BWF-B, 1 CONDUTOR, 450/750 V, DIAMETRO 120 MM2","M",127.84,127.84,null,"CR"]
["SINAPI-I 990","SINAPI-I",990,"CABO DE COBRE, RIGIDO, CLASSE 2, ISOLACAO EM PVC/A, ANTICHAMA BWF-B, 1 CONDUTOR, 450/750 V, SECAO NOMINAL 150 MM2","M",169.99,169.99,null,"CR"]
["SINAPI-I 39241","SINAPI-I",39241,"CABO DE COBRE, RIGIDO, CLASSE 2, ISOLACAO EM PVC/A, ANTICHAMA BWF-B, 1 CONDUTOR, 450/750 V, SECAO NOMINAL 16 MM2","M",16.73,16.73,null,"CR"]
["SINAPI-I 1005","SINAPI-I",1005,"CABO DE COBRE, RIGIDO, CLASSE 2, ISOLACAO EM PVC/A, ANTICHAMA BWF-B, 1 CONDUTOR, 450/750 V, SECAO NOMINAL 185 MM2","M",211.64,211.64,null,"CR"]
["SINAPI-I 991","SINAPI-I",991,"CABO DE COBRE, RIGIDO, CLASSE 2, ISOLACAO EM PVC/A, ANTICHAMA BWF-B, 1 CONDUTOR, 450/750 V, SECAO NOMINAL 240 MM2","M",277.20999999999998,277.20999999999998,null,"CR"]
["SINAPI-I 986","SINAPI-I",986,"CABO DE COBRE, RIGIDO, CLASSE 2, ISOLACAO EM PVC/A, ANTICHAMA BWF-B, 1 CONDUTOR, 450/750 V, SECAO NOMINAL 25 MM2","M",26.44,26.44,null,"CR"]
["SINAPI-I 987","SINAPI-I",987,"CABO DE COBRE, RIGIDO, CLASSE 2, ISOLACAO EM PVC/A, ANTICHAMA BWF-B, 1 CONDUTOR, 450/750 V, SECAO NOMINAL 35 MM2","M",36.19,36.19,null,"CR"]
["SINAPI-I 1007","SINAPI-I",1007,"CABO DE COBRE, RIGIDO, CLASSE 2, ISOLACAO EM PVC/A, ANTICHAMA BWF-B, 1 CONDUTOR, 450/750 V, SECAO NOMINAL 50 MM2","M",50.1,50.1,null,"CR"]
["SINAPI-I 1008","SINAPI-I",1008,"CABO DE COBRE, RIGIDO, CLASSE 2, ISOLACAO EM PVC/A, ANTICHAMA BWF-B, 1 CONDUTOR, 450/750 V, SECAO NOMINAL 6 MM2","M",6.36,6.36,null,"CR"]
["SINAPI-I 988","SINAPI-I",988,"CABO DE COBRE, RIGIDO, CLASSE 2, ISOLACAO EM PVC/A, ANTICHAMA BWF-B, 1 CONDUTOR, 450/750 V, SECAO NOMINAL 70 MM2","M",69.08,69.08,null,"CR"]
["SINAPI-I 989","SINAPI-I",989,"CABO DE COBRE, RIGIDO, CLASSE 2, ISOLACAO EM PVC/A, ANTICHAMA BWF-B, 1 CONDUTOR, 450/750 V, SECAO NOMINAL 95 MM2","M",95.36,95.36,null,"CR"]
["SINAPI-I 43972","SINAPI-I",43972,"CABO DE REDE, PAR TRANCADO U/UTP, 4 PARES, CATEGORIA 5E (CAT 5E), ISOLAMENTO PVC (CM)","M",5.01,5.01,null,"CR"]
["SINAPI-I 43971","SINAPI-I",43971,"CABO DE REDE, PAR TRANCADO U/UTP, 4 PARES, CATEGORIA 5E (CAT 5E), ISOLAMENTO PVC (CMX)","M",3.83,3.83,null,"C"]
["SINAPI-I 39598","SINAPI-I",39598,"CABO DE REDE, PAR TRANCADO U/UTP, 4 PARES, CATEGORIA 5E (CAT 5E), ISOLAMENTO PVC (LSZH)","M",7.1,7.1,null,"CR"]
["SINAPI-I 43973","SINAPI-I",43973,"CABO DE REDE, PAR TRANCADO U/UTP, 4 PARES, CATEGORIA 6 (CAT 6), ISOLAMENTO PVC (CM)","M",5.24,5.24,null,"CR"]
["SINAPI-I 39599","SINAPI-I",39599,"CABO DE REDE, PAR TRANCADO UTP, 4 PARES, CATEGORIA 6 (CAT 6), ISOLAMENTO PVC (LSZH)","M",10.220000000000001,10.220000000000001,null,"CR"]
["SINAPI-I 43832","SINAPI-I",43832,"CABO ELETRONICO CATEGORIA 6A U/UTP 23AWG X 4P","M",26.91,26.91,null,"CR"]
["SINAPI-I 34602","SINAPI-I",34602,"CABO FLEXIVEL PVC 750 V, 2 CONDUTORES DE 1,5 MM2","M",4.37,4.37,null,"CR"]
["SINAPI-I 34607","SINAPI-I",34607,"CABO FLEXIVEL PVC 750 V, 2 CONDUTORES DE 4,0 MM2","M",10.72,10.72,null,"CR"]
["SINAPI-I 34609","SINAPI-I",34609,"CABO FLEXIVEL PVC 750 V, 2 CONDUTORES DE 6,0 MM2","M",15.59,15.59,null,"CR"]
["SINAPI-I 34618","SINAPI-I",34618,"CABO FLEXIVEL PVC 750 V, 3 CONDUTORES DE 1,5 MM2","M",5.96,5.96,null,"CR"]
["SINAPI-I 34621","SINAPI-I",34621,"CABO FLEXIVEL PVC 750 V, 3 CONDUTORES DE 4,0 MM2","M",14.78,14.78,null,"CR"]
["SINAPI-I 34622","SINAPI-I",34622,"CABO FLEXIVEL PVC 750 V, 3 CONDUTORES DE 6,0 MM2","M",21.95,21.95,null,"CR"]
["SINAPI-I 34624","SINAPI-I",34624,"CABO FLEXIVEL PVC 750 V, 4 CONDUTORES DE 1,5 MM2","M",7.96,7.96,null,"CR"]
["SINAPI-I 34627","SINAPI-I",34627,"CABO FLEXIVEL PVC 750 V, 4 CONDUTORES DE 4,0 MM2","M",19.2,19.2,null,"CR"]
["SINAPI-I 34629","SINAPI-I",34629,"CABO FLEXIVEL PVC 750 V, 4 CONDUTORES DE 6,0 MM2","M",29.33,29.33,null,"CR"]
["SINAPI-I 39257","SINAPI-I",39257,"CABO MULTIPOLAR DE COBRE, FLEXIVEL, CLASSE 4 OU 5, ISOLACAO EM HEPR, COBERTURA EM PVC-ST2, ANTICHAMA BWF-B, 0,6/1 KV, 3 CONDUTORES DE 1,5 MM2","M",5.97,5.97,null,"CR"]
["SINAPI-I 39261","SINAPI-I",39261,"CABO MULTIPOLAR DE COBRE, FLEXIVEL, CLASSE 4 OU 5, ISOLACAO EM HEPR, COBERTURA EM PVC-ST2, ANTICHAMA BWF-B, 0,6/1 KV, 3 CONDUTORES DE 10 MM2","M",34.17,34.17,null,"CR"]
["SINAPI-I 39268","SINAPI-I",39268,"CABO MULTIPOLAR DE COBRE, FLEXIVEL, CLASSE 4 OU 5, ISOLACAO EM HEPR, COBERTURA EM PVC-ST2, ANTICHAMA BWF-B, 0,6/1 KV, 3 CONDUTORES DE 120 MM2","M",534.16999999999996,534.16999999999996,null,"CR"]
["SINAPI-I 39262","SINAPI-I",39262,"CABO MULTIPOLAR DE COBRE, FLEXIVEL, CLASSE 4 OU 5, ISOLACAO EM HEPR, COBERTURA EM PVC-ST2, ANTICHAMA BWF-B, 0,6/1 KV, 3 CONDUTORES DE 16 MM2","M",54.42,54.42,null,"CR"]
["SINAPI-I 39258","SINAPI-I",39258,"CABO MULTIPOLAR DE COBRE, FLEXIVEL, CLASSE 4 OU 5, ISOLACAO EM HEPR, COBERTURA EM PVC-ST2, ANTICHAMA BWF-B, 0,6/1 KV, 3 CONDUTORES DE 2,5 MM2","M",9,9,null,"CR"]
["SINAPI-I 39263","SINAPI-I",39263,"CABO MULTIPOLAR DE COBRE, FLEXIVEL, CLASSE 4 OU 5, ISOLACAO EM HEPR, COBERTURA EM PVC-ST2, ANTICHAMA BWF-B, 0,6/1 KV, 3 CONDUTORES DE 25 MM2","M",94.1,94.1,null,"CR"]
["SINAPI-I 39264","SINAPI-I",39264,"CABO MULTIPOLAR DE COBRE, FLEXIVEL, CLASSE 4 OU 5, ISOLACAO EM HEPR, COBERTURA EM PVC-ST2, ANTICHAMA BWF-B, 0,6/1 KV, 3 CONDUTORES DE 35 MM2","M",130.36000000000001,130.36000000000001,null,"CR"]
["SINAPI-I 39259","SINAPI-I",39259,"CABO MULTIPOLAR DE COBRE, FLEXIVEL, CLASSE 4 OU 5, ISOLACAO EM HEPR, COBERTURA EM PVC-ST2, ANTICHAMA BWF-B, 0,6/1 KV, 3 CONDUTORES DE 4 MM2","M",13.85,13.85,null,"CR"]
["SINAPI-I 39265","SINAPI-I",39265,"CABO MULTIPOLAR DE COBRE, FLEXIVEL, CLASSE 4 OU 5, ISOLACAO EM HEPR, COBERTURA EM PVC-ST2, ANTICHAMA BWF-B, 0,6/1 KV, 3 CONDUTORES DE 50 MM2","M",176.98,176.98,null,"CR"]
["SINAPI-I 39260","SINAPI-I",39260,"CABO MULTIPOLAR DE COBRE, FLEXIVEL, CLASSE 4 OU 5, ISOLACAO EM HEPR, COBERTURA EM PVC-ST2, ANTICHAMA BWF-B, 0,6/1 KV, 3 CONDUTORES DE 6 MM2","M",21.21,21.21,null,"CR"]
["SINAPI-I 39266","SINAPI-I",39266,"CABO MULTIPOLAR DE COBRE, FLEXIVEL, CLASSE 4 OU 5, ISOLACAO EM HEPR, COBERTURA EM PVC-ST2, ANTICHAMA BWF-B, 0,6/1 KV, 3 CONDUTORES DE 70 MM2","M",267.06,267.06,null,"CR"]
["SINAPI-I 39267","SINAPI-I",39267,"CABO MULTIPOLAR DE COBRE, FLEXIVEL, CLASSE 4 OU 5, ISOLACAO EM HEPR, COBERTURA EM PVC-ST2, ANTICHAMA BWF-B, 0,6/1 KV, 3 CONDUTORES DE 95 MM2","M",333.9,333.9,null,"CR"]
["SINAPI-I 11901","SINAPI-I",11901,"CABO TELEFONICO CCI 50, 1 PAR, USO INTERNO, SEM BLINDAGEM","M",0.92,0.92,null,"CR"]
["SINAPI-I 11902","SINAPI-I",11902,"CABO TELEFONICO CCI 50, 2 PARES, USO INTERNO, SEM BLINDAGEM","M",1.76,1.76,null,"CR"]
["SINAPI-I 11903","SINAPI-I",11903,"CABO TELEFONICO CCI 50, 3 PARES, USO INTERNO, SEM BLINDAGEM","M",1.86,1.86,null,"CR"]
["SINAPI-I 11904","SINAPI-I",11904,"CABO TELEFONICO CCI 50, 4 PARES, USO INTERNO, SEM BLINDAGEM","M",2.83,2.83,null,"CR"]
["SINAPI-I 11905","SINAPI-I",11905,"CABO TELEFONICO CCI 50, 5 PARES, USO INTERNO, SEM BLINDAGEM","M",3.45,3.45,null,"CR"]
["SINAPI-I 11906","SINAPI-I",11906,"CABO TELEFONICO CCI 50, 6 PARES, USO INTERNO, SEM BLINDAGEM","M",4.38,4.38,null,"CR"]
["SINAPI-I 11919","SINAPI-I",11919,"CABO TELEFONICO CI 50, 10 PARES, USO INTERNO","M",8.0299999999999994,8.0299999999999994,null,"CR"]
["SINAPI-I 11920","SINAPI-I",11920,"CABO TELEFONICO CI 50, 20 PARES, USO INTERNO","M",15.26,15.26,null,"CR"]
["SINAPI-I 11924","SINAPI-I",11924,"CABO TELEFONICO CI 50, 200 PARES, USO INTERNO","M",128.13,128.13,null,"CR"]
["SINAPI-I 11921","SINAPI-I",11921,"CABO TELEFONICO CI 50, 30 PARES, USO INTERNO","M",22.33,22.33,null,"CR"]
["SINAPI-I 11922","SINAPI-I",11922,"CABO TELEFONICO CI 50, 50 PARES, USO INTERNO","M",36.11,36.11,null,"CR"]
["SINAPI-I 11923","SINAPI-I",11923,"CABO TELEFONICO CI 50, 75 PARES, USO INTERNO","M",52.87,52.87,null,"CR"]
["SINAPI-I 11916","SINAPI-I",11916,"CABO TELEFONICO CTP - APL - 50, 10 PARES, USO EXTERNO","M",10.99,10.99,null,"CR"]
["SINAPI-I 11914","SINAPI-I",11914,"CABO TELEFONICO CTP - APL - 50, 100 PARES, USO EXTERNO","M",79.2,79.2,null,"CR"]
["SINAPI-I 11917","SINAPI-I",11917,"CABO TELEFONICO CTP - APL - 50, 20 PARES, USO EXTERNO","M",19.36,19.36,null,"CR"]
["SINAPI-I 11918","SINAPI-I",11918,"CABO TELEFONICO CTP - APL - 50, 30 PARES, USO EXTERNO","M",22.97,22.97,null,"CR"]
["SINAPI-I 37734","SINAPI-I",37734,"CACAMBA METALICA BASCULANTE COM CAPACIDADE DE 10 M3 (INCLUI MONTAGEM, NAO INCLUI CAMINHAO)","UN",72933.56,72933.56,null,"CR"]
["SINAPI-I 42251","SINAPI-I",42251,"CACAMBA METALICA BASCULANTE COM CAPACIDADE DE 12 M3 (INCLUI MONTAGEM, NAO INCLUI CAMINHAO)","UN",82820.509999999995,82820.509999999995,null,"CR"]
["SINAPI-I 37733","SINAPI-I",37733,"CACAMBA METALICA BASCULANTE COM CAPACIDADE DE 6 M3 (INCLUI MONTAGEM, NAO INCLUI CAMINHAO)","UN",54685.31,54685.31,null,"CR"]
["SINAPI-I 37735","SINAPI-I",37735,"CACAMBA METALICA BASCULANTE COM CAPACIDADE DE 8 M3 (INCLUI MONTAGEM, NAO INCLUI CAMINHAO)","UN",65895.8,65895.8,null,"CR"]
["SINAPI-I 5090","SINAPI-I",5090,"CADEADO SIMPLES, CORPO EM LATAO MACICO, COM LARGURA DE 25 MM E ALTURA DE APROX 25 MM, HASTE CEMENTADA (NAO LONGA), EM ACO TEMPERADO COM DIAMETRO DE APROX 5,0 MM, INCLUINDO 2 CHAVES","UN",19.53,19.53,null,"C"]
["SINAPI-I 5085","SINAPI-I",5085,"CADEADO SIMPLES, CORPO EM LATAO MACICO, COM LARGURA DE 35 MM E ALTURA DE APROX 30 MM, HASTE CEMENTADA (NAO LONGA), EM ACO TEMPERADO COM DIAMETRO DE APROX 6,0 MM, INCLUINDO 2 CHAVES","UN",29.07,29.07,null,"CR"]
["SINAPI-I 43603","SINAPI-I",43603,"CADEADO SIMPLES, CORPO EM LATAO MACICO, COM LARGURA DE 50 MM E ALTURA DE APROX 40 MM, HASTE CEMENTADA EM ACO TEMPERADO COM DIAMETRO DE APROX 8,0 MM, INCLUINDO 2 CHAVES","UN",41.53,41.53,null,"CR"]
[{"$f":"CONCATENATE($B961,\" \",$C961)","v":"SINAPI-I 38374"},"SINAPI-I",38374,"CADEIRA SUSPENSA MANUAL / BALANCIM INDIVIDUAL (NBR 14751)","UN",912.61,912.61,null,"CR"]
["SINAPI-I 4513","SINAPI-I",4513,"CAIBRO 5 X 5 CM EM PINUS, MISTA OU EQUIVALENTE DA REGIAO - BRUTA","M",5.04,5.04,null,"CR"]
["SINAPI-I 20212","SINAPI-I",20212,"CAIBRO APARELHADO *6 X 8* CM, EM MACARANDUBA/MASSARANDUBA, ANGELIM OU EQUIVALENTE DA REGIAO","M",27.34,27.34,null,"CR"]
["SINAPI-I 20209","SINAPI-I",20209,"CAIBRO APARELHADO *7,5 X 7,5* CM, EM MACARANDUBA/MASSARANDUBA, ANGELIM OU EQUIVALENTE DA REGIAO","M",32.659999999999997,32.659999999999997,null,"CR"]
["SINAPI-I 4430","SINAPI-I",4430,"CAIBRO NAO APARELHADO *5 X 6* CM, EM MACARANDUBA/MASSARANDUBA, ANGELIM OU EQUIVALENTE DA REGIAO - BRUTA","M",16,16,null,"C"]
["SINAPI-I 4433","SINAPI-I",4433,"CAIBRO NAO APARELHADO *6 X 6* CM, EM MACARANDUBA/MASSARANDUBA, ANGELIM OU EQUIVALENTE DA REGIAO - BRUTA","M",31.29,31.29,null,"CR"]
["SINAPI-I 4400","SINAPI-I",4400,"CAIBRO NAO APARELHADO, *6 X 8* CM, EM MACARANDUBA/MASSARANDUBA, ANGELIM OU EQUIVALENTE DA REGIAO - BRUTA","M",25.46,25.46,null,"CR"]
["SINAPI-I 2729","SINAPI-I",2729,"CAIBRO ROLICO DE MADEIRA TRATADA, D = 4 A 7 CM, H = 3,00 M, EM EUCALIPTO OU EQUIVALENTE DA REGIAO","UN",37.46,37.46,null,"CR"]
["SINAPI-I 37106","SINAPI-I",37106,"CAIXA D'AGUA / RESERVATORIO EM POLIESTER REFORCADO COM FIBRA DE VIDRO, 10000 LITROS, COM TAMPA","UN",5455.34,5455.34,null,"CR"]
["SINAPI-I 11869","SINAPI-I",11869,"CAIXA D'AGUA / RESERVATORIO EM POLIESTER REFORCADO COM FIBRA DE VIDRO, 1500 LITROS, COM TAMPA","UN",1091.06,1091.06,null,"CR"]
["SINAPI-I 43981","SINAPI-I",43981,"CAIXA D'AGUA / RESERVATORIO EM POLIESTER REFORCADO COM FIBRA DE VIDRO, 15000 LITROS, COM TAMPA","UN",8221.15,8221.15,null,"CR"]
["SINAPI-I 37104","SINAPI-I",37104,"CAIXA D'AGUA / RESERVATORIO EM POLIESTER REFORCADO COM FIBRA DE VIDRO, 2000 LITROS, COM TAMPA","UN",1369.31,1369.31,null,"CR"]
["SINAPI-I 43982","SINAPI-I",43982,"CAIXA D'AGUA / RESERVATORIO EM POLIESTER REFORCADO COM FIBRA DE VIDRO, 20000 LITROS, COM TAMPA","UN",12987.35,12987.35,null,"CR"]
["SINAPI-I 43978","SINAPI-I",43978,"CAIXA D'AGUA / RESERVATORIO EM POLIESTER REFORCADO COM FIBRA DE VIDRO, 3000 LITROS, COM TAMPA","UN",2029.29,2029.29,null,"CR"]
["SINAPI-I 11871","SINAPI-I",11871,"CAIXA D'AGUA / RESERVATORIO EM POLIESTER REFORCADO COM FIBRA DE VIDRO, 500 LITROS, COM TAMPA","UN",508.6,508.6,null,"CR"]
["SINAPI-I 37105","SINAPI-I",37105,"CAIXA D'AGUA / RESERVATORIO EM POLIESTER REFORCADO COM FIBRA DE VIDRO, 5000 LITROS, COM TAMPA","UN",3129.4,3129.4,null,"CR"]
["SINAPI-I 43980","SINAPI-I",43980,"CAIXA D'AGUA / RESERVATORIO EM POLIESTER REFORCADO COM FIBRA DE VIDRO, 7000 LITROS, COM TAMPA","UN",3897.34,3897.34,null,"CR"]
["SINAPI-I 43979","SINAPI-I",43979,"CAIXA D'AGUA / RESERVATORIO EM POLIESTER REFORCADO COM FIBRA DE VIDRO, 750 LITROS, COM TAMPA","UN",732.27,732.27,null,"CR"]
["SINAPI-I 11868","SINAPI-I",11868,"CAIXA D'AGUA / RESERVATORIO EM POLIESTER REFORCADO COM FIBRA DE VIDRO,1000 LITROS, COM TAMPA","UN",708.18,708.18,null,"CR"]
["SINAPI-I 34636","SINAPI-I",34636,"CAIXA D'AGUA / RESERVATORIO EM POLIETILENO, 1000 LITROS, COM TAMPA","UN",502.9,502.9,null,"C"]
["SINAPI-I 34639","SINAPI-I",34639,"CAIXA D'AGUA / RESERVATORIO EM POLIETILENO, 1500 LITROS, COM TAMPA","UN",1160.78,1160.78,null,"CR"]
["SINAPI-I 34640","SINAPI-I",34640,"CAIXA D'AGUA / RESERVATORIO EM POLIETILENO, 2000 LITROS, COM TAMPA","UN",1316.73,1316.73,null,"CR"]
["SINAPI-I 43977","SINAPI-I",43977,"CAIXA D'AGUA / RESERVATORIO EM POLIETILENO, 3000 LITROS, COM TAMPA","UN",2269.9499999999998,2269.9499999999998,null,"CR"]
["SINAPI-I 34637","SINAPI-I",34637,"CAIXA D'AGUA / RESERVATORIO EM POLIETILENO, 500 LITROS, COM TAMPA","UN",304.12,304.12,null,"CR"]
["SINAPI-I 34638","SINAPI-I",34638,"CAIXA D'AGUA / RESERVATORIO EM POLIETILENO, 750 LITROS, COM TAMPA","UN",470.43,470.43,null,"CR"]
["SINAPI-I 34641","SINAPI-I",34641,"CAIXA DE ATERRAMENTO EM CONCRETO PRE-MOLDADO, DIAMETRO DE 0,30 M E ALTURA DE 0,35 M, SEM FUNDO E COM TAMPA","UN"]
["SINAPI-I 43434","SINAPI-I",43434,"CAIXA DE CONCRETO ARMADO PRE-MOLDADO, COM FUNDO E SEM TAMPA, DIMENSOES DE 0,30 X 0,30 X 0,30 M","UN"]
["SINAPI-I 43435","SINAPI-I",43435,"CAIXA DE CONCRETO ARMADO PRE-MOLDADO, COM FUNDO E SEM TAMPA, DIMENSOES DE 0,40 X 0,40 X 0,40 M","UN"]
["SINAPI-I 43436","SINAPI-I",43436,"CAIXA DE CONCRETO ARMADO PRE-MOLDADO, COM FUNDO E SEM TAMPA, DIMENSOES DE 0,60 X 0,60 X 0,50 M","UN"]
["SINAPI-I 43437","SINAPI-I",43437,"CAIXA DE CONCRETO ARMADO PRE-MOLDADO, COM FUNDO E SEM TAMPA, DIMENSOES DE 0,80 X 0,80 X 0,50 M","UN"]
["SINAPI-I 43438","SINAPI-I",43438,"CAIXA DE CONCRETO ARMADO PRE-MOLDADO, COM FUNDO E SEM TAMPA, DIMENSOES DE 1,00 X 1,00 X 0,50 M","UN"]
["SINAPI-I 41627","SINAPI-I",41627,"CAIXA DE CONCRETO ARMADO PRE-MOLDADO, COM FUNDO E TAMPA, DIMENSOES DE 0,30 X 0,30 X 0,30 M","UN"]
["SINAPI-I 41628","SINAPI-I",41628,"CAIXA DE CONCRETO ARMADO PRE-MOLDADO, COM FUNDO E TAMPA, DIMENSOES DE 0,40 X 0,40 X 0,40 M","UN"]
["SINAPI-I 41629","SINAPI-I",41629,"CAIXA DE CONCRETO ARMADO PRE-MOLDADO, COM FUNDO E TAMPA, DIMENSOES DE 0,60 X 0,60 X 0,50 M","UN"]
["SINAPI-I 43429","SINAPI-I",43429,"CAIXA DE CONCRETO ARMADO PRE-MOLDADO, SEM FUNDO, QUADRADA, DIMENSOES DE 0,30 X 0,30 X 0,30 M","UN"]
["SINAPI-I 43430","SINAPI-I",43430,"CAIXA DE CONCRETO ARMADO PRE-MOLDADO, SEM FUNDO, QUADRADA, DIMENSOES DE 0,40 X 0,40 X 0,40 M","UN"]
["SINAPI-I 43431","SINAPI-I",43431,"CAIXA DE CONCRETO ARMADO PRE-MOLDADO, SEM FUNDO, QUADRADA, DIMENSOES DE 0,60 X 0,60 X 0,50 M","UN"]
["SINAPI-I 43432","SINAPI-I",43432,"CAIXA DE CONCRETO ARMADO PRE-MOLDADO, SEM FUNDO, QUADRADA, DIMENSOES DE 0,80 X 0,80 X 0,50 M","UN"]
["SINAPI-I 43433","SINAPI-I",43433,"CAIXA DE CONCRETO ARMADO PRE-MOLDADO, SEM FUNDO, QUADRADA, DIMENSOES DE 1,00 X 1,00 X 0,50 M","UN"]
["SINAPI-I 43094","SINAPI-I",43094,"CAIXA DE DERIVACAO PARA MEDIDOR DE ENERGIA, COM BARRAMENTO MONOFASICO, EM POLICARBONATO / TERMOPLASTICO - MODULO (PADRAO CONCESSIONARIA LOCAL)","UN",431.8,431.8,null,"CR"]
["SINAPI-I 43093","SINAPI-I",43093,"CAIXA DE DERIVACAO PARA MEDIDOR DE ENERGIA, COM BARRAMENTO POLIFASICO, EM POLICARBONATO / TERMOPLASTICO - MODULO (PADRAO CONCESSIONARIA LOCAL)","UN",458.87,458.87,null,"CR"]
["SINAPI-I 11694","SINAPI-I",11694,"CAIXA DE DESCARGA PLASTICA PARA BACIA / VASO SANITARIO DE EMBUTIR, COM ESPELHO ACIONADOR EM PLASTICO, CAPACIDADE 6 A 10 LITROS, (COMPLETA - ACESSORIOS INCLUSOS)","UN",1102.6099999999999,1102.6099999999999,null,"CR"]
["SINAPI-I 1030","SINAPI-I",1030,"CAIXA DE DESCARGA PLASTICA PARA BACIA / VASO SANITARIO, EXTERNA, CAPACIDADE 9 LITROS, PUXADOR FIO DE NYLON, NAO INCLUSO CANO, BOLSA, ENGATE","UN",49.88,49.88,null,"C"]
["SINAPI-I 11881","SINAPI-I",11881,"CAIXA DE GORDURA CILINDRICA EM CONCRETO SIMPLES, PRE-MOLDADA, COM DIAMETRO DE 40 CM E ALTURA DE 45 CM, COM TAMPA","UN"]
["SINAPI-I 35277","SINAPI-I",35277,"CAIXA DE GORDURA EM PVC, DIAMETRO MINIMO 300 MM, DIAMETRO DE SAIDA 100 MM, CAPACIDADE APROXIMADA 18 LITROS, COM TAMPA E CESTO","UN",363.02,363.02,null,"CR"]
["SINAPI-I 10521","SINAPI-I",10521,"CAIXA DE INCENDIO/ABRIGO PARA MANGUEIRA, DE EMBUTIR/INTERNA, COM 75 X 45 X 17 CM, EM CHAPA DE ACO, PORTA COM VENTILACAO, VISOR COM A INSCRICAO \"INCENDIO\", SUPORTE/CESTA INTERNA PARA A MANGUEIRA, PINTURA ELETROSTATICA VERMELHA","UN",413.79,413.79,null,"CR"]
["SINAPI-I 10885","SINAPI-I",10885,"CAIXA DE INCENDIO/ABRIGO PARA MANGUEIRA, DE EMBUTIR/INTERNA, COM 90 X 60 X 17 CM, EM CHAPA DE ACO, PORTA COM VENTILACAO, VISOR COM A INSCRICAO \"INCENDIO\", SUPORTE/CESTA INTERNA PARA A MANGUEIRA, PINTURA ELETROSTATICA VERMELHA","UN",523.4,523.4,null,"CR"]
["SINAPI-I 20962","SINAPI-I",20962,"CAIXA DE INCENDIO/ABRIGO PARA MANGUEIRA, DE SOBREPOR/EXTERNA, COM 75 X 45 X 17 CM, EM CHAPA DE ACO, PORTA COM VENTILACAO, VISOR COM A INSCRICAO \"INCENDIO\", SUPORTE/CESTA INTERNA PARA A MANGUEIRA, PINTURA ELETROSTATICA VERMELHA","UN",433.5,433.5,null,"C"]
["SINAPI-I 20963","SINAPI-I",20963,"CAIXA DE INCENDIO/ABRIGO PARA MANGUEIRA, DE SOBREPOR/EXTERNA, COM 90 X 60 X 17 CM, EM CHAPA DE ACO, PORTA COM VENTILACAO, VISOR COM A INSCRICAO \"INCENDIO\", SUPORTE/CESTA INTERNA PARA A MANGUEIRA, PINTURA ELETROSTATICA VERMELHA","UN",529.54999999999995,529.54999999999995,null,"CR"]
["SINAPI-I 34643","SINAPI-I",34643,"CAIXA DE INSPECAO PARA ATERRAMENTO E PARA RAIOS, EM POLIPROPILENO, DIAMETRO = 300 MM X ALTURA = 400 MM (INCLUIDA TAMPA SEM ESCOTILHA)","UN",41.81,41.81,null,"CR"]
["SINAPI-I 41480","SINAPI-I",41480,"CAIXA DE INSPECAO PARA ATERRAMENTO OU OUTRO USO, EM PVC, DN = 250 X 250 MM (INCLUIDA TAMPA EM FERRO FUNDIDO SEM ESCOTILHA)","UN",48.47,48.47,null,"CR"]
["SINAPI-I 41474","SINAPI-I",41474,"CAIXA DE INSPECAO PARA ATERRAMENTO OU OUTRO USO, EM PVC, DN = 300 X *300* MM (INCLUIDA TAMPA EM FERRO FUNDIDO SEM ESCOTILHA)","UN",77.430000000000007,77.430000000000007,null,"CR"]
["SINAPI-I 41475","SINAPI-I",41475,"CAIXA DE INSPECAO PARA ATERRAMENTO OU OUTRO USO, EM PVC, DN = 300 X 250 MM (INCLUIDA TAMPA EM FERRO FUNDIDO SEM ESCOTILHA)","UN",66.069999999999993,66.069999999999993,null,"CR"]
["SINAPI-I 41476","SINAPI-I",41476,"CAIXA DE INSPECAO PARA ATERRAMENTO OU OUTRO USO, EM PVC, DN = 300 X 600 MM (INCLUIDA TAMPA EM FERRO FUNDIDO SEM ESCOTILHA)","UN",144.66999999999999,144.66999999999999,null,"CR"]
["SINAPI-I 2555","SINAPI-I",2555,"CAIXA DE LUZ \"3 X 3\" EM ACO ESMALTADA","UN"]
["SINAPI-I 2556","SINAPI-I",2556,"CAIXA DE LUZ \"4 X 2\" EM ACO ESMALTADA","UN"]
["SINAPI-I 2557","SINAPI-I",2557,"CAIXA DE LUZ \"4 X 4\" EM ACO ESMALTADA","UN"]
["SINAPI-I 10569","SINAPI-I",10569,"CAIXA DE PASSAGEM / DERIVACAO / LUZ, OCTOGONAL 4 X4, EM ACO ESMALTADA, COM FUNDO MOVEL SIMPLES (FMS)","UN"]
["SINAPI-I 39810","SINAPI-I",39810,"CAIXA DE PASSAGEM ELETRICA DE PAREDE, DE EMBUTIR, EM PVC, COM TAMPA APARAFUSADA, DIMENSOES 120 X 120 X *75* MM","UN",58.27,58.27,null,"CR"]
["SINAPI-I 39811","SINAPI-I",39811,"CAIXA DE PASSAGEM ELETRICA DE PAREDE, DE EMBUTIR, EM PVC, COM TAMPA APARAFUSADA, DIMENSOES 150 X 150 X *75* MM","UN",71.28,71.28,null,"CR"]
["SINAPI-I 39812","SINAPI-I",39812,"CAIXA DE PASSAGEM ELETRICA DE PAREDE, DE EMBUTIR, EM PVC, COM TAMPA APARAFUSADA, DIMENSOES 200 X 200 X *90* MM","UN",117.2,117.2,null,"CR"]
["SINAPI-I 43096","SINAPI-I",43096,"CAIXA DE PASSAGEM ELETRICA DE PAREDE, DE EMBUTIR, EM TERMOPLASTICO / PVC, COM TAMPA APARAFUSADA, DIMENSOES 400 X 400 X *120* MM","UN",388.48,388.48,null,"CR"]
["SINAPI-I 43102","SINAPI-I",43102,"CAIXA DE PASSAGEM ELETRICA DE PAREDE, DE SOBREPOR, EM PVC, COM TAMPA APARAFUSADA, DIMENSOES 300 X 300 X *100* MM","UN",236.22,236.22,null,"CR"]
["SINAPI-I 43103","SINAPI-I",43103,"CAIXA DE PASSAGEM ELETRICA DE PAREDE, DE SOBREPOR, EM PVC, COM TAMPA APARAFUSADA, DIMENSOES, 400 X 400 X *120* MM","UN",347.83,347.83,null,"CR"]
[{"$f":"CONCATENATE($B1025,\" \",$C1025)","v":"SINAPI-I 43098"},"SINAPI-I",43098,"CAIXA DE PASSAGEM ELETRICA DE PAREDE, DE SOBREPOR, EM TERMOPLASTICO / PVC, COM TAMPA APARAFUSADA, DIMENSOES 200 X 200 X *100* MM","UN",131.59,131.59,null,"CR"]
["SINAPI-I 43097","SINAPI-I",43097,"CAIXA DE PASSAGEM ELETRICA DE PAREDE, DE SOBREPOR, EM TERMOPLASTICO / PVC, COM TAMPA APARAFUSADA, DIMENSOES, 150 X 150 X *100* MM","UN",77.959999999999994,77.959999999999994,null,"CR"]
["SINAPI-I 43104","SINAPI-I",43104,"CAIXA DE PASSAGEM ELETRICA, PARA PISO, EM PVC, DIMENSOES DE 3/4\" A 4\"","UN",922.2,922.2,null,"CR"]
["SINAPI-I 39771","SINAPI-I",39771,"CAIXA DE PASSAGEM METALICA DE SOBREPOR COM TAMPA PARAFUSADA, DIMENSOES 20 X 20 X 10 CM","UN"]
["SINAPI-I 39772","SINAPI-I",39772,"CAIXA DE PASSAGEM METALICA DE SOBREPOR COM TAMPA PARAFUSADA, DIMENSOES 30 X 30 X 10 CM","UN"]
["SINAPI-I 39773","SINAPI-I",39773,"CAIXA DE PASSAGEM METALICA DE SOBREPOR COM TAMPA PARAFUSADA, DIMENSOES 40 X 40 X 15 CM","UN"]
["SINAPI-I 39774","SINAPI-I",39774,"CAIXA DE PASSAGEM METALICA DE SOBREPOR COM TAMPA PARAFUSADA, DIMENSOES 50 X 50 X 15 CM","UN"]
["SINAPI-I 39775","SINAPI-I",39775,"CAIXA DE PASSAGEM METALICA DE SOBREPOR COM TAMPA PARAFUSADA, DIMENSOES 60 X 60 X 20 CM","UN"]
["SINAPI-I 39776","SINAPI-I",39776,"CAIXA DE PASSAGEM METALICA DE SOBREPOR COM TAMPA PARAFUSADA, DIMENSOES 70 X 70 X 20 CM","UN"]
["SINAPI-I 39777","SINAPI-I",39777,"CAIXA DE PASSAGEM METALICA DE SOBREPOR COM TAMPA PARAFUSADA, DIMENSOES 80 X 80 X 20 CM","UN"]
["SINAPI-I 20254","SINAPI-I",20254,"CAIXA DE PASSAGEM METALICA, DE SOBREPOR, COM TAMPA APARAFUSADA, DIMENSOES 15 X 15 X *10* CM","UN"]
["SINAPI-I 20253","SINAPI-I",20253,"CAIXA DE PASSAGEM METALICA, DE SOBREPOR, COM TAMPA APARAFUSADA, DIMENSOES 35 X 35 X *12* CM","UN"]
["SINAPI-I 1872","SINAPI-I",1872,"CAIXA DE PASSAGEM, EM PVC, DE 4\" X 2\", PARA ELETRODUTO FLEXIVEL CORRUGADO","UN",4.13,4.13,null,"CR"]
["SINAPI-I 1873","SINAPI-I",1873,"CAIXA DE PASSAGEM, EM PVC, DE 4\" X 4\", PARA ELETRODUTO FLEXIVEL CORRUGADO","UN",8.1999999999999993,8.1999999999999993,null,"CR"]
["SINAPI-I 14055","SINAPI-I",14055,"CAIXA DE PASSAGEM/ LUZ / TELEFONIA, DE EMBUTIR, EM CHAPA DE ACO GALVANIZADO, DIMENSOES 120 X 120 X *12* CM (PADRAO CONCESSIONARIA LOCAL)","UN"]
["SINAPI-I 11247","SINAPI-I",11247,"CAIXA DE PASSAGEM/ LUZ / TELEFONIA, DE EMBUTIR, EM CHAPA DE ACO GALVANIZADO, DIMENSOES 150 X 150 X 15 CM (PADRAO CONCESSIONARIA LOCAL)","UN"]
["SINAPI-I 11250","SINAPI-I",11250,"CAIXA DE PASSAGEM/ LUZ / TELEFONIA, DE EMBUTIR, EM CHAPA DE ACO GALVANIZADO, DIMENSOES 20 X 20 X *12* CM (PADRAO CONCESSIONARIA LOCAL)","UN"]
["SINAPI-I 11249","SINAPI-I",11249,"CAIXA DE PASSAGEM/ LUZ / TELEFONIA, DE EMBUTIR, EM CHAPA DE ACO GALVANIZADO, DIMENSOES 200 X 200 X 20 CM (PADRAO CONCESSIONARIA LOCAL)","UN"]
["SINAPI-I 11251","SINAPI-I",11251,"CAIXA DE PASSAGEM/ LUZ / TELEFONIA, DE EMBUTIR, EM CHAPA DE ACO GALVANIZADO, DIMENSOES 40 X 40 X *12* CM (PADRAO CONCESSIONARIA LOCAL)","UN"]
["SINAPI-I 11253","SINAPI-I",11253,"CAIXA DE PASSAGEM/ LUZ / TELEFONIA, DE EMBUTIR, EM CHAPA DE ACO GALVANIZADO, DIMENSOES 60 X 60 X *12* CM (PADRAO CONCESSIONARIA LOCAL)","UN"]
["SINAPI-I 11255","SINAPI-I",11255,"CAIXA DE PASSAGEM/ LUZ / TELEFONIA, DE EMBUTIR, EM CHAPA DE ACO GALVANIZADO, DIMENSOES 80 X 80 X *12* CM (PADRAO CONCESSIONARIA LOCAL)","UN"]
["SINAPI-I 11256","SINAPI-I",11256,"CAIXA DE PASSAGEM/ LUZ / TELEFONIA, DE SOBREPOR, EM CHAPA DE ACO GALVANIZADO, DIMENSOES 80 X 80 X *12* CM (PADRAO CONCESSIONARIA LOCAL)","UN"]
["SINAPI-I 39693","SINAPI-I",39693,"CAIXA DE PROTECAO EXTERNA PARA MEDIDOR HOROSAZONAL, DE BAIXA TENSAO, COM MODULO, EM CHAPA DE ACO (PADRAO DA CONCESSIONARIA LOCAL)","UN"]
["SINAPI-I 39692","SINAPI-I",39692,"CAIXA DE PROTECAO PARA TRANSFORMADOR CORRENTE, EM CHAPA DE ACO 18 USG (PADRAO DA CONCESSIONARIA LOCAL)","UN"]
["SINAPI-I 1062","SINAPI-I",1062,"CAIXA INTERNA/EXTERNA DE MEDICAO PARA 1 MEDIDOR TRIFASICO, COM VISOR, EM CHAPA DE ACO 18 USG (PADRAO DA CONCESSIONARIA LOCAL)","UN"]
["SINAPI-I 39686","SINAPI-I",39686,"CAIXA INTERNA/EXTERNA DE MEDICAO PARA 4 MEDIDORES MONOFASICOS, COM VISOR, EM CHAPA DE ACO 18 USG (PADRAO DA CONCESSIONARIA LOCAL)","UN"]
["SINAPI-I 43095","SINAPI-I",43095,"CAIXA MODULAR PARA MEDIDOR DE ENERGIA AGRUPADA, EM POLICARBONATO / TERMOPLASTICO, COM SUPORTE PARA DISJUNTOR (PADRAO DA CONCESSIONARIA LOCAL)","UN",255.99,255.99,null,"CR"]
["SINAPI-I 1871","SINAPI-I",1871,"CAIXA OCTOGONAL DE FUNDO MOVEL, EM PVC, DE 3\" X 3\", PARA ELETRODUTO FLEXIVEL CORRUGADO","UN",7.38,7.38,null,"CR"]
["SINAPI-I 12001","SINAPI-I",12001,"CAIXA OCTOGONAL DE FUNDO MOVEL, EM PVC, DE 4\" X 4\", PARA ELETRODUTO FLEXIVEL CORRUGADO","UN",10.67,10.67,null,"CR"]
["SINAPI-I 11882","SINAPI-I",11882,"CAIXA PARA HIDROMETRO CONCRETO PRE MOLDADO, *0,24 M X 0,45 M X 0,30* M (L X C X A)","UN"]
["SINAPI-I 1068","SINAPI-I",1068,"CAIXA PARA MEDICAO COLETIVA TIPO L, PADRAO BIFASICO OU TRIFASICO, PARA ATE 4 MEDIDORES, SEM BARRAMENTO E COM PORTAS INFERIOR E SUPERIOR","UN"]
["SINAPI-I 39690","SINAPI-I",39690,"CAIXA PARA MEDICAO COLETIVA TIPO M, PADRAO BIFASICO OU TRIFASICO, PARA ATE 8 MEDIDORES, SEM BARRAMENTO E COM PORTAS INFERIOR E SUPERIOR","UN"]
["SINAPI-I 39691","SINAPI-I",39691,"CAIXA PARA MEDICAO COLETIVA TIPO N, PADRAO BIFASICO OU TRIFASICO, PARA ATE 12 MEDIDORES, SEM BARRAMENTO E COM PORTAS INFERIOR E SUPERIOR","UN"]
["SINAPI-I 39808","SINAPI-I",39808,"CAIXA PARA MEDIDOR MONOFASICO, EM POLICARBONATO / TERMOPLASTICO, PARA ALOJAR 1 DISJUNTOR (PADRAO DA CONCESSIONARIA LOCAL)","UN",133.65,133.65,null,"CR"]
["SINAPI-I 39809","SINAPI-I",39809,"CAIXA PARA MEDIDOR POLIFASICO, EM POLICARBONATO / TERMOPLASTICO, PARA ALOJAR 1 DISJUNTOR (PADRAO DA CONCESSIONARIA LOCAL)","UN",316.99,316.99,null,"CR"]
["SINAPI-I 43439","SINAPI-I",43439,"CAIXA PRE-MOLDADA PARA BOCA DE LOBO, EM CONCRETO ARMADO, COM FCK DE 25 MPA, COM DIMENSOES 1,10 X 0,65 X 1,00 M (COMPRIMENTO X LARGURA X ALTURA)","UN"]
["SINAPI-I 5103","SINAPI-I",5103,"CAIXA SIFONADA PVC, 100 X 100 X 50 MM, COM GRELHA REDONDA, BRANCA","UN",22.98,22.98,null,"CR"]
["SINAPI-I 11880","SINAPI-I",11880,"CAIXA SIFONADA PVC, 250 X 230 X 75 MM, COM TAMPA CEGA QUADRADA, BRANCA","UN",96.66,96.66,null,"CR"]
["SINAPI-I 11714","SINAPI-I",11714,"CAIXA SIFONADA, PVC, 150 X *185* X 75 MM, COM GRELHA QUADRADA, BRANCA","UN",65.849999999999994,65.849999999999994,null,"CR"]
["SINAPI-I 11712","SINAPI-I",11712,"CAIXA SIFONADA, PVC, 150 X 150 X 50 MM, COM GRELHA QUADRADA, BRANCA (NBR 5688)","UN",43,43,null,"C"]
["SINAPI-I 11717","SINAPI-I",11717,"CAIXA SIFONADA, PVC, 150 X 150 X 50 MM, COM GRELHA REDONDA, BRANCA","UN",51.83,51.83,null,"CR"]
["SINAPI-I 1106","SINAPI-I",1106,"CAL HIDRATADA CH-I PARA ARGAMASSAS","KG",0.83,0.83,null,"C"]
["SINAPI-I 11161","SINAPI-I",11161,"CAL HIDRATADA PARA PINTURA","KG",1.38,1.38,null,"CR"]
["SINAPI-I 1107","SINAPI-I",1107,"CAL VIRGEM COMUM PARA ARGAMASSAS (NBR 6453)","KG",0.7,0.7,null,"CR"]
["SINAPI-I 44479","SINAPI-I",44479,"CALCARIO DOLOMITICO A (POSTO PEDREIRA/FORNECEDOR,  SEM FRETE)","KG",0.09,0.09,null,"CR"]
["SINAPI-I 4759","SINAPI-I",4759,"CALCETEIRO / RASTELEIRO (HORISTA)","H",20.54,22.97,null,"CR"]
["SINAPI-I 41068","SINAPI-I",41068,"CALCETEIRO / RASTELEIRO (MENSALISTA)","MES",3605.62,4033.53,null,"CR"]
["SINAPI-I 12618","SINAPI-I",12618,"CALHA / PERFIL PLUVIAL DE PVC, DIAMETRO ENTRE *119 E 170* MM, COMPRIMENTO DE 3 M, PARA DRENAGEM PLUVIAL PREDIAL","UN",160.99,160.99,null,"CR"]
["SINAPI-I 1108","SINAPI-I",1108,"CALHA MOLDURA AMERICANA DE CHAPA DE ACO GALVANIZADA NUM 26, CORTE 33 CM","M"]
["SINAPI-I 1117","SINAPI-I",1117,"CALHA PARA AGUA FURTADA DE CHAPA DE ACO GALVANIZADA NUM 26, CORTE 40 CM","M"]
["SINAPI-I 1118","SINAPI-I",1118,"CALHA PARA AGUA FURTADA DE CHAPA DE ACO GALVANIZADA NUM 26, CORTE 50 CM","M"]
["SINAPI-I 1110","SINAPI-I",1110,"CALHA PLATIBANDA DE CHAPA DE ACO GALVANIZADA NUM 26, CORTE 45 CM","M"]
["SINAPI-I 40784","SINAPI-I",40784,"CALHA QUADRADA DE CHAPA DE ACO GALVANIZADA NUM 24, CORTE 100 CM","M"]
["SINAPI-I 40782","SINAPI-I",40782,"CALHA QUADRADA DE CHAPA DE ACO GALVANIZADA NUM 24, CORTE 33 CM","M"]
["SINAPI-I 40783","SINAPI-I",40783,"CALHA QUADRADA DE CHAPA DE ACO GALVANIZADA NUM 24, CORTE 50 CM","M"]
["SINAPI-I 1109","SINAPI-I",1109,"CALHA QUADRADA DE CHAPA DE ACO GALVANIZADA NUM 26, CORTE 33 CM","M"]
["SINAPI-I 1119","SINAPI-I",1119,"CALHA QUADRADA DE CHAPA DE ACO GALVANIZADA NUM 28, CORTE 25 CM","M"]
["SINAPI-I 13115","SINAPI-I",13115,"CALHA/CANALETA DE CONCRETO SIMPLES, TIPO MEIA CANA, DIAMETRO DE 20 CM, PARA AGUA PLUVIAL","M",12.77,12.77,null,"CR"]
["SINAPI-I 10541","SINAPI-I",10541,"CALHA/CANALETA DE CONCRETO SIMPLES, TIPO MEIA CANA, DIAMETRO DE 30 CM, PARA AGUA PLUVIAL","M",15.6,15.6,null,"CR"]
["SINAPI-I 10542","SINAPI-I",10542,"CALHA/CANALETA DE CONCRETO SIMPLES, TIPO MEIA CANA, DIAMETRO DE 40 CM, PARA AGUA PLUVIAL","M",20.399999999999999,20.399999999999999,null,"CR"]
["SINAPI-I 10543","SINAPI-I",10543,"CALHA/CANALETA DE CONCRETO SIMPLES, TIPO MEIA CANA, DIAMETRO DE 50 CM, PARA AGUA PLUVIAL","M",33.1,33.1,null,"CR"]
["SINAPI-I 10544","SINAPI-I",10544,"CALHA/CANALETA DE CONCRETO SIMPLES, TIPO MEIA CANA, DIAMETRO DE 60 CM, PARA AGUA PLUVIAL","M",42.82,42.82,null,"CR"]
["SINAPI-I 10545","SINAPI-I",10545,"CALHA/CANALETA DE CONCRETO SIMPLES, TIPO MEIA CANA, DIAMETRO DE 80 CM, PARA AGUA PLUVIAL","M",80.02,80.02,null,"CR"]
["SINAPI-I 38365","SINAPI-I",38365,"CAMADA SEPARADORA DE FILME DE POLIETILENO 20 A 25 MICRA","M2",2.4300000000000002,2.4300000000000002,null,"CR"]
[{"$f":"CONCATENATE($B1089,\" \",$C1089)","v":"SINAPI-I 44056"},"SINAPI-I",44056,"CAMINHAO TOCO, PESO BRUTO TOTAL 10700 KG, CARGA UTIL MAXIMA 7400 KG, DISTANCIA ENTRE EIXOS 4,00 M, POTENCIA 175 CV (INCLUI CABINE E CHASSI, NAO INCLUI CARROCERIA)","UN"]
["SINAPI-I 44057","SINAPI-I",44057,"CAMINHAO TOCO, PESO BRUTO TOTAL 13200 KG, CARGA UTIL MAXIMA 9200 KG, DISTANCIA ENTRE EIXOS 3,31 M, POTENCIA 175 CV (INCLUI CABINE E CHASSI, NAO INCLUI CARROCERIA)","UN"]
["SINAPI-I 37754","SINAPI-I",37754,"CAMINHAO TOCO, PESO BRUTO TOTAL 14300 KG, CARGA UTIL MAXIMA 9480 KG, DISTANCIA ENTRE EIXOS 4,80 M, POTENCIA 185 CV (INCLUI CABINE E CHASSI, NAO INCLUI CARROCERIA)","UN"]
["SINAPI-I 37757","SINAPI-I",37757,"CAMINHAO TOCO, PESO BRUTO TOTAL 16000 KG, CARGA UTIL MAXIMA 10600 KG, DISTANCIA ENTRE EIXOS 4,80 M, POTENCIA 277 CV (INCLUI CABINE E CHASSI, NAO INCLUI CARROCERIA)","UN"]
["SINAPI-I 44058","SINAPI-I",44058,"CAMINHAO TOCO, PESO BRUTO TOTAL 16000 KG, CARGA UTIL MAXIMA 10830 KG, DISTANCIA ENTRE EIXOS 3,56 M, POTENCIA 226 CV (INCLUI CABINE E CHASSI, NAO INCLUI CARROCERIA)","UN"]
["SINAPI-I 37752","SINAPI-I",37752,"CAMINHAO TOCO, PESO BRUTO TOTAL 16000 KG, CARGA UTIL MAXIMA 11030 KG, DISTANCIA ENTRE EIXOS 5,41 M, POTENCIA 185 CV (INCLUI CABINE E CHASSI, NAO INCLUI CARROCERIA)","UN"]
["SINAPI-I 44059","SINAPI-I",44059,"CAMINHAO TOCO, PESO BRUTO TOTAL 8500 KG, CARGA UTIL MAXIMA 5600 KG, DISTANCIA ENTRE EIXOS 3,40 M, POTENCIA 167 CV (INCLUI CABINE E CHASSI, NAO INCLUI CARROCERIA)","UN"]
["SINAPI-I 37750","SINAPI-I",37750,"CAMINHAO TOCO, PESO BRUTO TOTAL 9600 KG, CARGA UTIL MAXIMA 6190 KG, DISTANCIA ENTRE EIXOS 3,70 M, POTENCIA 156 CV (INCLUI CABINE E CHASSI, NAO INCLUI CARROCERIA)","UN"]
["SINAPI-I 37758","SINAPI-I",37758,"CAMINHAO TRUCADO, PESO BRUTO TOTAL 23000 KG, CARGA UTIL MAXIMA 15285 KG, DISTANCIA ENTRE EIXOS 4,80 M, POTENCIA 326 CV (INCLUI CABINE E CHASSI, NAO INCLUI CARROCERIA)","UN"]
["SINAPI-I 44060","SINAPI-I",44060,"CAMINHAO TRUCADO, PESO BRUTO TOTAL 23000 KG, CARGA UTIL MAXIMA 15460 KG, DISTANCIA ENTRE EIXOS 4,80 M, POTENCIA 286 CV (INCLUI CABINE E CHASSI, NAO INCLUI CARROCERIA)","UN"]
["SINAPI-I 37749","SINAPI-I",37749,"CAMINHAO TRUCADO, PESO BRUTO TOTAL 23000 KG, CARGA UTIL MAXIMA 16360 KG, CABINE ESTENDIDA, DISTANCIA ENTRE EIXOS 3,56 M, POTENCIA 277 CV (INCLUI CABINE E CHASSI, NAO INCLUI CARROCERIA)","UN"]
["SINAPI-I 44061","SINAPI-I",44061,"CAMINHAO TRUCADO, PESO BRUTO TOTAL 23000 KG, CARGA UTIL MAXIMA 16540 KG, DISTANCIA ENTRE EIXOS 4,80 M, POTENCIA 256 CV (INCLUI CABINE E CHASSI, NAO INCLUI CARROCERIA)","UN"]
["SINAPI-I 1159","SINAPI-I",1159,"CAMINHONETE COM MOTOR A DIESEL, POTENCIA *160* CV, CABINE DUPLA, 4X4","UN",269325,269325,null,"C"]
["SINAPI-I 12114","SINAPI-I",12114,"CAMPAINHA ALTA POTENCIA 110V / 220V, DIAMETRO 150 MM","UN",145.54,145.54,null,"CR"]
["SINAPI-I 38106","SINAPI-I",38106,"CAMPAINHA CIGARRA 127 V / 220 V (APENAS MODULO)","UN",19.78,19.78,null,"CR"]
["SINAPI-I 38085","SINAPI-I",38085,"CAMPAINHA CIGARRA 127 V / 220 V, CONJUNTO MONTADO PARA EMBUTIR 4\" X 2\" (PLACA + SUPORTE + MODULO)","UN",23.36,23.36,null,"CR"]
["SINAPI-I 659","SINAPI-I",659,"CANALETA DE CONCRETO 14 X 19 X 19 CM (CLASSE C - NBR 6136)","UN",2.4900000000000002,2.4900000000000002,null,"CR"]
["SINAPI-I 660","SINAPI-I",660,"CANALETA DE CONCRETO 19 X 19 X 19 CM (CLASSE C - NBR 6136)","UN",2.99,2.99,null,"CR"]
["SINAPI-I 658","SINAPI-I",658,"CANALETA DE CONCRETO 9 X 19 X 19 CM (CLASSE C - NBR 6136)","UN",1.68,1.68,null,"CR"]
["SINAPI-I 38599","SINAPI-I",38599,"CANALETA DE CONCRETO ESTRUTURAL 14 X 19 X 29 CM, FBK 14 MPA (NBR 6136)","UN",5.19,5.19,null,"CR"]
["SINAPI-I 38596","SINAPI-I",38596,"CANALETA DE CONCRETO ESTRUTURAL 14 X 19 X 29 CM, FBK 4,5 MPA (NBR 6136)","UN",4.3099999999999996,4.3099999999999996,null,"CR"]
["SINAPI-I 38600","SINAPI-I",38600,"CANALETA DE CONCRETO ESTRUTURAL 14 X 19 X 39 CM, FBK 14 MPA (NBR 6136)","UN",5.51,5.51,null,"CR"]
["SINAPI-I 38597","SINAPI-I",38597,"CANALETA DE CONCRETO ESTRUTURAL 14 X 19 X 39 CM, FBK 4,5 MPA (NBR 6136)","UN",4.34,4.34,null,"CR"]
["SINAPI-I 38548","SINAPI-I",38548,"CANALETA ESTRUTURAL CERAMICA DE 14 X 19 X 19 CM (L X A X C) E 6,0 MPA","UN",1.79,1.79,null,"CR"]
["SINAPI-I 34649","SINAPI-I",34649,"CANALETA ESTRUTURAL CERAMICA DE 14 X 19 X 29 CM (L X A X C) E 6,0 MPA","UN",2.63,2.63,null,"CR"]
["SINAPI-I 34655","SINAPI-I",34655,"CANALETA ESTRUTURAL CERAMICA DE 14 X 19 X 39 CM (L X A X C) E 6,0 MPA","UN",3.86,3.86,null,"CR"]
["SINAPI-I 40607","SINAPI-I",40607,"CANOPLA ACABAMENTO CROMADO PARA INSTALACAO DE SPRINKLER, SOB FORRO, 15 MM","UN",9.8000000000000007,9.8000000000000007,null,"CR"]
["SINAPI-I 567","SINAPI-I",567,"CANTONEIRA (ABAS IGUAIS) EM ACO CARBONO, 25,4 MM X 3,17 MM (L X E), 1,27KG/M","M",12.34,12.34,null,"CR"]
["SINAPI-I 574","SINAPI-I",574,"CANTONEIRA (ABAS IGUAIS) EM ACO CARBONO, 38,1 MM X 3,17 MM (L X E), 3,48 KG/M","M",32.44,32.44,null,"CR"]
["SINAPI-I 568","SINAPI-I",568,"CANTONEIRA (ABAS IGUAIS) EM ACO CARBONO, 50,8 MM X 9,53 MM (L X E), 6,99 KG/M","M",68.349999999999994,68.349999999999994,null,"CR"]
["SINAPI-I 4777","SINAPI-I",4777,"CANTONEIRA ACO ABAS IGUAIS (QUALQUER BITOLA), ESPESSURA ENTRE 1/8\" E 1/4\"","KG"]
["SINAPI-I 592","SINAPI-I",592,"CANTONEIRA EM ALUMINIO, ABAS IGUAIS, LARGURA DE 25,40 MM (1\"), ESPESSURA DE 3,17 MM (1/8\") E PESO LINEAR DE APROXIMADAMENTE 0,408 KG/M","KG",48.22,48.22,null,"C"]
["SINAPI-I 586","SINAPI-I",586,"CANTONEIRA EM ALUMINIO, ABAS IGUAIS, LARGURA DE 25,40 MM (1\"), ESPESSURA DE 4,76 MM (3/16\") E PESO LINEAR DE APROXIMADAMENTE 0,593 KG/M","M",28.35,28.35,null,"CR"]
["SINAPI-I 588","SINAPI-I",588,"CANTONEIRA EM ALUMINIO, ABAS IGUAIS, LARGURA DE 31,75 MM (1 1/4\"), ESPESSURA DE 4,76 MM (3/16\") E PESO LINEAR DE APROXIMADAMENTE 0,755 KG/M","M",44.84,44.84,null,"CR"]
["SINAPI-I 591","SINAPI-I",591,"CANTONEIRA EM ALUMINIO, ABAS IGUAIS, LARGURA DE 38,10 MM (1 1/2\"), ESPESSURA DE 4,76 MM (3/16\") E PESO LINEAR DE APROXIMADAMENTE 0,915 KG/M","KG",45,45,null,"CR"]
["SINAPI-I 584","SINAPI-I",584,"CANTONEIRA EM ALUMINIO, ABAS IGUAIS, LARGURA DE 50,80 MM (2\"), ESPESSURA DE 3,17 MM (1/8\") E PESO LINEAR DE APROXIMADAMENTE 0,842 KG/M","M",47.89,47.89,null,"CR"]
["SINAPI-I 589","SINAPI-I",589,"CANTONEIRA EM ALUMINIO, ABAS IGUAIS, LARGURA DE 50,80 MM (2\"), ESPESSURA DE 6,35 MM (1/4\") E PESO LINEAR DE APROXIMADAMENTE 1,630 KG/M","M",75.8,75.8,null,"CR"]
["SINAPI-I 1165","SINAPI-I",1165,"CAP OU TAMPAO DE FERRO GALVANIZADO, COM ROSCA BSP, DE 1 1/2\"","UN"]
["SINAPI-I 1164","SINAPI-I",1164,"CAP OU TAMPAO DE FERRO GALVANIZADO, COM ROSCA BSP, DE 1 1/4\"","UN"]
["SINAPI-I 1170","SINAPI-I",1170,"CAP OU TAMPAO DE FERRO GALVANIZADO, COM ROSCA BSP, DE 1\"","UN"]
["SINAPI-I 1162","SINAPI-I",1162,"CAP OU TAMPAO DE FERRO GALVANIZADO, COM ROSCA BSP, DE 1/2\"","UN"]
["SINAPI-I 12395","SINAPI-I",12395,"CAP OU TAMPAO DE FERRO GALVANIZADO, COM ROSCA BSP, DE 1/4\"","UN"]
["SINAPI-I 1169","SINAPI-I",1169,"CAP OU TAMPAO DE FERRO GALVANIZADO, COM ROSCA BSP, DE 2 1/2\"","UN"]
["SINAPI-I 1166","SINAPI-I",1166,"CAP OU TAMPAO DE FERRO GALVANIZADO, COM ROSCA BSP, DE 2\"","UN"]
["SINAPI-I 1168","SINAPI-I",1168,"CAP OU TAMPAO DE FERRO GALVANIZADO, COM ROSCA BSP, DE 3\"","UN"]
["SINAPI-I 1163","SINAPI-I",1163,"CAP OU TAMPAO DE FERRO GALVANIZADO, COM ROSCA BSP, DE 3/4\"","UN"]
["SINAPI-I 12396","SINAPI-I",12396,"CAP OU TAMPAO DE FERRO GALVANIZADO, COM ROSCA BSP, DE 3/8\"","UN"]
["SINAPI-I 1167","SINAPI-I",1167,"CAP OU TAMPAO DE FERRO GALVANIZADO, COM ROSCA BSP, DE 4\"","UN"]
["SINAPI-I 36331","SINAPI-I",36331,"CAP PPR DN 20 MM, PARA AGUA QUENTE PREDIAL","UN",2.99,2.99,null,"CR"]
["SINAPI-I 36346","SINAPI-I",36346,"CAP PPR DN 25 MM, PARA AGUA QUENTE PREDIAL","UN",4.4800000000000004,4.4800000000000004,null,"CR"]
["SINAPI-I 1202","SINAPI-I",1202,"CAP PVC, ROSCAVEL, 1\", PARA AGUA FRIA PREDIAL","UN",4.6100000000000003,4.6100000000000003,null,"CR"]
["SINAPI-I 1197","SINAPI-I",1197,"CAP PVC, ROSCAVEL, 1/2\", PARA AGUA FRIA PREDIAL","UN",1.62,1.62,null,"CR"]
["SINAPI-I 1198","SINAPI-I",1198,"CAP PVC, ROSCAVEL, 3/4\", PARA AGUA FRIA PREDIAL","UN",2.13,2.13,null,"CR"]
["SINAPI-I 20088","SINAPI-I",20088,"CAP PVC, SERIE R, DN 100 MM, PARA ESGOTO PREDIAL","UN",12.39,12.39,null,"CR"]
["SINAPI-I 20089","SINAPI-I",20089,"CAP PVC, SERIE R, DN 150 MM, PARA ESGOTO PREDIAL","UN",60.72,60.72,null,"CR"]
["SINAPI-I 20087","SINAPI-I",20087,"CAP PVC, SERIE R, DN 75 MM, PARA ESGOTO PREDIAL","UN",10.25,10.25,null,"CR"]
["SINAPI-I 1191","SINAPI-I",1191,"CAP PVC, SOLDAVEL, 20 MM, PARA AGUA FRIA PREDIAL","UN",1.1599999999999999,1.1599999999999999,null,"CR"]
["SINAPI-I 1185","SINAPI-I",1185,"CAP PVC, SOLDAVEL, 25 MM, PARA AGUA FRIA PREDIAL","UN",1.1599999999999999,1.1599999999999999,null,"CR"]
["SINAPI-I 1189","SINAPI-I",1189,"CAP PVC, SOLDAVEL, 32 MM, PARA AGUA FRIA PREDIAL","UN",1.89,1.89,null,"CR"]
["SINAPI-I 1193","SINAPI-I",1193,"CAP PVC, SOLDAVEL, 40 MM, PARA AGUA FRIA PREDIAL","UN",3.64,3.64,null,"CR"]
["SINAPI-I 1194","SINAPI-I",1194,"CAP PVC, SOLDAVEL, 50 MM, PARA AGUA FRIA PREDIAL","UN",6.58,6.58,null,"CR"]
["SINAPI-I 1195","SINAPI-I",1195,"CAP PVC, SOLDAVEL, 60 MM, PARA AGUA FRIA PREDIAL","UN",11.07,11.07,null,"CR"]
["SINAPI-I 1204","SINAPI-I",1204,"CAP PVC, SOLDAVEL, 75 MM, PARA AGUA FRIA PREDIAL","UN",19.36,19.36,null,"CR"]
["SINAPI-I 1200","SINAPI-I",1200,"CAP PVC, SOLDAVEL, DN 100 MM, SERIE NORMAL, PARA ESGOTO PREDIAL","UN",9.31,9.31,null,"CR"]
[{"$f":"CONCATENATE($B1153,\" \",$C1153)","v":"SINAPI-I 12909"},"SINAPI-I",12909,"CAP PVC, SOLDAVEL, DN 50 MM, SERIE NORMAL, PARA ESGOTO PREDIAL","UN",4.32,4.32,null,"CR"]
["SINAPI-I 12910","SINAPI-I",12910,"CAP PVC, SOLDAVEL, DN 75 MM, SERIE NORMAL, PARA ESGOTO PREDIAL","UN",7.76,7.76,null,"CR"]
["SINAPI-I 1207","SINAPI-I",1207,"CAP, PVC PBA, JE, DN 100 / DE 110 MM, PARA REDE DE AGUA (NBR 10351)","UN"]
["SINAPI-I 1206","SINAPI-I",1206,"CAP, PVC PBA, JE, DN 50 / DE 60 MM, PARA REDE DE AGUA (NBR 10351)","UN"]
["SINAPI-I 1183","SINAPI-I",1183,"CAP, PVC PBA, JE, DN 75 / DE 85 MM, PARA REDE DE AGUA (NBR 10351)","UN"]
["SINAPI-I 42685","SINAPI-I",42685,"CAP, PVC, JE, OCRE, DN 150 MM (CONEXAO PARA TUBO COLETOR DE ESGOTO)","UN",62.93,62.93,null,"CR"]
["SINAPI-I 42686","SINAPI-I",42686,"CAP, PVC, JE, OCRE, DN 200 MM (CONEXAO PARA TUBO COLETOR DE ESGOTO)","UN",69.31,69.31,null,"CR"]
["SINAPI-I 12894","SINAPI-I",12894,"CAPA PARA CHUVA EM PVC COM FORRO DE POLIESTER, COM CAPUZ (AMARELA OU AZUL)","UN",23.68,23.68,null,"CR"]
["SINAPI-I 12895","SINAPI-I",12895,"CAPACETE DE SEGURANCA ABA FRONTAL COM SUSPENSAO DE POLIETILENO, SEM JUGULAR (CLASSE B)","UN",15.9,15.9,null,"C"]
["SINAPI-I 1631","SINAPI-I",1631,"CAPACITOR TRIFASICO, POTENCIA 2,5 KVAR, TENSAO 220 V, FORNECIDO COM CAPA PROTETORA, RESISTOR INTERNO A UNIDADE CAPACITIVA","UN"]
["SINAPI-I 1633","SINAPI-I",1633,"CAPACITOR TRIFASICO, POTENCIA 5 KVAR, TENSAO 220 V, FORNECIDO COM CAPA PROTETORA, RESISTOR INTERNO A UNIDADE CAPACITIVA","UN"]
["SINAPI-I 10818","SINAPI-I",10818,"CAPIM BRAQUIARIA DECUMBENS/ BRAQUIARINHA, VC *70*% MINIMO","KG",32.85,32.85,null,"CR"]
["SINAPI-I 41410","SINAPI-I",41410,"CAPTOR FRANKLIN (4 PONTAS), EM LATAO CROMADO, H = 300 MM, DUAS DESCIDAS","UN"]
["SINAPI-I 41411","SINAPI-I",41411,"CAPTOR FRANKLIN (4 PONTAS), EM LATAO CROMADO, H = 300 MM, UMA DESCIDA","UN"]
["SINAPI-I 41412","SINAPI-I",41412,"CAPTOR FRANKLIN (4 PONTAS), EM LATAO CROMADO, H = 350 MM, DUAS DESCIDAS","UN"]
["SINAPI-I 41413","SINAPI-I",41413,"CAPTOR FRANKLIN (4 PONTAS), EM LATAO CROMADO, H=350 MM, UMA DESCIDA","UN"]
["SINAPI-I 39359","SINAPI-I",39359,"CARENAGEM /TAMPA, EM PLASTICO, COR BRANCA, UTILIZADO EM KIT CHASSI METALICO PARA INSTAL. HIDRAULICA DE CUBA SIMPLES SEM MAQUINA DE LAVAR ROUPA, *355* X *670* MM (L X H) (COM FUROS E DEMAIS ENCAIXES)","UN"]
["SINAPI-I 39360","SINAPI-I",39360,"CARENAGEM /TAMPA, EM PLASTICO, COR BRANCA, UTILIZADO EM KIT CHASSI METALICO PARA INSTAL. HIDRAULICA DE TANQUE COM MAQUINA DE LAVAR ROUPA, *360* X *470* MM (L X H) (COM FUROS E DEMAIS ENCAIXES)","UN"]
["SINAPI-I 10710","SINAPI-I",10710,"CARPETE DE NYLON EM MANTA PARA TRAFEGO COMERCIAL PESADO, E = 6 A 7 MM (INSTALADO)","M2",220,220,null,"C"]
["SINAPI-I 10709","SINAPI-I",10709,"CARPETE DE NYLON EM MANTA PARA TRAFEGO COMERCIAL PESADO, E = 9 A 10 MM (INSTALADO)","M2",270.27999999999997,270.27999999999997,null,"CR"]
["SINAPI-I 39636","SINAPI-I",39636,"CARPETE DE NYLON EM PLACAS 50 X 50 CM PARA TRAFEGO COMERCIAL PESADO, E = 6,5 MM (INSTALADO)","M2",276,276,null,"CR"]
["SINAPI-I 10708","SINAPI-I",10708,"CARPETE DE POLIESTER EM MANTA PARA TRAFEGO COMERCIAL PESADO, E = 4 A 5 MM (INSTALADO)","M2",85.17,85.17,null,"CR"]
["SINAPI-I 39635","SINAPI-I",39635,"CARPETE DE POLIPROPILENO EM MANTA PARA TRAFEGO COMERCIAL MEDIO, E = 5 A 6 MM (INSTALADO)","M2",144.99,144.99,null,"CR"]
["SINAPI-I 6117","SINAPI-I",6117,"CARPINTEIRO AUXILIAR (HORISTA)","H",18.53,20.72,null,"CR"]
["SINAPI-I 40913","SINAPI-I",40913,"CARPINTEIRO AUXILIAR (MENSALISTA)","MES",3251.67,3637.57,null,"CR"]
["SINAPI-I 1214","SINAPI-I",1214,"CARPINTEIRO DE ESQUADRIAS (HORISTA)","H",22.78,25.48,null,"CR"]
["SINAPI-I 40915","SINAPI-I",40915,"CARPINTEIRO DE ESQUADRIAS (MENSALISTA)","MES",3996.26,4470.5200000000004,null,"CR"]
["SINAPI-I 40914","SINAPI-I",40914,"CARPINTEIRO DE FORMAS OU OFICIAL (MENSALISTA)","MES",4243.8900000000003,4747.54,null,"CR"]
["SINAPI-I 1213","SINAPI-I",1213,"CARPINTEIRO DE FORMAS PARA CONCRETO (HORISTA)","H",24.2,27.06,null,"C"]
["SINAPI-I 5091","SINAPI-I",5091,"CARRANCA PARA JANELA VENEZIANA DE ABRIR, EM LATAO CROMADO, SIMPLES, PARA APARAFUSAR NA PAREDE","UN",19.07,19.07,null,"CR"]
["SINAPI-I 14615","SINAPI-I",14615,"CARRINHO COM 2 PNEUS PARA TRANSPORTAR TUBO CONCRETO, ALTURA ATE 1,0 M E DIAMETRO ATE 1000MM, COM ESTRUTURA EM PERFIL OU TUBO METALICO","UN",3057.8,3057.8,null,"CR"]
["SINAPI-I 2711","SINAPI-I",2711,"CARRINHO DE MAO, EM ACO, COM CAPACIDADE DE *45 A 65* L / *100* KG, PNEU COM CAMARA","UN",149.9,149.9,null,"C"]
["SINAPI-I 37727","SINAPI-I",37727,"CARROCERIA FIXA ABERTA DE MADEIRA PARA TRANSPORTE GERAL DE CARGA SECA DIMENSOES APROXIMADAS 2,25 X 4,10 X 0,50 M (INCLUI MONTAGEM, NAO INCLUI CAMINHAO)","UN",17000,17000,null,"C"]
["SINAPI-I 37728","SINAPI-I",37728,"CARROCERIA FIXA ABERTA DE MADEIRA PARA TRANSPORTE GERAL DE CARGA SECA DIMENSOES APROXIMADAS 2,5 X 5,5 X 0,50 M (INCLUI MONTAGEM, NAO INCLUI CAMINHAO)","UN",23062.93,23062.93,null,"CR"]
["SINAPI-I 37729","SINAPI-I",37729,"CARROCERIA FIXA ABERTA DE MADEIRA PARA TRANSPORTE GERAL DE CARGA SECA DIMENSOES APROXIMADAS 2,5 X 6,00 X 0,50 M (INCLUI MONTAGEM, NAO INCLUI CAMINHAO)","UN",24965.03,24965.03,null,"CR"]
["SINAPI-I 37730","SINAPI-I",37730,"CARROCERIA FIXA ABERTA DE MADEIRA PARA TRANSPORTE GERAL DE CARGA SECA DIMENSOES APROXIMADAS 2,5 X 6,5 X 0,50 M (INCLUI MONTAGEM, NAO INCLUI CAMINHAO)","UN",26867.13,26867.13,null,"CR"]
["SINAPI-I 37731","SINAPI-I",37731,"CARROCERIA FIXA ABERTA DE MADEIRA PARA TRANSPORTE GERAL DE CARGA SECA DIMENSOES APROXIMADAS 2,5 X 7,00 X 0,50 M (INCLUI MONTAGEM, NAO INCLUI CAMINHAO)","UN",28769.23,28769.23,null,"CR"]
["SINAPI-I 37732","SINAPI-I",37732,"CARROCERIA FIXA ABERTA DE MADEIRA PARA TRANSPORTE GERAL DE CARGA SECA DIMENSOES APROXIMADAS 2,5 X 7,5 X 0,50 M (INCLUI MONTAGEM, NAO INCLUI CAMINHAO)","UN",32811.18,32811.18,null,"CR"]
["SINAPI-I 45194","SINAPI-I",45194,"CAVALETE DE FERRO DOBRAVEL, ALTURA 80 CM","UN",140.6,140.6,null,"CR"]
["SINAPI-I 36496","SINAPI-I",36496,"CAVALETE PARA TALHA COM ESTRUTURA EM TUBO METALICO ALTURA MINIMA 3,2 M EQUIPADO COM RODAS DE BORRACHA PARA MOVIMENTACAO DE TUBOS DE CONCRETO NA CENTRAL DE PREMOLDADOS COM CAPACIDADE DE CARGA DE 3 TONELADAS","UN",7763.71,7763.71,null,"CR"]
["SINAPI-I 37762","SINAPI-I",37762,"CAVALO MECANICO TRACAO 4X2, PESO BRUTO TOTAL 16000 KG, CAPACIDADE MAXIMA DE TRACAO *36000* KG, DISTANCIA ENTRE EIXOS *3,56* M, POTENCIA *286* CV (INCLUI CABINE E CHASSI, NAO INCLUI SEMIRREBOQUE)","UN",708321.63,708321.63,null,"CR"]
["SINAPI-I 37763","SINAPI-I",37763,"CAVALO MECANICO TRACAO 4X2, PESO BRUTO TOTAL 16000 KG, CAPACIDADE MAXIMA DE TRACAO *45000* KG, DISTANCIA ENTRE EIXOS *3,56* M, POTENCIA *330* CV (INCLUI CABINE E CHASSI, NAO INCLUI SEMIRREBOQUE)","UN",716924.61,716924.61,null,"CR"]
["SINAPI-I 41992","SINAPI-I",41992,"CAVALO MECANICO TRACAO 4X2, PESO BRUTO TOTAL 16000 KG, CAPACIDADE MAXIMA DE TRACAO *80000* KG, POTENCIA *380* CV (INCLUI CABINE E CHASSI, NAO INCLUI SEMIRREBOQUE)","UN",815000,815000,null,"C"]
["SINAPI-I 10630","SINAPI-I",10630,"CAVALO MECANICO TRACAO 4X2, PESO BRUTO TOTAL COMBINADO 49000 KG, CAPACIDADE MAXIMA DE TRACAO *66000* KG, POTENCIA *360* CV (INCLUI CABINE E CHASSI, NAO INCLUI SEMIRREBOQUE)","UN",825897.12,825897.12,null,"CR"]
["SINAPI-I 13215","SINAPI-I",13215,"CAVALO MECANICO TRACAO 6X2, PESO BRUTO TOTAL COMBINADO 56000 KG, CAPACIDADE MAXIMA DE TRACAO *66000* KG, POTENCIA *360* CV (INCLUI CABINE E CHASSI, NAO INCLUI SEMIRREBOQUE)","UN",999392.93,999392.93,null,"CR"]
["SINAPI-I 4235","SINAPI-I",4235,"CAVOUQUEIRO OU OPERADOR DE PERFURATRIZ / ROMPEDOR (HORISTA)","H",19.260000000000002,21.55,null,"CR"]
["SINAPI-I 40976","SINAPI-I",40976,"CAVOUQUEIRO OU OPERADOR DE PERFURATRIZ / ROMPEDOR (MENSALISTA)","MES",3379.07,3780.09,null,"CR"]
["SINAPI-I 43091","SINAPI-I",43091,"CENTRO DE MEDICAO AGRUPADA, EM POLICARBONATO / PVC, COM 12 MEDIDORES E PROTECAO GERAL (INCLUI BARRAMENTO, DISJUNTORES E ACESSORIOS DE FIXACAO) (PADRAO CONCESSIONARIA LOCAL)","UN",10692.2,10692.2,null,"CR"]
["SINAPI-I 43092","SINAPI-I",43092,"CENTRO DE MEDICAO AGRUPADA, EM POLICARBONATO / PVC, COM 16 MEDIDORES E PROTECAO GERAL (INCLUI BARRAMENTO, DISJUNTORES E ACESSORIOS DE FIXACAO) (PADRAO CONCESSIONARIA LOCAL)","UN",14256.27,14256.27,null,"CR"]
["SINAPI-I 43089","SINAPI-I",43089,"CENTRO DE MEDICAO AGRUPADA, EM POLICARBONATO / PVC, COM 4 MEDIDORES E PROTECAO GERAL (INCLUI BARRAMENTO, DISJUNTORES E ACESSORIOS DE FIXACAO) (PADRAO CONCESSIONARIA LOCAL)","UN",2484.56,2484.56,null,"CR"]
["SINAPI-I 43090","SINAPI-I",43090,"CENTRO DE MEDICAO AGRUPADA, EM POLICARBONATO / PVC, COM 8 MEDIDORES E PROTECAO GERAL (INCLUI BARRAMENTO, DISJUNTORES E ACESSORIOS DE FIXACAO) (PADRAO CONCESSIONARIA LOCAL)","UN",5483.18,5483.18,null,"CR"]
["SINAPI-I 41967","SINAPI-I",41967,"CERA LIQUIDA INCOLOR MULTIPISO","L",22.1,22.1,null,"CR"]
["SINAPI-I 12760","SINAPI-I",12760,"CHAPA ACO INOX AISI 304 NUMERO 4 (E = 6 MM), ACABAMENTO NUMERO 1 (LAMINADO A QUENTE, FOSCO)","M2",1743.91,1743.91,null,"CR"]
["SINAPI-I 12759","SINAPI-I",12759,"CHAPA ACO INOX AISI 304 NUMERO 9 (E = 4 MM), ACABAMENTO NUMERO 1 (LAMINADO A QUENTE, FOSCO)","M2",1162.5899999999999,1162.5899999999999,null,"CR"]
["SINAPI-I 43105","SINAPI-I",43105,"CHAPA DE ACO CARBONO GALVANIZADA, PERFURADA (GRADE FUROS) E = 1,5 MM, DIAMETRO DO FURO = 9,52 MM (FUROS ALTERNADOS HORIZ.)","KG"]
["SINAPI-I 40424","SINAPI-I",40424,"CHAPA DE ACO CARBONO LAMINADO A QUENTE, QUALIDADE ESTRUTURAL, BITOLA 3/16\", E =4,75 MM (37,29 KG/M2)","KG"]
["SINAPI-I 1325","SINAPI-I",1325,"CHAPA DE ACO FINA A FRIO BITOLA MSG 20, E = 0,90 MM (7,20 KG/M2)","KG"]
["SINAPI-I 1327","SINAPI-I",1327,"CHAPA DE ACO FINA A FRIO BITOLA MSG 24, E = 0,60 MM (4,80 KG/M2)","KG"]
["SINAPI-I 1328","SINAPI-I",1328,"CHAPA DE ACO FINA A FRIO BITOLA MSG 26, E = 0,45 MM (3,60 KG/M2)","KG"]
["SINAPI-I 1321","SINAPI-I",1321,"CHAPA DE ACO FINA A QUENTE BITOLA MSG 13, E = 2,25 MM (18,00 KG/M2)","KG"]
["SINAPI-I 1318","SINAPI-I",1318,"CHAPA DE ACO FINA A QUENTE BITOLA MSG 14, E = 2,00 MM (16,0 KG/M2)","KG"]
["SINAPI-I 1322","SINAPI-I",1322,"CHAPA DE ACO FINA A QUENTE BITOLA MSG 16, E = 1,50 MM (12,00 KG/M2)","KG"]
["SINAPI-I 1323","SINAPI-I",1323,"CHAPA DE ACO FINA A QUENTE BITOLA MSG 18, E = 1,20 MM (9,60 KG/M2)","KG"]
["SINAPI-I 1319","SINAPI-I",1319,"CHAPA DE ACO FINA A QUENTE BITOLA MSG 3/16\", E = 4,75 MM (38,00 KG/M2)","KG"]
[{"$f":"CONCATENATE($B1217,\" \",$C1217)","v":"SINAPI-I 11026"},"SINAPI-I",11026,"CHAPA DE ACO GALVANIZADA BITOLA GSG 14, E = 1,95 MM (15,60 KG/M2)","KG"]
["SINAPI-I 11027","SINAPI-I",11027,"CHAPA DE ACO GALVANIZADA BITOLA GSG 16, E = 1,55 MM (12,40 KG/M2)","KG"]
["SINAPI-I 11046","SINAPI-I",11046,"CHAPA DE ACO GALVANIZADA BITOLA GSG 18, E = 1,25 MM (10,00 KG/M2)","KG"]
["SINAPI-I 11047","SINAPI-I",11047,"CHAPA DE ACO GALVANIZADA BITOLA GSG 19, E = 1,11 MM (8,88 KG/M2)","KG"]
["SINAPI-I 43668","SINAPI-I",43668,"CHAPA DE ACO GALVANIZADA BITOLA GSG 20, E = 0,95 MM (7,60 KG/M2)","KG"]
["SINAPI-I 11049","SINAPI-I",11049,"CHAPA DE ACO GALVANIZADA BITOLA GSG 22, E = 0,80 MM (6,40 KG/M2)","KG"]
["SINAPI-I 43106","SINAPI-I",43106,"CHAPA DE ACO GALVANIZADA BITOLA GSG 24, E = 0,64 (5,12 KG/M2)","KG"]
["SINAPI-I 11051","SINAPI-I",11051,"CHAPA DE ACO GALVANIZADA BITOLA GSG 26, E = 0,50 MM (4,00 KG/M2)","KG"]
["SINAPI-I 11061","SINAPI-I",11061,"CHAPA DE ACO GALVANIZADA BITOLA GSG 30, E = 0,35 MM (2,80 KG/M2)","KG"]
["SINAPI-I 43667","SINAPI-I",43667,"CHAPA DE ACO GROSSA, ASTM A36, E = 1\" (25,40 MM) 199,18 KG/M2","KG"]
["SINAPI-I 1333","SINAPI-I",1333,"CHAPA DE ACO GROSSA, ASTM A36, E = 1/2\" (12,70 MM) 99,59 KG/M2","KG"]
["SINAPI-I 1330","SINAPI-I",1330,"CHAPA DE ACO GROSSA, ASTM A36, E = 1/4\" (6,35 MM) 49,79 KG/M2","KG"]
["SINAPI-I 10957","SINAPI-I",10957,"CHAPA DE ACO GROSSA, ASTM A36, E = 3/4\" (19,05 MM) 149,39 KG/M2","KG"]
["SINAPI-I 1332","SINAPI-I",1332,"CHAPA DE ACO GROSSA, ASTM A36, E = 3/8\" (9,53 MM) 74,69 KG/M2","KG"]
["SINAPI-I 1334","SINAPI-I",1334,"CHAPA DE ACO GROSSA, ASTM A36, E = 5/8\" (15,88 MM) 124,49 KG/M2","KG"]
["SINAPI-I 1335","SINAPI-I",1335,"CHAPA DE ACO GROSSA, ASTM A36, E = 7/8\" (22,23 MM) 174,28 KG/M2","KG"]
["SINAPI-I 40425","SINAPI-I",40425,"CHAPA DE ACO GROSSA, SAE 1020, BITOLA 1/4\", E = 6,35 MM (49,85 KG/M2)","KG"]
["SINAPI-I 1337","SINAPI-I",1337,"CHAPA DE ACO XADREZ PARA PISOS, E = 1/4\" (6,30 MM) 54,53 KG/M2","KG"]
["SINAPI-I 1338","SINAPI-I",1338,"CHAPA DE LAMINADO MELAMINICO, LISO BRILHANTE, DE 1,25 X 3,08 METROS, ESPESSURA = 0,8 MILIMETROS","M2"]
["SINAPI-I 1340","SINAPI-I",1340,"CHAPA DE LAMINADO MELAMINICO, LISO FOSCO, DE 1,25 X 3,08 METROS, ESPESSURA = 0,8 MILIMETROS","M2"]
["SINAPI-I 1341","SINAPI-I",1341,"CHAPA DE LAMINADO MELAMINICO, TEXTURIZADO, DE 1,25 X 3,08 METROS, ESPESSURA = 0,8 MILIMETROS","M2"]
["SINAPI-I 34659","SINAPI-I",34659,"CHAPA DE MDF BRANCO LISO 1 FACE, E = 12 MM, DE *2,75 X 1,85* M","M2"]
["SINAPI-I 34514","SINAPI-I",34514,"CHAPA DE MDF BRANCO LISO 1 FACE, E = 15 MM, DE *2,75 X 1,85* M","M2"]
["SINAPI-I 34660","SINAPI-I",34660,"CHAPA DE MDF BRANCO LISO 1 FACE, E = 18 MM, DE *2,75 X 1,85* M","M2"]
["SINAPI-I 34661","SINAPI-I",34661,"CHAPA DE MDF BRANCO LISO 1 FACE, E = 25 MM, DE *2,75 X 1,85* M","M2"]
["SINAPI-I 34667","SINAPI-I",34667,"CHAPA DE MDF BRANCO LISO 1 FACE, E = 6 MM, DE *2,75 X 1,85* M","M2"]
["SINAPI-I 34668","SINAPI-I",34668,"CHAPA DE MDF BRANCO LISO 1 FACE, E = 9 MM, DE *2,75 X 1,85* M","M2"]
["SINAPI-I 34741","SINAPI-I",34741,"CHAPA DE MDF BRANCO LISO 2 FACES, E = 12 MM, DE *2,75 X 1,85* M","M2"]
["SINAPI-I 34664","SINAPI-I",34664,"CHAPA DE MDF BRANCO LISO 2 FACES, E = 15 MM, DE *2,75 X 1,85* M","M2"]
["SINAPI-I 34665","SINAPI-I",34665,"CHAPA DE MDF BRANCO LISO 2 FACES, E = 18 MM, DE *2,75 X 1,85* M","M2"]
["SINAPI-I 34666","SINAPI-I",34666,"CHAPA DE MDF BRANCO LISO 2 FACES, E = 25 MM, DE *2,75 X 1,85* M","M2"]
["SINAPI-I 34669","SINAPI-I",34669,"CHAPA DE MDF BRANCO LISO 2 FACES, E = 6 MM, DE *2,75 X 1,85* M","M2"]
["SINAPI-I 34670","SINAPI-I",34670,"CHAPA DE MDF BRANCO LISO 2 FACES, E = 9 MM, DE *2,75 X 1,85* M","M2"]
["SINAPI-I 34671","SINAPI-I",34671,"CHAPA DE MDF CRU, E = 12 MM, DE *2,75 X 1,85* M","M2"]
["SINAPI-I 34672","SINAPI-I",34672,"CHAPA DE MDF CRU, E = 15 MM, DE *2,75 X 1,85* M","M2"]
["SINAPI-I 34673","SINAPI-I",34673,"CHAPA DE MDF CRU, E = 18 MM, DE *2,75 X 1,85* M","M2"]
["SINAPI-I 34674","SINAPI-I",34674,"CHAPA DE MDF CRU, E = 20 MM, DE *2,75 X 1,85* M","M2"]
["SINAPI-I 34675","SINAPI-I",34675,"CHAPA DE MDF CRU, E = 25 MM, DE *2,75 X 1,85* M","M2"]
["SINAPI-I 34676","SINAPI-I",34676,"CHAPA DE MDF CRU, E = 6 MM, DE *2,75 X 1,85* M","M2"]
["SINAPI-I 34677","SINAPI-I",34677,"CHAPA DE MDF CRU, E = 9 MM, DE *2,75 X 1,85* M","M2"]
["SINAPI-I 43126","SINAPI-I",43126,"CHAPA EM ACO GALVANIZADO PARA STEEL DECK, COM NERVURAS TRAPEZOIDAIS, LARGURA UTIL DE 915 MM E ESPESSURA DE 0,80 MM","M2"]
["SINAPI-I 43124","SINAPI-I",43124,"CHAPA EM ACO GALVANIZADO PARA STEEL DECK, COM NERVURAS TRAPEZOIDAIS, LARGURA UTIL DE 915 MM E ESPESSURA DE 0,95 MM","M2"]
["SINAPI-I 43125","SINAPI-I",43125,"CHAPA EM ACO GALVANIZADO PARA STEEL DECK, COM NERVURAS TRAPEZOIDAIS, LARGURA UTIL DE 915 MM E ESPESSURA DE 1,25 MM","M2"]
["SINAPI-I 40623","SINAPI-I",40623,"CHAPA PARA EMENDA DE VIGA, EM ACO GROSSO, QUALIDADE ESTRUTURAL, BITOLA 3/16 \", E= 4,75 MM, 4 FUROS, LARGURA 45 MM, COMPRIMENTO 500 MM","PAR"]
["SINAPI-I 43701","SINAPI-I",43701,"CHAPA/BOBINA LISA EM ALUMINIO, LIGA 1.200 - H14, QUALQUER ESPESSURA, QUALQUER LARGURA","KG"]
["SINAPI-I 1345","SINAPI-I",1345,"CHAPA/PAINEL DE MADEIRA COMPENSADA PLASTIFICADA (MADEIRITE PLASTIFICADO) PARA FORMA DE CONCRETO, DE 2200 X 1100 MM, E = *17* MM","M2",74.959999999999994,74.959999999999994,null,"CR"]
["SINAPI-I 1346","SINAPI-I",1346,"CHAPA/PAINEL DE MADEIRA COMPENSADA PLASTIFICADA (MADEIRITE PLASTIFICADO) PARA FORMA DE CONCRETO, DE 2200 X 1100 MM, E = 10 MM","M2",43.6,43.6,null,"CR"]
["SINAPI-I 1347","SINAPI-I",1347,"CHAPA/PAINEL DE MADEIRA COMPENSADA PLASTIFICADA (MADEIRITE PLASTIFICADO) PARA FORMA DE CONCRETO, DE 2200 X 1100 MM, E = 12 MM","M2",54.03,54.03,null,"CR"]
["SINAPI-I 43678","SINAPI-I",43678,"CHAPA/PAINEL DE MADEIRA COMPENSADA PLASTIFICADA (MADEIRITE PLASTIFICADO) PARA FORMA DE CONCRETO, DE 2200 X 1100 MM, E = 14 MM","M2",62.67,62.67,null,"CR"]
["SINAPI-I 43680","SINAPI-I",43680,"CHAPA/PAINEL DE MADEIRA COMPENSADA PLASTIFICADA (MADEIRITE PLASTIFICADO) PARA FORMA DE CONCRETO, DE 2200 X 1100 MM, E = 20 MM","M2",90.28,90.28,null,"CR"]
["SINAPI-I 43679","SINAPI-I",43679,"CHAPA/PAINEL DE MADEIRA COMPENSADA PLASTIFICADA (MADEIRITE PLASTIFICADO) PARA FORMA DE CONCRETO, DE 2200 X 1100 MM, E = 6 MM","M2",31.68,31.68,null,"CR"]
["SINAPI-I 1355","SINAPI-I",1355,"CHAPA/PAINEL DE MADEIRA COMPENSADA RESINADA (MADEIRITE RESINADO ROSA) PARA FORMA DE CONCRETO, DE 2200 X 1100 MM, E = 14 MM","M2",36.06,36.06,null,"CR"]
["SINAPI-I 1358","SINAPI-I",1358,"CHAPA/PAINEL DE MADEIRA COMPENSADA RESINADA (MADEIRITE RESINADO ROSA) PARA FORMA DE CONCRETO, DE 2200 X 1100 MM, E = 17 MM","M2",44.26,44.26,null,"CR"]
["SINAPI-I 43677","SINAPI-I",43677,"CHAPA/PAINEL DE MADEIRA COMPENSADA RESINADA (MADEIRITE RESINADO ROSA) PARA FORMA DE CONCRETO, DE 2200 X 1100 MM, E = 20 MM","M2",54.92,54.92,null,"CR"]
["SINAPI-I 43682","SINAPI-I",43682,"CHAPA/PAINEL DE MADEIRA COMPENSADA RESINADA (MADEIRITE RESINADO ROSA) PARA FORMA DE CONCRETO, DE 2200 X 1100 MM, E = 6 MM","M2",16.829999999999998,16.829999999999998,null,"CR"]
["SINAPI-I 43681","SINAPI-I",43681,"CHAPA/PAINEL DE MADEIRA COMPENSADA RESINADA (MADEIRITE RESINADO ROSA) PARA FORMA DE CONCRETO, DE 2200 X 1100 MM, E = 8 A 12 MM","M2",27.89,27.89,null,"C"]
["SINAPI-I 45248","SINAPI-I",45248,"CHAVE AJUSTAVEL (INGLESA) 10\"","UN",47.31,47.31,null,"CR"]
["SINAPI-I 45243","SINAPI-I",45243,"CHAVE AJUSTAVEL (INGLESA) 15\"","UN",152.97999999999999,152.97999999999999,null,"CR"]
["SINAPI-I 45252","SINAPI-I",45252,"CHAVE AJUSTAVEL (INGLESA) 6\"","UN",26.83,26.83,null,"CR"]
["SINAPI-I 45246","SINAPI-I",45246,"CHAVE DE GRIFO DE 24\"","UN",124.34,124.34,null,"CR"]
["SINAPI-I 20971","SINAPI-I",20971,"CHAVE DUPLA PARA CONEXOES TIPO STORZ, ENGATE RAPIDO 1 1/2\" X 2 1/2\", EM LATAO, PARA INSTALACAO PREDIAL COMBATE A INCENDIO","UN",27.23,27.23,null,"CR"]
["SINAPI-I 45247","SINAPI-I",45247,"CHAVE FIXA 19 X 22 MM","UN",18.03,18.03,null,"CR"]
["SINAPI-I 39746","SINAPI-I",39746,"CHUMBADOR DE ACO GALVANIZADO, 1\" X 600 MM, PARA POSTES DE ACO COM BASE, INCLUSO PORCA E ARRUELA","UN",73.66,73.66,null,"CR"]
["SINAPI-I 13279","SINAPI-I",13279,"CHUMBADOR DE ACO TIPO PARABOLT, * 5/8\" X 200* MM, COM PORCA E ARRUELA","KG",18.649999999999999,18.649999999999999,null,"CR"]
[{"$f":"CONCATENATE($B1281,\" \",$C1281)","v":"SINAPI-I 11977"},"SINAPI-I",11977,"CHUMBADOR DE ACO ZINCADO, DIAMETRO 1/2\", COMPRIMENTO 75 MM","UN",9.66,9.66,null,"CR"]
["SINAPI-I 11976","SINAPI-I",11976,"CHUMBADOR DE ACO ZINCADO, DIAMETRO 1/4\" COM PARAFUSO 1/4\" X 40 MM","UN",1.08,1.08,null,"CR"]
["SINAPI-I 11975","SINAPI-I",11975,"CHUMBADOR DE ACO ZINCADO, DIAMETRO 5/8\", COMPRIMENTO 6\", COM PORCA","UN",21.17,21.17,null,"CR"]
["SINAPI-I 1368","SINAPI-I",1368,"CHUVEIRO COMUM EM PLASTICO BRANCO, COM CANO, 3 TEMPERATURAS, 5500 W (110/220 V)","UN",95.9,95.9,null,"C"]
["SINAPI-I 1367","SINAPI-I",1367,"CHUVEIRO COMUM EM PLASTICO CROMADO, COM CANO, 4 TEMPERATURAS (110/220 V)","UN",310.20999999999998,310.20999999999998,null,"CR"]
["SINAPI-I 1380","SINAPI-I",1380,"CIMENTO BRANCO NAO ESTRUTURAL (CPB - NAO ESTRUTURAL)","KG",4.68,4.68,null,"CR"]
["SINAPI-I 1375","SINAPI-I",1375,"CIMENTO IMPERMEABILIZANTE DE PEGA ULTRARRAPIDA PARA TAMPONAMENTOS","KG",15.47,15.47,null,"CR"]
["SINAPI-I 1379","SINAPI-I",1379,"CIMENTO PORTLAND COMPOSTO CP II-32","KG",0.7,0.7,null,"C"]
["SINAPI-I 13284","SINAPI-I",13284,"CIMENTO PORTLAND DE ALTO FORNO (AF) CP III-40","KG",0.63,0.63,null,"CR"]
["SINAPI-I 44528","SINAPI-I",44528,"CIMENTO PORTLAND ESTRUTURAL BRANCO CPB - 32 OU CPB - 40","KG",3.73,3.73,null,"CR"]
["SINAPI-I 34753","SINAPI-I",34753,"CIMENTO PORTLAND POZOLANICO CP IV-32","KG",0.68,0.68,null,"CR"]
["SINAPI-I 420","SINAPI-I",420,"CINTA CIRCULAR EM ACO GALVANIZADO DE 150 MM DE DIAMETRO PARA FIXACAO DE CAIXA MEDICAO, INCLUI PARAFUSOS E PORCAS","UN",24.53,24.53,null,"CR"]
["SINAPI-I 12327","SINAPI-I",12327,"CINTA CIRCULAR EM ACO GALVANIZADO DE 210 MM DE DIAMETRO PARA INSTALACAO DE TRANSFORMADOR EM POSTE DE CONCRETO","UN",29.22,29.22,null,"CR"]
["SINAPI-I 36148","SINAPI-I",36148,"CINTURAO DE SEGURANCA TIPO PARAQUEDISTA, FIVELA EM ACO, AJUSTE NO SUSPENSORIO, CINTURA E PERNAS","UN",175.22,175.22,null,"CR"]
["SINAPI-I 12329","SINAPI-I",12329,"COBRE ELETROLITICO EM BARRA OU CHAPA","KG",135.01,135.01,null,"CR"]
["SINAPI-I 1339","SINAPI-I",1339,"COLA A BASE DE RESINA SINTETICA PARA CHAPA DE LAMINADO MELAMINICO E OUTROS","KG"]
["SINAPI-I 44396","SINAPI-I",44396,"COLA BRANCA BASE PVA","KG",33.53,33.53,null,"CR"]
["SINAPI-I 44327","SINAPI-I",44327,"COLA PARA TUBOS E MANTAS ELASTOMERICAS, A BASE DE SOLVENTE","L",114.02,114.02,null,"CR"]
["SINAPI-I 37418","SINAPI-I",37418,"COLAR DE TOMADA EM POLIPROPILENO, PP, COM PARAFUSOS, PARA PEAD, 63 X 1/2\" - LIGACAO PREDIAL DE AGUA","UN"]
["SINAPI-I 37419","SINAPI-I",37419,"COLAR DE TOMADA EM POLIPROPILENO, PP, COM PARAFUSOS, PARA PEAD, 63 X 3/4\" - LIGACAO PREDIAL DE AGUA","UN"]
["SINAPI-I 1427","SINAPI-I",1427,"COLAR TOMADA PVC, COM TRAVAS, SAIDA COM ROSCA, DE 110 MM X 1/2\" OU 110 MM X 3/4\", PARA LIGACAO PREDIAL DE AGUA","UN"]
["SINAPI-I 1402","SINAPI-I",1402,"COLAR TOMADA PVC, COM TRAVAS, SAIDA COM ROSCA, DE 32 MM X 1/2\" OU 32 MM X 3/4\", PARA LIGACAO PREDIAL DE AGUA","UN"]
["SINAPI-I 1420","SINAPI-I",1420,"COLAR TOMADA PVC, COM TRAVAS, SAIDA COM ROSCA, DE 40 MM X 1/2\" OU 40 MM X 3/4\", PARA LIGACAO PREDIAL DE AGUA","UN"]
["SINAPI-I 1419","SINAPI-I",1419,"COLAR TOMADA PVC, COM TRAVAS, SAIDA COM ROSCA, DE 50 MM X 1/2\" OU 50 MM X 3/4\", PARA LIGACAO PREDIAL DE AGUA","UN"]
["SINAPI-I 1414","SINAPI-I",1414,"COLAR TOMADA PVC, COM TRAVAS, SAIDA COM ROSCA, DE 60 MM X 1/2\" OU 60 MM X 3/4\", PARA LIGACAO PREDIAL DE AGUA","UN"]
["SINAPI-I 1413","SINAPI-I",1413,"COLAR TOMADA PVC, COM TRAVAS, SAIDA COM ROSCA, DE 75 MM X 1/2\" OU 75 MM X 3/4\", PARA LIGACAO PREDIAL DE AGUA","UN"]
["SINAPI-I 1412","SINAPI-I",1412,"COLAR TOMADA PVC, COM TRAVAS, SAIDA COM ROSCA, DE 85 MM X 1/2\" OU 85 MM X 3/4\", PARA LIGACAO PREDIAL DE AGUA","UN"]
["SINAPI-I 1406","SINAPI-I",1406,"COLAR TOMADA PVC, COM TRAVAS, SAIDA ROSCAVEL COM BUCHA DE LATAO, DE 60 MM X 1/2\" OU 60 MM X 3/4\", PARA LIGACAO PREDIAL DE AGUA","UN"]
["SINAPI-I 45237","SINAPI-I",45237,"COLHER DE PEDREIRO 9\", EM ACO, COM CANTOS REDONDOS E CABO DE MADEIRA OU PLASTICO","UN",14.39,14.39,null,"CR"]
["SINAPI-I 11281","SINAPI-I",11281,"COMPACTADOR DE SOLO A PERCUSSAO (SOQUETE), A GASOLINA 4 TEMPOS, PESO 55 A 65 KG, FORCA DE IMPACTO 1.000 A 1.500 KGF, FREQ. 600 A 700 GOLPES P/ MINUTO, VELOCIDADE TRABALHO DE 10 A 15 M/MIN, POT. DE 2,00 A 3,00 HP","UN"]
["SINAPI-I 1442","SINAPI-I",1442,"COMPACTADOR DE SOLO TIPO PLACA VIBRATORIA REVERSIVEL, A GASOLINA 4 TEMPOS, PESO 125 A 150 KG, FORCA CENTRIF. 2500 A 2800 KGF, LARG. TRABALHO 400 A 450 MM, FREQ. VIBRACAO 4300 A 4500 RPM, VELOC. TRABALHO 15 A 20 M/MIN, POT. 5,5 A 6,0 HP","UN"]
["SINAPI-I 13457","SINAPI-I",13457,"COMPACTADOR DE SOLO TIPO PLACA VIBRATORIA REVERSIVEL, A GASOLINA 4 TEMPOS, PESO 150 A 175 KG, FORCA CENTRIF. 2800 A 3100 KGF, LARG. TRABALHO DE 450 A 520 MM, FREQ. VIBRACAO 4000 A 4300 RPM, VELOC. TRABALHO DE 15 A 20 M/MIN, POT. DE 6,0 A 7,0 HP","UN"]
["SINAPI-I 40699","SINAPI-I",40699,"COMPACTADOR DE SOLO, TIPO PLACA VIBRATORIA NAO REVERSIVEL, A GASOLINA 4 TEMPOS, PESO 80 A 120 KG, FORCA CENTRIF. DE 1300 A 2000 KGF, LARG. TRABALHO DE 400 A 500 MM, FREQ. VIBRACAO DE 4800 A 6000 RPM, VELOCIDADE TRABALHO DE 20 A 30 M/MIN, POT. DE 5,0 A 6,0 HP","UN"]
["SINAPI-I 40701","SINAPI-I",40701,"COMPACTADOR DE SOLO, TIPO PLACA VIBRATORIA REVERSIVEL, A DIESEL, PESO 700 A 820 KG, FORCA CENTRIF. DE 6.200 A 10.000 KGF, LARG. TRABALHO DE 650 A 720 MM, FREQ. VIBRACAO DE 3.000 A 3.500 RPM, VELOCIDADE TRABALHO DE 25 A 30 M/MIN, POT. DE 13,0 A 15,0 HP","UN"]
["SINAPI-I 40700","SINAPI-I",40700,"COMPACTADOR DE SOLO, TIPO PLACA VIBRATORIA REVERSIVEL, A GASOLINA 4 TEMPOS, PESO 160 A 265 KG, FORCA CENTRIF. DE 2750 A 4000 KGF, LARG. TRABALHO DE 430 A 550 MM, FREQ. VIBRACAO DE 4000 A 5500 RPM, VELOCIDADE TRABALHO DE 20 A 25 M/MIN, POT. DE 7,5 A 9,0 HP","UN"]
["SINAPI-I 13458","SINAPI-I",13458,"COMPACTADOR DE SOLOS DE PERCURSAO (SOQUETE) COM MOTOR A GASOLINA 4 TEMPOS DE 4 HP (4 CV)","UN"]
["SINAPI-I 11134","SINAPI-I",11134,"COMPENSADO NAVAL - CHAPA/PAINEL EM MADEIRA COMPENSADA PRENSADA, DE 2200 X 1600 MM, E = 10 MM","M2",62.12,62.12,null,"CR"]
["SINAPI-I 11135","SINAPI-I",11135,"COMPENSADO NAVAL - CHAPA/PAINEL EM MADEIRA COMPENSADA PRENSADA, DE 2200 X 1600 MM, E = 12 MM","M2",67.069999999999993,67.069999999999993,null,"CR"]
["SINAPI-I 11136","SINAPI-I",11136,"COMPENSADO NAVAL - CHAPA/PAINEL EM MADEIRA COMPENSADA PRENSADA, DE 2200 X 1600 MM, E = 15 MM","M2",76.8,76.8,null,"CR"]
["SINAPI-I 34743","SINAPI-I",34743,"COMPENSADO NAVAL - CHAPA/PAINEL EM MADEIRA COMPENSADA PRENSADA, DE 2200 X 1600 MM, E = 18 MM","M2",92.66,92.66,null,"CR"]
["SINAPI-I 11137","SINAPI-I",11137,"COMPENSADO NAVAL - CHAPA/PAINEL EM MADEIRA COMPENSADA PRENSADA, DE 2200 X 1600 MM, E = 20 MM","M2",105.24,105.24,null,"CR"]
["SINAPI-I 34745","SINAPI-I",34745,"COMPENSADO NAVAL - CHAPA/PAINEL EM MADEIRA COMPENSADA PRENSADA, DE 2200 X 1600 MM, E = 25 MM","M2",125.15,125.15,null,"CR"]
["SINAPI-I 34746","SINAPI-I",34746,"COMPENSADO NAVAL - CHAPA/PAINEL EM MADEIRA COMPENSADA PRENSADA, DE 2200 X 1600 MM, E = 4 MM","M2",34.130000000000003,34.130000000000003,null,"CR"]
["SINAPI-I 1360","SINAPI-I",1360,"COMPENSADO NAVAL - CHAPA/PAINEL EM MADEIRA COMPENSADA PRENSADA, DE 2200 X 1600 MM, E = 6 MM","M2",39.82,39.82,null,"CR"]
["SINAPI-I 36524","SINAPI-I",36524,"COMPRESSOR DE AR ESTACIONARIO, VAZAO 620 PCM, PRESSAO EFETIVA DE TRABALHO 109 PSI, MOTOR ELETRICO, POTENCIA 127 CV","UN"]
["SINAPI-I 36526","SINAPI-I",36526,"COMPRESSOR DE AR REBOCAVEL VAZAO 400 PCM, PRESSAO EFETIVA DE TRABALHO 102 PSI, MOTOR DIESEL, POTENCIA 110 CV","UN"]
["SINAPI-I 36523","SINAPI-I",36523,"COMPRESSOR DE AR REBOCAVEL VAZAO 748 PCM, PRESSAO EFETIVA DE TRABALHO 102 PSI, MOTOR DIESEL, POTENCIA 210 CV","UN"]
["SINAPI-I 36527","SINAPI-I",36527,"COMPRESSOR DE AR REBOCAVEL VAZAO 860 PCM, PRESSAO EFETIVA DE TRABALHO 102 PSI, MOTOR DIESEL, POTENCIA 250 CV","UN"]
["SINAPI-I 38642","SINAPI-I",38642,"COMPRESSOR DE AR REBOCAVEL, VAZAO 152 PCM, PRESSAO EFETIVA DE TRABALHO 102 PSI, MOTOR DIESEL, POTENCIA 31,5 KW","UN"]
["SINAPI-I 36522","SINAPI-I",36522,"COMPRESSOR DE AR REBOCAVEL, VAZAO 189 PCM, PRESSAO EFETIVA DE TRABALHO 102 PSI, MOTOR DIESEL, POTENCIA 63 CV","UN"]
["SINAPI-I 36525","SINAPI-I",36525,"COMPRESSOR DE AR REBOCAVEL, VAZAO 250 PCM, PRESSAO EFETIVA DE TRABALHO 102 PSI, MOTOR DIESEL, POTENCIA 81 CV","UN"]
["SINAPI-I 13803","SINAPI-I",13803,"COMPRESSOR DE AR REBOCAVEL, VAZAO 89 PCM, PRESSAO EFETIVA DE TRABALHO *102* PSI, MOTOR DIESEL, POTENCIA *20* CV","UN"]
["SINAPI-I 34348","SINAPI-I",34348,"CONCERTINA CLIPADA (DUPLA) EM ACO GALVANIZADO DE ALTA RESISTENCIA, COM ESPIRAL DE 300 MM, D = 2,76 MM","M",27.7,27.7,null,"CR"]
["SINAPI-I 34347","SINAPI-I",34347,"CONCERTINA SIMPLES EM ACO GALVANIZADO DE ALTA RESISTENCIA, COM ESPIRAL DE 300 MM, D = 2,76 MM","M",19.8,19.8,null,"CR"]
["SINAPI-I 11146","SINAPI-I",11146,"CONCRETO AUTOADENSAVEL (CAA) CLASSE DE RESISTENCIA C15, ESPALHAMENTO SF2, COM BOMBEAMENTO (DISPONIBILIZACAO DE BOMBA), SEM O LANCAMENTO (NBR 15823)","M3",507.86,507.86,null,"CR"]
["SINAPI-I 11147","SINAPI-I",11147,"CONCRETO AUTOADENSAVEL (CAA) CLASSE DE RESISTENCIA C20, ESPALHAMENTO SF2, COM BOMBEAMENTO (DISPONIBILIZACAO DE BOMBA), SEM O LANCAMENTO (NBR 15823)","M3",527.73,527.73,null,"CR"]
["SINAPI-I 34872","SINAPI-I",34872,"CONCRETO AUTOADENSAVEL (CAA) CLASSE DE RESISTENCIA C25, ESPALHAMENTO SF2, COM BOMBEAMENTO (DISPONIBILIZACAO DE BOMBA), SEM O LANCAMENTO (NBR 15823)","M3",533.66,533.66,null,"CR"]
["SINAPI-I 34491","SINAPI-I",34491,"CONCRETO AUTOADENSAVEL (CAA) CLASSE DE RESISTENCIA C30, ESPALHAMENTO SF2, COM BOMBEAMENTO (DISPONIBILIZACAO DE BOMBA), SEM O LANCAMENTO (NBR 15823)","M3",549.12,549.12,null,"CR"]
["SINAPI-I 34770","SINAPI-I",34770,"CONCRETO BETUMINOSO USINADO A QUENTE (CBUQ) PARA PAVIMENTACAO ASFALTICA, PADRAO DNIT, FAIXA C, COM CAP 30/45 - AQUISICAO POSTO USINA","T",524.77,524.77,null,"CR"]
["SINAPI-I 1518","SINAPI-I",1518,"CONCRETO BETUMINOSO USINADO A QUENTE (CBUQ) PARA PAVIMENTACAO ASFALTICA, PADRAO DNIT, FAIXA C, COM CAP 50/70 - AQUISICAO POSTO USINA","T",535,535,null,"C"]
["SINAPI-I 41965","SINAPI-I",41965,"CONCRETO BETUMINOSO USINADO A QUENTE (CBUQ) PARA PAVIMENTACAO ASFALTICA, PADRAO DNIT, PARA BINDER, COM CAP 50/70 - AQUISICAO POSTO USINA","T",469.1,469.1,null,"CR"]
["SINAPI-I 1524","SINAPI-I",1524,"CONCRETO USINADO BOMBEAVEL, CLASSE DE RESISTENCIA C20, BRITA 0 E 1, SLUMP = 100 +/- 20 MM, COM BOMBEAMENTO (DISPONIBILIZACAO DE BOMBA), SEM O LANCAMENTO (NBR 8953)","M3",487.25,487.25,null,"CR"]
["SINAPI-I 34492","SINAPI-I",34492,"CONCRETO USINADO BOMBEAVEL, CLASSE DE RESISTENCIA C20, COM BRITA 0 E 1, SLUMP = 100 +/- 20 MM, EXCLUI SERVICO DE BOMBEAMENTO (NBR 8953)","M3",451.33,451.33,null,"C"]
["SINAPI-I 38404","SINAPI-I",38404,"CONCRETO USINADO BOMBEAVEL, CLASSE DE RESISTENCIA C20, COM BRITA 0 E 1, SLUMP = 130 +/- 20 MM, EXCLUI SERVICO DE BOMBEAMENTO (NBR 8953)","M3",467.49,467.49,null,"CR"]
[{"$f":"CONCATENATE($B1345,\" \",$C1345)","v":"SINAPI-I 39849"},"SINAPI-I",39849,"CONCRETO USINADO BOMBEAVEL, CLASSE DE RESISTENCIA C20, COM BRITA 0 E 1, SLUMP = 190 +/- 20 MM, COM BOMBEAMENTO (DISPONIBILIZACAO DE BOMBA), SEM O LANCAMENTO (NBR 8953)","M3",535.74,535.74,null,"CR"]
["SINAPI-I 38464","SINAPI-I",38464,"CONCRETO USINADO BOMBEAVEL, CLASSE DE RESISTENCIA C20, COM BRITA 0, SLUMP = 220 +/- 20 MM, COM BOMBEAMENTO (DISPONIBILIZACAO DE BOMBA), SEM O LANCAMENTO (NBR 8953)","M3",543.52,543.52,null,"CR"]
["SINAPI-I 1527","SINAPI-I",1527,"CONCRETO USINADO BOMBEAVEL, CLASSE DE RESISTENCIA C25, BRITA 0 E 1, SLUMP = 100 +/- 20 MM, COM BOMBEAMENTO (DISPONIBILIZACAO DE BOMBA), SEM O LANCAMENTO (NBR 8953)","M3",502.72,502.72,null,"CR"]
["SINAPI-I 34493","SINAPI-I",34493,"CONCRETO USINADO BOMBEAVEL, CLASSE DE RESISTENCIA C25, COM BRITA 0 E 1, SLUMP = 100 +/- 20 MM, EXCLUI SERVICO DE BOMBEAMENTO (NBR 8953)","M3",464.05,464.05,null,"CR"]
["SINAPI-I 38405","SINAPI-I",38405,"CONCRETO USINADO BOMBEAVEL, CLASSE DE RESISTENCIA C25, COM BRITA 0 E 1, SLUMP = 130 +/- 20 MM, EXCLUI SERVICO DE BOMBEAMENTO (NBR 8953)","M3",481.91,481.91,null,"CR"]
["SINAPI-I 38408","SINAPI-I",38408,"CONCRETO USINADO BOMBEAVEL, CLASSE DE RESISTENCIA C25, COM BRITA 0 E 1, SLUMP = 190 +/- 20 MM, EXCLUI SERVICO DE BOMBEAMENTO (NBR 8953)","M3",533.41999999999996,533.41999999999996,null,"CR"]
["SINAPI-I 1525","SINAPI-I",1525,"CONCRETO USINADO BOMBEAVEL, CLASSE DE RESISTENCIA C30, BRITA 0 E 1, SLUMP = 100 +/- 20 MM, COM BOMBEAMENTO (DISPONIBILIZACAO DE BOMBA), SEM O LANCAMENTO (NBR 8953)","M3",518.19000000000005,518.19000000000005,null,"CR"]
["SINAPI-I 34494","SINAPI-I",34494,"CONCRETO USINADO BOMBEAVEL, CLASSE DE RESISTENCIA C30, COM BRITA 0 E 1, SLUMP = 100 +/- 20 MM, EXCLUI SERVICO DE BOMBEAMENTO (NBR 8953)","M3",479.52,479.52,null,"CR"]
["SINAPI-I 38406","SINAPI-I",38406,"CONCRETO USINADO BOMBEAVEL, CLASSE DE RESISTENCIA C30, COM BRITA 0 E 1, SLUMP = 130 +/- 20 MM, EXCLUI SERVICO DE BOMBEAMENTO (NBR 8953)","M3",508.86,508.86,null,"CR"]
["SINAPI-I 38409","SINAPI-I",38409,"CONCRETO USINADO BOMBEAVEL, CLASSE DE RESISTENCIA C30, COM BRITA 0 E 1, SLUMP = 190 +/- 20 MM, EXCLUI SERVICO DE BOMBEAMENTO (NBR 8953)","M3",537.05999999999995,537.05999999999995,null,"CR"]
["SINAPI-I 43360","SINAPI-I",43360,"CONCRETO USINADO BOMBEAVEL, CLASSE DE RESISTENCIA C30, COM BRITA 0 E 1, SLUMP = 220 +/- 30 MM, EXCLUI SERVICO DE BOMBEAMENTO (NBR 8953)","M3",560,560,null,"CR"]
["SINAPI-I 11145","SINAPI-I",11145,"CONCRETO USINADO BOMBEAVEL, CLASSE DE RESISTENCIA C35, BRITA 0 E 1, SLUMP = 100 +/- 20 MM, COM BOMBEAMENTO (DISPONIBILIZACAO DE BOMBA), SEM O LANCAMENTO (NBR 8953)","M3",533.66,533.66,null,"CR"]
["SINAPI-I 34495","SINAPI-I",34495,"CONCRETO USINADO BOMBEAVEL, CLASSE DE RESISTENCIA C35, COM BRITA 0 E 1, SLUMP = 100 +/- 20 MM, EXCLUI SERVICO DE BOMBEAMENTO (NBR 8953)","M3",494.98,494.98,null,"CR"]
["SINAPI-I 34479","SINAPI-I",34479,"CONCRETO USINADO BOMBEAVEL, CLASSE DE RESISTENCIA C40, BRITA 0 E 1, SLUMP = 100 +/- 20 MM, COM BOMBEAMENTO (DISPONIBILIZACAO DE BOMBA), SEM O LANCAMENTO (NBR 8953)","M3",549.12,549.12,null,"CR"]
["SINAPI-I 34496","SINAPI-I",34496,"CONCRETO USINADO BOMBEAVEL, CLASSE DE RESISTENCIA C40, COM BRITA 0 E 1, SLUMP = 100 +/- 20 MM, EXCLUI SERVICO DE BOMBEAMENTO (NBR 8953)","M3",516.35,516.35,null,"CR"]
["SINAPI-I 34481","SINAPI-I",34481,"CONCRETO USINADO BOMBEAVEL, CLASSE DE RESISTENCIA C45, BRITA 0 E 1, SLUMP = 100 +/- 20 MM, COM BOMBEAMENTO (DISPONIBILIZACAO DE BOMBA), SEM O LANCAMENTO (NBR 8953)","M3",573.77,573.77,null,"CR"]
["SINAPI-I 34483","SINAPI-I",34483,"CONCRETO USINADO BOMBEAVEL, CLASSE DE RESISTENCIA C50, BRITA 0 E 1, SLUMP = 100 +/- 20 MM, COM BOMBEAMENTO (DISPONIBILIZACAO DE BOMBA), SEM O LANCAMENTO (NBR 8953)","M3",613.03,613.03,null,"CR"]
["SINAPI-I 34485","SINAPI-I",34485,"CONCRETO USINADO BOMBEAVEL, CLASSE DE RESISTENCIA C60, COM BRITA 0 E 1, SLUMP = 100 +/- 20 MM, COM BOMBEAMENTO (DISPONIBILIZACAO DE BOMBA), SEM O LANCAMENTO (NBR 8953)","M3",655.57,655.57,null,"CR"]
["SINAPI-I 14041","SINAPI-I",14041,"CONCRETO USINADO CONVENCIONAL (NAO BOMBEAVEL) CLASSE DE RESISTENCIA C10, COM BRITA 1 E 2, SLUMP = 80 MM +/- 10 MM (NBR 8953)","M3",426.15,426.15,null,"CR"]
["SINAPI-I 1523","SINAPI-I",1523,"CONCRETO USINADO CONVENCIONAL (NAO BOMBEAVEL) CLASSE DE RESISTENCIA C15, COM BRITA 1 E 2, SLUMP = 80 MM +/- 10 MM (NBR 8953)","M3",433.11,433.11,null,"CR"]
["SINAPI-I 14054","SINAPI-I",14054,"CONDULETE DE ALUMINIO TIPO B, PARA ELETRODUTO ROSCAVEL DE 1\", COM TAMPA CEGA","UN",19.420000000000002,19.420000000000002,null,"CR"]
["SINAPI-I 14052","SINAPI-I",14052,"CONDULETE DE ALUMINIO TIPO B, PARA ELETRODUTO ROSCAVEL DE 1/2\", COM TAMPA CEGA","UN",14.94,14.94,null,"CR"]
["SINAPI-I 14053","SINAPI-I",14053,"CONDULETE DE ALUMINIO TIPO B, PARA ELETRODUTO ROSCAVEL DE 3/4\", COM TAMPA CEGA","UN",15.16,15.16,null,"CR"]
["SINAPI-I 2560","SINAPI-I",2560,"CONDULETE DE ALUMINIO TIPO C, PARA ELETRODUTO ROSCAVEL DE 1\", COM TAMPA CEGA","UN",20.09,20.09,null,"CR"]
["SINAPI-I 2558","SINAPI-I",2558,"CONDULETE DE ALUMINIO TIPO C, PARA ELETRODUTO ROSCAVEL DE 1/2\", COM TAMPA CEGA","UN",11.42,11.42,null,"CR"]
["SINAPI-I 2559","SINAPI-I",2559,"CONDULETE DE ALUMINIO TIPO C, PARA ELETRODUTO ROSCAVEL DE 3/4\", COM TAMPA CEGA","UN",16.07,16.07,null,"C"]
["SINAPI-I 2592","SINAPI-I",2592,"CONDULETE DE ALUMINIO TIPO C, PARA ELETRODUTO ROSCAVEL DE 4\", COM TAMPA CEGA","UN",266.39999999999998,266.39999999999998,null,"CR"]
["SINAPI-I 2589","SINAPI-I",2589,"CONDULETE DE ALUMINIO TIPO E, PARA ELETRODUTO ROSCAVEL DE 1 1/2\", COM TAMPA CEGA","UN",35.630000000000003,35.630000000000003,null,"CR"]
["SINAPI-I 2566","SINAPI-I",2566,"CONDULETE DE ALUMINIO TIPO E, PARA ELETRODUTO ROSCAVEL DE 1 1/4\", COM TAMPA CEGA","UN",26.81,26.81,null,"CR"]
["SINAPI-I 2590","SINAPI-I",2590,"CONDULETE DE ALUMINIO TIPO E, PARA ELETRODUTO ROSCAVEL DE 1\", COM TAMPA CEGA","UN",21.87,21.87,null,"CR"]
["SINAPI-I 2591","SINAPI-I",2591,"CONDULETE DE ALUMINIO TIPO E, PARA ELETRODUTO ROSCAVEL DE 1/2\", COM TAMPA CEGA","UN",13,13,null,"CR"]
["SINAPI-I 2567","SINAPI-I",2567,"CONDULETE DE ALUMINIO TIPO E, PARA ELETRODUTO ROSCAVEL DE 2\", COM TAMPA CEGA","UN",52.27,52.27,null,"CR"]
["SINAPI-I 2568","SINAPI-I",2568,"CONDULETE DE ALUMINIO TIPO E, PARA ELETRODUTO ROSCAVEL DE 3\", COM TAMPA CEGA","UN",145.13999999999999,145.13999999999999,null,"CR"]
["SINAPI-I 2565","SINAPI-I",2565,"CONDULETE DE ALUMINIO TIPO E, PARA ELETRODUTO ROSCAVEL DE 3/4\", COM TAMPA CEGA","UN",13.02,13.02,null,"CR"]
["SINAPI-I 2594","SINAPI-I",2594,"CONDULETE DE ALUMINIO TIPO E, PARA ELETRODUTO ROSCAVEL DE 4\", COM TAMPA CEGA","UN",241.8,241.8,null,"CR"]
["SINAPI-I 2587","SINAPI-I",2587,"CONDULETE DE ALUMINIO TIPO LR, PARA ELETRODUTO ROSCAVEL DE 1 1/2\", COM TAMPA CEGA","UN",41.21,41.21,null,"CR"]
["SINAPI-I 2588","SINAPI-I",2588,"CONDULETE DE ALUMINIO TIPO LR, PARA ELETRODUTO ROSCAVEL DE 1 1/4\", COM TAMPA CEGA","UN",32.729999999999997,32.729999999999997,null,"CR"]
["SINAPI-I 2570","SINAPI-I",2570,"CONDULETE DE ALUMINIO TIPO LR, PARA ELETRODUTO ROSCAVEL DE 1\", COM TAMPA CEGA","UN",21.14,21.14,null,"CR"]
["SINAPI-I 2569","SINAPI-I",2569,"CONDULETE DE ALUMINIO TIPO LR, PARA ELETRODUTO ROSCAVEL DE 1/2\", COM TAMPA CEGA","UN",12.61,12.61,null,"CR"]
["SINAPI-I 2571","SINAPI-I",2571,"CONDULETE DE ALUMINIO TIPO LR, PARA ELETRODUTO ROSCAVEL DE 2\", COM TAMPA CEGA","UN",62.76,62.76,null,"CR"]
["SINAPI-I 2572","SINAPI-I",2572,"CONDULETE DE ALUMINIO TIPO LR, PARA ELETRODUTO ROSCAVEL DE 3\", COM TAMPA CEGA","UN",185.61,185.61,null,"CR"]
["SINAPI-I 2593","SINAPI-I",2593,"CONDULETE DE ALUMINIO TIPO LR, PARA ELETRODUTO ROSCAVEL DE 3/4\", COM TAMPA CEGA","UN",13.45,13.45,null,"CR"]
["SINAPI-I 2595","SINAPI-I",2595,"CONDULETE DE ALUMINIO TIPO LR, PARA ELETRODUTO ROSCAVEL DE 4\", COM TAMPA CEGA","UN",289.58999999999997,289.58999999999997,null,"CR"]
["SINAPI-I 2576","SINAPI-I",2576,"CONDULETE DE ALUMINIO TIPO T, PARA ELETRODUTO ROSCAVEL DE 1 1/2\", COM TAMPA CEGA","UN",49.37,49.37,null,"CR"]
["SINAPI-I 2575","SINAPI-I",2575,"CONDULETE DE ALUMINIO TIPO T, PARA ELETRODUTO ROSCAVEL DE 1 1/4\", COM TAMPA CEGA","UN",37.11,37.11,null,"CR"]
["SINAPI-I 2586","SINAPI-I",2586,"CONDULETE DE ALUMINIO TIPO T, PARA ELETRODUTO ROSCAVEL DE 1\", COM TAMPA CEGA","UN",24.98,24.98,null,"CR"]
["SINAPI-I 2573","SINAPI-I",2573,"CONDULETE DE ALUMINIO TIPO T, PARA ELETRODUTO ROSCAVEL DE 1/2\", COM TAMPA CEGA","UN",15.41,15.41,null,"CR"]
["SINAPI-I 2577","SINAPI-I",2577,"CONDULETE DE ALUMINIO TIPO T, PARA ELETRODUTO ROSCAVEL DE 2\", COM TAMPA CEGA","UN",66.89,66.89,null,"CR"]
["SINAPI-I 2578","SINAPI-I",2578,"CONDULETE DE ALUMINIO TIPO T, PARA ELETRODUTO ROSCAVEL DE 3\", COM TAMPA CEGA","UN",208.85,208.85,null,"CR"]
["SINAPI-I 2574","SINAPI-I",2574,"CONDULETE DE ALUMINIO TIPO T, PARA ELETRODUTO ROSCAVEL DE 3/4\", COM TAMPA CEGA","UN",15.51,15.51,null,"CR"]
["SINAPI-I 2585","SINAPI-I",2585,"CONDULETE DE ALUMINIO TIPO T, PARA ELETRODUTO ROSCAVEL DE 4\", COM TAMPA CEGA","UN",286.58999999999997,286.58999999999997,null,"CR"]
["SINAPI-I 12008","SINAPI-I",12008,"CONDULETE DE ALUMINIO TIPO TB, PARA ELETRODUTO ROSCAVEL DE 3\", COM TAMPA CEGA","UN",153.77000000000001,153.77000000000001,null,"CR"]
["SINAPI-I 2582","SINAPI-I",2582,"CONDULETE DE ALUMINIO TIPO X, PARA ELETRODUTO ROSCAVEL DE 1 1/2\", COM TAMPA CEGA","UN",45.79,45.79,null,"CR"]
["SINAPI-I 2597","SINAPI-I",2597,"CONDULETE DE ALUMINIO TIPO X, PARA ELETRODUTO ROSCAVEL DE 1 1/4\", COM TAMPA CEGA","UN",39.24,39.24,null,"CR"]
["SINAPI-I 2581","SINAPI-I",2581,"CONDULETE DE ALUMINIO TIPO X, PARA ELETRODUTO ROSCAVEL DE 1\", COM TAMPA CEGA","UN",23.91,23.91,null,"CR"]
["SINAPI-I 2579","SINAPI-I",2579,"CONDULETE DE ALUMINIO TIPO X, PARA ELETRODUTO ROSCAVEL DE 1/2\", COM TAMPA CEGA","UN",18.68,18.68,null,"CR"]
["SINAPI-I 2596","SINAPI-I",2596,"CONDULETE DE ALUMINIO TIPO X, PARA ELETRODUTO ROSCAVEL DE 2\", COM TAMPA CEGA","UN",70.709999999999994,70.709999999999994,null,"CR"]
["SINAPI-I 2583","SINAPI-I",2583,"CONDULETE DE ALUMINIO TIPO X, PARA ELETRODUTO ROSCAVEL DE 3\", COM TAMPA CEGA","UN",171.98,171.98,null,"CR"]
["SINAPI-I 2580","SINAPI-I",2580,"CONDULETE DE ALUMINIO TIPO X, PARA ELETRODUTO ROSCAVEL DE 3/4\", COM TAMPA CEGA","UN",20.48,20.48,null,"CR"]
["SINAPI-I 2584","SINAPI-I",2584,"CONDULETE DE ALUMINIO TIPO X, PARA ELETRODUTO ROSCAVEL DE 4\", COM TAMPA CEGA","UN",286.3,286.3,null,"CR"]
["SINAPI-I 39329","SINAPI-I",39329,"CONDULETE EM PVC, TIPO \"B\", SEM TAMPA, DE 1\"","UN",18.14,18.14,null,"CR"]
["SINAPI-I 12010","SINAPI-I",12010,"CONDULETE EM PVC, TIPO \"B\", SEM TAMPA, DE 1/2\" OU 3/4\"","UN",17.34,17.34,null,"CR"]
["SINAPI-I 39332","SINAPI-I",39332,"CONDULETE EM PVC, TIPO \"C\", SEM TAMPA, DE 1\"","UN",21.32,21.32,null,"CR"]
["SINAPI-I 39330","SINAPI-I",39330,"CONDULETE EM PVC, TIPO \"C\", SEM TAMPA, DE 1/2\"","UN",19.079999999999998,19.079999999999998,null,"CR"]
[{"$f":"CONCATENATE($B1409,\" \",$C1409)","v":"SINAPI-I 39331"},"SINAPI-I",39331,"CONDULETE EM PVC, TIPO \"C\", SEM TAMPA, DE 3/4\"","UN",16.97,16.97,null,"CR"]
["SINAPI-I 39335","SINAPI-I",39335,"CONDULETE EM PVC, TIPO \"E\", SEM TAMPA, DE 1\"","UN",19.149999999999999,19.149999999999999,null,"CR"]
["SINAPI-I 39333","SINAPI-I",39333,"CONDULETE EM PVC, TIPO \"E\", SEM TAMPA, DE 1/2\"","UN",16.55,16.55,null,"CR"]
["SINAPI-I 39334","SINAPI-I",39334,"CONDULETE EM PVC, TIPO \"E\", SEM TAMPA, DE 3/4\"","UN",15.22,15.22,null,"CR"]
["SINAPI-I 12015","SINAPI-I",12015,"CONDULETE EM PVC, TIPO \"LB\", SEM TAMPA, DE 1\"","UN",22.24,22.24,null,"CR"]
["SINAPI-I 12016","SINAPI-I",12016,"CONDULETE EM PVC, TIPO \"LB\", SEM TAMPA, DE 1/2\" OU 3/4\"","UN",19.11,19.11,null,"CR"]
["SINAPI-I 12019","SINAPI-I",12019,"CONDULETE EM PVC, TIPO \"LL\", SEM TAMPA, DE 1\"","UN",22.24,22.24,null,"CR"]
["SINAPI-I 12020","SINAPI-I",12020,"CONDULETE EM PVC, TIPO \"LL\", SEM TAMPA, DE 1/2\" OU 3/4\"","UN",19.11,19.11,null,"CR"]
["SINAPI-I 39338","SINAPI-I",39338,"CONDULETE EM PVC, TIPO \"LR\", SEM TAMPA, DE 1\"","UN",21.32,21.32,null,"CR"]
["SINAPI-I 39336","SINAPI-I",39336,"CONDULETE EM PVC, TIPO \"LR\", SEM TAMPA, DE 1/2\"","UN",19.079999999999998,19.079999999999998,null,"CR"]
["SINAPI-I 39337","SINAPI-I",39337,"CONDULETE EM PVC, TIPO \"LR\", SEM TAMPA, DE 3/4\"","UN",16.97,16.97,null,"CR"]
["SINAPI-I 39341","SINAPI-I",39341,"CONDULETE EM PVC, TIPO \"T\", SEM TAMPA, DE 1\"","UN",27.8,27.8,null,"CR"]
["SINAPI-I 39340","SINAPI-I",39340,"CONDULETE EM PVC, TIPO \"T\", SEM TAMPA, DE 3/4\"","UN",20.41,20.41,null,"CR"]
["SINAPI-I 39342","SINAPI-I",39342,"CONDULETE EM PVC, TIPO \"TB\", SEM TAMPA, DE 1\"","UN",27.8,27.8,null,"CR"]
["SINAPI-I 12025","SINAPI-I",12025,"CONDULETE EM PVC, TIPO \"TB\", SEM TAMPA, DE 1/2\" OU 3/4\"","UN",21.08,21.08,null,"CR"]
["SINAPI-I 39345","SINAPI-I",39345,"CONDULETE EM PVC, TIPO \"X\", SEM TAMPA, DE 1\"","UN",31.76,31.76,null,"CR"]
["SINAPI-I 39343","SINAPI-I",39343,"CONDULETE EM PVC, TIPO \"X\", SEM TAMPA, DE 1/2\"","UN",23.47,23.47,null,"CR"]
["SINAPI-I 39344","SINAPI-I",39344,"CONDULETE EM PVC, TIPO \"X\", SEM TAMPA, DE 3/4\"","UN",22.69,22.69,null,"CR"]
["SINAPI-I 12623","SINAPI-I",12623,"CONDUTOR PLUVIAL, PVC, CIRCULAR, DIAMETRO ENTRE 80 E 100 MM, PARA DRENAGEM PLUVIAL PREDIAL","M",42.44,42.44,null,"CR"]
["SINAPI-I 34498","SINAPI-I",34498,"CONE DE SINALIZACAO EM PVC FLEXIVEL, H = 70 / 76 CM (NBR 15071)","UN",85.28,85.28,null,"CR"]
["SINAPI-I 13244","SINAPI-I",13244,"CONE DE SINALIZACAO EM PVC RIGIDO COM FAIXA REFLETIVA, H = 70 / 76 CM","UN",35.9,35.9,null,"C"]
["SINAPI-I 38998","SINAPI-I",38998,"CONECTOR / ADAPTADOR F/F, COM INSERTO METALICO, PPR, DN 25 MM X 1/2\", PARA AGUA QUENTE E FRIA PREDIAL","UN",13.45,13.45,null,"CR"]
["SINAPI-I 38999","SINAPI-I",38999,"CONECTOR / ADAPTADOR F/F, COM INSERTO METALICO, PPR, DN 32 MM X 3/4\", PARA AGUA QUENTE E FRIA PREDIAL","UN",34,34,null,"CR"]
["SINAPI-I 38996","SINAPI-I",38996,"CONECTOR / ADAPTADOR F/M, COM INSERTO METALICO, PPR, DN 25 MM X 1/2\", PARA AGUA QUENTE E FRIA PREDIAL","UN",24.03,24.03,null,"CR"]
["SINAPI-I 44173","SINAPI-I",44173,"CONECTOR / ADAPTADOR F/M, COM INSERTO METALICO, PPR, DN 25 MM X 3/4\", PARA AGUA QUENTE E FRIA PREDIAL","UN",23.37,23.37,null,"CR"]
["SINAPI-I 44174","SINAPI-I",44174,"CONECTOR / ADAPTADOR F/M, COM INSERTO METALICO, PPR, DN 32 MM X 1\", PARA AGUA QUENTE E FRIA PREDIAL","UN",38.25,38.25,null,"CR"]
["SINAPI-I 38997","SINAPI-I",38997,"CONECTOR / ADAPTADOR F/M, COM INSERTO METALICO, PPR, DN 32 MM X 3/4\", PARA AGUA QUENTE E FRIA PREDIAL","UN",34.380000000000003,34.380000000000003,null,"CR"]
["SINAPI-I 39600","SINAPI-I",39600,"CONECTOR / TOMADA FEMEA RJ 45, CATEGORIA 5 E (CAT 5E) PARA CABOS","UN",20.079999999999998,20.079999999999998,null,"CR"]
["SINAPI-I 39601","SINAPI-I",39601,"CONECTOR / TOMADA FEMEA RJ 45, CATEGORIA 6 (CAT 6) PARA CABOS","UN",42.6,42.6,null,"CR"]
["SINAPI-I 39862","SINAPI-I",39862,"CONECTOR BRONZE/LATAO SEM ANEL DE SOLDA, BOLSA X ROSCA F, 15 MM X 1/2\"","UN"]
["SINAPI-I 39863","SINAPI-I",39863,"CONECTOR BRONZE/LATAO SEM ANEL DE SOLDA, BOLSA X ROSCA F, 22 MM X 1/2\"","UN"]
["SINAPI-I 39864","SINAPI-I",39864,"CONECTOR BRONZE/LATAO SEM ANEL DE SOLDA, BOLSA X ROSCA F, 22 MM X 3/4\"","UN"]
["SINAPI-I 39865","SINAPI-I",39865,"CONECTOR BRONZE/LATAO SEM ANEL DE SOLDA, BOLSA X ROSCA F, 28 MM X 1/2\"","UN"]
["SINAPI-I 2517","SINAPI-I",2517,"CONECTOR CURVO 90 GRAUS DE ALUMINIO, BITOLA 1 1/2\", PARA ADAPTAR ENTRADA DE ELETRODUTO METALICO FLEXIVEL EM QUADROS","UN",28.52,28.52,null,"CR"]
["SINAPI-I 2522","SINAPI-I",2522,"CONECTOR CURVO 90 GRAUS DE ALUMINIO, BITOLA 1 1/4\", PARA ADAPTAR ENTRADA DE ELETRODUTO METALICO FLEXIVEL EM QUADROS","UN",18.43,18.43,null,"CR"]
["SINAPI-I 2516","SINAPI-I",2516,"CONECTOR CURVO 90 GRAUS DE ALUMINIO, BITOLA 1\", PARA ADAPTAR ENTRADA DE ELETRODUTO METALICO FLEXIVEL EM QUADROS","UN",14.8,14.8,null,"CR"]
["SINAPI-I 2548","SINAPI-I",2548,"CONECTOR CURVO 90 GRAUS DE ALUMINIO, BITOLA 1/2\", PARA ADAPTAR ENTRADA DE ELETRODUTO METALICO FLEXIVEL EM QUADROS","UN",11.34,11.34,null,"CR"]
["SINAPI-I 2518","SINAPI-I",2518,"CONECTOR CURVO 90 GRAUS DE ALUMINIO, BITOLA 2 1/2\", PARA ADAPTAR ENTRADA DE ELETRODUTO METALICO FLEXIVEL EM QUADROS","UN",135.78,135.78,null,"CR"]
["SINAPI-I 2521","SINAPI-I",2521,"CONECTOR CURVO 90 GRAUS DE ALUMINIO, BITOLA 2\", PARA ADAPTAR ENTRADA DE ELETRODUTO METALICO FLEXIVEL EM QUADROS","UN",57.8,57.8,null,"CR"]
["SINAPI-I 2519","SINAPI-I",2519,"CONECTOR CURVO 90 GRAUS DE ALUMINIO, BITOLA 3\", PARA ADAPTAR ENTRADA DE ELETRODUTO METALICO FLEXIVEL EM QUADROS","UN",163.72,163.72,null,"CR"]
["SINAPI-I 2515","SINAPI-I",2515,"CONECTOR CURVO 90 GRAUS DE ALUMINIO, BITOLA 3/4\", PARA ADAPTAR ENTRADA DE ELETRODUTO METALICO FLEXIVEL EM QUADROS","UN",12.32,12.32,null,"CR"]
["SINAPI-I 2520","SINAPI-I",2520,"CONECTOR CURVO 90 GRAUS DE ALUMINIO, BITOLA 4\", PARA ADAPTAR ENTRADA DE ELETRODUTO METALICO FLEXIVEL EM QUADROS","UN",301.33,301.33,null,"CR"]
["SINAPI-I 1602","SINAPI-I",1602,"CONECTOR DE ALUMINIO TIPO PRENSA CABO, BITOLA 1 1/2\", PARA CABOS DE DIAMETRO DE 37 A 40 MM","UN",55.08,55.08,null,"CR"]
["SINAPI-I 1601","SINAPI-I",1601,"CONECTOR DE ALUMINIO TIPO PRENSA CABO, BITOLA 1 1/4\", PARA CABOS DE DIAMETRO DE 31 A 34 MM","UN",49.09,49.09,null,"CR"]
["SINAPI-I 1600","SINAPI-I",1600,"CONECTOR DE ALUMINIO TIPO PRENSA CABO, BITOLA 1\", PARA CABOS DE DIAMETRO DE 22,5 A 25 MM","UN",21.44,21.44,null,"CR"]
["SINAPI-I 1598","SINAPI-I",1598,"CONECTOR DE ALUMINIO TIPO PRENSA CABO, BITOLA 1/2\", PARA CABOS DE DIAMETRO DE 12,5 A 15 MM","UN",14.53,14.53,null,"CR"]
["SINAPI-I 1603","SINAPI-I",1603,"CONECTOR DE ALUMINIO TIPO PRENSA CABO, BITOLA 2\", PARA CABOS DE DIAMETRO DE 47,5 A 50 MM","UN",83.16,83.16,null,"CR"]
["SINAPI-I 1599","SINAPI-I",1599,"CONECTOR DE ALUMINIO TIPO PRENSA CABO, BITOLA 3/4\", PARA CABOS DE DIAMETRO DE 17,5 A 20 MM","UN",16.86,16.86,null,"CR"]
["SINAPI-I 1597","SINAPI-I",1597,"CONECTOR DE ALUMINIO TIPO PRENSA CABO, BITOLA 3/8\", PARA CABOS DE DIAMETRO DE 9 A 10 MM","UN",13.66,13.66,null,"CR"]
["SINAPI-I 39602","SINAPI-I",39602,"CONECTOR MACHO RJ 45, CATEGORIA 5 E (CAT 5E) PARA CABOS","UN",2.13,2.13,null,"CR"]
["SINAPI-I 39603","SINAPI-I",39603,"CONECTOR MACHO RJ 45, CATEGORIA 6 (CAT 6) PARA CABOS","UN",4.54,4.54,null,"CR"]
["SINAPI-I 11821","SINAPI-I",11821,"CONECTOR METALICO TIPO PARAFUSO FENDIDO (SPLIT BOLT), COM SEPARADOR DE CABOS BIMETALICOS, PARA CABOS ATE 25 MM2","UN",11.22,11.22,null,"CR"]
["SINAPI-I 1562","SINAPI-I",1562,"CONECTOR METALICO TIPO PARAFUSO FENDIDO (SPLIT BOLT), COM SEPARADOR DE CABOS BIMETALICOS, PARA CABOS ATE 50 MM2","UN",18.37,18.37,null,"CR"]
["SINAPI-I 1563","SINAPI-I",1563,"CONECTOR METALICO TIPO PARAFUSO FENDIDO (SPLIT BOLT), COM SEPARADOR DE CABOS BIMETALICOS, PARA CABOS ATE 70 MM2","UN",24.65,24.65,null,"CR"]
["SINAPI-I 11856","SINAPI-I",11856,"CONECTOR METALICO TIPO PARAFUSO FENDIDO (SPLIT BOLT), PARA CABOS ATE 10 MM2","UN",7.35,7.35,null,"C"]
["SINAPI-I 11857","SINAPI-I",11857,"CONECTOR METALICO TIPO PARAFUSO FENDIDO (SPLIT BOLT), PARA CABOS ATE 120 MM2","UN",38.68,38.68,null,"CR"]
["SINAPI-I 11858","SINAPI-I",11858,"CONECTOR METALICO TIPO PARAFUSO FENDIDO (SPLIT BOLT), PARA CABOS ATE 150 MM2","UN",48.01,48.01,null,"CR"]
["SINAPI-I 1539","SINAPI-I",1539,"CONECTOR METALICO TIPO PARAFUSO FENDIDO (SPLIT BOLT), PARA CABOS ATE 16 MM2","UN",8.64,8.64,null,"CR"]
["SINAPI-I 11859","SINAPI-I",11859,"CONECTOR METALICO TIPO PARAFUSO FENDIDO (SPLIT BOLT), PARA CABOS ATE 185 MM2","UN",65.319999999999993,65.319999999999993,null,"CR"]
["SINAPI-I 1550","SINAPI-I",1550,"CONECTOR METALICO TIPO PARAFUSO FENDIDO (SPLIT BOLT), PARA CABOS ATE 25 MM2","UN",9.11,9.11,null,"CR"]
["SINAPI-I 11854","SINAPI-I",11854,"CONECTOR METALICO TIPO PARAFUSO FENDIDO (SPLIT BOLT), PARA CABOS ATE 35 MM2","UN",11.38,11.38,null,"CR"]
["SINAPI-I 11862","SINAPI-I",11862,"CONECTOR METALICO TIPO PARAFUSO FENDIDO (SPLIT BOLT), PARA CABOS ATE 50 MM2","UN",15.97,15.97,null,"CR"]
["SINAPI-I 11863","SINAPI-I",11863,"CONECTOR METALICO TIPO PARAFUSO FENDIDO (SPLIT BOLT), PARA CABOS ATE 6 MM2","UN",6.45,6.45,null,"CR"]
["SINAPI-I 11855","SINAPI-I",11855,"CONECTOR METALICO TIPO PARAFUSO FENDIDO (SPLIT BOLT), PARA CABOS ATE 70 MM2","UN",23.84,23.84,null,"CR"]
[{"$f":"CONCATENATE($B1473,\" \",$C1473)","v":"SINAPI-I 11864"},"SINAPI-I",11864,"CONECTOR METALICO TIPO PARAFUSO FENDIDO (SPLIT BOLT), PARA CABOS ATE 95 MM2","UN",36.04,36.04,null,"CR"]
["SINAPI-I 2527","SINAPI-I",2527,"CONECTOR RETO DE ALUMINIO PARA ELETRODUTO DE 1 1/2\", PARA ADAPTAR ENTRADA DE ELETRODUTO METALICO FLEXIVEL EM QUADROS","UN",10.210000000000001,10.210000000000001,null,"CR"]
["SINAPI-I 2526","SINAPI-I",2526,"CONECTOR RETO DE ALUMINIO PARA ELETRODUTO DE 1 1/4\", PARA ADAPTAR ENTRADA DE ELETRODUTO METALICO FLEXIVEL EM QUADROS","UN",6.54,6.54,null,"CR"]
["SINAPI-I 2483","SINAPI-I",2483,"CONECTOR RETO DE ALUMINIO PARA ELETRODUTO DE 1\", PARA ADAPTAR ENTRADA DE ELETRODUTO METALICO FLEXIVEL EM QUADROS","UN",4.66,4.66,null,"CR"]
["SINAPI-I 2487","SINAPI-I",2487,"CONECTOR RETO DE ALUMINIO PARA ELETRODUTO DE 1/2\", PARA ADAPTAR ENTRADA DE ELETRODUTO METALICO FLEXIVEL EM QUADROS","UN",2.23,2.23,null,"CR"]
["SINAPI-I 2528","SINAPI-I",2528,"CONECTOR RETO DE ALUMINIO PARA ELETRODUTO DE 2 1/2\", PARA ADAPTAR ENTRADA DE ELETRODUTO METALICO FLEXIVEL EM QUADROS","UN",25.69,25.69,null,"CR"]
["SINAPI-I 2489","SINAPI-I",2489,"CONECTOR RETO DE ALUMINIO PARA ELETRODUTO DE 2\", PARA ADAPTAR ENTRADA DE ELETRODUTO METALICO FLEXIVEL EM QUADROS","UN",11.31,11.31,null,"CR"]
["SINAPI-I 2484","SINAPI-I",2484,"CONECTOR RETO DE ALUMINIO PARA ELETRODUTO DE 3\", PARA ADAPTAR ENTRADA DE ELETRODUTO METALICO FLEXIVEL EM QUADROS","UN",37.31,37.31,null,"CR"]
["SINAPI-I 2488","SINAPI-I",2488,"CONECTOR RETO DE ALUMINIO PARA ELETRODUTO DE 3/4\", PARA ADAPTAR ENTRADA DE ELETRODUTO METALICO FLEXIVEL EM QUADROS","UN",2.61,2.61,null,"CR"]
["SINAPI-I 2485","SINAPI-I",2485,"CONECTOR RETO DE ALUMINIO PARA ELETRODUTO DE 4\", PARA ADAPTAR ENTRADA DE ELETRODUTO METALICO FLEXIVEL EM QUADROS","UN",58.49,58.49,null,"CR"]
["SINAPI-I 44247","SINAPI-I",44247,"CONECTOR, CPVC, SOLDAVEL, 114 MM X 4\", PARA AGUA QUENTE","UN",1652.44,1652.44,null,"CR"]
["SINAPI-I 38005","SINAPI-I",38005,"CONECTOR, CPVC, SOLDAVEL, 15 MM X 1/2\", PARA AGUA QUENTE","UN",19.649999999999999,19.649999999999999,null,"CR"]
["SINAPI-I 38006","SINAPI-I",38006,"CONECTOR, CPVC, SOLDAVEL, 22 MM X 1/2\", PARA AGUA QUENTE","UN",26.11,26.11,null,"CR"]
["SINAPI-I 38428","SINAPI-I",38428,"CONECTOR, CPVC, SOLDAVEL, 22 MM X 3/4\", PARA AGUA QUENTE","UN",23.38,23.38,null,"CR"]
["SINAPI-I 38007","SINAPI-I",38007,"CONECTOR, CPVC, SOLDAVEL, 28 MM X 1\", PARA AGUA QUENTE","UN",30.12,30.12,null,"CR"]
["SINAPI-I 38008","SINAPI-I",38008,"CONECTOR, CPVC, SOLDAVEL, 35 MM X 1 1/4\", PARA AGUA QUENTE","UN",48.2,48.2,null,"CR"]
["SINAPI-I 38009","SINAPI-I",38009,"CONECTOR, CPVC, SOLDAVEL, 42 MM X 1 1/2\", PARA AGUA QUENTE","UN",59.01,59.01,null,"CR"]
["SINAPI-I 44248","SINAPI-I",44248,"CONECTOR, CPVC, SOLDAVEL, 54 MM X 2\", PARA AGUA QUENTE","UN",96.19,96.19,null,"CR"]
["SINAPI-I 44249","SINAPI-I",44249,"CONECTOR, CPVC, SOLDAVEL, 73 MM X 2 1/2\", PARA AGUA QUENTE","UN",371.12,371.12,null,"CR"]
["SINAPI-I 44250","SINAPI-I",44250,"CONECTOR, CPVC, SOLDAVEL, 89 MM X 3\", PARA AGUA QUENTE","UN",538.94000000000005,538.94000000000005,null,"CR"]
["SINAPI-I 39279","SINAPI-I",39279,"CONECTOR/ADAPTADOR FIXO, ROSCA FEMEA, EM PLASTICO, DN 16 MM X 1/2\", PARA CONEXAO COM CRIMPAGEM, EM TUBO PEX PARA INST. AGUA QUENTE/FRIA","UN"]
["SINAPI-I 39280","SINAPI-I",39280,"CONECTOR/ADAPTADOR FIXO, ROSCA FEMEA, EM PLASTICO, DN 20 MM X 1/2\", PARA CONEXAO COM CRIMPAGEM, EM TUBO PEX PARA INST. AGUA QUENTE/FRIA","UN"]
["SINAPI-I 39281","SINAPI-I",39281,"CONECTOR/ADAPTADOR FIXO, ROSCA FEMEA, EM PLASTICO, DN 20 MM X 3/4\", PARA CONEXAO COM CRIMPAGEM, EM TUBO PEX PARA INST. AGUA QUENTE/FRIA","UN"]
["SINAPI-I 39282","SINAPI-I",39282,"CONECTOR/ADAPTADOR FIXO, ROSCA FEMEA, EM PLASTICO, DN 25 MM X 3/4\", PARA CONEXAO COM CRIMPAGEM, EM TUBO PEX PARA INST. AGUA QUENTE/FRIA","UN"]
["SINAPI-I 38844","SINAPI-I",38844,"CONECTOR/ADAPTADOR FIXO, ROSCA FEMEA, METALICA, COM ANEL DESLIZANTE, DN 16 MM X 1/2\", PARA TUBO PEX PARA INST. AGUA QUENTE/FRIA","UN"]
["SINAPI-I 38846","SINAPI-I",38846,"CONECTOR/ADAPTADOR FIXO, ROSCA FEMEA, METALICA, COM ANEL DESLIZANTE, DN 20 MM X 1/2\", PARA TUBO PEX PARA INST. AGUA QUENTE/FRIA","UN"]
["SINAPI-I 38847","SINAPI-I",38847,"CONECTOR/ADAPTADOR FIXO, ROSCA FEMEA, METALICA, COM ANEL DESLIZANTE, DN 20 MM X 3/4\", PARA TUBO PEX PARA INST. AGUA QUENTE/FRIA","UN"]
["SINAPI-I 38850","SINAPI-I",38850,"CONECTOR/ADAPTADOR FIXO, ROSCA FEMEA, METALICA, COM ANEL DESLIZANTE, DN 25 MM X 1\", PARA TUBO PEX PARA INST. AGUA QUENTE/FRIA","UN"]
["SINAPI-I 38848","SINAPI-I",38848,"CONECTOR/ADAPTADOR FIXO, ROSCA FEMEA, METALICA, COM ANEL DESLIZANTE, DN 25 MM X 3/4\", PARA TUBO PEX PARA INST. AGUA QUENTE/FRIA","UN"]
["SINAPI-I 38851","SINAPI-I",38851,"CONECTOR/ADAPTADOR FIXO, ROSCA FEMEA, METALICA, COM ANEL DESLIZANTE, DN 32 MM X 1\", PARA TUBO PEX PARA INST. AGUA QUENTE/FRIA","UN"]
["SINAPI-I 38854","SINAPI-I",38854,"CONECTOR/ADAPTADOR MOVEL, ROSCA FEMEA, METALICA, COM ANEL DESLIZANTE, DN 16 MM X 3/4\", PARA TUBO PEX PARA INST. AGUA QUENTE/FRIA","UN"]
["SINAPI-I 3104","SINAPI-I",3104,"CONJ. DE FERRAGENS PARA PORTA DE VIDRO TEMPERADO, EM ZAMAC CROMADO, CONTEMPLANDO DOBRADICA INF., DOBRADICA SUP., PIVO PARA DOBRADICA INF., PIVO PARA DOBRADICA SUP., FECHADURA CENTRAL EM ZAMC. CROMADO, CONTRA FECHADURA DE PRESSAO","CJ",157.05000000000001,157.05000000000001,null,"CR"]
["SINAPI-I 1607","SINAPI-I",1607,"CONJUNTO ARRUELAS DE VEDACAO 5/16\" PARA TELHA FIBROCIMENTO (UMA ARRUELA METALICA E UMA ARRUELA PVC - CONICAS)","CJ",0.18,0.18,null,"CR"]
["SINAPI-I 38169","SINAPI-I",38169,"CONJUNTO DE FERRAGENS PIVO, PARA PORTA PIVOTANTE DE ATE 100 KG, REGULAVEL COM ESFERA, CROMADO - SUPERIOR E INFERIOR - COMPLETO","CJ",77.180000000000007,77.180000000000007,null,"CR"]
["SINAPI-I 6142","SINAPI-I",6142,"CONJUNTO DE LIGACAO AJUSTAVEL, PARA VASO / BACIA SANITARIA, EM PLASTICO BRANCO, COM TUBO, CANOPLA E ESPUDE","UN",9.43,9.43,null,"CR"]
["SINAPI-I 11686","SINAPI-I",11686,"CONJUNTO DE LIGACAO PARA VASO / BACIA SANITARIA, EM PLASTICO BRANCO, COM TUBO, CANOPLA E ANEL DE EXPANSAO (TUBO 1.1/2\" X 20 CM)","UN",13.1,13.1,null,"CR"]
["SINAPI-I 37598","SINAPI-I",37598,"CONJUNTO MONTADO ESTOPIM COM ESPOLETA COMUM NUMERO 8, COM CABECA ACENDEDORA, 1,5 M","UN"]
["SINAPI-I 25398","SINAPI-I",25398,"CONJUNTO PARA FUTSAL COM PAR DE TRAVES OFICIAIS DE 3,00 X 2,00 M EM TUBO DE ACO GALVANIZADO 3\" COM REQUADROS EM TUBO DE 1\", PINTURA EM PRIMER COM TINTA ESMALTE SINTETICO E REDES DE POLIETILENO FIO 4 MM","UN"]
["SINAPI-I 25399","SINAPI-I",25399,"CONJUNTO PARA QUADRA DE VOLEI COM POSTES EM TUBO DE ACO GALVANIZADO 3\", H = *255* CM, PINTURA EM TINTA ESMALTE SINTETICO, REDE DE NYLON COM 2 MM, MALHA 10 X 10 CM E ANTENAS OFICIAIS EM FIBRA DE VIDRO","UN"]
["SINAPI-I 43440","SINAPI-I",43440,"CONJUNTO PRE-MOLDADO COMPOSTO POR GRELHA (0,99 X 0,45 M), QUADRO (1,10 X 0,52 M) E CANTONEIRA (1,10 X 0,35 M), EM CONCRETO ARMADO, COM FCK DE 21 MPA","UN"]
["SINAPI-I 10667","SINAPI-I",10667,"CONTAINER ALMOXARIFADO, DE *2,40* X *6,00* M, PADRAO SIMPLES, SEM REVESTIMENTO E SEM DIVISORIAS INTERNOS E SEM SANITARIO, PARA USO EM CANTEIRO DE OBRAS","UN",16500,16500,null,"C"]
["SINAPI-I 1613","SINAPI-I",1613,"CONTATOR TRIPOLAR, CORRENTE DE *110* A, TENSAO NOMINAL DE *500* V, CATEGORIA AC-2 E AC-3","UN"]
["SINAPI-I 1626","SINAPI-I",1626,"CONTATOR TRIPOLAR, CORRENTE DE *185* A, TENSAO NOMINAL DE *500* V, CATEGORIA AC-2 E AC-3","UN"]
["SINAPI-I 1625","SINAPI-I",1625,"CONTATOR TRIPOLAR, CORRENTE DE *22* A, TENSAO NOMINAL DE *500* V, CATEGORIA AC-2 E AC-3","UN"]
["SINAPI-I 1622","SINAPI-I",1622,"CONTATOR TRIPOLAR, CORRENTE DE *265* A, TENSAO NOMINAL DE *500* V, CATEGORIA AC-2 E AC-3","UN"]
["SINAPI-I 1620","SINAPI-I",1620,"CONTATOR TRIPOLAR, CORRENTE DE *38* A, TENSAO NOMINAL DE *500* V, CATEGORIA AC-2 E AC-3","UN"]
["SINAPI-I 1629","SINAPI-I",1629,"CONTATOR TRIPOLAR, CORRENTE DE *500* A, TENSAO NOMINAL DE *500* V, CATEGORIA AC-2 E AC-3","UN"]
["SINAPI-I 1627","SINAPI-I",1627,"CONTATOR TRIPOLAR, CORRENTE DE *65* A, TENSAO NOMINAL DE *500* V, CATEGORIA AC-2 E AC-3","UN"]
["SINAPI-I 1623","SINAPI-I",1623,"CONTATOR TRIPOLAR, CORRENTE DE 12 A, TENSAO NOMINAL DE *500* V, CATEGORIA AC-2 E AC-3","UN"]
["SINAPI-I 1619","SINAPI-I",1619,"CONTATOR TRIPOLAR, CORRENTE DE 25 A, TENSAO NOMINAL DE *500* V, CATEGORIA AC-2 E AC-3","UN"]
["SINAPI-I 1630","SINAPI-I",1630,"CONTATOR TRIPOLAR, CORRENTE DE 250 A, TENSAO NOMINAL DE *500* V, PARA ACIONAMENTO DE CAPACITORES","UN"]
["SINAPI-I 1616","SINAPI-I",1616,"CONTATOR TRIPOLAR, CORRENTE DE 300 A, TENSAO NOMINAL DE *500* V, CATEGORIA AC-2 E AC-3","UN"]
["SINAPI-I 1614","SINAPI-I",1614,"CONTATOR TRIPOLAR, CORRENTE DE 32 A, TENSAO NOMINAL DE *500* V, CATEGORIA AC-2 E AC-3","UN"]
["SINAPI-I 1617","SINAPI-I",1617,"CONTATOR TRIPOLAR, CORRENTE DE 400 A, TENSAO NOMINAL DE *500* V, CATEGORIA AC-2 E AC-3","UN"]
["SINAPI-I 1621","SINAPI-I",1621,"CONTATOR TRIPOLAR, CORRENTE DE 45 A, TENSAO NOMINAL DE *500* V, CATEGORIA AC-2 E AC-3","UN"]
["SINAPI-I 1624","SINAPI-I",1624,"CONTATOR TRIPOLAR, CORRENTE DE 630 A, TENSAO NOMINAL DE *500* V, CATEGORIA AC-2 E AC-3","UN"]
["SINAPI-I 1615","SINAPI-I",1615,"CONTATOR TRIPOLAR, CORRENTE DE 75 A, TENSAO NOMINAL DE *500* V, CATEGORIA AC-2 E AC-3","UN"]
["SINAPI-I 1612","SINAPI-I",1612,"CONTATOR TRIPOLAR, CORRENTE DE 9 A, TENSAO NOMINAL DE *500* V, CATEGORIA AC-2 E AC-3","UN"]
["SINAPI-I 1618","SINAPI-I",1618,"CONTATOR TRIPOLAR, CORRENTE DE 95 A, TENSAO NOMINAL DE *500* V, CATEGORIA AC-2 E AC-3","UN"]
["SINAPI-I 14211","SINAPI-I",14211,"CONTRA-PORCA SEXTAVADA, DIAMETRO NOMINAL 1 3/8\", ALTURA 35 MM","UN",40.35,40.35,null,"CR"]
["SINAPI-I 43657","SINAPI-I",43657,"CONTRAMARCO DE ALUMINIO (PERFIL 25) PARA ESQUADRIAS, TIPO CONVENCIONAL / CADEIRINHA, 60 MM (CM-060), INCLUSO CONEXOES, GRAPAS E TRAVAMENTOS","M",14.97,14.97,null,"CR"]
["SINAPI-I 38200","SINAPI-I",38200,"CORDA DE POLIAMIDA 12 MM TIPO BOMBEIRO, PARA TRABALHO EM ALTURA","100M",452.31,452.31,null,"CR"]
["SINAPI-I 39269","SINAPI-I",39269,"CORDAO DE COBRE, FLEXIVEL, TORCIDO, CLASSE 4 OU 5, ISOLACAO EM PVC/D, 300 V, 2 CONDUTORES DE 0,5 MM2","M",1.42,1.42,null,"CR"]
["SINAPI-I 11889","SINAPI-I",11889,"CORDAO DE COBRE, FLEXIVEL, TORCIDO, CLASSE 4 OU 5, ISOLACAO EM PVC/D, 300 V, 2 CONDUTORES DE 0,75 MM2","M",1.95,1.95,null,"CR"]
[{"$f":"CONCATENATE($B1537,\" \",$C1537)","v":"SINAPI-I 39270"},"SINAPI-I",39270,"CORDAO DE COBRE, FLEXIVEL, TORCIDO, CLASSE 4 OU 5, ISOLACAO EM PVC/D, 300 V, 2 CONDUTORES DE 1,0 MM2","M",2.54,2.54,null,"CR"]
["SINAPI-I 11890","SINAPI-I",11890,"CORDAO DE COBRE, FLEXIVEL, TORCIDO, CLASSE 4 OU 5, ISOLACAO EM PVC/D, 300 V, 2 CONDUTORES DE 1,5 MM2","M",3.45,3.45,null,"CR"]
["SINAPI-I 11891","SINAPI-I",11891,"CORDAO DE COBRE, FLEXIVEL, TORCIDO, CLASSE 4 OU 5, ISOLACAO EM PVC/D, 300 V, 2 CONDUTORES DE 2,5 MM2","M",5.6,5.6,null,"CR"]
["SINAPI-I 11892","SINAPI-I",11892,"CORDAO DE COBRE, FLEXIVEL, TORCIDO, CLASSE 4 OU 5, ISOLACAO EM PVC/D, 300 V, 2 CONDUTORES DE 4 MM2","M",9.16,9.16,null,"CR"]
["SINAPI-I 37601","SINAPI-I",37601,"CORDEL DETONANTE, NP 05 G/M","M"]
["SINAPI-I 1634","SINAPI-I",1634,"CORDEL DETONANTE, NP 10 G/M","M"]
["SINAPI-I 44274","SINAPI-I",44274,"COROA PARA PERFURATRIZ T38, D = 2 1/2\", 6 X 4 BOTOES BALISTICOS, FACE PLANA","UN",743.49,743.49,null,"CR"]
["SINAPI-I 5086","SINAPI-I",5086,"CORRENTE DE ELO CURTO COMUM, SOLDADA, GALVANIZADA, ESPESSURA DO ELO = 1/2\" (12,5 MM)","KG",31.95,31.95,null,"CR"]
["SINAPI-I 45244","SINAPI-I",45244,"CORTA-TUBOS COM CAPACIDADE DE 6 A 42 MM","UN",71.03,71.03,null,"CR"]
["SINAPI-I 11280","SINAPI-I",11280,"CORTADEIRA DE PISO DE CONCRETO E ASFALTO, PARA DISCO PADRAO DE DIAMETRO 350 MM (14\") OU 450 MM (18\"), MOTOR A GASOLINA, POTENCIA 13 HP, SEM DISCO","UN",15213.55,15213.55,null,"CR"]
["SINAPI-I 40519","SINAPI-I",40519,"CORTADEIRA HIDRAULICA DE VERGALHAO, PARA ACO DE DIAMETRO ATE 50 MM, MOTOR ELETRICO TRIFASICO, POTENCIA DE 5,5 HP A 7,5 HP","UN",125415.36,125415.36,null,"CR"]
["SINAPI-I 3446","SINAPI-I",3446,"COTOVELO 45 GRAUS DE FERRO GALVANIZADO, COM ROSCA BSP, DE 1 1/2\"","UN"]
["SINAPI-I 3445","SINAPI-I",3445,"COTOVELO 45 GRAUS DE FERRO GALVANIZADO, COM ROSCA BSP, DE 1 1/4\"","UN"]
["SINAPI-I 3444","SINAPI-I",3444,"COTOVELO 45 GRAUS DE FERRO GALVANIZADO, COM ROSCA BSP, DE 1\"","UN"]
["SINAPI-I 3441","SINAPI-I",3441,"COTOVELO 45 GRAUS DE FERRO GALVANIZADO, COM ROSCA BSP, DE 1/2\"","UN"]
["SINAPI-I 12402","SINAPI-I",12402,"COTOVELO 45 GRAUS DE FERRO GALVANIZADO, COM ROSCA BSP, DE 2 1/2\"","UN"]
["SINAPI-I 3447","SINAPI-I",3447,"COTOVELO 45 GRAUS DE FERRO GALVANIZADO, COM ROSCA BSP, DE 2\"","UN"]
["SINAPI-I 3448","SINAPI-I",3448,"COTOVELO 45 GRAUS DE FERRO GALVANIZADO, COM ROSCA BSP, DE 3\"","UN"]
["SINAPI-I 3442","SINAPI-I",3442,"COTOVELO 45 GRAUS DE FERRO GALVANIZADO, COM ROSCA BSP, DE 3/4\"","UN"]
["SINAPI-I 3449","SINAPI-I",3449,"COTOVELO 45 GRAUS DE FERRO GALVANIZADO, COM ROSCA BSP, DE 4\"","UN"]
["SINAPI-I 37438","SINAPI-I",37438,"COTOVELO 45 GRAUS, PEAD PE 100, DE 125 MM, PARA ELETROFUSAO","UN"]
["SINAPI-I 37439","SINAPI-I",37439,"COTOVELO 45 GRAUS, PEAD PE 100, DE 200 MM, PARA ELETROFUSAO","UN"]
["SINAPI-I 37435","SINAPI-I",37435,"COTOVELO 45 GRAUS, PEAD PE 100, DE 32 MM, PARA ELETROFUSAO","UN"]
["SINAPI-I 37436","SINAPI-I",37436,"COTOVELO 45 GRAUS, PEAD PE 100, DE 40 MM, PARA ELETROFUSAO","UN"]
["SINAPI-I 37437","SINAPI-I",37437,"COTOVELO 45 GRAUS, PEAD PE 100, DE 63 MM, PARA ELETROFUSAO","UN"]
["SINAPI-I 3473","SINAPI-I",3473,"COTOVELO 90 GRAUS DE FERRO GALVANIZADO, COM ROSCA BSP MACHO/FEMEA, DE 1 1/2\"","UN"]
["SINAPI-I 3474","SINAPI-I",3474,"COTOVELO 90 GRAUS DE FERRO GALVANIZADO, COM ROSCA BSP MACHO/FEMEA, DE 1 1/4\"","UN"]
["SINAPI-I 3443","SINAPI-I",3443,"COTOVELO 90 GRAUS DE FERRO GALVANIZADO, COM ROSCA BSP MACHO/FEMEA, DE 1\"","UN"]
["SINAPI-I 3450","SINAPI-I",3450,"COTOVELO 90 GRAUS DE FERRO GALVANIZADO, COM ROSCA BSP MACHO/FEMEA, DE 1/2\"","UN"]
["SINAPI-I 3453","SINAPI-I",3453,"COTOVELO 90 GRAUS DE FERRO GALVANIZADO, COM ROSCA BSP MACHO/FEMEA, DE 2 1/2\"","UN"]
["SINAPI-I 3452","SINAPI-I",3452,"COTOVELO 90 GRAUS DE FERRO GALVANIZADO, COM ROSCA BSP MACHO/FEMEA, DE 2\"","UN"]
["SINAPI-I 3454","SINAPI-I",3454,"COTOVELO 90 GRAUS DE FERRO GALVANIZADO, COM ROSCA BSP MACHO/FEMEA, DE 3\"","UN"]
["SINAPI-I 3451","SINAPI-I",3451,"COTOVELO 90 GRAUS DE FERRO GALVANIZADO, COM ROSCA BSP MACHO/FEMEA, DE 3/4\"","UN"]
["SINAPI-I 3458","SINAPI-I",3458,"COTOVELO 90 GRAUS DE FERRO GALVANIZADO, COM ROSCA BSP, DE 1 1/2\"","UN"]
["SINAPI-I 3457","SINAPI-I",3457,"COTOVELO 90 GRAUS DE FERRO GALVANIZADO, COM ROSCA BSP, DE 1 1/4\"","UN"]
["SINAPI-I 3472","SINAPI-I",3472,"COTOVELO 90 GRAUS DE FERRO GALVANIZADO, COM ROSCA BSP, DE 1\"","UN"]
["SINAPI-I 3455","SINAPI-I",3455,"COTOVELO 90 GRAUS DE FERRO GALVANIZADO, COM ROSCA BSP, DE 1/2\"","UN"]
["SINAPI-I 3470","SINAPI-I",3470,"COTOVELO 90 GRAUS DE FERRO GALVANIZADO, COM ROSCA BSP, DE 2 1/2\"","UN"]
["SINAPI-I 3471","SINAPI-I",3471,"COTOVELO 90 GRAUS DE FERRO GALVANIZADO, COM ROSCA BSP, DE 2\"","UN"]
["SINAPI-I 3459","SINAPI-I",3459,"COTOVELO 90 GRAUS DE FERRO GALVANIZADO, COM ROSCA BSP, DE 3\"","UN"]
["SINAPI-I 3456","SINAPI-I",3456,"COTOVELO 90 GRAUS DE FERRO GALVANIZADO, COM ROSCA BSP, DE 3/4\"","UN"]
["SINAPI-I 3469","SINAPI-I",3469,"COTOVELO 90 GRAUS DE FERRO GALVANIZADO, COM ROSCA BSP, DE 4\"","UN"]
["SINAPI-I 3460","SINAPI-I",3460,"COTOVELO 90 GRAUS DE FERRO GALVANIZADO, COM ROSCA BSP, DE 5\"","UN"]
["SINAPI-I 3461","SINAPI-I",3461,"COTOVELO 90 GRAUS DE FERRO GALVANIZADO, COM ROSCA BSP, DE 6\"","UN"]
["SINAPI-I 37433","SINAPI-I",37433,"COTOVELO 90 GRAUS, PEAD PE 100, DE 125 MM, PARA ELETROFUSAO","UN"]
["SINAPI-I 37430","SINAPI-I",37430,"COTOVELO 90 GRAUS, PEAD PE 100, DE 20 MM, PARA ELETROFUSAO","UN"]
["SINAPI-I 37434","SINAPI-I",37434,"COTOVELO 90 GRAUS, PEAD PE 100, DE 200 MM, PARA ELETROFUSAO","UN"]
["SINAPI-I 37431","SINAPI-I",37431,"COTOVELO 90 GRAUS, PEAD PE 100, DE 32 MM, PARA ELETROFUSAO","UN"]
["SINAPI-I 37432","SINAPI-I",37432,"COTOVELO 90 GRAUS, PEAD PE 100, DE 63 MM, PARA ELETROFUSAO","UN"]
["SINAPI-I 39869","SINAPI-I",39869,"COTOVELO BRONZE/LATAO SEM ANEL DE SOLDA, BOLSA X ROSCA F, 15MM X 1/2\"","UN"]
["SINAPI-I 39870","SINAPI-I",39870,"COTOVELO BRONZE/LATAO SEM ANEL DE SOLDA, BOLSA X ROSCA F, 22MM X 1/2\"","UN"]
["SINAPI-I 39871","SINAPI-I",39871,"COTOVELO BRONZE/LATAO SEM ANEL DE SOLDA, BOLSA X ROSCA F, 22MM X 3/4\"","UN"]
["SINAPI-I 12722","SINAPI-I",12722,"COTOVELO DE COBRE 90 GRAUS SEM ANEL DE SOLDA, BOLSA X BOLSA, 104 MM","UN"]
["SINAPI-I 12714","SINAPI-I",12714,"COTOVELO DE COBRE 90 GRAUS SEM ANEL DE SOLDA, BOLSA X BOLSA, 15 MM","UN"]
["SINAPI-I 12715","SINAPI-I",12715,"COTOVELO DE COBRE 90 GRAUS SEM ANEL DE SOLDA, BOLSA X BOLSA, 22 MM","UN"]
["SINAPI-I 12716","SINAPI-I",12716,"COTOVELO DE COBRE 90 GRAUS SEM ANEL DE SOLDA, BOLSA X BOLSA, 28 MM","UN"]
["SINAPI-I 12717","SINAPI-I",12717,"COTOVELO DE COBRE 90 GRAUS SEM ANEL DE SOLDA, BOLSA X BOLSA, 35 MM","UN"]
["SINAPI-I 12718","SINAPI-I",12718,"COTOVELO DE COBRE 90 GRAUS SEM ANEL DE SOLDA, BOLSA X BOLSA, 42 MM","UN"]
["SINAPI-I 12719","SINAPI-I",12719,"COTOVELO DE COBRE 90 GRAUS SEM ANEL DE SOLDA, BOLSA X BOLSA, 54 MM","UN"]
["SINAPI-I 12720","SINAPI-I",12720,"COTOVELO DE COBRE 90 GRAUS SEM ANEL DE SOLDA, BOLSA X BOLSA, 66 MM","UN"]
["SINAPI-I 12721","SINAPI-I",12721,"COTOVELO DE COBRE 90 GRAUS SEM ANEL DE SOLDA, BOLSA X BOLSA, 79 MM","UN"]
["SINAPI-I 3468","SINAPI-I",3468,"COTOVELO DE REDUCAO 90 GRAUS DE FERRO GALVANIZADO, COM ROSCA BSP, DE 1 1/2\" X 1\"","UN"]
["SINAPI-I 3465","SINAPI-I",3465,"COTOVELO DE REDUCAO 90 GRAUS DE FERRO GALVANIZADO, COM ROSCA BSP, DE 1 1/2\" X 3/4\"","UN"]
["SINAPI-I 12403","SINAPI-I",12403,"COTOVELO DE REDUCAO 90 GRAUS DE FERRO GALVANIZADO, COM ROSCA BSP, DE 1 1/4\" X 1\"","UN"]
[{"$f":"CONCATENATE($B1601,\" \",$C1601)","v":"SINAPI-I 3463"},"SINAPI-I",3463,"COTOVELO DE REDUCAO 90 GRAUS DE FERRO GALVANIZADO, COM ROSCA BSP, DE 1\" X 1/2\"","UN"]
["SINAPI-I 3464","SINAPI-I",3464,"COTOVELO DE REDUCAO 90 GRAUS DE FERRO GALVANIZADO, COM ROSCA BSP, DE 1\" X 3/4\"","UN"]
["SINAPI-I 3466","SINAPI-I",3466,"COTOVELO DE REDUCAO 90 GRAUS DE FERRO GALVANIZADO, COM ROSCA BSP, DE 2 1/2\" X 2\"","UN"]
["SINAPI-I 3467","SINAPI-I",3467,"COTOVELO DE REDUCAO 90 GRAUS DE FERRO GALVANIZADO, COM ROSCA BSP, DE 2\" X 1 1/2\"","UN"]
["SINAPI-I 3462","SINAPI-I",3462,"COTOVELO DE REDUCAO 90 GRAUS DE FERRO GALVANIZADO, COM ROSCA BSP, DE 3/4\" X 1/2\"","UN"]
["SINAPI-I 37416","SINAPI-I",37416,"COTOVELO/JOELHO 90 GRAUS, EM POLIPROPILENO, PN 16, PARA TUBOS PEAD, 20 X 20 MM - LIGACAO PREDIAL DE AGUA","UN"]
["SINAPI-I 37417","SINAPI-I",37417,"COTOVELO/JOELHO 90 GRAUS, EM POLIPROPILENO, PN 16, PARA TUBOS PEAD, 32 X 32 MM - LIGACAO PREDIAL DE AGUA","UN"]
["SINAPI-I 37413","SINAPI-I",37413,"COTOVELO/JOELHO COM ADAPTADOR, 90 GRAUS, EM POLIPROPILENO, PN 16, PARA TUBOS PEAD, 20 MM X 1/2\" - LIGACAO PREDIAL DE AGUA","UN"]
["SINAPI-I 37414","SINAPI-I",37414,"COTOVELO/JOELHO COM ADAPTADOR, 90 GRAUS, EM POLIPROPILENO, PN 16, PARA TUBOS PEAD, 20 MM X 3/4\" - LIGACAO PREDIAL DE AGUA","UN"]
["SINAPI-I 37415","SINAPI-I",37415,"COTOVELO/JOELHO COM ADAPTADOR, 90 GRAUS, EM POLIPROPILENO, PN 16, PARA TUBOS PEAD, 32 MM X 1\" - LIGACAO PREDIAL DE AGUA","UN"]
["SINAPI-I 43590","SINAPI-I",43590,"CREMONA RETANGULAR INJETADA LISA COM CHAVE, COM CASTANHA / ALCA, EM LATAO, COM ACABAMENTO CROMADO, DE SOBREPOR / EMBUTIR","UN",148.55000000000001,148.55000000000001,null,"CR"]
["SINAPI-I 43589","SINAPI-I",43589,"CREMONA RETANGULAR INJETADA LISA, COM CASTANHA / ALCA, EM LATAO, COM ACABAMENTO CROMADO, DE SOBREPOR / EMBUTIR","UN",26.87,26.87,null,"CR"]
["SINAPI-I 34519","SINAPI-I",34519,"CRUZETA DE CONCRETO LEVE, COMP. 2000 MM SECAO, 90 X 90 MM","UN"]
["SINAPI-I 1649","SINAPI-I",1649,"CRUZETA DE FERRO GALVANIZADO, COM ROSCA BSP, DE 1 1/2\"","UN"]
["SINAPI-I 1653","SINAPI-I",1653,"CRUZETA DE FERRO GALVANIZADO, COM ROSCA BSP, DE 1 1/4\"","UN"]
["SINAPI-I 1648","SINAPI-I",1648,"CRUZETA DE FERRO GALVANIZADO, COM ROSCA BSP, DE 1\"","UN"]
["SINAPI-I 1647","SINAPI-I",1647,"CRUZETA DE FERRO GALVANIZADO, COM ROSCA BSP, DE 1/2\"","UN"]
["SINAPI-I 1651","SINAPI-I",1651,"CRUZETA DE FERRO GALVANIZADO, COM ROSCA BSP, DE 2 1/2\"","UN"]
["SINAPI-I 1650","SINAPI-I",1650,"CRUZETA DE FERRO GALVANIZADO, COM ROSCA BSP, DE 2\"","UN"]
["SINAPI-I 1652","SINAPI-I",1652,"CRUZETA DE FERRO GALVANIZADO, COM ROSCA BSP, DE 3\"","UN"]
["SINAPI-I 1654","SINAPI-I",1654,"CRUZETA DE FERRO GALVANIZADO, COM ROSCA BSP, DE 3/4\"","UN"]
["SINAPI-I 10510","SINAPI-I",10510,"CRUZETA DE MADEIRA TRATADA, *90 X 115 X 2400* MM, EM EUCALIPTO OU EQUIVALENTE DA REGIAO","UN",193.97,193.97,null,"CR"]
["SINAPI-I 1744","SINAPI-I",1744,"CUBA ACO INOX (AISI 304) DE EMBUTIR COM VALVULA 3 1/2 \", DE *40 X 34 X 12* CM","UN",165.7,165.7,null,"CR"]
["SINAPI-I 1743","SINAPI-I",1743,"CUBA ACO INOX (AISI 304) DE EMBUTIR COM VALVULA 3 1/2 \", DE *46 X 30 X 12* CM","UN",217.59,217.59,null,"CR"]
["SINAPI-I 1747","SINAPI-I",1747,"CUBA ACO INOX (AISI 304) DE EMBUTIR COM VALVULA DE 3 1/2 \", DE *56 X 33 X 12* CM","UN",239.22,239.22,null,"CR"]
["SINAPI-I 39640","SINAPI-I",39640,"CUMEEIRA ARTICULADA (ABA INFERIOR) PARA TELHA ONDULADA DE FIBROCIMENTO E = 4 MM, ABA *330* MM, COMPRIMENTO 500 MM (SEM AMIANTO)","UN",12.13,12.13,null,"CR"]
["SINAPI-I 7216","SINAPI-I",7216,"CUMEEIRA NORMAL PARA TELHA ESTRUTURAL DE FIBROCIMENTO 2 ABAS, E = 6 MM, DE 1050 X 935 MM (SEM AMIANTO)","UN",65.19,65.19,null,"CR"]
["SINAPI-I 20235","SINAPI-I",20235,"CUMEEIRA NORMAL PARA TELHA ONDULADA DE FIBROCIMENTO, E = 6 MM, ABA 300 MM, COMPRIMENTO 1100 MM (SEM AMIANTO)","UN",52.41,52.41,null,"CR"]
["SINAPI-I 7181","SINAPI-I",7181,"CUMEEIRA PARA TELHA CERAMICA, COMPRIMENTO DE *41* CM, RENDIMENTO DE *3* TELHAS/M","UN",4.08,4.08,null,"CR"]
["SINAPI-I 40742","SINAPI-I",40742,"CUMEEIRA PARA TELHA DE CONCRETO, PARA 2 AGUAS DE TELHADO, COR CINZA, RENDIMENTO DE *3* TELHAS/M","UN",10.1,10.1,null,"CR"]
["SINAPI-I 7214","SINAPI-I",7214,"CUMEEIRA SHED PARA TELHA ONDULADA DE FIBROCIMENTO, E = 6 MM, ABA 280 MM, COMPRIMENTO 1100 MM (SEM AMIANTO)","UN",63.66,63.66,null,"CR"]
["SINAPI-I 7219","SINAPI-I",7219,"CUMEEIRA UNIVERSAL PARA TELHA ONDULADA DE FIBROCIMENTO, E = 6 MM, ABA 210 MM, COMPRIMENTO 1100 MM (SEM AMIANTO)","UN",56.46,56.46,null,"CR"]
["SINAPI-I 2628","SINAPI-I",2628,"CURVA 135 GRAUS PARA ELETRODUTO, EM ACO GALVANIZADO ELETROLITICO, COM ROSCA, DIAMETRO DE 100 MM (4\")","UN",233.54,233.54,null,"CR"]
["SINAPI-I 2622","SINAPI-I",2622,"CURVA 135 GRAUS PARA ELETRODUTO, EM ACO GALVANIZADO ELETROLITICO, COM ROSCA, DIAMETRO DE 15 MM (1/2\"), ESPESSURA DE 1,50 MM","UN",5.54,5.54,null,"CR"]
["SINAPI-I 2623","SINAPI-I",2623,"CURVA 135 GRAUS PARA ELETRODUTO, EM ACO GALVANIZADO ELETROLITICO, COM ROSCA, DIAMETRO DE 20 MM (3/4\"), ESPESSURA DE 1,50 MM","UN",6.67,6.67,null,"CR"]
["SINAPI-I 2624","SINAPI-I",2624,"CURVA 135 GRAUS PARA ELETRODUTO, EM ACO GALVANIZADO ELETROLITICO, COM ROSCA, DIAMETRO DE 25 MM (1\"), ESPESSURA DE 1,50 MM","UN",10.61,10.61,null,"CR"]
["SINAPI-I 2625","SINAPI-I",2625,"CURVA 135 GRAUS PARA ELETRODUTO, EM ACO GALVANIZADO ELETROLITICO, COM ROSCA, DIAMETRO DE 32 MM (1 1/4\"), ESPESSURA DE 1,50 MM","UN",22.41,22.41,null,"CR"]
["SINAPI-I 2626","SINAPI-I",2626,"CURVA 135 GRAUS PARA ELETRODUTO, EM ACO GALVANIZADO ELETROLITICO, COM ROSCA, DIAMETRO DE 40 MM (1 1/2\"), ESPESSURA DE 1,50 MM","UN",32.83,32.83,null,"CR"]
["SINAPI-I 2630","SINAPI-I",2630,"CURVA 135 GRAUS PARA ELETRODUTO, EM ACO GALVANIZADO ELETROLITICO, COM ROSCA, DIAMETRO DE 50 MM (2\")","UN",49.94,49.94,null,"CR"]
["SINAPI-I 2627","SINAPI-I",2627,"CURVA 135 GRAUS PARA ELETRODUTO, EM ACO GALVANIZADO ELETROLITICO, COM ROSCA, DIAMETRO DE 65 MM (2 1/2\")","UN",87.97,87.97,null,"CR"]
["SINAPI-I 2629","SINAPI-I",2629,"CURVA 135 GRAUS PARA ELETRODUTO, EM ACO GALVANIZADO ELETROLITICO, COM ROSCA, DIAMETRO DE 80 MM (3\")","UN",118.98,118.98,null,"CR"]
["SINAPI-I 1880","SINAPI-I",1880,"CURVA 135 GRAUS, DE PVC RIGIDO ROSCAVEL, DE 1\", PARA ELETRODUTO","UN",5.67,5.67,null,"CR"]
["SINAPI-I 39274","SINAPI-I",39274,"CURVA 135 GRAUS, DE PVC RIGIDO ROSCAVEL, DE 3/4\", PARA ELETRODUTO","UN",4.4000000000000004,4.4000000000000004,null,"CR"]
["SINAPI-I 12033","SINAPI-I",12033,"CURVA 180 GRAUS, DE PVC RIGIDO ROSCAVEL, DE 1 1/2\", PARA ELETRODUTO","UN",18.11,18.11,null,"CR"]
["SINAPI-I 40408","SINAPI-I",40408,"CURVA 180 GRAUS, DE PVC RIGIDO ROSCAVEL, DE 1 1/4\", PARA ELETRODUTO","UN",11.9,11.9,null,"CR"]
["SINAPI-I 39276","SINAPI-I",39276,"CURVA 180 GRAUS, DE PVC RIGIDO ROSCAVEL, DE 1\", PARA ELETRODUTO","UN",10.72,10.72,null,"CR"]
["SINAPI-I 40409","SINAPI-I",40409,"CURVA 180 GRAUS, DE PVC RIGIDO ROSCAVEL, DE 1/2\", PARA ELETRODUTO","UN",4.21,4.21,null,"CR"]
["SINAPI-I 39277","SINAPI-I",39277,"CURVA 180 GRAUS, DE PVC RIGIDO ROSCAVEL, DE 2\", PARA ELETRODUTO","UN",28.94,28.94,null,"CR"]
["SINAPI-I 12034","SINAPI-I",12034,"CURVA 180 GRAUS, DE PVC RIGIDO ROSCAVEL, DE 3/4\", PARA ELETRODUTO","UN",8.1999999999999993,8.1999999999999993,null,"CR"]
["SINAPI-I 39879","SINAPI-I",39879,"CURVA 45 GRAUS DE COBRE SEM ANEL DE SOLDA, BOLSA X BOLSA, 15 MM","UN"]
["SINAPI-I 39880","SINAPI-I",39880,"CURVA 45 GRAUS DE COBRE SEM ANEL DE SOLDA, BOLSA X BOLSA, 22 MM","UN"]
["SINAPI-I 39881","SINAPI-I",39881,"CURVA 45 GRAUS DE COBRE SEM ANEL DE SOLDA, BOLSA X BOLSA, 28 MM","UN"]
["SINAPI-I 39882","SINAPI-I",39882,"CURVA 45 GRAUS DE COBRE SEM ANEL DE SOLDA, BOLSA X BOLSA, 35 MM","UN"]
["SINAPI-I 39883","SINAPI-I",39883,"CURVA 45 GRAUS DE COBRE SEM ANEL DE SOLDA, BOLSA X BOLSA, 42 MM","UN"]
["SINAPI-I 39884","SINAPI-I",39884,"CURVA 45 GRAUS DE COBRE SEM ANEL DE SOLDA, BOLSA X BOLSA, 54 MM","UN"]
["SINAPI-I 39885","SINAPI-I",39885,"CURVA 45 GRAUS DE COBRE SEM ANEL DE SOLDA, BOLSA X BOLSA, 66 MM","UN"]
["SINAPI-I 1777","SINAPI-I",1777,"CURVA 45 GRAUS DE FERRO GALVANIZADO, COM ROSCA BSP FEMEA, DE 1 1/2\"","UN"]
["SINAPI-I 1819","SINAPI-I",1819,"CURVA 45 GRAUS DE FERRO GALVANIZADO, COM ROSCA BSP FEMEA, DE 1 1/4\"","UN"]
["SINAPI-I 1776","SINAPI-I",1776,"CURVA 45 GRAUS DE FERRO GALVANIZADO, COM ROSCA BSP FEMEA, DE 1\"","UN"]
["SINAPI-I 1775","SINAPI-I",1775,"CURVA 45 GRAUS DE FERRO GALVANIZADO, COM ROSCA BSP FEMEA, DE 1/2\"","UN"]
["SINAPI-I 1778","SINAPI-I",1778,"CURVA 45 GRAUS DE FERRO GALVANIZADO, COM ROSCA BSP FEMEA, DE 2 1/2\"","UN"]
["SINAPI-I 1818","SINAPI-I",1818,"CURVA 45 GRAUS DE FERRO GALVANIZADO, COM ROSCA BSP FEMEA, DE 2\"","UN"]
["SINAPI-I 1779","SINAPI-I",1779,"CURVA 45 GRAUS DE FERRO GALVANIZADO, COM ROSCA BSP FEMEA, DE 3\"","UN"]
["SINAPI-I 1820","SINAPI-I",1820,"CURVA 45 GRAUS DE FERRO GALVANIZADO, COM ROSCA BSP FEMEA, DE 3/4\"","UN"]
[{"$f":"CONCATENATE($B1665,\" \",$C1665)","v":"SINAPI-I 1780"},"SINAPI-I",1780,"CURVA 45 GRAUS DE FERRO GALVANIZADO, COM ROSCA BSP FEMEA, DE 4\"","UN"]
["SINAPI-I 1783","SINAPI-I",1783,"CURVA 45 GRAUS DE FERRO GALVANIZADO, COM ROSCA BSP MACHO/FEMEA, DE 1 1/2\"","UN"]
["SINAPI-I 1782","SINAPI-I",1782,"CURVA 45 GRAUS DE FERRO GALVANIZADO, COM ROSCA BSP MACHO/FEMEA, DE 1 1/4\"","UN"]
["SINAPI-I 1781","SINAPI-I",1781,"CURVA 45 GRAUS DE FERRO GALVANIZADO, COM ROSCA BSP MACHO/FEMEA, DE 1\"","UN"]
["SINAPI-I 1817","SINAPI-I",1817,"CURVA 45 GRAUS DE FERRO GALVANIZADO, COM ROSCA BSP MACHO/FEMEA, DE 1/2\"","UN"]
["SINAPI-I 1784","SINAPI-I",1784,"CURVA 45 GRAUS DE FERRO GALVANIZADO, COM ROSCA BSP MACHO/FEMEA, DE 2 1/2\"","UN"]
["SINAPI-I 1810","SINAPI-I",1810,"CURVA 45 GRAUS DE FERRO GALVANIZADO, COM ROSCA BSP MACHO/FEMEA, DE 2\"","UN"]
["SINAPI-I 1812","SINAPI-I",1812,"CURVA 45 GRAUS DE FERRO GALVANIZADO, COM ROSCA BSP MACHO/FEMEA, DE 3\"","UN"]
["SINAPI-I 1811","SINAPI-I",1811,"CURVA 45 GRAUS DE FERRO GALVANIZADO, COM ROSCA BSP MACHO/FEMEA, DE 3/4\"","UN"]
["SINAPI-I 40386","SINAPI-I",40386,"CURVA 45 GRAUS EM ACO CARBONO, SOLDAVEL, PRESSAO 3.000 LBS, DN 1 1/2\"","UN"]
["SINAPI-I 40384","SINAPI-I",40384,"CURVA 45 GRAUS EM ACO CARBONO, SOLDAVEL, PRESSAO 3.000 LBS, DN 1 1/4\"","UN"]
["SINAPI-I 40423","SINAPI-I",40423,"CURVA 45 GRAUS EM ACO CARBONO, SOLDAVEL, PRESSAO 3.000 LBS, DN 1\"","UN"]
["SINAPI-I 40379","SINAPI-I",40379,"CURVA 45 GRAUS EM ACO CARBONO, SOLDAVEL, PRESSAO 3.000 LBS, DN 1/2\"","UN"]
["SINAPI-I 40389","SINAPI-I",40389,"CURVA 45 GRAUS EM ACO CARBONO, SOLDAVEL, PRESSAO 3.000 LBS, DN 2 1/2\"","UN"]
["SINAPI-I 40388","SINAPI-I",40388,"CURVA 45 GRAUS EM ACO CARBONO, SOLDAVEL, PRESSAO 3.000 LBS, DN 2\"","UN"]
["SINAPI-I 40391","SINAPI-I",40391,"CURVA 45 GRAUS EM ACO CARBONO, SOLDAVEL, PRESSAO 3.000 LBS, DN 3\"","UN"]
["SINAPI-I 40381","SINAPI-I",40381,"CURVA 45 GRAUS EM ACO CARBONO, SOLDAVEL, PRESSAO 3.000 LBS, DN 3/4\"","UN"]
["SINAPI-I 2609","SINAPI-I",2609,"CURVA 45 GRAUS PARA ELETRODUTO, EM ACO GALVANIZADO ELETROLITICO, COM ROSCA, DIAMETRO DE 20 MM (3/4\"), ESPESSURA DE 1,50 MM","UN",5.21,5.21,null,"CR"]
["SINAPI-I 2634","SINAPI-I",2634,"CURVA 45 GRAUS PARA ELETRODUTO, EM ACO GALVANIZADO ELETROLITICO, COM ROSCA, DIAMETRO DE 25 MM (1\"), ESPESSURA DE 1,50 MM","UN",6.84,6.84,null,"CR"]
["SINAPI-I 2611","SINAPI-I",2611,"CURVA 45 GRAUS PARA ELETRODUTO, EM ACO GALVANIZADO ELETROLITICO, COM ROSCA, DIAMETRO DE 40 MM (1 1/2\"), ESPESSURA DE 1,50 MM","UN",19.29,19.29,null,"CR"]
["SINAPI-I 40414","SINAPI-I",40414,"CURVA 45 GRAUS RANHURADA EM FERRO FUNDIDO, DN 50 MM (2\")","UN"]
["SINAPI-I 40416","SINAPI-I",40416,"CURVA 45 GRAUS RANHURADA EM FERRO FUNDIDO, DN 65 MM (2 1/2\")","UN"]
["SINAPI-I 40418","SINAPI-I",40418,"CURVA 45 GRAUS RANHURADA EM FERRO FUNDIDO, DN 80 MM (3\")","UN"]
["SINAPI-I 34359","SINAPI-I",34359,"CURVA 90 GRAUS DE BARRA CHATA EM ALUMINIO 3/4\" X 1/4\" X 300 MM","UN",14.3,14.3,null,"CR"]
["SINAPI-I 1789","SINAPI-I",1789,"CURVA 90 GRAUS DE FERRO GALVANIZADO, COM ROSCA BSP FEMEA, DE 1 1/2\"","UN"]
["SINAPI-I 1788","SINAPI-I",1788,"CURVA 90 GRAUS DE FERRO GALVANIZADO, COM ROSCA BSP FEMEA, DE 1 1/4\"","UN"]
["SINAPI-I 1787","SINAPI-I",1787,"CURVA 90 GRAUS DE FERRO GALVANIZADO, COM ROSCA BSP FEMEA, DE 1\"","UN"]
["SINAPI-I 1786","SINAPI-I",1786,"CURVA 90 GRAUS DE FERRO GALVANIZADO, COM ROSCA BSP FEMEA, DE 1/2\"","UN"]
["SINAPI-I 1791","SINAPI-I",1791,"CURVA 90 GRAUS DE FERRO GALVANIZADO, COM ROSCA BSP FEMEA, DE 2 1/2\"","UN"]
["SINAPI-I 1790","SINAPI-I",1790,"CURVA 90 GRAUS DE FERRO GALVANIZADO, COM ROSCA BSP FEMEA, DE 2\"","UN"]
["SINAPI-I 1792","SINAPI-I",1792,"CURVA 90 GRAUS DE FERRO GALVANIZADO, COM ROSCA BSP FEMEA, DE 3\"","UN"]
["SINAPI-I 1813","SINAPI-I",1813,"CURVA 90 GRAUS DE FERRO GALVANIZADO, COM ROSCA BSP FEMEA, DE 3/4\"","UN"]
["SINAPI-I 1793","SINAPI-I",1793,"CURVA 90 GRAUS DE FERRO GALVANIZADO, COM ROSCA BSP FEMEA, DE 4\"","UN"]
["SINAPI-I 1797","SINAPI-I",1797,"CURVA 90 GRAUS DE FERRO GALVANIZADO, COM ROSCA BSP MACHO, DE 1 1/2\"","UN"]
["SINAPI-I 1796","SINAPI-I",1796,"CURVA 90 GRAUS DE FERRO GALVANIZADO, COM ROSCA BSP MACHO, DE 1 1/4\"","UN"]
["SINAPI-I 1816","SINAPI-I",1816,"CURVA 90 GRAUS DE FERRO GALVANIZADO, COM ROSCA BSP MACHO, DE 1\"","UN"]
["SINAPI-I 1794","SINAPI-I",1794,"CURVA 90 GRAUS DE FERRO GALVANIZADO, COM ROSCA BSP MACHO, DE 1/2\"","UN"]
["SINAPI-I 1815","SINAPI-I",1815,"CURVA 90 GRAUS DE FERRO GALVANIZADO, COM ROSCA BSP MACHO, DE 2 1/2\"","UN"]
["SINAPI-I 1798","SINAPI-I",1798,"CURVA 90 GRAUS DE FERRO GALVANIZADO, COM ROSCA BSP MACHO, DE 2\"","UN"]
["SINAPI-I 1799","SINAPI-I",1799,"CURVA 90 GRAUS DE FERRO GALVANIZADO, COM ROSCA BSP MACHO, DE 3\"","UN"]
["SINAPI-I 1795","SINAPI-I",1795,"CURVA 90 GRAUS DE FERRO GALVANIZADO, COM ROSCA BSP MACHO, DE 3/4\"","UN"]
["SINAPI-I 1800","SINAPI-I",1800,"CURVA 90 GRAUS DE FERRO GALVANIZADO, COM ROSCA BSP MACHO, DE 4\"","UN"]
["SINAPI-I 1802","SINAPI-I",1802,"CURVA 90 GRAUS DE FERRO GALVANIZADO, COM ROSCA BSP MACHO, DE 6\"","UN"]
["SINAPI-I 1809","SINAPI-I",1809,"CURVA 90 GRAUS DE FERRO GALVANIZADO, COM ROSCA BSP MACHO/FEMEA, DE 1 1/2\"","UN"]
["SINAPI-I 1814","SINAPI-I",1814,"CURVA 90 GRAUS DE FERRO GALVANIZADO, COM ROSCA BSP MACHO/FEMEA, DE 1 1/4\"","UN"]
["SINAPI-I 1805","SINAPI-I",1805,"CURVA 90 GRAUS DE FERRO GALVANIZADO, COM ROSCA BSP MACHO/FEMEA, DE 1\"","UN"]
["SINAPI-I 1803","SINAPI-I",1803,"CURVA 90 GRAUS DE FERRO GALVANIZADO, COM ROSCA BSP MACHO/FEMEA, DE 1/2\"","UN"]
["SINAPI-I 1821","SINAPI-I",1821,"CURVA 90 GRAUS DE FERRO GALVANIZADO, COM ROSCA BSP MACHO/FEMEA, DE 2 1/2\"","UN"]
["SINAPI-I 1806","SINAPI-I",1806,"CURVA 90 GRAUS DE FERRO GALVANIZADO, COM ROSCA BSP MACHO/FEMEA, DE 2\"","UN"]
["SINAPI-I 1807","SINAPI-I",1807,"CURVA 90 GRAUS DE FERRO GALVANIZADO, COM ROSCA BSP MACHO/FEMEA, DE 3\"","UN"]
["SINAPI-I 1804","SINAPI-I",1804,"CURVA 90 GRAUS DE FERRO GALVANIZADO, COM ROSCA BSP MACHO/FEMEA, DE 3/4\"","UN"]
["SINAPI-I 1808","SINAPI-I",1808,"CURVA 90 GRAUS DE FERRO GALVANIZADO, COM ROSCA BSP MACHO/FEMEA, DE 4\"","UN"]
["SINAPI-I 40385","SINAPI-I",40385,"CURVA 90 GRAUS EM ACO CARBONO, RAIO CURTO, SOLDAVEL, PRESSAO 3.000 LBS, DN 1 1/2\"","UN"]
["SINAPI-I 40383","SINAPI-I",40383,"CURVA 90 GRAUS EM ACO CARBONO, RAIO CURTO, SOLDAVEL, PRESSAO 3.000 LBS, DN 1 1/4\"","UN"]
["SINAPI-I 40382","SINAPI-I",40382,"CURVA 90 GRAUS EM ACO CARBONO, RAIO CURTO, SOLDAVEL, PRESSAO 3.000 LBS, DN 1\"","UN"]
["SINAPI-I 40378","SINAPI-I",40378,"CURVA 90 GRAUS EM ACO CARBONO, RAIO CURTO, SOLDAVEL, PRESSAO 3.000 LBS, DN 1/2\"","UN"]
["SINAPI-I 40422","SINAPI-I",40422,"CURVA 90 GRAUS EM ACO CARBONO, RAIO CURTO, SOLDAVEL, PRESSAO 3.000 LBS, DN 2 1/2\"","UN"]
["SINAPI-I 40387","SINAPI-I",40387,"CURVA 90 GRAUS EM ACO CARBONO, RAIO CURTO, SOLDAVEL, PRESSAO 3.000 LBS, DN 2\"","UN"]
["SINAPI-I 40390","SINAPI-I",40390,"CURVA 90 GRAUS EM ACO CARBONO, RAIO CURTO, SOLDAVEL, PRESSAO 3.000 LBS, DN 3\"","UN"]
["SINAPI-I 40380","SINAPI-I",40380,"CURVA 90 GRAUS EM ACO CARBONO, RAIO CURTO, SOLDAVEL, PRESSAO 3.000 LBS, DN 3/4\"","UN"]
["SINAPI-I 2621","SINAPI-I",2621,"CURVA 90 GRAUS PARA ELETRODUTO, EM ACO GALVANIZADO ELETROLITICO, COM ROSCA, DIAMETRO DE 100 MM (4\")","UN",165.01,165.01,null,"CR"]
["SINAPI-I 2616","SINAPI-I",2616,"CURVA 90 GRAUS PARA ELETRODUTO, EM ACO GALVANIZADO ELETROLITICO, COM ROSCA, DIAMETRO DE 15 MM (1/2\"), ESPESSURA DE 1,50 MM","UN",4.67,4.67,null,"CR"]
["SINAPI-I 2633","SINAPI-I",2633,"CURVA 90 GRAUS PARA ELETRODUTO, EM ACO GALVANIZADO ELETROLITICO, COM ROSCA, DIAMETRO DE 20 MM (3/4\"), ESPESSURA DE 1,50 MM","UN",5.28,5.28,null,"CR"]
["SINAPI-I 2617","SINAPI-I",2617,"CURVA 90 GRAUS PARA ELETRODUTO, EM ACO GALVANIZADO ELETROLITICO, COM ROSCA, DIAMETRO DE 25 MM (1\"), ESPESSURA DE 1,50 MM","UN",7.18,7.18,null,"CR"]
[{"$f":"CONCATENATE($B1729,\" \",$C1729)","v":"SINAPI-I 2618"},"SINAPI-I",2618,"CURVA 90 GRAUS PARA ELETRODUTO, EM ACO GALVANIZADO ELETROLITICO, COM ROSCA, DIAMETRO DE 32 MM (1 1/4\"), ESPESSURA DE 1,50 MM","UN",16.34,16.34,null,"CR"]
["SINAPI-I 2632","SINAPI-I",2632,"CURVA 90 GRAUS PARA ELETRODUTO, EM ACO GALVANIZADO ELETROLITICO, COM ROSCA, DIAMETRO DE 40 MM (1 1/2\"), ESPESSURA DE 1,50 MM","UN",19.93,19.93,null,"CR"]
["SINAPI-I 2631","SINAPI-I",2631,"CURVA 90 GRAUS PARA ELETRODUTO, EM ACO GALVANIZADO ELETROLITICO, COM ROSCA, DIAMETRO DE 50 MM (2\")","UN",29.27,29.27,null,"CR"]
["SINAPI-I 2619","SINAPI-I",2619,"CURVA 90 GRAUS PARA ELETRODUTO, EM ACO GALVANIZADO ELETROLITICO, COM ROSCA, DIAMETRO DE 65 MM (2 1/2\")","UN",74.099999999999994,74.099999999999994,null,"CR"]
["SINAPI-I 2620","SINAPI-I",2620,"CURVA 90 GRAUS PARA ELETRODUTO, EM ACO GALVANIZADO ELETROLITICO, COM ROSCA, DIAMETRO DE 80 MM (3\")","UN",97.29,97.29,null,"CR"]
["SINAPI-I 40413","SINAPI-I",40413,"CURVA 90 GRAUS RANHURADA EM FERRO FUNDIDO, DN 50 MM (2\")","UN"]
["SINAPI-I 40415","SINAPI-I",40415,"CURVA 90 GRAUS RANHURADA EM FERRO FUNDIDO, DN 65 MM (2 1/2\")","UN"]
["SINAPI-I 40417","SINAPI-I",40417,"CURVA 90 GRAUS RANHURADA EM FERRO FUNDIDO, DN 80 MM (3\")","UN"]
["SINAPI-I 39273","SINAPI-I",39273,"CURVA 90 GRAUS, CURTA, DE PVC RIGIDO ROSCAVEL, DE 1\", PARA ELETRODUTO","UN",6.19,6.19,null,"CR"]
["SINAPI-I 39271","SINAPI-I",39271,"CURVA 90 GRAUS, CURTA, DE PVC RIGIDO ROSCAVEL, DE 1/2\", PARA ELETRODUTO","UN",3.65,3.65,null,"CR"]
["SINAPI-I 39272","SINAPI-I",39272,"CURVA 90 GRAUS, CURTA, DE PVC RIGIDO ROSCAVEL, DE 3/4\", PARA ELETRODUTO","UN",4.4800000000000004,4.4800000000000004,null,"CR"]
["SINAPI-I 1875","SINAPI-I",1875,"CURVA 90 GRAUS, LONGA, DE PVC RIGIDO ROSCAVEL, DE 1 1/2\", PARA ELETRODUTO","UN",9.9,9.9,null,"CR"]
["SINAPI-I 1874","SINAPI-I",1874,"CURVA 90 GRAUS, LONGA, DE PVC RIGIDO ROSCAVEL, DE 1 1/4\", PARA ELETRODUTO","UN",8.18,8.18,null,"CR"]
["SINAPI-I 1884","SINAPI-I",1884,"CURVA 90 GRAUS, LONGA, DE PVC RIGIDO ROSCAVEL, DE 1\", PARA ELETRODUTO","UN",7.25,7.25,null,"CR"]
["SINAPI-I 1870","SINAPI-I",1870,"CURVA 90 GRAUS, LONGA, DE PVC RIGIDO ROSCAVEL, DE 1/2\", PARA ELETRODUTO","UN",4.72,4.72,null,"C"]
["SINAPI-I 1887","SINAPI-I",1887,"CURVA 90 GRAUS, LONGA, DE PVC RIGIDO ROSCAVEL, DE 2 1/2\", PARA ELETRODUTO","UN",41.04,41.04,null,"CR"]
["SINAPI-I 1876","SINAPI-I",1876,"CURVA 90 GRAUS, LONGA, DE PVC RIGIDO ROSCAVEL, DE 2\", PARA ELETRODUTO","UN",16.079999999999998,16.079999999999998,null,"CR"]
["SINAPI-I 1877","SINAPI-I",1877,"CURVA 90 GRAUS, LONGA, DE PVC RIGIDO ROSCAVEL, DE 3\", PARA ELETRODUTO","UN",41.09,41.09,null,"CR"]
["SINAPI-I 1879","SINAPI-I",1879,"CURVA 90 GRAUS, LONGA, DE PVC RIGIDO ROSCAVEL, DE 3/4\", PARA ELETRODUTO","UN",4.78,4.78,null,"CR"]
["SINAPI-I 1878","SINAPI-I",1878,"CURVA 90 GRAUS, LONGA, DE PVC RIGIDO ROSCAVEL, DE 4\", PARA ELETRODUTO","UN",82.56,82.56,null,"CR"]
["SINAPI-I 37971","SINAPI-I",37971,"CURVA CPVC, 90 GRAUS, SOLDAVEL, 15 MM, PARA AGUA QUENTE","UN",5.34,5.34,null,"CR"]
["SINAPI-I 37972","SINAPI-I",37972,"CURVA CPVC, 90 GRAUS, SOLDAVEL, 22 MM, PARA AGUA QUENTE","UN",7.57,7.57,null,"CR"]
["SINAPI-I 37973","SINAPI-I",37973,"CURVA CPVC, 90 GRAUS, SOLDAVEL, 28 MM, PARA AGUA QUENTE","UN",14.23,14.23,null,"CR"]
["SINAPI-I 1926","SINAPI-I",1926,"CURVA DE PVC 45 GRAUS, SOLDAVEL, 20 MM, COR MARROM, PARA AGUA FRIA PREDIAL","UN",2.0299999999999998,2.0299999999999998,null,"CR"]
["SINAPI-I 1927","SINAPI-I",1927,"CURVA DE PVC 45 GRAUS, SOLDAVEL, 25 MM, COR MARROM, PARA AGUA FRIA PREDIAL","UN",2.27,2.27,null,"CR"]
["SINAPI-I 1923","SINAPI-I",1923,"CURVA DE PVC 45 GRAUS, SOLDAVEL, 32 MM, COR MARROM, PARA AGUA FRIA PREDIAL","UN",4.1399999999999997,4.1399999999999997,null,"CR"]
["SINAPI-I 1929","SINAPI-I",1929,"CURVA DE PVC 45 GRAUS, SOLDAVEL, 40 MM, COR MARROM, PARA AGUA FRIA PREDIAL","UN",5.0199999999999996,5.0199999999999996,null,"CR"]
["SINAPI-I 1930","SINAPI-I",1930,"CURVA DE PVC 45 GRAUS, SOLDAVEL, 50 MM, COR MARROM, PARA AGUA FRIA PREDIAL","UN",8.6,8.6,null,"CR"]
["SINAPI-I 1924","SINAPI-I",1924,"CURVA DE PVC 45 GRAUS, SOLDAVEL, 60 MM, COR MARROM, PARA AGUA FRIA PREDIAL","UN",13.87,13.87,null,"CR"]
["SINAPI-I 1922","SINAPI-I",1922,"CURVA DE PVC 45 GRAUS, SOLDAVEL, 75 MM, COR MARROM, PARA AGUA FRIA PREDIAL","UN",28.7,28.7,null,"CR"]
["SINAPI-I 1953","SINAPI-I",1953,"CURVA DE PVC 45 GRAUS, SOLDAVEL, 85 MM, COR MARROM, PARA AGUA FRIA PREDIAL","UN",35.03,35.03,null,"CR"]
["SINAPI-I 1962","SINAPI-I",1962,"CURVA DE PVC 90 GRAUS, SOLDAVEL, 110 MM, COR MARROM, PARA AGUA FRIA PREDIAL","UN",170.19,170.19,null,"CR"]
["SINAPI-I 1955","SINAPI-I",1955,"CURVA DE PVC 90 GRAUS, SOLDAVEL, 20 MM, COR MARROM, PARA AGUA FRIA PREDIAL","UN",1.96,1.96,null,"CR"]
["SINAPI-I 1956","SINAPI-I",1956,"CURVA DE PVC 90 GRAUS, SOLDAVEL, 25 MM, COR MARROM, PARA AGUA FRIA PREDIAL","UN",2.77,2.77,null,"CR"]
["SINAPI-I 1957","SINAPI-I",1957,"CURVA DE PVC 90 GRAUS, SOLDAVEL, 32 MM, COR MARROM, PARA AGUA FRIA PREDIAL","UN",5.98,5.98,null,"CR"]
["SINAPI-I 1958","SINAPI-I",1958,"CURVA DE PVC 90 GRAUS, SOLDAVEL, 40 MM, COR MARROM, PARA AGUA FRIA PREDIAL","UN",11.14,11.14,null,"CR"]
["SINAPI-I 1959","SINAPI-I",1959,"CURVA DE PVC 90 GRAUS, SOLDAVEL, 50 MM, COR MARROM, PARA AGUA FRIA PREDIAL","UN",12.09,12.09,null,"CR"]
["SINAPI-I 1925","SINAPI-I",1925,"CURVA DE PVC 90 GRAUS, SOLDAVEL, 60 MM, COR MARROM, PARA AGUA FRIA PREDIAL","UN",31.6,31.6,null,"CR"]
["SINAPI-I 1960","SINAPI-I",1960,"CURVA DE PVC 90 GRAUS, SOLDAVEL, 75 MM, COR MARROM, PARA AGUA FRIA PREDIAL","UN",48.53,48.53,null,"CR"]
["SINAPI-I 1961","SINAPI-I",1961,"CURVA DE PVC 90 GRAUS, SOLDAVEL, 85 MM, COR MARROM, PARA AGUA FRIA PREDIAL","UN",62.17,62.17,null,"CR"]
["SINAPI-I 38423","SINAPI-I",38423,"CURVA DE PVC, 90 GRAUS, SERIE R, DN 100 MM, PARA ESGOTO PREDIAL","UN",34.19,34.19,null,"CR"]
["SINAPI-I 39866","SINAPI-I",39866,"CURVA DE TRANSPOSICAO BRONZE/LATAO SEM ANEL DE SOLDA, BOLSA X BOLSA, 15 MM","UN"]
["SINAPI-I 39867","SINAPI-I",39867,"CURVA DE TRANSPOSICAO BRONZE/LATAO SEM ANEL DE SOLDA, BOLSA X BOLSA, 22 MM","UN"]
["SINAPI-I 39868","SINAPI-I",39868,"CURVA DE TRANSPOSICAO BRONZE/LATAO SEM ANEL DE SOLDA, BOLSA X BOLSA, 28 MM","UN"]
["SINAPI-I 37999","SINAPI-I",37999,"CURVA DE TRANSPOSICAO, CPVC, SOLDAVEL, 15 MM","UN",9,9,null,"CR"]
["SINAPI-I 38000","SINAPI-I",38000,"CURVA DE TRANSPOSICAO, CPVC, SOLDAVEL, 22 MM","UN",10.51,10.51,null,"CR"]
["SINAPI-I 38129","SINAPI-I",38129,"CURVA DE TRANSPOSICAO, PVC SOLDAVEL, 20 MM, COR MARROM, PARA AGUA FRIA PREDIAL","UN",4.5599999999999996,4.5599999999999996,null,"CR"]
["SINAPI-I 38025","SINAPI-I",38025,"CURVA DE TRANSPOSICAO, PVC, SOLDAVEL, 25 MM, COR MARROM, PARA AGUA FRIA PREDIAL","UN",6.19,6.19,null,"CR"]
["SINAPI-I 38026","SINAPI-I",38026,"CURVA DE TRANSPOSICAO, PVC, SOLDAVEL, 32 MM, COR MARROM, PARA AGUA FRIA PREDIAL","UN",15.29,15.29,null,"CR"]
["SINAPI-I 1858","SINAPI-I",1858,"CURVA LONGA PVC, PB, JE, 45 GRAUS, DN 100 MM, PARA REDE COLETORA ESGOTO","UN",52.98,52.98,null,"CR"]
["SINAPI-I 1844","SINAPI-I",1844,"CURVA LONGA PVC, PB, JE, 45 GRAUS, DN 150 MM, PARA REDE COLETORA ESGOTO","UN",121.34,121.34,null,"CR"]
["SINAPI-I 1863","SINAPI-I",1863,"CURVA LONGA PVC, PB, JE, 90 GRAUS, DN 100 MM, PARA REDE COLETORA ESGOTO","UN",56.38,56.38,null,"CR"]
["SINAPI-I 1865","SINAPI-I",1865,"CURVA LONGA PVC, PB, JE, 90 GRAUS, DN 150 MM, PARA REDE COLETORA ESGOTO","UN",146.9,146.9,null,"CR"]
["SINAPI-I 36355","SINAPI-I",36355,"CURVA PPR 90 GRAUS, F/F, DN 20 MM, PARA AGUA QUENTE PREDIAL","UN",12.76,12.76,null,"CR"]
["SINAPI-I 36356","SINAPI-I",36356,"CURVA PPR 90 GRAUS, F/F, DN 25 MM, PARA AGUA QUENTE PREDIAL","UN",20.53,20.53,null,"CR"]
["SINAPI-I 1940","SINAPI-I",1940,"CURVA PVC 90 GRAUS, ROSCAVEL, 1 1/4\", COR BRANCA, AGUA FRIA PREDIAL","UN",30.88,30.88,null,"CR"]
["SINAPI-I 1939","SINAPI-I",1939,"CURVA PVC 90 GRAUS, ROSCAVEL, 1\", COR BRANCA, AGUA FRIA PREDIAL","UN",8.4700000000000006,8.4700000000000006,null,"CR"]
["SINAPI-I 1937","SINAPI-I",1937,"CURVA PVC 90 GRAUS, ROSCAVEL, 1/2\", COR BRANCA, AGUA FRIA PREDIAL","UN",5.21,5.21,null,"CR"]
["SINAPI-I 1938","SINAPI-I",1938,"CURVA PVC 90 GRAUS, ROSCAVEL, 3/4\", COR BRANCA, AGUA FRIA PREDIAL","UN",5.92,5.92,null,"CR"]
["SINAPI-I 1966","SINAPI-I",1966,"CURVA PVC CURTA 90 GRAUS, DN 100 MM, PARA ESGOTO PREDIAL","UN",22.48,22.48,null,"CR"]
["SINAPI-I 1933","SINAPI-I",1933,"CURVA PVC CURTA 90 GRAUS, DN 40 MM, PARA ESGOTO PREDIAL","UN",4.84,4.84,null,"CR"]
["SINAPI-I 1932","SINAPI-I",1932,"CURVA PVC CURTA 90 GRAUS, DN 50 MM, PARA ESGOTO PREDIAL","UN",11.09,11.09,null,"CR"]
["SINAPI-I 1951","SINAPI-I",1951,"CURVA PVC CURTA 90 GRAUS, DN 75 MM, PARA ESGOTO PREDIAL","UN",23.13,23.13,null,"CR"]
["SINAPI-I 1970","SINAPI-I",1970,"CURVA PVC LONGA 90 GRAUS, DN 100 MM, PARA ESGOTO PREDIAL","UN",56.2,56.2,null,"CR"]
[{"$f":"CONCATENATE($B1793,\" \",$C1793)","v":"SINAPI-I 1967"},"SINAPI-I",1967,"CURVA PVC LONGA 90 GRAUS, DN 40 MM, PARA ESGOTO PREDIAL","UN",6.67,6.67,null,"CR"]
["SINAPI-I 1968","SINAPI-I",1968,"CURVA PVC LONGA 90 GRAUS, DN 50 MM, PARA ESGOTO PREDIAL","UN",13.19,13.19,null,"CR"]
["SINAPI-I 1969","SINAPI-I",1969,"CURVA PVC LONGA 90 GRAUS, DN 75 MM, PARA ESGOTO PREDIAL","UN",42.94,42.94,null,"CR"]
["SINAPI-I 1827","SINAPI-I",1827,"CURVA PVC PBA, JE, PB, 45 GRAUS, DN 100 / DE 110 MM, PARA REDE DE AGUA","UN"]
["SINAPI-I 1831","SINAPI-I",1831,"CURVA PVC PBA, JE, PB, 45 GRAUS, DN 50 / DE 60 MM, PARA REDE DE AGUA","UN"]
["SINAPI-I 1825","SINAPI-I",1825,"CURVA PVC PBA, JE, PB, 45 GRAUS, DN 75 / DE 85 MM, PARA REDE DE AGUA","UN"]
["SINAPI-I 1828","SINAPI-I",1828,"CURVA PVC PBA, JE, PB, 90 GRAUS, DN 100 / DE 110 MM, PARA REDE DE AGUA","UN"]
["SINAPI-I 1845","SINAPI-I",1845,"CURVA PVC PBA, JE, PB, 90 GRAUS, DN 50 / DE 60 MM, PARA REDE DE AGUA","UN"]
["SINAPI-I 1824","SINAPI-I",1824,"CURVA PVC PBA, JE, PB, 90 GRAUS, DN 75 / DE 85 MM, PARA REDE DE AGUA","UN"]
["SINAPI-I 42693","SINAPI-I",42693,"CURVA PVC, BB, JE, 45 GRAUS, DN 250 MM, PARA TUBO CORRUGADO E/OU LISO, REDE COLETORA ESGOTO","UN",412.68,412.68,null,"CR"]
["SINAPI-I 42695","SINAPI-I",42695,"CURVA PVC, BB, JE, 90 GRAUS, DN 200 MM, PARA TUBO CORRUGADO E/OU LISO, REDE COLETORA ESGOTO","UN",288.32,288.32,null,"CR"]
["SINAPI-I 42694","SINAPI-I",42694,"CURVA PVC, BB, JE, 90 GRAUS, DN 250 MM, PARA TUBO CORRUGADO E/OU LISO, REDE COLETORA ESGOTO","UN",552.25,552.25,null,"CR"]
["SINAPI-I 20097","SINAPI-I",20097,"CURVA PVC, SERIE R, 87.30 GRAUS, CURTA, PARA PE-DE-COLUNA, DN 100 MM, PARA ESGOTO PREDIAL","UN",23.94,23.94,null,"CR"]
["SINAPI-I 20098","SINAPI-I",20098,"CURVA PVC, SERIE R, 87.30 GRAUS, CURTA, PARA PE-DE-COLUNA, DN 150 MM, PARA ESGOTO PREDIAL","UN",97.86,97.86,null,"CR"]
["SINAPI-I 20096","SINAPI-I",20096,"CURVA PVC, SERIE R, 87.30 GRAUS, CURTA, PARA PE-DE-COLUNA, DN 75 MM, PARA ESGOTO PREDIAL","UN",24.78,24.78,null,"CR"]
["SINAPI-I 44472","SINAPI-I",44472,"DENTE PARA  FRESADORA","UN"]
["SINAPI-I 38369","SINAPI-I",38369,"DESEMPENADEIRA DE ACO DENTADA 12 X *25* CM, DENTES 8 X 8 MM, CABO FECHADO DE MADEIRA","UN",13.99,13.99,null,"CR"]
["SINAPI-I 38370","SINAPI-I",38370,"DESEMPENADEIRA DE ACO LISA 12 X *25* CM COM CABO FECHADO DE MADEIRA","UN",9.44,9.44,null,"CR"]
["SINAPI-I 38372","SINAPI-I",38372,"DESEMPENADEIRA PLASTICA LISA *14 X 27* CM","UN",21.75,21.75,null,"CR"]
["SINAPI-I 2358","SINAPI-I",2358,"DESENHISTA PROJETISTA (HORISTA)","H",19.82,22.17,null,"CR"]
["SINAPI-I 40807","SINAPI-I",40807,"DESENHISTA PROJETISTA (MENSALISTA)","MES",3479.39,3892.32,null,"CR"]
["SINAPI-I 44330","SINAPI-I",44330,"DESINFETANTE PRONTO USO","L",9.99,9.99,null,"CR"]
["SINAPI-I 43144","SINAPI-I",43144,"DESMOLDANTE PARA CONCRETO ESTAMPADO","KG",34.33,34.33,null,"CR"]
["SINAPI-I 39397","SINAPI-I",39397,"DESMOLDANTE PARA FORMAS METALICAS A BASE DE OLEO VEGETAL","L",15.65,15.65,null,"CR"]
["SINAPI-I 2692","SINAPI-I",2692,"DESMOLDANTE PROTETOR PARA FORMAS DE MADEIRA, DE BASE OLEOSA EMULSIONADA EM AGUA","L",6.31,6.31,null,"CR"]
["SINAPI-I 44329","SINAPI-I",44329,"DETERGENTE NEUTRO USO GERAL, CONCENTRADO","L",13.1,13.1,null,"CR"]
["SINAPI-I 5318","SINAPI-I",5318,"DILUENTE AGUARRAS","L",21.18,21.18,null,"C"]
["SINAPI-I 5330","SINAPI-I",5330,"DILUENTE EPOXI","L",48.27,48.27,null,"CR"]
["SINAPI-I 44532","SINAPI-I",44532,"DISCO DE BORRACHA PARA LIXADEIRA RIGIDO 7\" COM ARRUELA CENTRAL","UN",26.53,26.53,null,"CR"]
["SINAPI-I 44531","SINAPI-I",44531,"DISCO DE CORTE DIAMANTADO SEGMENTADO DIAMETRO DE 180 MM PARA ESMERILHADEIRA 7\"","UN",49.19,49.19,null,"CR"]
["SINAPI-I 13887","SINAPI-I",13887,"DISCO DE CORTE DIAMANTADO SEGMENTADO PARA CONCRETO/ASFALTO, DIAMETRO DE *350* MM, FURO DE 25,40 MM","UN",214.31,214.31,null,"CR"]
["SINAPI-I 38140","SINAPI-I",38140,"DISCO DE CORTE DIAMANTADO SEGMENTADO, DIAMETRO DE *110* MM, FURO DE 20 MM","UN",20.45,20.45,null,"C"]
["SINAPI-I 44495","SINAPI-I",44495,"DISCO DE CORTE PARA METAL COM DUAS TELAS 12 X 1/8 X 3/4\" (300 X 3,2 X 19,05 MM)","UN",18.559999999999999,18.559999999999999,null,"CR"]
["SINAPI-I 44533","SINAPI-I",44533,"DISCO DE DESBASTE PARA METAL FERROSO EM GERAL, COM TRES TELAS, 9 X 1/4 X 7/8\" (228,6 X 6,4 X 22,2 MM)","UN",18.829999999999998,18.829999999999998,null,"CR"]
["SINAPI-I 44534","SINAPI-I",44534,"DISCO DE LIXA PARA METAL, DIAMETRO = 180 MM, GRAO  120","UN",5.3,5.3,null,"CR"]
["SINAPI-I 34729","SINAPI-I",34729,"DISJUNTOR TERMOMAGNETICO AJUSTAVEL, TRIPOLAR DE 100 ATE 250A, CAPACIDADE DE INTERRUPCAO DE 35KA","UN",1395.39,1395.39,null,"CR"]
["SINAPI-I 34734","SINAPI-I",34734,"DISJUNTOR TERMOMAGNETICO AJUSTAVEL, TRIPOLAR DE 300 ATE 400A, CAPACIDADE DE INTERRUPCAO DE 35KA","UN",2160.5100000000002,2160.5100000000002,null,"CR"]
["SINAPI-I 34738","SINAPI-I",34738,"DISJUNTOR TERMOMAGNETICO AJUSTAVEL, TRIPOLAR DE 450 ATE 600A, CAPACIDADE DE INTERRUPCAO DE 35KA","UN",5047.62,5047.62,null,"CR"]
["SINAPI-I 34623","SINAPI-I",34623,"DISJUNTOR TERMOMAGNETICO PARA TRILHO DIN (IEC), BIPOLAR, 40 - 50 A","UN",60.49,60.49,null,"CR"]
["SINAPI-I 34616","SINAPI-I",34616,"DISJUNTOR TERMOMAGNETICO PARA TRILHO DIN (IEC), BIPOLAR, 6 - 32 A","UN",61.43,61.43,null,"CR"]
["SINAPI-I 34628","SINAPI-I",34628,"DISJUNTOR TERMOMAGNETICO PARA TRILHO DIN (IEC), BIPOLAR, 63 A","UN",86.64,86.64,null,"CR"]
["SINAPI-I 34686","SINAPI-I",34686,"DISJUNTOR TERMOMAGNETICO PARA TRILHO DIN (IEC), MONOPOLAR, 40 - 50 A","UN",15.89,15.89,null,"CR"]
["SINAPI-I 34653","SINAPI-I",34653,"DISJUNTOR TERMOMAGNETICO PARA TRILHO DIN (IEC), MONOPOLAR, 6 - 32 A","UN",10.71,10.71,null,"CR"]
["SINAPI-I 34688","SINAPI-I",34688,"DISJUNTOR TERMOMAGNETICO PARA TRILHO DIN (IEC), MONOPOLAR, 63 A","UN",19.420000000000002,19.420000000000002,null,"CR"]
["SINAPI-I 34709","SINAPI-I",34709,"DISJUNTOR TERMOMAGNETICO PARA TRILHO DIN (IEC), TRIPOLAR, 10 - 50 A","UN",75.260000000000005,75.260000000000005,null,"CR"]
["SINAPI-I 34714","SINAPI-I",34714,"DISJUNTOR TERMOMAGNETICO PARA TRILHO DIN (IEC), TRIPOLAR, 63 A","UN",89.89,89.89,null,"CR"]
["SINAPI-I 2391","SINAPI-I",2391,"DISJUNTOR TERMOMAGNETICO TRIPOLAR 125 A / 425 V / ICC - 25 KA","UN",410.54,410.54,null,"CR"]
["SINAPI-I 2374","SINAPI-I",2374,"DISJUNTOR TERMOMAGNETICO TRIPOLAR 150 A / 600 V, TIPO FXD / ICC - 35 KA","UN",465.74,465.74,null,"CR"]
["SINAPI-I 2377","SINAPI-I",2377,"DISJUNTOR TERMOMAGNETICO TRIPOLAR 200 A / 600 V, TIPO FXD / ICC - 35 KA","UN",653.62,653.62,null,"CR"]
["SINAPI-I 2393","SINAPI-I",2393,"DISJUNTOR TERMOMAGNETICO TRIPOLAR 250 A / 600 V, TIPO FXD","UN",1094.57,1094.57,null,"CR"]
["SINAPI-I 34705","SINAPI-I",34705,"DISJUNTOR TERMOMAGNETICO TRIPOLAR 3 X 250 A/ICC - 25 KA","UN",957.36,957.36,null,"CR"]
["SINAPI-I 34707","SINAPI-I",34707,"DISJUNTOR TERMOMAGNETICO TRIPOLAR 3 X 350 A/ICC - 25 KA","UN",1774.01,1774.01,null,"CR"]
["SINAPI-I 34544","SINAPI-I",34544,"DISJUNTOR TERMOMAGNETICO TRIPOLAR 3 X 400 A / ICC - 25 KA","UN",1773.83,1773.83,null,"CR"]
["SINAPI-I 2378","SINAPI-I",2378,"DISJUNTOR TERMOMAGNETICO TRIPOLAR 300 A / 600 V, TIPO JXD / ICC - 40 KA","UN",1503.54,1503.54,null,"CR"]
["SINAPI-I 2379","SINAPI-I",2379,"DISJUNTOR TERMOMAGNETICO TRIPOLAR 400 A / 600 V, TIPO JXD / ICC - 40 KA","UN",1503.54,1503.54,null,"CR"]
["SINAPI-I 2376","SINAPI-I",2376,"DISJUNTOR TERMOMAGNETICO TRIPOLAR 600 A / 600 V, TIPO LXD / ICC - 40 KA","UN",2476.33,2476.33,null,"CR"]
["SINAPI-I 2394","SINAPI-I",2394,"DISJUNTOR TERMOMAGNETICO TRIPOLAR 800 A / 600 V, TIPO LMXD","UN",5293.94,5293.94,null,"CR"]
["SINAPI-I 2388","SINAPI-I",2388,"DISJUNTOR TIPO NEMA, BIPOLAR 10 ATE 50 A, TENSAO MAXIMA 415 V","UN",74.7,74.7,null,"CR"]
["SINAPI-I 34606","SINAPI-I",34606,"DISJUNTOR TIPO NEMA, BIPOLAR 60 ATE 100A, TENSAO MAXIMA 415 V","UN",114.58,114.58,null,"CR"]
["SINAPI-I 2370","SINAPI-I",2370,"DISJUNTOR TIPO NEMA, MONOPOLAR 10 ATE 30A, TENSAO MAXIMA DE 240 V","UN",13.88,13.88,null,"C"]
["SINAPI-I 2386","SINAPI-I",2386,"DISJUNTOR TIPO NEMA, MONOPOLAR 35 ATE 50 A, TENSAO MAXIMA DE 240 V","UN",23.28,23.28,null,"CR"]
["SINAPI-I 34689","SINAPI-I",34689,"DISJUNTOR TIPO NEMA, MONOPOLAR DE 60 ATE 70A, TENSAO MAXIMA DE 240 V","UN",36.479999999999997,36.479999999999997,null,"CR"]
["SINAPI-I 2392","SINAPI-I",2392,"DISJUNTOR TIPO NEMA, TRIPOLAR 10 ATE 50A, TENSAO MAXIMA DE 415 V","UN",93.17,93.17,null,"CR"]
["SINAPI-I 2373","SINAPI-I",2373,"DISJUNTOR TIPO NEMA, TRIPOLAR 60 ATE 100 A, TENSAO MAXIMA DE 415 V","UN",131.27000000000001,131.27000000000001,null,"CR"]
[{"$f":"CONCATENATE($B1857,\" \",$C1857)","v":"SINAPI-I 39465"},"SINAPI-I",39465,"DISPOSITIVO DPS CLASSE II, 1 POLO, TENSAO MAXIMA DE 175 V, CORRENTE MAXIMA DE *20* KA (TIPO AC)","UN",80.19,80.19,null,"CR"]
["SINAPI-I 39466","SINAPI-I",39466,"DISPOSITIVO DPS CLASSE II, 1 POLO, TENSAO MAXIMA DE 175 V, CORRENTE MAXIMA DE *30* KA (TIPO AC)","UN",90.22,90.22,null,"CR"]
["SINAPI-I 39467","SINAPI-I",39467,"DISPOSITIVO DPS CLASSE II, 1 POLO, TENSAO MAXIMA DE 175 V, CORRENTE MAXIMA DE *45* KA (TIPO AC)","UN",115.4,115.4,null,"CR"]
["SINAPI-I 39468","SINAPI-I",39468,"DISPOSITIVO DPS CLASSE II, 1 POLO, TENSAO MAXIMA DE 175 V, CORRENTE MAXIMA DE *90* KA (TIPO AC)","UN",205.12,205.12,null,"CR"]
["SINAPI-I 39469","SINAPI-I",39469,"DISPOSITIVO DPS CLASSE II, 1 POLO, TENSAO MAXIMA DE 275 V, CORRENTE MAXIMA DE *20* KA (TIPO AC)","UN",83.55,83.55,null,"CR"]
["SINAPI-I 39470","SINAPI-I",39470,"DISPOSITIVO DPS CLASSE II, 1 POLO, TENSAO MAXIMA DE 275 V, CORRENTE MAXIMA DE *30* KA (TIPO AC)","UN",102.66,102.66,null,"CR"]
["SINAPI-I 39471","SINAPI-I",39471,"DISPOSITIVO DPS CLASSE II, 1 POLO, TENSAO MAXIMA DE 275 V, CORRENTE MAXIMA DE *45* KA (TIPO AC)","UN",123.37,123.37,null,"CR"]
["SINAPI-I 39472","SINAPI-I",39472,"DISPOSITIVO DPS CLASSE II, 1 POLO, TENSAO MAXIMA DE 275 V, CORRENTE MAXIMA DE *90* KA (TIPO AC)","UN",214.36,214.36,null,"CR"]
["SINAPI-I 39473","SINAPI-I",39473,"DISPOSITIVO DPS CLASSE II, 1 POLO, TENSAO MAXIMA DE 385 V, CORRENTE MAXIMA DE *20* KA (TIPO AC)","UN",138.47999999999999,138.47999999999999,null,"CR"]
["SINAPI-I 39474","SINAPI-I",39474,"DISPOSITIVO DPS CLASSE II, 1 POLO, TENSAO MAXIMA DE 385 V, CORRENTE MAXIMA DE *30* KA (TIPO AC)","UN",147.62,147.62,null,"CR"]
["SINAPI-I 39475","SINAPI-I",39475,"DISPOSITIVO DPS CLASSE II, 1 POLO, TENSAO MAXIMA DE 385 V, CORRENTE MAXIMA DE *45* KA (TIPO AC)","UN",167.5,167.5,null,"CR"]
["SINAPI-I 39476","SINAPI-I",39476,"DISPOSITIVO DPS CLASSE II, 1 POLO, TENSAO MAXIMA DE 385 V, CORRENTE MAXIMA DE *90* KA (TIPO AC)","UN",315.3,315.3,null,"CR"]
["SINAPI-I 39477","SINAPI-I",39477,"DISPOSITIVO DPS CLASSE II, 1 POLO, TENSAO MAXIMA DE 460 V, CORRENTE MAXIMA DE *20* KA (TIPO AC)","UN",154.49,154.49,null,"CR"]
["SINAPI-I 39478","SINAPI-I",39478,"DISPOSITIVO DPS CLASSE II, 1 POLO, TENSAO MAXIMA DE 460 V, CORRENTE MAXIMA DE *30* KA (TIPO AC)","UN",159.27000000000001,159.27000000000001,null,"CR"]
["SINAPI-I 39479","SINAPI-I",39479,"DISPOSITIVO DPS CLASSE II, 1 POLO, TENSAO MAXIMA DE 460 V, CORRENTE MAXIMA DE *45* KA (TIPO AC)","UN",187.65,187.65,null,"CR"]
["SINAPI-I 39480","SINAPI-I",39480,"DISPOSITIVO DPS CLASSE II, 1 POLO, TENSAO MAXIMA DE 460 V, CORRENTE MAXIMA DE *90* KA (TIPO AC)","UN",387.22,387.22,null,"CR"]
["SINAPI-I 39459","SINAPI-I",39459,"DISPOSITIVO DR, 2 POLOS, SENSIBILIDADE DE 30 MA, CORRENTE DE 100 A, TIPO AC","UN",328.65,328.65,null,"CR"]
["SINAPI-I 39445","SINAPI-I",39445,"DISPOSITIVO DR, 2 POLOS, SENSIBILIDADE DE 30 MA, CORRENTE DE 25 A, TIPO AC","UN",165.01,165.01,null,"CR"]
["SINAPI-I 39446","SINAPI-I",39446,"DISPOSITIVO DR, 2 POLOS, SENSIBILIDADE DE 30 MA, CORRENTE DE 40 A, TIPO AC","UN",167.95,167.95,null,"CR"]
["SINAPI-I 39447","SINAPI-I",39447,"DISPOSITIVO DR, 2 POLOS, SENSIBILIDADE DE 30 MA, CORRENTE DE 63 A, TIPO AC","UN",179.6,179.6,null,"CR"]
["SINAPI-I 39448","SINAPI-I",39448,"DISPOSITIVO DR, 2 POLOS, SENSIBILIDADE DE 30 MA, CORRENTE DE 80 A, TIPO AC","UN",306.26,306.26,null,"CR"]
["SINAPI-I 39450","SINAPI-I",39450,"DISPOSITIVO DR, 2 POLOS, SENSIBILIDADE DE 300 MA, CORRENTE DE 25 A, TIPO AC","UN",186.85,186.85,null,"CR"]
["SINAPI-I 39451","SINAPI-I",39451,"DISPOSITIVO DR, 2 POLOS, SENSIBILIDADE DE 300 MA, CORRENTE DE 40 A, TIPO AC","UN",203.8,203.8,null,"CR"]
["SINAPI-I 39452","SINAPI-I",39452,"DISPOSITIVO DR, 2 POLOS, SENSIBILIDADE DE 300 MA, CORRENTE DE 63 A, TIPO AC","UN",205.02,205.02,null,"CR"]
["SINAPI-I 39523","SINAPI-I",39523,"DISPOSITIVO DR, 2 POLOS, SENSIBILIDADE DE 300 MA, CORRENTE DE 80 A, TIPO  AC","UN",343.09,343.09,null,"CR"]
["SINAPI-I 39449","SINAPI-I",39449,"DISPOSITIVO DR, 4 POLOS, SENSIBILIDADE DE 30 MA, CORRENTE DE 100 A, TIPO AC","UN",379.95,379.95,null,"CR"]
["SINAPI-I 39455","SINAPI-I",39455,"DISPOSITIVO DR, 4 POLOS, SENSIBILIDADE DE 30 MA, CORRENTE DE 25 A, TIPO AC","UN",188.01,188.01,null,"CR"]
["SINAPI-I 39456","SINAPI-I",39456,"DISPOSITIVO DR, 4 POLOS, SENSIBILIDADE DE 30 MA, CORRENTE DE 40 A, TIPO AC","UN",188.15,188.15,null,"CR"]
["SINAPI-I 39457","SINAPI-I",39457,"DISPOSITIVO DR, 4 POLOS, SENSIBILIDADE DE 30 MA, CORRENTE DE 63 A, TIPO AC","UN",205.11,205.11,null,"CR"]
["SINAPI-I 39458","SINAPI-I",39458,"DISPOSITIVO DR, 4 POLOS, SENSIBILIDADE DE 30 MA, CORRENTE DE 80 A, TIPO AC","UN",382.75,382.75,null,"CR"]
["SINAPI-I 39464","SINAPI-I",39464,"DISPOSITIVO DR, 4 POLOS, SENSIBILIDADE DE 300 MA, CORRENTE DE 100 A, TIPO AC","UN",615.5,615.5,null,"CR"]
["SINAPI-I 39460","SINAPI-I",39460,"DISPOSITIVO DR, 4 POLOS, SENSIBILIDADE DE 300 MA, CORRENTE DE 25 A, TIPO AC","UN",233.44,233.44,null,"CR"]
["SINAPI-I 39461","SINAPI-I",39461,"DISPOSITIVO DR, 4 POLOS, SENSIBILIDADE DE 300 MA, CORRENTE DE 40 A, TIPO AC","UN",273.54000000000002,273.54000000000002,null,"CR"]
["SINAPI-I 39462","SINAPI-I",39462,"DISPOSITIVO DR, 4 POLOS, SENSIBILIDADE DE 300 MA, CORRENTE DE 63 A, TIPO AC","UN",263.62,263.62,null,"CR"]
["SINAPI-I 39463","SINAPI-I",39463,"DISPOSITIVO DR, 4 POLOS, SENSIBILIDADE DE 300 MA, CORRENTE DE 80 A, TIPO AC","UN",610.72,610.72,null,"CR"]
["SINAPI-I 26039","SINAPI-I",26039,"DISTRIBUIDOR DE AGREGADOS AUTOPROPELIDO, CAP 3 M3, A DIESEL, 6 CC, 176 CV","UN"]
["SINAPI-I 2401","SINAPI-I",2401,"DISTRIBUIDOR DE AGREGADOS REBOCAVEL, CAPACIDADE 1,9 M3, LARGURA DE TRABALHO 3,66 M","UN"]
["SINAPI-I 38870","SINAPI-I",38870,"DISTRIBUIDOR METALICO, COM ROSCA, 2 SAIDAS, DN 1\" X 1/2\", PARA CONEXAO COM ANEL DESLIZANTE EM TUBO PEX PARA INST. AGUA QUENTE/FRIA","UN"]
["SINAPI-I 38869","SINAPI-I",38869,"DISTRIBUIDOR METALICO, COM ROSCA, 2 SAIDAS, DN 3/4\" X 1/2\", PARA CONEXAO COM ANEL DESLIZANTE EM TUBO PEX PARA INST. AGUA QUENTE/FRIA","UN"]
["SINAPI-I 38872","SINAPI-I",38872,"DISTRIBUIDOR METALICO, COM ROSCA, 3 SAIDAS, DN 1\" X 1/2\", PARA CONEXAO COM ANEL DESLIZANTE EM TUBO PEX PARA INST. AGUA QUENTE/FRIA","UN"]
["SINAPI-I 38871","SINAPI-I",38871,"DISTRIBUIDOR METALICO, COM ROSCA, 3 SAIDAS, DN 3/4\" X 1/2\", PARA CONEXAO COM ANEL DESLIZANTE EM TUBO PEX PARA INST. AGUA QUENTE/FRIA","UN"]
["SINAPI-I 39283","SINAPI-I",39283,"DISTRIBUIDOR, PLASTICO, 2 SAIDAS, DN 32 X 16 MM, PARA CONEXAO COM CRIMPAGEM, EM TUBO PEX PARA INST. AGUA QUENTE/FRIA","UN"]
["SINAPI-I 39285","SINAPI-I",39285,"DISTRIBUIDOR, PLASTICO, 2 SAIDAS, DN 32 X 25 MM, PARA CONEXAO COM CRIMPAGEM, EM TUBO PEX PARA INST. AGUA QUENTE/FRIA","UN"]
["SINAPI-I 39286","SINAPI-I",39286,"DISTRIBUIDOR, PLASTICO, 3 SAIDAS, DN 32 X 16 MM, PARA CONEXAO COM CRIMPAGEM, EM TUBO PEX PARA INST. AGUA QUENTE/FRIA","UN"]
["SINAPI-I 39288","SINAPI-I",39288,"DISTRIBUIDOR, PLASTICO, 3 SAIDAS, DN 32 X 25 MM, PARA CONEXAO COM CRIMPAGEM, EM TUBO PEX PARA INST. AGUA QUENTE/FRIA","UN"]
["SINAPI-I 44476","SINAPI-I",44476,"DIVISORIA EM GRANITO, COM DUAS FACES POLIDAS, TIPO ANDORINHA/ QUARTZ/ CASTELO/ CORUMBA OU OUTROS EQUIVALENTES DA REGIAO, E= *3,0* CM","M2",752.83,752.83,null,"CR"]
["SINAPI-I 10629","SINAPI-I",10629,"DIVISORIA EM MARMORE, COM DUAS FACES POLIDAS, BRANCO COMUM, E= *3,0* CM","M2",701.17,701.17,null,"CR"]
["SINAPI-I 10698","SINAPI-I",10698,"DIVISORIA, PLACA PRE-MOLDADA EM GRANILITE, MARMORITE OU GRANITINA, E = *3 CM","M2"]
["SINAPI-I 40521","SINAPI-I",40521,"DOBRADEIRA ELETROMECANICA DE VERGALHAO, PARA ACO DE DIAMETRO ATE 1 1/2\", MOTOR ELETRICO TRIFASICO, POTENCIA DE 3 HP ATE 5 HP","UN",132920.10999999999,132920.10999999999,null,"CR"]
["SINAPI-I 2432","SINAPI-I",2432,"DOBRADICA EM ACO/FERRO, 3 1/2\" X 3\", E= 1,9 A 2 MM, COM ANEL, CROMADO OU ZINCADO, TAMPA BOLA, COM PARAFUSOS","UN",28.67,28.67,null,"CR"]
["SINAPI-I 2418","SINAPI-I",2418,"DOBRADICA EM ACO/FERRO, 3\" X 2 1/2\", E= 1,2 A 1,8 MM, SEM ANEL, CROMADO OU ZINCADO, TAMPA BOLA, COM PARAFUSOS","UN",13.3,13.3,null,"C"]
["SINAPI-I 2433","SINAPI-I",2433,"DOBRADICA EM ACO/FERRO, 3\" X 2 1/2\", E= 1,2 A 1,8 MM, SEM ANEL, CROMADO OU ZINCADO, TAMPA CHATA, COM PARAFUSOS","UN",9.7100000000000009,9.7100000000000009,null,"CR"]
["SINAPI-I 2420","SINAPI-I",2420,"DOBRADICA EM ACO/FERRO, 3\" X 2 1/2\", E= 1,9 A 2 MM, SEM ANEL, CROMADO OU ZINCADO, TAMPA BOLA, COM PARAFUSOS","UN",16.68,16.68,null,"CR"]
["SINAPI-I 11447","SINAPI-I",11447,"DOBRADICA EM LATAO, 3\" X 2 1/2 \", E= 1,9 A 2 MM, COM ANEL, CROMADO, TAMPA BOLA, COM PARAFUSOS","UN",32.96,32.96,null,"CR"]
["SINAPI-I 11451","SINAPI-I",11451,"DOBRADICA TIPO VAI-E-VEM EM ACO/FERRO, TAMANHO 3\", GALVANIZADO, COM PARAFUSOS","UN",88.38,88.38,null,"CR"]
["SINAPI-I 11116","SINAPI-I",11116,"DOMOS / CLARABOIA INDIVIDUAL, EM ACRILICO BRANCO/LEITOSO, *95 X 95* CM, INCLUI ACESSORIOS DE FIXACAO, SEM INSTALACAO","UN",796.02,796.02,null,"CR"]
["SINAPI-I 38411","SINAPI-I",38411,"DOSADOR DE AREIA, CAPACIDADE DE *26* LITROS","UN",1672.72,1672.72,null,"CR"]
["SINAPI-I 38189","SINAPI-I",38189,"DUCHA / CHUVEIRO METALICO, DE PAREDE, ARTICULAVEL, COM BRACO/CANO, SEM DESVIADOR","UN",161.55000000000001,161.55000000000001,null,"CR"]
["SINAPI-I 38190","SINAPI-I",38190,"DUCHA / CHUVEIRO METALICO, DE PAREDE, ARTICULAVEL, COM DESVIADOR E DUCHA MANUAL","UN",340.34,340.34,null,"CR"]
["SINAPI-I 7608","SINAPI-I",7608,"DUCHA / CHUVEIRO PLASTICO SIMPLES, 5\", BRANCO, PARA ACOPLAR EM HASTE 1/2\", AGUA FRIA","UN",11.76,11.76,null,"CR"]
["SINAPI-I 1370","SINAPI-I",1370,"DUCHA HIGIENICA PLASTICA COM REGISTRO METALICO 1/2\"","UN",130.59,130.59,null,"CR"]
["SINAPI-I 36516","SINAPI-I",36516,"DUMPER COM CAPACIDADE DE CARGA DE 1700 KG, PARTIDA ELETRICA, MOTOR DIESEL COM POTENCIA DE 16 CV","UN"]
["SINAPI-I 34777","SINAPI-I",34777,"ELEMENTO VAZADO CERAMICO DIAGONAL (TIPO FLOR/QUADRADO/XIS) DE *7 X 18 X 25* CM (L X A X C)","UN",2.95,2.95,null,"CR"]
["SINAPI-I 7272","SINAPI-I",7272,"ELEMENTO VAZADO CERAMICO QUADRADO (TIPO RETO OU REDONDO) DE *7 A 9 X 20 X 20* CM (L X A X C)","UN",2.2200000000000002,2.2200000000000002,null,"CR"]
[{"$f":"CONCATENATE($B1921,\" \",$C1921)","v":"SINAPI-I 10605"},"SINAPI-I",10605,"ELEMENTO VAZADO DE CONCRETO, QUADRICULADO, 1 FURO *10 X 10 X 10* CM","UN",4.72,4.72,null,"CR"]
["SINAPI-I 10604","SINAPI-I",10604,"ELEMENTO VAZADO DE CONCRETO, QUADRICULADO, 1 FURO *20 X 10 X 7* CM","UN",11.02,11.02,null,"CR"]
["SINAPI-I 672","SINAPI-I",672,"ELEMENTO VAZADO DE CONCRETO, QUADRICULADO, 1 FURO *20 X 20 X 6,5* CM","UN",15.15,15.15,null,"CR"]
["SINAPI-I 668","SINAPI-I",668,"ELEMENTO VAZADO DE CONCRETO, QUADRICULADO, 16 FUROS *29 X 29 X 6* CM","UN",18.29,18.29,null,"CR"]
["SINAPI-I 10578","SINAPI-I",10578,"ELEMENTO VAZADO DE CONCRETO, QUADRICULADO, 16 FUROS *33 X 33 X 10* CM","UN",21.3,21.3,null,"CR"]
["SINAPI-I 666","SINAPI-I",666,"ELEMENTO VAZADO DE CONCRETO, QUADRICULADO, 16 FUROS *40 X 40 X 7* CM","UN",23.69,23.69,null,"CR"]
["SINAPI-I 665","SINAPI-I",665,"ELEMENTO VAZADO DE CONCRETO, QUADRICULADO, 16 FUROS *50 X 50 X 7* CM","UN",31.68,31.68,null,"CR"]
["SINAPI-I 10577","SINAPI-I",10577,"ELEMENTO VAZADO DE CONCRETO, QUADRICULADO, 25 FUROS *50 X 50 X 5* CM","UN",28.1,28.1,null,"CR"]
["SINAPI-I 10583","SINAPI-I",10583,"ELEMENTO VAZADO DE CONCRETO, VENEZIANA *39 X 22 X 15* CM","UN",14.6,14.6,null,"CR"]
["SINAPI-I 10579","SINAPI-I",10579,"ELEMENTO VAZADO DE CONCRETO, VENEZIANA *39 X 29 X 10* CM","UN",25.44,25.44,null,"CR"]
["SINAPI-I 10582","SINAPI-I",10582,"ELEMENTO VAZADO DE CONCRETO, VENEZIANA *40 X 10 X 10* CM","UN",12.85,12.85,null,"CR"]
["SINAPI-I 2436","SINAPI-I",2436,"ELETRICISTA (HORISTA)","H",24.2,27.06,null,"C"]
["SINAPI-I 40918","SINAPI-I",40918,"ELETRICISTA (MENSALISTA)","MES",4243.8900000000003,4747.54,null,"CR"]
["SINAPI-I 10998","SINAPI-I",10998,"ELETRODO REVESTIDO AWS - E-6010, DIAMETRO IGUAL A 4,00 MM","KG",40.619999999999997,40.619999999999997,null,"CR"]
["SINAPI-I 11002","SINAPI-I",11002,"ELETRODO REVESTIDO AWS - E6013, DIAMETRO IGUAL A 2,50 MM","KG",37.21,37.21,null,"CR"]
["SINAPI-I 10999","SINAPI-I",10999,"ELETRODO REVESTIDO AWS - E6013, DIAMETRO IGUAL A 4,00 MM","KG",35.75,35.75,null,"CR"]
["SINAPI-I 10997","SINAPI-I",10997,"ELETRODO REVESTIDO AWS - E7018, DIAMETRO IGUAL A 4,00 MM","KG",38.75,38.75,null,"C"]
["SINAPI-I 2685","SINAPI-I",2685,"ELETRODUTO DE PVC RIGIDO ROSCAVEL DE 1 \", SEM LUVA","M",11.19,11.19,null,"CR"]
["SINAPI-I 2680","SINAPI-I",2680,"ELETRODUTO DE PVC RIGIDO ROSCAVEL DE 1 1/2 \", SEM LUVA","M",16.37,16.37,null,"CR"]
["SINAPI-I 2684","SINAPI-I",2684,"ELETRODUTO DE PVC RIGIDO ROSCAVEL DE 1 1/4 \", SEM LUVA","M",14.9,14.9,null,"CR"]
["SINAPI-I 2673","SINAPI-I",2673,"ELETRODUTO DE PVC RIGIDO ROSCAVEL DE 1/2 \", SEM LUVA","M",5.75,5.75,null,"C"]
["SINAPI-I 2681","SINAPI-I",2681,"ELETRODUTO DE PVC RIGIDO ROSCAVEL DE 2 \", SEM LUVA","M",26.76,26.76,null,"CR"]
["SINAPI-I 2682","SINAPI-I",2682,"ELETRODUTO DE PVC RIGIDO ROSCAVEL DE 2 1/2 \", SEM LUVA","M",39.04,39.04,null,"CR"]
["SINAPI-I 2686","SINAPI-I",2686,"ELETRODUTO DE PVC RIGIDO ROSCAVEL DE 3 \", SEM LUVA","M",48.95,48.95,null,"CR"]
["SINAPI-I 2674","SINAPI-I",2674,"ELETRODUTO DE PVC RIGIDO ROSCAVEL DE 3/4 \", SEM LUVA","M",7.16,7.16,null,"CR"]
["SINAPI-I 2683","SINAPI-I",2683,"ELETRODUTO DE PVC RIGIDO ROSCAVEL DE 4 \", SEM LUVA","M",77.14,77.14,null,"CR"]
["SINAPI-I 2676","SINAPI-I",2676,"ELETRODUTO DE PVC RIGIDO SOLDAVEL, CLASSE B, DE 20 MM","M",3.34,3.34,null,"CR"]
["SINAPI-I 2678","SINAPI-I",2678,"ELETRODUTO DE PVC RIGIDO SOLDAVEL, CLASSE B, DE 25 MM","M",4.1900000000000004,4.1900000000000004,null,"CR"]
["SINAPI-I 2679","SINAPI-I",2679,"ELETRODUTO DE PVC RIGIDO SOLDAVEL, CLASSE B, DE 32 MM","M",6.46,6.46,null,"CR"]
["SINAPI-I 12070","SINAPI-I",12070,"ELETRODUTO DE PVC RIGIDO SOLDAVEL, CLASSE B, DE 40 MM","M",8.99,8.99,null,"CR"]
["SINAPI-I 2675","SINAPI-I",2675,"ELETRODUTO DE PVC RIGIDO SOLDAVEL, CLASSE B, DE 50 MM","M",11.68,11.68,null,"CR"]
["SINAPI-I 12067","SINAPI-I",12067,"ELETRODUTO DE PVC RIGIDO SOLDAVEL, CLASSE B, DE 60 MM","M",15.85,15.85,null,"CR"]
["SINAPI-I 21128","SINAPI-I",21128,"ELETRODUTO EM ACO GALVANIZADO ELETROLITICO, LEVE, DIAMETRO 3/4\", PAREDE DE 0,90 MM","M",10.81,10.81,null,"C"]
["SINAPI-I 40400","SINAPI-I",40400,"ELETRODUTO FLEXIVEL PLANO EM PEAD, COR PRETA E LARANJA, DIAMETRO 25 MM","M",2.33,2.33,null,"CR"]
["SINAPI-I 40401","SINAPI-I",40401,"ELETRODUTO FLEXIVEL PLANO EM PEAD, COR PRETA E LARANJA, DIAMETRO 32 MM","M",3.44,3.44,null,"CR"]
["SINAPI-I 40402","SINAPI-I",40402,"ELETRODUTO FLEXIVEL PLANO EM PEAD, COR PRETA E LARANJA, DIAMETRO 40 MM","M",4.41,4.41,null,"CR"]
["SINAPI-I 21137","SINAPI-I",21137,"ELETRODUTO FLEXIVEL, EM FITA DE ACO GALVANIZADO, REVESTIDO COM PVC PRETO, DIAMETRO EXTERNO DE 15 MM, DN = 3/8\", TIPO SEALTUBO","M",11.06,11.06,null,"CR"]
["SINAPI-I 2504","SINAPI-I",2504,"ELETRODUTO FLEXIVEL, EM FITA DE ACO GALVANIZADO, REVESTIDO COM PVC PRETO, DIAMETRO EXTERNO DE 25 MM, DN = 3/4\", TIPO SEALTUBO","M",11.99,11.99,null,"CR"]
["SINAPI-I 2501","SINAPI-I",2501,"ELETRODUTO FLEXIVEL, EM FITA DE ACO GALVANIZADO, REVESTIDO COM PVC PRETO, DIAMETRO EXTERNO DE 32 MM, DN = 1\", TIPO SEALTUBO","M",15.73,15.73,null,"CR"]
["SINAPI-I 2502","SINAPI-I",2502,"ELETRODUTO FLEXIVEL, EM FITA DE ACO GALVANIZADO, REVESTIDO COM PVC PRETO, DIAMETRO EXTERNO DE 40 MM, DN = 1 1/4\", TIPO SEALTUBO","M",23.73,23.73,null,"CR"]
["SINAPI-I 2503","SINAPI-I",2503,"ELETRODUTO FLEXIVEL, EM FITA DE ACO GALVANIZADO, REVESTIDO COM PVC PRETO, DIAMETRO EXTERNO DE 50 MM, DN = 1 1/2\", TIPO SEALTUBO","M",30.54,30.54,null,"CR"]
["SINAPI-I 2500","SINAPI-I",2500,"ELETRODUTO FLEXIVEL, EM FITA DE ACO GALVANIZADO, REVESTIDO COM PVC PRETO, DIAMETRO EXTERNO DE 60 MM, DN = 2\", TIPO SEALTUBO","M",40.69,40.69,null,"CR"]
["SINAPI-I 2505","SINAPI-I",2505,"ELETRODUTO FLEXIVEL, EM FITA DE ACO GALVANIZADO, REVESTIDO COM PVC PRETO, DIAMETRO EXTERNO DE 75 MM, DN = 2 1/2\", TIPO SEALTUBO","M",63.41,63.41,null,"CR"]
["SINAPI-I 12056","SINAPI-I",12056,"ELETRODUTO FLEXIVEL, EM FITA DE ACO GALVANIZADO, SEM REVESTIMENTO, DIAMETRO NOMINAL 1 1/2\"","M",25.62,25.62,null,"CR"]
["SINAPI-I 12057","SINAPI-I",12057,"ELETRODUTO FLEXIVEL, EM FITA DE ACO GALVANIZADO, SEM REVESTIMENTO, DIAMETRO NOMINAL 1 1/4\"","M",21.76,21.76,null,"CR"]
["SINAPI-I 12058","SINAPI-I",12058,"ELETRODUTO FLEXIVEL, EM FITA DE ACO GALVANIZADO, SEM REVESTIMENTO, DIAMETRO NOMINAL 1\"","M",13.56,13.56,null,"CR"]
["SINAPI-I 12059","SINAPI-I",12059,"ELETRODUTO FLEXIVEL, EM FITA DE ACO GALVANIZADO, SEM REVESTIMENTO, DIAMETRO NOMINAL 1/2\"","M",7.63,7.63,null,"CR"]
["SINAPI-I 12060","SINAPI-I",12060,"ELETRODUTO FLEXIVEL, EM FITA DE ACO GALVANIZADO, SEM REVESTIMENTO, DIAMETRO NOMINAL 2 1/2\"","M",56.54,56.54,null,"CR"]
["SINAPI-I 12061","SINAPI-I",12061,"ELETRODUTO FLEXIVEL, EM FITA DE ACO GALVANIZADO, SEM REVESTIMENTO, DIAMETRO NOMINAL 2\"","M",34.520000000000003,34.520000000000003,null,"CR"]
["SINAPI-I 12062","SINAPI-I",12062,"ELETRODUTO FLEXIVEL, EM FITA DE ACO GALVANIZADO, SEM REVESTIMENTO, DIAMETRO NOMINAL 3\"","M",63.67,63.67,null,"CR"]
["SINAPI-I 2687","SINAPI-I",2687,"ELETRODUTO PVC FLEXIVEL CORRUGADO, COR AMARELA, DE 16 MM","M",2.92,2.92,null,"CR"]
["SINAPI-I 2689","SINAPI-I",2689,"ELETRODUTO PVC FLEXIVEL CORRUGADO, COR AMARELA, DE 20 MM","M",3.47,3.47,null,"CR"]
["SINAPI-I 2688","SINAPI-I",2688,"ELETRODUTO PVC FLEXIVEL CORRUGADO, COR AMARELA, DE 25 MM","M",3.76,3.76,null,"CR"]
["SINAPI-I 2690","SINAPI-I",2690,"ELETRODUTO PVC FLEXIVEL CORRUGADO, COR AMARELA, DE 32 MM","M",6.44,6.44,null,"CR"]
["SINAPI-I 39243","SINAPI-I",39243,"ELETRODUTO PVC FLEXIVEL CORRUGADO, REFORCADO, COR LARANJA, DE 20 MM, PARA LAJES E PISOS","M",4.24,4.24,null,"CR"]
["SINAPI-I 39244","SINAPI-I",39244,"ELETRODUTO PVC FLEXIVEL CORRUGADO, REFORCADO, COR LARANJA, DE 25 MM, PARA LAJES E PISOS","M",5.74,5.74,null,"CR"]
["SINAPI-I 39245","SINAPI-I",39245,"ELETRODUTO PVC FLEXIVEL CORRUGADO, REFORCADO, COR LARANJA, DE 32 MM, PARA LAJES E PISOS","M",11.04,11.04,null,"CR"]
["SINAPI-I 39255","SINAPI-I",39255,"ELETRODUTO/CONDULETE DE PVC RIGIDO, LISO, COR CINZA, DE 1\", PARA INSTALACOES APARENTES (NBR 5410)","M",30.56,30.56,null,"CR"]
["SINAPI-I 39254","SINAPI-I",39254,"ELETRODUTO/CONDULETE DE PVC RIGIDO, LISO, COR CINZA, DE 1/2\", PARA INSTALACOES APARENTES (NBR 5410)","M",16.510000000000002,16.510000000000002,null,"CR"]
["SINAPI-I 39253","SINAPI-I",39253,"ELETRODUTO/CONDULETE DE PVC RIGIDO, LISO, COR CINZA, DE 3/4\", PARA INSTALACOES APARENTES (NBR 5410)","M",21.05,21.05,null,"CR"]
["SINAPI-I 39246","SINAPI-I",39246,"ELETRODUTO/DUTO PEAD FLEXIVEL PAREDE SIMPLES, CORRUGACAO HELICOIDAL, COR PRETA, SEM ROSCA, DE 1 1/2\", CRC 680 N, PARA CABEAMENTO SUBTERRANEO (NBR 15715)","M",5.97,5.97,null,"CR"]
["SINAPI-I 39247","SINAPI-I",39247,"ELETRODUTO/DUTO PEAD FLEXIVEL PAREDE SIMPLES, CORRUGACAO HELICOIDAL, COR PRETA, SEM ROSCA, DE 1 1/4\", CRC 680 N, PARA CABEAMENTO SUBTERRANEO (NBR 15715)","M",5.21,5.21,null,"CR"]
["SINAPI-I 2446","SINAPI-I",2446,"ELETRODUTO/DUTO PEAD FLEXIVEL PAREDE SIMPLES, CORRUGACAO HELICOIDAL, COR PRETA, SEM ROSCA, DE 2\", CRC 680 N, PARA CABEAMENTO SUBTERRANEO (NBR 15715)","M",8.58,8.58,null,"C"]
["SINAPI-I 2442","SINAPI-I",2442,"ELETRODUTO/DUTO PEAD FLEXIVEL PAREDE SIMPLES, CORRUGACAO HELICOIDAL, COR PRETA, SEM ROSCA, DE 3\", CRC 680 N, PARA CABEAMENTO SUBTERRANEO (NBR 15715)","M",12.02,12.02,null,"CR"]
[{"$f":"CONCATENATE($B1985,\" \",$C1985)","v":"SINAPI-I 39248"},"SINAPI-I",39248,"ELETRODUTO/DUTO PEAD FLEXIVEL PAREDE SIMPLES, CORRUGACAO HELICOIDAL, COR PRETA, SEM ROSCA, DE 4\", CRC 680 N, PARA CABEAMENTO SUBTERRANEO (NBR 15715)","M",16.75,16.75,null,"CR"]
["SINAPI-I 2438","SINAPI-I",2438,"ELETROTECNICO (HORISTA)","H",30.42,34.03,null,"CR"]
["SINAPI-I 40922","SINAPI-I",40922,"ELETROTECNICO (MENSALISTA)","MES",5339.57,5973.26,null,"CR"]
["SINAPI-I 36486","SINAPI-I",36486,"ELEVADOR DE CARGA A CABO, CABINE SEMI FECHADA 2,0 X 1,5 X 2,0 M, CAPACIDADE DE CARGA 1000 KG, TORRE 2,38 X 2,21 X 15 M, GUINCHO DE EMBREAGEM, FREIO DE SEGURANCA, LIMITADOR DE VELOCIDADE E CANCELA","UN"]
["SINAPI-I 37777","SINAPI-I",37777,"ELEVADOR DE CREMALHEIRA CABINE FECHADA 1,5 X 2,5 X 2,35 M (UMA POR TORRE), CAPACIDADE DE CARGA 1200 KG (15 PESSOAS), TORRE 24 M (16 MODULOS), FREIO DE SEGURANCA, LIMITADOR DE CARGA","UN"]
["SINAPI-I 12624","SINAPI-I",12624,"EMENDA PARA CALHA PLUVIAL, PVC, DIAMETRO ENTRE 119 E 170 MM, PARA DRENAGEM PLUVIAL PREDIAL","UN",30.91,30.91,null,"CR"]
["SINAPI-I 517","SINAPI-I",517,"EMULSAO ASFALTICA ANIONICA","L",10.08,10.08,null,"CR"]
["SINAPI-I 37534","SINAPI-I",37534,"EMULSAO EXPLOSIVA EM CARTUCHOS DE 1\" X 12\", DENSIDADE 1.15 G/CM3, INICIACAO ESPOLETA N. 8 / CORDEL","KG"]
["SINAPI-I 37535","SINAPI-I",37535,"EMULSAO EXPLOSIVA EM CARTUCHOS DE 1\" X 24\", DENSIDADE 1.15 G/CM3, INICIACAO ESPOLETA N. 8 / CORDEL","KG"]
["SINAPI-I 37533","SINAPI-I",37533,"EMULSAO EXPLOSIVA EM CARTUCHOS DE 1\" X 8\", DENSIDADE 1.15 G/CM3, INICIACAO ESPOLETA N. 8 / CORDEL","KG"]
["SINAPI-I 37537","SINAPI-I",37537,"EMULSAO EXPLOSIVA EM CARTUCHOS DE 2 1/2\" X 24\", DENSIDADE 1.15 G/CM3, INICIACAO ESPOLETA N. 8 / CORDEL","KG"]
["SINAPI-I 37536","SINAPI-I",37536,"EMULSAO EXPLOSIVA EM CARTUCHOS DE 2 1/4\" X 24\", DENSIDADE 1.15 G/CM3, INICIACAO ESPOLETA N. 8 / CORDEL","KG"]
["SINAPI-I 37532","SINAPI-I",37532,"EMULSAO EXPLOSIVA EM CARTUCHOS DE 2\" X 24\", DENSIDADE 1.15 G/CM3, INICIACAO ESPOLETA N. 8 / CORDEL","KG"]
["SINAPI-I 2696","SINAPI-I",2696,"ENCANADOR OU BOMBEIRO HIDRAULICO (HORISTA)","H",24.2,27.06,null,"C"]
["SINAPI-I 40928","SINAPI-I",40928,"ENCANADOR OU BOMBEIRO HIDRAULICO (MENSALISTA)","MES",4243.8900000000003,4747.54,null,"CR"]
["SINAPI-I 4083","SINAPI-I",4083,"ENCARREGADO GERAL DE OBRAS (HORISTA)","H",34.64,38.75,null,"C"]
["SINAPI-I 40813","SINAPI-I",40813,"ENGENHEIRO CIVIL DE OBRA PLENO (MENSALISTA)","MES",22197.040000000001,24831.32,null,"CR"]
["SINAPI-I 43494","SINAPI-I",43494,"EPI - FAMILIA ALMOXARIFE - MENSALISTA (ENCARGOS COMPLEMENTARES - COLETADO CAIXA)","MES",153.54,153.54,null,"C"]
["SINAPI-I 43490","SINAPI-I",43490,"EPI - FAMILIA PINTOR - HORISTA (ENCARGOS COMPLEMENTARES - COLETADO CAIXA)","H",1.85,1.85,null,"C"]
["SINAPI-I 45112","SINAPI-I",45112,"ESCAVADEIRA HIDRAULICA DE BRACO LONGO (LONGO ALCANCE) SOBRE ESTEIRAS, CACAMBA 0,52 M3, PESO OPERACIONAL 24 T, POTENCIA LIQUIDA 155 HP","UN",1171351.3500000001,1171351.3500000001,null,"CR"]
["SINAPI-I 39013","SINAPI-I",39013,"ESPACADOR/SEPARADOR /CENTRALIZADOR DE BARRA DE ACO, PLASTICO, (CHUMBADOR TIPO CARAMBOLA - CB), DIAMETRO INTERNO ATE 20 MM","UN"]
["SINAPI-I 11186","SINAPI-I",11186,"ESPELHO CRISTAL E = 4 MM","M2",397.03,397.03,null,"CR"]
["SINAPI-I 39616","SINAPI-I",39616,"ESTABILIZADOR BIVOLT AUTOMATICO, 1000 VA","UN"]
["SINAPI-I 40863","SINAPI-I",40863,"EXAMES - MENSALISTA (COLETADO CAIXA - ENCARGOS COMPLEMENTARES)","MES",270.51,270.51,null,"C"]
["SINAPI-I 11468","SINAPI-I",11468,"FECHADURA DE SOBREPOR PARA GAVETAS E ARMARIOS, EM ACO INOX COM ACABAMENTO CROMADO, COM CILINDRO DE APROX 20 MM","UN",13.46,13.46,null,"CR"]
["SINAPI-I 3097","SINAPI-I",3097,"FECHADURA ROSETA REDONDA PARA PORTA DE BANHEIRO, EM ACO INOX (MAQUINA, TESTA E CONTRA-TESTA) E EM ZAMAC (MACANETA, LINGUETA E TRINCOS) COM ACABAMENTO CROMADO, MAQUINA DE 40 MM, INCLUINDO CHAVE TIPO TRANQUETA","CJ",76.290000000000006,76.290000000000006,null,"CR"]
["SINAPI-I 43461","SINAPI-I",43461,"FERRAMENTAS - FAMILIA ENCANADOR - HORISTA (ENCARGOS COMPLEMENTARES - COLETADO CAIXA)","H",0.31,0.31,null,"C"]
["SINAPI-I 43474","SINAPI-I",43474,"FERRAMENTAS - FAMILIA ENGENHEIRO CIVIL - MENSALISTA (ENCARGOS COMPLEMENTARES - COLETADO CAIXA)","MES",2.35,2.35,null,"C"]
[{"$f":"CONCATENATE($B2177,\" \",$C2177)","v":"SINAPI-I 3107"},"SINAPI-I",3107,"FERROLHO COM FECHO CHATO E PORTA CADEADO, EM ACO GALVANIZADO / ZINCADO, DE SOBREPOR, COM COMPRIMENTO DE 3\" A 4\", CHAPA COM ESPESSURA MINIMA DE 0,90 MM E LARGURA MINIMA DE 3,20 CM (FECHO SIMPLES / LEVE) (INCLUI PARAFUSOS)","UN",8.25,8.25,null,"CR"]
["SINAPI-I 39367","SINAPI-I",39367,"FILTRO ANAEROBIO, EM POLIETILENO DE ALTA DENSIDADE (PEAD), CAPACIDADE *5000* LITROS (NBR 13969)","UN",5606.11,5606.11,null,"CR"]
["SINAPI-I 404","SINAPI-I",404,"FITA ISOLANTE DE BORRACHA AUTOFUSAO, USO ATE 69 KV (ALTA TENSAO), LARGURA DE 19 MM","M",1.77,1.77,null,"CR"]
["SINAPI-I 3262","SINAPI-I",3262,"FLANGE SEXTAVADO DE FERRO GALVANIZADO, COM ROSCA BSP, DE 1/2\"","UN"]
["SINAPI-I 3287","SINAPI-I",3287,"FORRO DE MADEIRA CUMARU/IPE CHAMPANHE OU EQUIVALENTE DA REGIAO, ENCAIXE MACHO/FEMEA COM FRISO, *10 X 1* CM (SEM COLOCACAO)","M2",150,150,null,"CR"]
["SINAPI-I 39362","SINAPI-I",39362,"FOSSA SEPTICA, SEM FILTRO, EM POLIETILENO DE ALTA DENSIDADE (PEAD), PARA 8 A 14 CONTRIBUINTES, CILINDRICA, COM TAMPA, CAPACIDADE APROXIMADA DE *3000* LITROS (NBR 7229)","UN",3430.73,3430.73,null,"CR"]
["SINAPI-I 3298","SINAPI-I",3298,"FUSIVEL NH 200 A 250 AMPERES, TAMANHO 1, CAPACIDADE DE INTERRUPCAO DE 120 KA, TENSAO NOMINAL DE 500 V","UN"]
["SINAPI-I 34800","SINAPI-I",34800,"GABIAO TIPO CAIXA, MALHA HEXAGONAL 8 X 10 CM (ZN/AL REVESTIDO COM POLIMERO), FIO DE 2,4 MM, DIMENSOES 2,0 X 1,0 X 1,0 M (C X L X A)","M3",494.32,494.32,null,"CR"]
["SINAPI-I 4020","SINAPI-I",4020,"GEOTEXTIL NAO TECIDO AGULHADO DE FILAMENTOS CONTINUOS 100% POLIESTER, RESITENCIA A TRACAO = 26 KN/M","M2",22.26,22.26,null,"CR"]
["SINAPI-I 38055","SINAPI-I",38055,"GRAMPO METALICO TIPO OLHAL PARA HASTE DE ATERRAMENTO DE 1/2\", CONDUTOR DE *10* A 50 MM2","UN",5.42,5.42,null,"CR"]
["SINAPI-I 4824","SINAPI-I",4824,"GRANILHA/ GRANA/ PEDRISCO OU AGREGADO EM MARMORE/ GRANITO/ QUARTZO E CALCARIO, PRETO, CINZA, PALHA OU BRANCO","KG",0.65,0.65,null,"CR"]
["SINAPI-I 11244","SINAPI-I",11244,"GRELHA FOFO ARTICULADA, CARGA MAXIMA 1,5 T, *300 X 1000* MM, E= *15* MM","UN",299.38,299.38,null,"CR"]
["SINAPI-I 44494","SINAPI-I",44494,"GRUPO GERADOR ESTACIONARIO SILENCIADO, POTENCIA 50 KVA, MOTOR  DIESEL","UN",82363.92,82363.92,null,"CR"]
["SINAPI-I 36491","SINAPI-I",36491,"GUINDAUTO HIDRAULICO, CAPACIDADE MAXIMA DE CARGA 30000 KG, MOMENTO MAXIMO DE CARGA 92,2 TM, ALCANCE MAXIMO HORIZONTAL 22,00 M, PARA MONTAGEM SOBRE CHASSI DE CAMINHAO PBT MINIMO 30000 KG (INCLUI MONTAGEM, NAO INCLUI CAMINHAO)","UN"]
["SINAPI-I 4316","SINAPI-I",4316,"HASTE RETA PARA GANCHO DE FERRO GALVANIZADO, COM ROSCA 1/4\" X 40 CM PARA FIXACAO DE TELHA DE FIBROCIMENTO, INCLUI PORCA SEXTAVADA DE ZINCO","UN",1.35,1.35,null,"CR"]
["SINAPI-I 12873","SINAPI-I",12873,"IMPERMEABILIZADOR (HORISTA)","H",24.2,27.06,null,"CR"]
["SINAPI-I 38080","SINAPI-I",38080,"INTERRUPTOR SIMPLES + INTERRUPTOR PARALELO + TOMADA 2P+T 10A, 250V, CONJUNTO MONTADO PARA EMBUTIR 4\" X 2\" (PLACA + SUPORTE + MODULOS)","UN",30.74,30.74,null,"CR"]
["SINAPI-I 38071","SINAPI-I",38071,"INTERRUPTORES SIMPLES (3 MODULOS) 10A, 250V, CONJUNTO MONTADO PARA EMBUTIR 4\" X 2\" (PLACA + SUPORTE + MODULOS)","UN",18.59,18.59,null,"CR"]
["SINAPI-I 40662","SINAPI-I",40662,"JANELA BASCULANTE EM MADEIRA PINUS/ EUCALIPTO/ TAUARI/ VIROLA OU EQUIVALENTE DA REGIAO, *60 X 60*, CAIXA DO BATENTE/ MARCO E = *10* CM, 2 BASCULAS PARA VIDRO, COM FERRAGENS (SEM VIDRO, SEM GUARNICAO/ALIZAR E SEM ACABAMENTO)","UN",244.31,244.31,null,"CR"]
["SINAPI-I 3421","SINAPI-I",3421,"JANELA EM MADEIRA CEDRINHO/ ANGELIM COMERCIAL/ CURUPIXA/ CUMARU OU EQUIVALENTE DA REGIAO, CAIXA DO BATENTE/MARCO *10* CM, 2 FOLHAS DE ABRIR TIPO VENEZIANA E 2 FOLHAS GUILHOTINA PARA VIDRO, COM GUARNICAO/ALIZAR, COM FERRAGENS (SEM VIDRO E SEM ACABAMENTO)","M2",753.93,753.93,null,"CR"]
["SINAPI-I 37957","SINAPI-I",37957,"JOELHO CPVC, SOLDAVEL, 90 GRAUS, 28 MM, PARA AGUA QUENTE","UN",9.69,9.69,null,"CR"]
["SINAPI-I 36349","SINAPI-I",36349,"JOELHO PPR 45 GRAUS, SOLDAVEL, F/F, DN 25 MM, PARA AGUA QUENTE PREDIAL","UN",3.64,3.64,null,"CR"]
["SINAPI-I 38439","SINAPI-I",38439,"JOELHO PPR, 90 GRAUS, SOLDAVEL, F/F, DN 90 MM, PARA AGUA QUENTE PREDIAL","UN",107.25,107.25,null,"CR"]
["SINAPI-I 3542","SINAPI-I",3542,"JOELHO PVC, SOLDAVEL, 90 GRAUS, 20 MM, COR MARROM, PARA AGUA FRIA PREDIAL","UN",0.55000000000000004,0.55000000000000004,null,"CR"]
["SINAPI-I 3513","SINAPI-I",3513,"JOELHO PVC, SOLDAVEL, 90 GRAUS, 85 MM, COR MARROM, PARA AGUA FRIA PREDIAL","UN",94.62,94.62,null,"CR"]
["SINAPI-I 20148","SINAPI-I",20148,"JOELHO, PVC SERIE R, 45 GRAUS, DN 40 MM, PARA ESGOTO PREDIAL","UN",3.87,3.87,null,"CR"]
["SINAPI-I 20158","SINAPI-I",20158,"JOELHO, PVC SERIE R, 90 GRAUS, DN 150 MM, PARA ESGOTO PREDIAL","UN",74.31,74.31,null,"CR"]
["SINAPI-I 39306","SINAPI-I",39306,"JOELHO/COTOVELO 90 GRAUS, ROSCA FEMEA TERMINAL, PLASTICO, PARA CONEXAO COM CRIMPAGEM, DN 20 MM X 3/4\", EM TUBO PEX PARA INST. AGUA QUENTE/FRIA","UN"]
["SINAPI-I 45198","SINAPI-I",45198,"JOGO DE CHAVES ALLEN LONGAS HEXAGONAIS DE 1,5 MM A 10 MM \u0096 9 PEÇAS","UN",36.25,36.25,null,"CR"]
["SINAPI-I 3659","SINAPI-I",3659,"JUNCAO SIMPLES DE REDUCAO, PVC, DN 100 X 50 MM, SERIE NORMAL PARA ESGOTO PREDIAL","UN",18.04,18.04,null,"CR"]
["SINAPI-I 3676","SINAPI-I",3676,"JUNTA DILATACAO ELASTICA PARA CONCRETO (FUGENBAND) O-35/10, ATE 100 MCA","M"]
["SINAPI-I 12118","SINAPI-I",12118,"KIT DE PROTECAO ARSTOP PARA AR CONDICIONADO, TOMADA PADRAO 2P+T 20 A, COM DISJUNTOR UNIPOLAR DIN 20A","UN",24.3,24.3,null,"CR"]
["SINAPI-I 39500","SINAPI-I",39500,"KIT PORTA PRONTA DE MADEIRA, FOLHA PESADA (NBR 15930) DE 800 X 2100 MM, DE 40 MM A 45 MM DE ESPESSURA, NUCLEO SOLIDO, CAPA LISA EM HDF, ACABAMENTO MELAMINICO BRANCO (INCLUI MARCO, ALIZARES, DOBRADICAS E FECHADURA EXTERNA)","UN",1088.95,1088.95,null,"CR"]
["SINAPI-I 3731","SINAPI-I",3731,"LADRILHO HIDRAULICO, *20 X 20* CM, E= 2 CM, PADRAO DADOS, COR NATURAL","M2",62.37,62.37,null,"CR"]
["SINAPI-I 3746","SINAPI-I",3746,"LAJE PRE-MOLDADA TRELICADA (LAJOTAS + VIGOTAS) PARA PISO, UNIDIRECIONAL, SOBRECARGA DE 200 KG/M2, VAO ATE 6,00 M (SEM COLOCACAO)","M2",83.18,83.18,null,"CR"]
["SINAPI-I 10426","SINAPI-I",10426,"LAVATORIO DE LOUCA BRANCA, COM COLUNA, DIMENSOES *54 X 44* CM (L X C)","UN",244.03,244.03,null,"CR"]
["SINAPI-I 38383","SINAPI-I",38383,"LIXA D'AGUA EM FOLHA, COR PRETA, GRAO 100","UN",2.35,2.35,null,"CR"]
["SINAPI-I 40339","SINAPI-I",40339,"LOCACAO DE CRUZETA, SIMPLES, PARA ESCORA METALICA, COMPRIMENTO ENTRE 50 A 60 CM, PARA ESCORA DE 1,80 A 3,20 METROS E TUBO EXTERNO ATE 48 MM DE DIAMETRO","UNXMES",6.98,6.98,null,"CR"]
["SINAPI-I 39833","SINAPI-I",39833,"LOCACAO DE GRUPO GERADOR DE *260* KVA, DIESEL REBOCAVEL, ACIONAMENTO MANUAL","H"]
["SINAPI-I 38889","SINAPI-I",38889,"LUMINARIA DE SOBREPOR EM CHAPA DE ACO COM ALETAS PLASTICAS, PARA 1 LAMPADA, BASE E27, POTENCIA MAXIMA 40/60 W (NAO INCLUI LAMPADA)","UN"]
["SINAPI-I 12266","SINAPI-I",12266,"LUMINARIA SPOT DE SOBREPOR EM ALUMINIO COM ALETA PLASTICA PARA 1 LAMPADA, BASE E27, POTENCIA MAXIMA 40/60 W (NAO INCLUI LAMPADA)","UN"]
["SINAPI-I 12727","SINAPI-I",12727,"LUVA DE COBRE SEM ANEL DE SOLDA, BOLSA X BOLSA, 42 MM","UN"]
["SINAPI-I 3854","SINAPI-I",3854,"LUVA DE CORRER PARA TUBO SOLDAVEL, PVC, 20 MM, PARA AGUA FRIA PREDIAL","UN",9.83,9.83,null,"CR"]
["SINAPI-I 3830","SINAPI-I",3830,"LUVA DE CORRER PVC, JE, DN 250 MM, PARA REDE COLETORA DE ESGOTO","UN",190.6,190.6,null,"CR"]
["SINAPI-I 3910","SINAPI-I",3910,"LUVA DE FERRO GALVANIZADO, COM ROSCA BSP, DE 1\"","UN"]
["SINAPI-I 12410","SINAPI-I",12410,"LUVA DE REDUCAO DE FERRO GALVANIZADO, COM ROSCA BSP MACHO/FEMEA, DE 3/4\" X 1/2\"","UN"]
["SINAPI-I 3933","SINAPI-I",3933,"LUVA DE REDUCAO DE FERRO GALVANIZADO, COM ROSCA BSP, DE 4\" X 2\"","UN"]
["SINAPI-I 38023","SINAPI-I",38023,"LUVA DE REDUCAO, SOLDAVEL, PVC, 50 X 25 MM, PARA AGUA FRIA PREDIAL","UN",5.77,5.77,null,"CR"]
["SINAPI-I 1902","SINAPI-I",1902,"LUVA EM PVC RIGIDO ROSCAVEL, DE 1 1/4\", PARA ELETRODUTO","UN",4.5,4.5,null,"CR"]
["SINAPI-I 2640","SINAPI-I",2640,"LUVA PARA ELETRODUTO, EM ACO GALVANIZADO ELETROLITICO, COM ROSCA, DIAMETRO DE 65 MM (2 1/2\")","UN",12.09,12.09,null,"CR"]
["SINAPI-I 39858","SINAPI-I",39858,"LUVA PASSANTE DE COBRE SEM ANEL DE SOLDA, BOLSA 35 MM","UN"]
["SINAPI-I 36320","SINAPI-I",36320,"LUVA SIMPLES PPR, F/F, SOLDAVEL, DN 20 MM, PARA AGUA QUENTE PREDIAL","UN",2.96,2.96,null,"CR"]
["SINAPI-I 3897","SINAPI-I",3897,"LUVA SIMPLES, PVC, SOLDAVEL, DN 40 MM, SERIE NORMAL, PARA ESGOTO PREDIAL","UN",1.54,1.54,null,"CR"]
["SINAPI-I 37427","SINAPI-I",37427,"LUVA, PEAD PE 100, DE 125 MM, PARA ELETROFUSAO","UN"]
["SINAPI-I 39310","SINAPI-I",39310,"LUVA/UNIAO, PLASTICA, PARA CONEXAO COM CRIMPAGEM, DN 25 MM, EM TUBO PEX PARA INST. AGUA QUENTE/FRIA","UN"]
["SINAPI-I 2788","SINAPI-I",2788,"MADEIRA ROLICA TRATADA, D = 30 A 34 CM, H = 6,50 M, EM EUCALIPTO OU EQUIVALENTE DA REGIAO","M",286.10000000000002,286.10000000000002,null,"CR"]
["SINAPI-I 37458","SINAPI-I",37458,"MANGUEIRA CRISTAL, LISA, PVC TRANSPARENTE, 1/2\" X 2 MM","M",8.8800000000000008,8.8800000000000008,null,"C"]
["SINAPI-I 20260","SINAPI-I",20260,"MANGUEIRA PARA GAS - GLP, PVC, TRANCADA, DIAMETRO DE 3/8\", COMPRIMENTO DE 1M (NORMATIZADA)","UN",29.01,29.01,null,"CR"]
["SINAPI-I 44505","SINAPI-I",44505,"MANTA TERMOPLASTICA, PEAD, GEOMEMBRANA LISA, E = 0,75 MM (NBR 15352)","M2"]
["SINAPI-I 43609","SINAPI-I",43609,"MAQUINA DE 40 MM PARA FECHADURA, PARA PORTA INTERNA, EM ACO INOX","UN",32.39,32.39,null,"CR"]
["SINAPI-I 45241","SINAPI-I",45241,"MARTELO DE PEDREIRO, 1 CORTE, EM ACO, *500* G, COMPRIMENTO TOTAL DE *28* CM, COM CABO DE MADEIRA","UN",27.59,27.59,null,"CR"]
["SINAPI-I 38463","SINAPI-I",38463,"MARTELO DE SOLDADOR/PICADOR DE SOLDA","UN",34.159999999999997,34.159999999999997,null,"CR"]
[{"$f":"CONCATENATE($B3073,\" \",$C3073)","v":"SINAPI-I 4058"},"SINAPI-I",4058,"MECANICO DE EQUIPAMENTOS PESADOS (HORISTA)","H",28.72,32.130000000000003,null,"CR"]
["SINAPI-I 38598","SINAPI-I",38598,"MEIA CANALETA DE CONCRETO ESTRUTURAL 14 X 19 X 19 CM, FBK 14 MPA (NBR 6136)","UN",3.06,3.06,null,"CR"]
["SINAPI-I 41681","SINAPI-I",41681,"MEIO-FIO OU GUIA DE CONCRETO PRE-MOLDADO, COMP 80 CM, *25 X 08/08* CM (H X L1/L2)","UN",20.71,20.71,null,"CR"]
["SINAPI-I 4062","SINAPI-I",4062,"MEIO-FIO OU GUIA DE CONCRETO, PRE-MOLDADO, COMP 1 M, *30 X 15* CM (H X L)","UN",33.42,33.42,null,"CR"]
["SINAPI-I 37521","SINAPI-I",37521,"MINIESCAVADEIRA SOBRE ESTEIRAS, POTENCIA LIQUIDA DE *42* HP, PESO OPERACIONAL DE *4.500* KG","UN"]
["SINAPI-I 36793","SINAPI-I",36793,"MISTURADOR DE METAL CROMADO DE PAREDE PARA LAVATORIO","UN",822.58,822.58,null,"CR"]
["SINAPI-I 34761","SINAPI-I",34761,"MONTADOR DE ELETROELETRONICOS (HORISTA)","H",20.48,22.91,null,"CR"]
["SINAPI-I 4243","SINAPI-I",4243,"MOTORISTA DE CAMINHAO BETONEIRA (HORISTA)","H",23.58,26.37,null,"CR"]
["SINAPI-I 38640","SINAPI-I",38640,"MUDA DE ARBUSTO, PINGO DE OURO/ VIOLETEIRA, H = *10 A 20* CM","UN",2.0499999999999998,2.0499999999999998,null,"CR"]
["SINAPI-I 42430","SINAPI-I",42430,"MULTIEXERCITADOR COM SEIS FUNCOES, EM TUBO DE ACO CARBONO, PINTURA NO PROCESSO ELETROSTATICO - EQUIPAMENTO DE GINASTICA PARA ACADEMIA AO AR LIVRE / ACADEMIA DA TERCEIRA IDADE - ATI","UN"]
["SINAPI-I 4207","SINAPI-I",4207,"NIPLE DE REDUCAO DE FERRO GALVANIZADO, COM ROSCA BSP, DE 1 1/4\" X 1/2\"","UN"]
["SINAPI-I 40356","SINAPI-I",40356,"NIPLE SEXTAVADO EM ACO CARBONO, COM ROSCA BSP, PRESSAO 3.000 LBS, DN 1/2\"","UN"]
["SINAPI-I 4221","SINAPI-I",4221,"OLEO DIESEL COMBUSTIVEL COMUM METROPOLITANO S-10 OU S-500","L",5.95,5.95,null,"C"]
["SINAPI-I 40987","SINAPI-I",40987,"OPERADOR DE ESCAVADEIRA (MENSALISTA)","MES",4362.62,4880.37,null,"CR"]
["SINAPI-I 41001","SINAPI-I",41001,"OPERADOR DE USINA DE ASFALTO, DE SOLOS OU DE CONCRETO (MENSALISTA)","MES",5329.75,5962.27,null,"CR"]
["SINAPI-I 39517","SINAPI-I",39517,"PAINEL TERMOISOLANTE PARA FECHAMENTOS VERTICAIS (INCLUI PARAFUSOS DE FIXACAO) REVESTIDO EM ACO GALVALUME, LARGURA UTIL DE 1100 MM, REVESTIMENTO COM ESPESSURA DE 0,50 MM, COM PRE-PINTURA NAS DUAS FACES, NUCLEO EM POLIURETANO (PUR) COM ESPESSURA 40/50 MM","M2"]
["SINAPI-I 4273","SINAPI-I",4273,"PARA-RAIOS DE DISTRIBUICAO, TENSAO NOMINAL 30 KV, CORRENTE NOMINAL DE DESCARGA 10 KA","UN"]
["SINAPI-I 4358","SINAPI-I",4358,"PARAFUSO DE LATAO COM ROSCA SOBERBA, CABECA CHATA E FENDA SIMPLES, DIAMETRO 4,8 MM, COMPRIMENTO 65 MM","UN",1.83,1.83,null,"CR"]
["SINAPI-I 441","SINAPI-I",441,"PARAFUSO M16 EM ACO GALVANIZADO, COMPRIMENTO = 150 MM, DIAMETRO = 16 MM, ROSCA MAQUINA, CABECA QUADRADA","UN"]
["SINAPI-I 11054","SINAPI-I",11054,"PARAFUSO ROSCA SOBERBA ZINCADO CABECA CHATA FENDA SIMPLES 3,2 X 20 MM (3/4 \")","UN",0.03,0.03,null,"CR"]
["SINAPI-I 4331","SINAPI-I",4331,"PARAFUSO ZINCADO, SEXTAVADO, COM ROSCA INTEIRA, DIAMETRO 5/8\", COMPRIMENTO 2 1/4\"","UN",3.69,3.69,null,"CR"]
["SINAPI-I 40839","SINAPI-I",40839,"PARAFUSO, ASTM A307 - GRAU A, SEXTAVADO, ZINCADO, DIAMETRO 3/8\" (9,52 MM), COMPRIMENTO 1\" (25,4 MM)","CENTO",102,102,null,"CR"]
["SINAPI-I 39595","SINAPI-I",39595,"PATCH PANEL, 48 PORTAS, CATEGORIA 5E, COM RACKS DE 19\" DE LARGURA E 2 U DE ALTURA","UN",1727.92,1727.92,null,"CR"]
["SINAPI-I 4750","SINAPI-I",4750,"PEDREIRO (HORISTA)","H",24.2,27.06,null,"C"]
["SINAPI-I 43665","SINAPI-I",43665,"PERFIL \"U\" SIMPLES, EM CHAPA DOBRADA DE ACO LAMINADO, E = 4,75 MM, H = 100 MM, L = 75 MM (8,74 KG/M)","KG"]
["SINAPI-I 39419","SINAPI-I",39419,"PERFIL GUIA, FORMATO U, EM ACO ZINCADO, PARA ESTRUTURA PAREDE DRYWALL, E = 0,5 MM, 70 X 3000 MM (L X C)","M",7.6,7.6,null,"CR"]
["SINAPI-I 39428","SINAPI-I",39428,"PERFIL TABICA FECHADA, LISA, FORMATO Z, EM ACO GALVANIZADO NATURAL, LARGURA TOTAL NA HORIZONTAL *40* MM, PARA ESTRUTURA FORRO DRYWALL","M",5.42,5.42,null,"CR"]
["SINAPI-I 40791","SINAPI-I",40791,"PERFURATRIZ MANUAL, TORQUE MAXIMO 83 N.M, POTENCIA 5 CV, COM DIAMETRO MAXIMO 4\", PARA SOLO GRAMPEADO (INCLUI SUPORTE OU CHASSI TIPO MESA)","UN",37856.699999999997,37856.699999999997,null,"CR"]
["SINAPI-I 37586","SINAPI-I",37586,"PINO DE ACO COM ARRUELA CONICA, DIAMETRO ARRUELA = *23* MM E COMP HASTE = *27* MM (ACAO INDIRETA)","CENTO"]
["SINAPI-I 1287","SINAPI-I",1287,"PISO EM CERAMICA ESMALTADA, COR LISA, PEI MAIOR OU IGUAL A 4, FORMATO MENOR OU IGUAL A 2025 CM2","M2",34.22,34.22,null,"CR"]
["SINAPI-I 40647","SINAPI-I",40647,"PISO INDUSTRIAL EM CONCRETO ARMADO DE ACABAMENTO POLIDO, ESPESSURA 12 CM (CIMENTO QUEIMADO) (INCLUSO EXECUCAO)","M2"]
["SINAPI-I 38182","SINAPI-I",38182,"PISO TATIL DE ALERTA OU DIRECIONAL DE BORRACHA, PRETO, 25 X 25 CM, E = 5 MM, PARA COLA","M2",220.86,220.86,null,"CR"]
["SINAPI-I 4812","SINAPI-I",4812,"PLACA DE GESSO PARA FORRO, *60 X 60* CM, ESPESSURA DE 12 MM (SEM COLOCACAO)","M2",11.4,11.4,null,"CR"]
["SINAPI-I 37556","SINAPI-I",37556,"PLACA DE SINALIZACAO DE SEGURANCA CONTRA INCENDIO, FOTOLUMINESCENTE, QUADRADA, *20 X 20* CM, EM PVC *2* MM ANTI-CHAMAS (SIMBOLOS, CORES E PICTOGRAMAS CONFORME NBR 16820)","UN",17.350000000000001,17.350000000000001,null,"CR"]
["SINAPI-I 4891","SINAPI-I",4891,"PLUG OU BUJAO DE FERRO GALVANIZADO, DE 2\"","UN"]
["SINAPI-I 45238","SINAPI-I",45238,"PONTEIRO DE ACO, LISO, REDONDO, 3/4\" X 10\"","UN",17.14,17.14,null,"CR"]
["SINAPI-I 4982","SINAPI-I",4982,"PORTA DE ABRIR / GIRO, DE MADEIRA FOLHA MEDIA (NBR 15930) DE 1000 X 2100 MM, DE 35 MM A 40 MM DE ESPESSURA, NUCLEO SEMI-SOLIDO (SARRAFEADO), CAPA LISA EM HDF, ACABAMENTO EM PRIMER PARA PINTURA","UN",356.09,356.09,null,"CR"]
["SINAPI-I 4962","SINAPI-I",4962,"PORTA DE ABRIR / GIRO, DE MADEIRA FOLHA MEDIA (NBR 15930) DE 700 X 2100 MM, DE 35 MM A 40 MM DE ESPESSURA, NUCLEO SEMI-SOLIDO (SARRAFEADO), CAPA FRISADA EM HDF, ACABAMENTO MELAMINICO EM PADRAO MADEIRA","UN",280.82,280.82,null,"CR"]
["SINAPI-I 10554","SINAPI-I",10554,"PORTA DE MADEIRA, FOLHA MEDIA (NBR 15930) DE 700 X 2100 MM, DE 35 MM A 40 MM DE ESPESSURA, NUCLEO SEMI-SOLIDO (SARRAFEADO), CAPA LISA EM HDF, ACABAMENTO EM PRIMER PARA PINTURA","UN",236.66,236.66,null,"CR"]
["SINAPI-I 4969","SINAPI-I",4969,"PORTA DE MADEIRA-DE-LEI TIPO VENEZIANA (ANGELIM OU EQUIVALENTE REGIONAL), E = *3,5* CM","M2",513.63,513.63,null,"C"]
["SINAPI-I 14166","SINAPI-I",14166,"POSTE CONICO CONTINUO EM ACO GALVANIZADO, RETO, ENGASTADO, H = 7 M, DIAMETRO INFERIOR = *125* MM","UN"]
["SINAPI-I 5036","SINAPI-I",5036,"POSTE DE CONCRETO ARMADO DE SECAO CIRCULAR, EXTENSAO DE 14,00 M, RESISTENCIA DE 300 A 400 DAN, TIPO C-17","UN"]
["SINAPI-I 41194","SINAPI-I",41194,"POSTE DE CONCRETO ARMADO DE SECAO CIRCULAR, EXTENSAO DE 15,00 M, RESISTENCIA DE 3000 DAN, TIPO C-29","UN"]
["SINAPI-I 41208","SINAPI-I",41208,"POSTE DE CONCRETO ARMADO DE SECAO DUPLO T, EXTENSAO DE 12,00 M, RESISTENCIA DE 150 DAN, TIPO D","UN"]
["SINAPI-I 41457","SINAPI-I",41457,"POSTES METALICOS AUTOPORTANTES, CONICO OU TELESCOPICO, PARA SPDA, ALTURA 10 METROS LIVRES","UN"]
["SINAPI-I 20208","SINAPI-I",20208,"PRANCHAO APARELHADO *8 X 30* CM, EM MACARANDUBA/MASSARANDUBA, ANGELIM OU EQUIVALENTE DA REGIAO","M",132,132,null,"CR"]
["SINAPI-I 40304","SINAPI-I",40304,"PREGO DE ACO POLIDO COM CABECA DUPLA 17 X 27 (2 1/2 X 11)","KG",19.79,19.79,null,"CR"]
["SINAPI-I 38376","SINAPI-I",38376,"PRUMO DE PAREDE EM ACO 700 A 750 G, COM CORDAO EM NYLON E TACO","UN",24.14,24.14,null,"CR"]
["SINAPI-I 38067","SINAPI-I",38067,"PULSADOR MINUTERIA 10A, 250V, CONJUNTO MONTADO PARA EMBUTIR 4\" X 2\" (PLACA + SUPORTE + MODULO)","UN",14.37,14.37,null,"CR"]
["SINAPI-I 39762","SINAPI-I",39762,"QUADRO DE DISTRIBUICAO COM BARRAMENTO TRIFASICO, DE EMBUTIR, EM CHAPA DE ACO GALVANIZADO, PARA 36 DISJUNTORES DIN, 100 A","UN"]
["SINAPI-I 39795","SINAPI-I",39795,"QUADRO DE DISTRIBUICAO, SEM BARRAMENTO, EM PVC, DE EMBUTIR, PARA 6 DISJUNTORES NEMA OU 8 DISJUNTORES DIN","UN",99.21,99.21,null,"CR"]
["SINAPI-I 21062","SINAPI-I",21062,"RALO FOFO COM REQUADRO, QUADRADO 400 X 400 MM","UN",239.88,239.88,null,"CR"]
["SINAPI-I 11323","SINAPI-I",11323,"REDUCAO PVC PBA, JE, PB, DN 100 X 75 / DE 110 X 85 MM, PARA REDE DE AGUA","UN"]
["SINAPI-I 11675","SINAPI-I",11675,"REGISTRO DE ESFERA, PVC, COM VOLANTE, VS, SOLDAVEL, DN 32 MM, COM CORPO DIVIDIDO","UN",41.49,41.49,null,"CR"]
["SINAPI-I 6016","SINAPI-I",6016,"REGISTRO GAVETA BRUTO EM LATAO FORJADO, BITOLA 3/4\"","UN",38.28,38.28,null,"CR"]
["SINAPI-I 6005","SINAPI-I",6005,"REGISTRO GAVETA COM ACABAMENTO E CANOPLA CROMADOS, SIMPLES, BITOLA 3/4\"","UN",93.4,93.4,null,"C"]
["SINAPI-I 45264","SINAPI-I",45264,"RESPIRADOR / MASCARA SEMI FACIAL COM UMA VALVULA DE INALACAO E DUAS DE EXALACAO, PROTECAO CONTRA VAPORES ORGANICOS E GASES ACIDOS (1 FILTRO INCLUIDO)","UN",29.91,29.91,null,"CR"]
["SINAPI-I 10857","SINAPI-I",10857,"RODAPE ARDOSIA, CINZA, 10 CM, E= *1CM","M"]
["SINAPI-I 11575","SINAPI-I",11575,"ROLDANA CONCAVA DUPLA, 4 RODAS, EM ZAMAC COM CHAPA DE LATAO, ROLAMENTOS EM ACO, PARA PORTAS E JANELAS DE CORRER","UN",54.7,54.7,null,"CR"]
["SINAPI-I 1113","SINAPI-I",1113,"RUFO EXTERNO/INTERNO DE CHAPA DE ACO GALVANIZADA NUM 26, CORTE 33 CM","M"]
["SINAPI-I 11757","SINAPI-I",11757,"SABONETEIRA DE PAREDE EM METAL CROMADO","UN",84.28,84.28,null,"C"]
["SINAPI-I 38396","SINAPI-I",38396,"SELADOR HORIZONTAL PARA FITA DE ACO 1\" (25 MM)","UN",599.74,599.74,null,"CR"]
["SINAPI-I 39393","SINAPI-I",39393,"SENSOR DE PRESENCA BIVOLT DE PAREDE SEM FOTOCELULA PARA QUALQUER TIPO DE LAMPADA POTENCIA MAXIMA *1000* W, USO INTERNO","UN"]
["SINAPI-I 6146","SINAPI-I",6146,"SIFAO PLASTICO TIPO COPO PARA TANQUE, 1.1/4 X 1.1/2\"","UN",16.7,16.7,null,"CR"]
["SINAPI-I 41087","SINAPI-I",41087,"SOLDADOR (MENSALISTA)","MES",4304.95,4815.8500000000004,null,"CR"]
["SINAPI-I 10691","SINAPI-I",10691,"SOLVENTE PARA COLA A BASE DE RESINA SINTETICA (PARA COLA DE LAMINADO MELAMINICO E OUTRAS SUPERFICIES)","L"]
["SINAPI-I 38100","SINAPI-I",38100,"SUPORTE DE FIXACAO PARA ESPELHO / PLACA 4\" X 4\", PARA 6 MODULOS, PARA INSTALACAO DE TOMADAS E INTERRUPTORES (SOMENTE SUPORTE)","UN",2.65,2.65,null,"CR"]
["SINAPI-I 43614","SINAPI-I",43614,"TABUA NAO APARELHADA *2,5 X 15* CM, EM MACARANDUBA/MASSARANDUBA, ANGELIM OU EQUIVALENTE DA REGIAO - BRUTA","M",18.57,18.57,null,"CR"]
["SINAPI-I 41616","SINAPI-I",41616,"TAMPA DE CONCRETO ARMADO PARA FOSSA, D = 1,50 M, E = 0,05 M","UN"]
["SINAPI-I 38836","SINAPI-I",38836,"TAMPAO / CAP, ROSCA MACHO, DN 3/4\", PARA TUBO PEX PARA INST. AGUA QUENTE/FRIA","UN"]
["SINAPI-I 20964","SINAPI-I",20964,"TAMPAO COM CORRENTE, EM LATAO, ENGATE RAPIDO 1 1/2\", PARA INSTALACAO PREDIAL DE COMBATE A INCENDIO","UN",111.67,111.67,null,"CR"]
["SINAPI-I 10423","SINAPI-I",10423,"TANQUE DE LOUCA BRANCA, SUSPENSO, *20* L","UN",523.74,523.74,null,"CR"]
["SINAPI-I 44073","SINAPI-I",44073,"TARUGO DELIMITADOR DE PROFUNDIDADE EM ESPUMA DE POLIETILENO DE BAIXA DENSIDADE 10 MM, CINZA","M",0.74,0.74,null,"CR"]
["SINAPI-I 21121","SINAPI-I",21121,"TE CPVC, SOLDAVEL, 90 GRAUS, 15 MM, PARA AGUA QUENTE PREDIAL","UN",4.12,4.12,null,"CR"]
["SINAPI-I 6296","SINAPI-I",6296,"TE DE FERRO GALVANIZADO, DE 1 1/4\"","UN"]
["SINAPI-I 20182","SINAPI-I",20182,"TE DE INSPECAO, PVC, SERIE R, 75 X 75 MM, PARA ESGOTO PREDIAL","UN",28.34,28.34,null,"CR"]
["SINAPI-I 6304","SINAPI-I",6304,"TE DE REDUCAO DE FERRO GALVANIZADO, COM ROSCA BSP, DE 1 1/2\" X 3/4\"","UN"]
["SINAPI-I 7106","SINAPI-I",7106,"TE DE REDUCAO, PVC, SOLDAVEL, 90 GRAUS, 110 MM X 60 MM, PARA AGUA FRIA PREDIAL","UN",132,132,null,"CR"]
["SINAPI-I 7133","SINAPI-I",7133,"TE DE REDUCAO, PVC, SOLDAVEL, 90 GRAUS, 85 MM X 60 MM, PARA AGUA FRIA PREDIAL","UN",91.24,91.24,null,"CR"]
["SINAPI-I 39895","SINAPI-I",39895,"TE DUPLA CURVA BRONZE/LATAO SEM ANEL DE SOLDA, ROSCA F X BOLSA X ROSCA F, 1/2\" X 15 X 1/2\"","UN"]
["SINAPI-I 38461","SINAPI-I",38461,"TE NORMAL, PPR, F/F/F, SOLDAVEL, 90 GRAUS, DN 90 X 90 X 90 MM, PARA AGUA QUENTE PREDIAL","UN",152.77000000000001,152.77000000000001,null,"CR"]
["SINAPI-I 7094","SINAPI-I",7094,"TE PVC ROSCAVEL 90 GRAUS, 1\", PARA AGUA FRIA PREDIAL","UN",11.61,11.61,null,"CR"]
["SINAPI-I 40420","SINAPI-I",40420,"TE RANHURADO EM FERRO FUNDIDO, DN 65 (2 1/2\")","UN"]
["SINAPI-I 7141","SINAPI-I",7141,"TE SOLDAVEL, PVC, 90 GRAUS, 40 MM, PARA AGUA FRIA PREDIAL (NBR 5648)","UN",8.5500000000000007,8.5500000000000007,null,"CR"]
["SINAPI-I 20179","SINAPI-I",20179,"TE, PVC, SERIE R, 100 X 100 MM, PARA ESGOTO PREDIAL","UN",42.2,42.2,null,"CR"]
["SINAPI-I 7155","SINAPI-I",7155,"TELA DE ACO SOLDADA NERVURADA, CA-60, Q-138, (2,20 KG/M2), DIAMETRO DO FIO = 4,2 MM, LARGURA = 2,45 M, ESPACAMENTO DA MALHA = 10 X 10 CM","M2",20.03,20.03,null,"CR"]
["SINAPI-I 36887","SINAPI-I",36887,"TELA DE FIBRA DE VIDRO, ACABAMENTO ANTI-ALCALINO, MALHA 10 X 10 MM","M2",9.06,9.06,null,"CR"]
["SINAPI-I 7170","SINAPI-I",7170,"TELA FACHADEIRA EM POLIETILENO, ROLO DE 3 X 100 M (L X C), COR BRANCA, SEM LOGOMARCA - PARA PROTECAO DE OBRAS","M2",2.19,2.19,null,"CR"]
["SINAPI-I 7190","SINAPI-I",7190,"TELHA DE FIBROCIMENTO ONDULADA E = 4 MM, DE 1,22 X 0,50 M (SEM AMIANTO)","UN",12.33,12.33,null,"CR"]
["SINAPI-I 7212","SINAPI-I",7212,"TELHA ESTRUTURAL DE FIBROCIMENTO 1 ABA, DE 0,52 X 7,20 M (SEM AMIANTO)","UN",351.17,351.17,null,"CR"]
["SINAPI-I 39521","SINAPI-I",39521,"TELHA TERMOISOLANTE REVESTIDA EM ACO GALVANIZADO, FACE SUPERIOR EM TELHA TRAPEZOIDAL E FACE INFERIOR EM CHAPA PLANA (SEM ACESSORIOS DE FIXACAO), REVESTIMENTO COM ESPESSURA DE 0,50 MM COM PRE-PINTURA NAS DUAS FACES, NUCLEO EM POLIESTIRENO (EPS) DE 50 MM","M2"]
["SINAPI-I 1547","SINAPI-I",1547,"TERMINAL METALICO A PRESSAO PARA 1 CABO DE 150 A 185 MM2, COM 2 FUROS PARA FIXACAO","UN",150.36000000000001,150.36000000000001,null,"CR"]
["SINAPI-I 1590","SINAPI-I",1590,"TERMINAL METALICO A PRESSAO PARA 1 CABO DE 95 MM2, COM 1 FURO DE FIXACAO","UN",19.350000000000001,19.350000000000001,null,"CR"]
["SINAPI-I 4806","SINAPI-I",4806,"TESTEIRA ANTIDERRAPANTE PARA PISO VINILICO *5 X 2,5* CM, E = 2 MM","M",18,18,null,"CR"]
["SINAPI-I 7319","SINAPI-I",7319,"TINTA ASFALTICA IMPERMEABILIZANTE DISPERSA EM AGUA, PARA MATERIAIS CIMENTICIOS","L",12.08,12.08,null,"CR"]
["SINAPI-I 35692","SINAPI-I",35692,"TINTA LATEX ACRILICA STANDARD, COR BRANCA","L",18.28,18.28,null,"CR"]
["SINAPI-I 7524","SINAPI-I",7524,"TOMADA INDUSTRIAL DE EMBUTIR 3P+T 30 A, 440 V, COM TRAVA, SEM PLACA","UN",45.79,45.79,null,"CR"]
["SINAPI-I 39702","SINAPI-I",39702,"TORNEIRA DE MESA PARA LAVATORIO, METALICA CROMADA, COM SENSOR DE APROXIMACAO ELETRICO, BIVOLT","UN",2037.72,2037.72,null,"CR"]
["SINAPI-I 13983","SINAPI-I",13983,"TORNEIRA METALICA CROMADA, RETA, DE PAREDE, PARA COZINHA, COM AREJADOR, PADRAO POPULAR, 1/2\" OU 3/4\"","UN",88.02,88.02,null,"CR"]
["SINAPI-I 11831","SINAPI-I",11831,"TORNEIRA PLASTICA PARA TANQUE 1/2\" OU 3/4\" COM BICO PARA MANGUEIRA","UN",16.62,16.62,null,"CR"]
["SINAPI-I 36510","SINAPI-I",36510,"TRATOR DE ESTEIRAS, POTENCIA BRUTA DE 133 HP, PESO OPERACIONAL DE 14 T, COM LAMINA COM CAPACIDADE DE 3,00 M3","UN",993883.75,993883.75,null,"CR"]
["SINAPI-I 11572","SINAPI-I",11572,"TRAVA / PRENDEDOR DE PORTA, EM LATAO CROMADO, MONTADO EM PISO","UN",30.4,30.4,null,"CR"]
["SINAPI-I 40624","SINAPI-I",40624,"TUBO ACO CARBONO SEM COSTURA 1 1/2\", E= *3,68 MM, SCHEDULE 40, 4,05 KG/M","M"]
["SINAPI-I 21150","SINAPI-I",21150,"TUBO ACO CARBONO SEM COSTURA 3/4\", E= *2,87 MM, SCHEDULE 40, *1,69 KG/M","M"]
["SINAPI-I 40626","SINAPI-I",40626,"TUBO ACO GALVANIZADO COM COSTURA, CLASSE MEDIA, DN 1\", E = 3,38 MM, PESO 2,50 KG/M (NBR 5580)","M"]
["SINAPI-I 7701","SINAPI-I",7701,"TUBO ACO GALVANIZADO COM COSTURA, CLASSE MEDIA, DN 2.1/2\", E = *3,65* MM, PESO *6,51* KG/M (NBR 5580)","M"]
["SINAPI-I 41779","SINAPI-I",41779,"TUBO CORRUGADO PEAD, PAREDE DUPLA, INTERNA LISA, JEI, DN/DI 250 MM, PARA SANEAMENTO (DRENAGEM/ESGOTO)","M",157.65,157.65,null,"CR"]
["SINAPI-I 39737","SINAPI-I",39737,"TUBO DE BORRACHA ELASTOMERICA FLEXIVEL, PRETA, PARA ISOLAMENTO TERMICO DE TUBULACAO, DN 1/2\" (12 MM), E= 19 MM, COEFICIENTE DE CONDUTIVIDADE TERMICA 0,036W/MK, VAPOR DE AGUA MAIOR OU IGUAL A 10.000","M",10.34,10.34,null,"CR"]
["SINAPI-I 39748","SINAPI-I",39748,"TUBO DE COBRE CLASSE \"A\", DN = 3/4\" (22 MM), PARA INSTALACOES DE MEDIA PRESSAO PARA GASES COMBUSTIVEIS E MEDICINAIS","M"]
["SINAPI-I 39661","SINAPI-I",39661,"TUBO DE COBRE FLEXIVEL, D = 3/16 \", E = 0,79 MM, PARA AR-CONDICIONADO/ INSTALACOES GAS RESIDENCIAIS E COMERCIAIS","M"]
["SINAPI-I 7758","SINAPI-I",7758,"TUBO DE CONCRETO ARMADO PARA AGUAS PLUVIAIS, CLASSE PA-1, COM ENCAIXE PONTA E BOLSA, DIAMETRO NOMINAL DE 1500 MM","M"]
["SINAPI-I 7752","SINAPI-I",7752,"TUBO DE CONCRETO ARMADO PARA AGUAS PLUVIAIS, CLASSE PA-2, COM ENCAIXE PONTA E BOLSA, DIAMETRO NOMINAL DE 500 MM","M"]
["SINAPI-I 7774","SINAPI-I",7774,"TUBO DE CONCRETO ARMADO PARA ESGOTO SANITARIO, CLASSE EA-2, COM ENCAIXE PONTA E BOLSA, COM JUNTA ELASTICA, DIAMETRO NOMINAL DE 600 MM","M"]
["SINAPI-I 7778","SINAPI-I",7778,"TUBO DE CONCRETO SIMPLES PARA AGUAS PLUVIAIS, CLASSE PS1, COM ENCAIXE PONTA E BOLSA, DIAMETRO NOMINAL DE 200 MM","M",22.98,22.98,null,"CR"]
["SINAPI-I 12584","SINAPI-I",12584,"TUBO DE CONCRETO SIMPLES POROSO PARA DRENAGEM (DRENO POROSO), COM ENCAIXE MACHO E FEMEA, DIAMETRO NOMINAL DE 300 MM","M",25.54,25.54,null,"CR"]
["SINAPI-I 39710","SINAPI-I",39710,"TUBO DE ESPUMA DE POLIETILENO EXPANDIDO FLEXIVEL PARA ISOLAMENTO TERMICO DE TUBULACAO DE AR CONDICIONADO, AGUA QUENTE, DN 1 1/8\", E= 10 MM","M",3.09,3.09,null,"CR"]
["SINAPI-I 9878","SINAPI-I",9878,"TUBO DE PVC, PBL, TIPO LEVE, DN = 300 MM, PARA VENTILACAO","M",146.79,146.79,null,"CR"]
["SINAPI-I 41985","SINAPI-I",41985,"TUBO DE REVESTIMENTO, EM ACO, CORPO SCHEDULE 40, PONTEIRA SCHEDULE 80, ROSQUEAVEL E SEGMENTADO PARA PERFURACAO, DIAMETRO 6\" (200 MM)","M"]
["SINAPI-I 38973","SINAPI-I",38973,"TUBO PPR, CLASSE PN 12, DN 50 MM","M",29.91,29.91,null,"CR"]
["SINAPI-I 38037","SINAPI-I",38037,"TUBO PVC CORRUGADO, PAREDE DUPLA, JE, DN 400 MM/ DE 400 MM, REDE COLETORA ESGOTO","M",395.8,395.8,null,"CR"]
["SINAPI-I 9853","SINAPI-I",9853,"TUBO PVC DE REVESTIMENTO GEOMECANICO NERVURADO REFORCADO, DN = 200 MM, COMPRIMENTO = 2 M","M"]
["SINAPI-I 36378","SINAPI-I",36378,"TUBO PVC PBA JEI, CLASSE 20, DN 50 MM, PARA REDE DE AGUA (NBR 5647)","M"]
["SINAPI-I 9856","SINAPI-I",9856,"TUBO PVC, ROSCAVEL, 1/2\", AGUA FRIA PREDIAL","M",7.36,7.36,null,"CR"]
["SINAPI-I 12431","SINAPI-I",12431,"UNIAO COM ASSENTO CONICO DE BRONZE, DIAMETRO 4\"","UN"]
["SINAPI-I 9883","SINAPI-I",9883,"UNIAO DE FERRO GALVANIZADO, COM ROSCA BSP, COM ASSENTO PLANO, DE 1/2\"","UN"]
["SINAPI-I 36313","SINAPI-I",36313,"UNIAO DUPLA PPR, DN 20 MM, PARA AGUA QUENTE PREDIAL","UN",18.68,18.68,null,"CR"]
["SINAPI-I 9909","SINAPI-I",9909,"UNIAO PVC, SOLDAVEL, 75 MM, PARA AGUA FRIA PREDIAL","UN",135.74,135.74,null,"CR"]
["SINAPI-I 10601","SINAPI-I",10601,"USINA DE ASFALTO A QUENTE, FIXA, TIPO CONTRA FLUXO, CAPACIDADE DE 100 A 140 T/H, POTENCIA DE 280 KW, COM MISTURADOR EXTERNO ROTATIVO","UN"]
["SINAPI-I 10236","SINAPI-I",10236,"VALVULA DE RETENCAO DE BRONZE, PE COM CRIVOS, EXTREMIDADE COM ROSCA, DE 1 1/2\", PARA FUNDO DE POCO","UN"]
["SINAPI-I 10410","SINAPI-I",10410,"VALVULA DE RETENCAO HORIZONTAL, DE BRONZE (PN-25), 1\", 400 PSI, TAMPA DE PORCA DE UNIAO, EXTREMIDADES COM ROSCA","UN"]
[{"$f":"CONCATENATE($B4929,\" \",$C4929)","v":"SINAPI-I 6154"},"SINAPI-I",6154,"VALVULA EM PLASTICO CROMADO PARA LAVATORIO 1 \", SEM UNHO, COM LADRAO","UN",9.08,9.08,null,"CR"]
["SINAPI-I 38087","SINAPI-I",38087,"VARIADOR DE LUMINOSIDADE ROTATIVO (DIMMER) 127V, 300W, CONJUNTO MONTADO PARA EMBUTIR 4\" X 2\" (PLACA + SUPORTE + MODULO)","UN",66.11,66.11,null,"CR"]
["SINAPI-I 39401","SINAPI-I",39401,"VIBRADOR DE IMERSAO, COM PONTEIRA DE *60* MM, MANGOTE DE 5 M, SEM MOTOR.","UN"]
["SINAPI-I 34388","SINAPI-I",34388,"VIDRO CRISTAL COLORIDO, 6 MM, PINTADO NA COR BRANCA","M2",229.65,229.65,null,"CR"]
["SINAPI-I 10505","SINAPI-I",10505,"VIDRO TEMPERADO INCOLOR E = 6 MM, SEM COLOCACAO","M2",261.86,261.86,null,"CR"]
["SINAPI-I 4472","SINAPI-I",4472,"VIGA NAO APARELHADA *6 X 16* CM, EM MACARANDUBA/MASSARANDUBA, ANGELIM OU EQUIVALENTE DA REGIAO - BRUTA","M",42.27,42.27,null,"CR"]
["SINAPI-I 44333","SINAPI-I",44333,"MANGUEIRA FLEXIVEL TRANSPARENTE COM ESPIRAL AZUL, EM PVC, DIAM. 4\" (100 MM), PARA SERVICOS LEVES DE SUCCAO E DESCARGA","M"]
["SINAPI-I 44381","SINAPI-I",44381,"QUADRO ELETRICO PARA 2 BOMBAS CENTRIFUGAS TRIFASICAS 1,5 CV, *22,5* CM DE ALTURA X *34,4* CM DE LARGURA X *42,5* CM DE PROFUNDIDADE, COMPLETO","UN"]
["SINAPI-I 45111","SINAPI-I",45111,"POLIMERO HIDROGEL / ADESIVO FIXADOR PARA HIDROSSEMEADURA/IRRIGACAO","KG"]
["SINAPI-I 44872","SINAPI-I",44872,"BLOCO DE ANCORAGEM ATIVA PARA CABOS COM ATE 12 CORDOALHAS DE DIAMETRO NOMINAL 15,2 MM","UN"]
["SINAPI-I 44866","SINAPI-I",44866,"BLOCO DE ANCORAGEM ATIVA PARA CABOS COM ATE 7 CORDOALHAS DE DIAMETRO NOMINAL 12,7 MM","UN"]
["SINAPI-I 44890","SINAPI-I",44890,"BAINHA METALICA GALVANIZADA REDONDA, COM DIAMETRO NOMINAL DE 40 MM","M"]
["SINAPI-I 44832","SINAPI-I",44832,"CORDOALHA ENGRAXADA E PLASTIFICADA PEAD, PARA PROTENSAO, ACO CP 190 RB, DIAMETRO NOMINAL DE 12,70 MM","KG"]
["SINAPI-I 45110","SINAPI-I",45110,"TANQUE PARA HIDROSSEMEADURA, COM CAPACIDADE DE *8.000* LITROS, BOMBA E MANGUEIRAS PARA LANCAMENTO, MOTOR DIESEL COM POTENCIA DE 105 CV, 4 CILINDROS, EIXO MISTURADOR (NAO INCLUI CAMINHAO)","UN"]
["SINAPI-I 44000","SINAPI-I",44000,"GUINDASTE SOBRE ESTEIRAS COM LANCA TRELICADA (27 A 58 M), CAPACIDADE DE CARGA MAXIMA DE 35 A 76,5 T","UN"]
["SINAPI-I 41316","SINAPI-I",41316,"PULVERIZADOR DE TINTA ELETRICO AIRLESS, VAZAO *2* L/MIN","UN"]
["SINAPI-I 43902","SINAPI-I",43902,"COLARINHO SEM REGISTRO, DE ACO GALVANIZADO DN 185 MM (7\") PARA DUTO FLEXIVEL","UN"]
["SINAPI-I 43860","SINAPI-I",43860,"DUTO FLEXIVEL CIRCULAR EM ALUMINIO ISOLADO DN 185 MM (7\")","M"]
["SINAPI-I 43910","SINAPI-I",43910,"COTOVELO HORIZONTAL RETO 90 GRAUS, PARA ELETROCALHA, EM CHAPA PERFURADA DE ACO GALVANIZADO ESPESSURA #22, 200 X 50 MM (L X A), SEM VIROLA, SEM TAMPA","UN"]
["SINAPI-I 41814","SINAPI-I",41814,"COTOVELO HORIZONTAL RETO 90 GRAUS, PARA ELETROCALHA, EM CHAPA LISA DE ACO GALVANIZADO ESPESSURA #22, 50 X 50 MM (L X A), SEM VIROLA, SEM TAMPA","UN"]
["SINAPI-I 43922","SINAPI-I",43922,"CURVA HORIZONTAL 90 GRAUS PERFURADA, PARA ELETROCALHA, EM CHAPA DE ACO GALVANIZADO ESPESSURA #22, 150 X 50 MM (L X A), SEM VIROLA, SEM TAMPA","UN"]
["SINAPI-I 44046","SINAPI-I",44046,"ELETROCALHA LISA OU PERFURADA TIPO U, EM CHAPA DE ACO GALVANIZADO A FOGO, ESPESSURA # 14, DE 700 X 50 MM (L X A), SEM VIROLA, SEM TAMPA","M"]
["SINAPI-I 44343","SINAPI-I",44343,"EMENDA INTERNA, TIPO U, BASE LISA, PARA ELETROCALHA, EM CHAPA DE ACO GALVANIZADO ESPESSURA #14, 800 X 50 MM (L X A)","UN"]
["SINAPI-I 44030","SINAPI-I",44030,"TE HORIZONTAL 90 GRAUS, PARA ELETROCALHA, EM CHAPA DE ACO GALVANIZADO, ESPESSURA #22, 150 X 50 MM (L X A), SEM VIROLA, SEM TAMPA","UN"]
["SINAPI-I 44035","SINAPI-I",44035,"TE HORIZONTAL 90 GRAUS, PARA ELETROCALHA, EM CHAPA DE ACO GALVANIZADO, ESPESSURA #16, 500 X 50 MM (L X A), SEM VIROLA, SEM TAMPA","UN"]
["SINAPI-I 44718","SINAPI-I",44718,"ESTRUTURA SOLAR PARA TELHA CERAMICA, SUPORTE EM ALUMINIO *2,2* M, PARA 2 PLACAS SOLARES 2 X 1 M, 2 TRILHOS/PERFIS H EM ALUMINIO *0,03* X *2,20* M, 4 GANCHOS EM ALUMINIO, 6 FIXADORES EM INOX, 4 PARAFUSOS INOX","UN"]
["SINAPI-I 45135","SINAPI-I",45135,"LOCACAO DE SISTEMA DE PROTECAO PERIFERICA (GUARDA CORPO) PARA FIXACAO EM BARROTE, INCLUI SUPORTE PARA BARROTE, MONTANTES, TELAS METALICAS E COMPONENTES DE FIXACAO DO SUPORTE","MXMES"]
["SINAPI-I 41959","SINAPI-I",41959,"SUPORTE DE PLATAFORMA DE PROTECAO SECUNDARIA PADRAO COM PERFIL EM \"U\" EM ACO DE 3 MM 1400 X 800 X 25 X 50 X 25 MM COM CAIBRO E PINO DE FIXACAO","UN"]
["SINAPI-I 44910","SINAPI-I",44910,"TUBO FILTRO DE PVC GEOMECANICO NERVURADO REFORCADO, DN = 200 MM, COMPRIMENTO = 2 M","M"]
["SINAPI-I 44198","SINAPI-I",44198,"JANELA MAXIM-AR, DE PVC, 60 X 60 CM (A X L), COM VIDRO, BATENTE / REQUADRO DE 4 A 14 CM, COM VIDRO, SEM GUARNICAO / ALIZAR","UN"]
["SINAPI-I 44170","SINAPI-I",44170,"LANCE DE ESCADA DE CONCRETO PRE-FABRICADO, 10 DEGRAUS, PISO 29 CM, ESPELHO 18 CM","M3"]
["SINAPI-I 44195","SINAPI-I",44195,"PAINEL TRELICADO DUPLA FACE DE CONCRETO PRE-FABRICADO, PLACAS DE 3 CM DE ESPESSURA, 25X15 CM (ALTURA X ESPESSURA TOTAL)","M2"]
["SINAPI-I 44232","SINAPI-I",44232,"CHAPA METALICA PERFURADA PARA FORRO 625 X 625 MM","M2"]
["SINAPI-I 44939","SINAPI-I",44939,"ADUELA/GALERIA ABERTA PRE-MOLDADA DE CONCRETO ARMADO, SECAO QUADRANGULAR INTERNA DE 3,0 X 3,0 M (L X A), MISULA DE 20 X 20 CM, C = 1,00 M, ESPESSURA MIN = 35 CM, TB-45 E FCK DO CONCRETO = 30 MPA","UN"]
["SINAPI-I 44935","SINAPI-I",44935,"ADUELA/GALERIA ABERTA PRE-MOLDADA DE CONCRETO ARMADO, SECAO RETANGULAR INTERNA DE 3,0 X 2,0 M (L X A), MISULA DE 20 X 20 CM, C = 1,00 M, ESPESSURA MIN = 15 CM, TB-45 E FCK DO CONCRETO = 30 MPA","UN"]
["SINAPI-I 44182","SINAPI-I",44182,"TUBO QUADRADO DE ACO GALVANIZADO, 20 X 20 MM, E = 1,20 MM","M"]
["SINAPI-I 45215","SINAPI-I",45215,"LUMINARIA PAINEL PLAFON, DE SOBREPOR, QUADRADA *60 X 60* CM, EM ALUMINIO ACABAMENTO BRANCO, LAMPADAS LED *48* W E DRIVER BIVOLT","UN"]
["SINAPI-I 44791","SINAPI-I",44791,"LUMINARIA PAINEL PLAFON, DE EMBUTIR, SLIM, QUADRADA *22 X 22* CM, EM ALUMINIO ACABAMENTO BRANCO, COM ACRILICO, COM LAMPADAS LED 18W, BIVOLT","UN"]
["SINAPI-I 44085","SINAPI-I",44085,"CONDULETE DE ALUMINIO TIPO TB, SEM ROSCA, PARA ELETRODUTO DE 1 \", SEM TAMPA","UN"]
["SINAPI-I 44897","SINAPI-I",44897,"LUVA PARA ELETRODUTO, PVC, SOLDAVEL, DN 25 MM (3/4\")","UN"]
["SINAPI-I 44696","SINAPI-I",44696,"COTOVELO HORIZONTAL PARA BARRAMENTO BLINDADO DE ALUMINIO 8 BARRAS - 2000 A","UN"]
["SINAPI-I 44107","SINAPI-I",44107,"COTOVELO VERTICAL PARA BARRAMENTO BLINDADO DE ALUMINIO 4 BARRAS - 350 A","UN"]
["SINAPI-I 44352","SINAPI-I",44352,"PECA RETA DE BARRAMENTO BLINDADO DE ALUMINIO COM 4 BARRAS - 250A - L = 3 M","M"]
["SINAPI-I 43844","SINAPI-I",43844,"CURVA CPVC, 90 GRAUS, SOLDAVEL, 35 MM, PARA AGUA QUENTE QUENTE","UN"]
["SINAPI-I 45103","SINAPI-I",45103,"UNIAO COM FLANGE, PPR, COM PARAFUSOS, DN 50 MM, PARA AGUA QUENTE PREDIAL","UN"]
["SINAPI-I 45075","SINAPI-I",45075,"CONECTOR/ADAPTADOR FIXO, ROSCA MACHO, METALICA, DN 25 MM X 3/4 \", EM TUBO PEX PARA INST. AGUA QUENTE/FRIA","UN"]
["SINAPI-I 45049","SINAPI-I",45049,"JOELHO/COTOVELO 90 GRAUS, ROSCA MACHO TERMINAL, PLASTICO, PARA CONEXAO COM CRIMPAGEM, DN 32 MM X 1 \", EM TUBO PEX PARA INST. AGUA QUENTE/FRIA","UN"]
["SINAPI-I 45024","SINAPI-I",45024,"TE DE REDUCAO METALICO, PARA CONEXAO COM ANEL DESLIZANTE, DN 25 X 16 X 25 MM, EM TUBO PEX PARA INST. AGUA QUENTE/FRIA","UN"]
["SINAPI-I 44831","SINAPI-I",44831,"RALO LINEAR EM PVC, COM GRELHA LISA EM ACO INOX, LARGURA 5,50 CM E COMPRIMENTO *70* CM","UN"]
["SINAPI-I 44303","SINAPI-I",44303,"DIVISORIA SANITARIA TS CONFIGURACAO PAINEL + PORTA, INCLUSO PERFIS DE ALUMINIO E FERRAGENS SEM INSTALACAO","M2"]
["SINAPI-I 44277","SINAPI-I",44277,"ABRACADEIRA PARA FIXACAO DE ATE 6 TUBOS VERTICAIS EM PAREDE EXTERNA, DIAMETROS MENORES OU IGUAIS A 25 MM, PARA INST.MULTICAMADA PEX","UN"]
["SINAPI-I 41104","SINAPI-I",41104,"JOELHO / COTOVELO 90 GRAUS, ROSCA FEMEA, *26* MM X 1\", POR CRIMPAGEM PARA TUBO MULTICAMADA PEX PARA GAS","UN"]
["SINAPI-I 44204","SINAPI-I",44204,"TUBO MULTICAMADA PEX COM PROTECAO ANTI UV, DN 20 MM, PARA INSTALACOES A GAS (BRANCO)","M"]
["SINAPI-I 44408","SINAPI-I",44408,"GRELHA PARA SISTEMA DE AR CONDICIONADO, 400X400 MM","UN"]
["SINAPI-I 43356","SINAPI-I",43356,"LAJE PRE-MOLDADA TRELICADA (LAJOTAS + VIGOTAS) COM LAJOTA EM POLIESTIRENO EXPANDIDO (EPS), H20, 33 X 100 X 20 CM (L X C X A) E VIGOTA VTR 12 X 20 CM (L X A), PARA PISO, UNIDIRECIONAL, SOBRECARGA DE 350 KGF/M2, VAO ATE 6,00 M (SEM COLOCACAO)","M2"]
["SINAPI-I 45153","SINAPI-I",45153,"LOCACAO DE RECEPTOR GNSS, INCLUINDO ACESSORIOS","H"]
["SINAPI-I 44451","SINAPI-I",44451,"FLOREIRA CIRCULAR PRE-FABRICADA DE CONCRETO, DIMENSOES 60 CM X 40 CM, ACABAMENTO EM CONCRETO APARENTE, INSTALACAO POR APOIO SOBRE O PISO","UN"]
["SINAPI-I 44192","SINAPI-I",44192,"TELA DE ACO SOLDADA NERVURADA, CA-60, L-196 (2,09 KG/M2), DIAMETRO DO FIO = 5,0 MM, LARGURA = 2,45 M, ESPACAMENTO DA MALHA 10 X 30 CM","M2"]
["SINAPI-I 44948","SINAPI-I",44948,"LA DE PET CONSTITUIDA POR FIBRAS DE POLIESTER, SEM REVESTIMENTO EM AMBAS AS FACES, ESPESSURA 5,0 CM, ROLO COM LARGURA DE 0,60 M E COMPRIMENTO DE 25,00 M","M2"]
["SINAPI-I 44917","SINAPI-I",44917,"BLOQUETE/PISO INTERTRAVADO DE CONCRETO PERMEAVEL (POROSO/DRENANTE) - MODELO ONDA/16 FACES, *20 X 10* CM, E = 6 CM, RESISTENCIA DE 35 MPA, COR NATURAL","M2"]
["SINAPI-I 44434","SINAPI-I",44434,"TUBO DE POLIETILENO DE ALTA DENSIDADE - PEAD, LISO, PE-100, DE = 250 MM X 22,7 MM PAREDE, (SDR 11 - PN 16), PARA REDE DE AGUA OU ESGOTO (NBR 15561)","M"]
["SINAPI-I 43985","SINAPI-I",43985,"MOLDE DE PINTURA ALFANUMERICO EM CHAPA METALICA VAZADA, 100 MM","UN"]
["SINAPI-I 44227","SINAPI-I",44227,"PISO LAMINADO DE MADEIRA, REGUAS MACHO-FEMEA, LARGURA *18* CM X *1,35* M, RESIDENCIAL E COMERCIAL, TRAFEGO LEVE","M2"]
[{"$f":"CONCATENATE($B5833,\" \",$C5833)","v":"SINAPI-I 45361"},"SINAPI-I",45361,"CINTA PARA POSTE CIRCULAR, EM ACO CARBONO GALVANIZADO, DIAMETRO 240 MM","UN"]
["SINAPI-I 45347","SINAPI-I",45347,"POSTE CONICO CONTINUO EM ACO GALVANIZADO, CURVO, BRACO SIMPLES, ENGASTADO, H = 6 M, DIAMETRO INFERIOR *110* MM","UN"]
["SINAPI-I 44959","SINAPI-I",44959,"AGREGADO RECICLADO CLASSE A, TIPO AREIA MEDIA RECICLADA DE CIMENTOS E CONCRETOS - ARCI/ARCO (POSTO USINA)","M3"]
["SINAPI-I 44675","SINAPI-I",44675,"LIXA EM DISCO DE FERRO 220","UN"]
["SINAPI-I 44687","SINAPI-I",44687,"TUBO DE ESPUMA ELASTOMERICA FLEXIVEL, PRETA, PARA ISOLAMENTO TERMICO, DN 7/8\" (22 MM), E = 9 MM, COEFICIENTE DE CONDUTIVIDADE TERMICA 0,034 W/MK","M"]
["SINAPI-I 44735","SINAPI-I",44735,"CALOTA (TARTARUGA) DE RESINA COM PINO DE FIXACAO","UN"]
["SINAPI-I 44752","SINAPI-I",44752,"PLAQUETA PARA DEFENSA METALICA (GUARD RAIL)","UN"]
["SINAPI-I 44747","SINAPI-I",44747,"ESPACADOR METALICO PARA DEFENSA METALICA EM VIAS (GUARD RAIL) U - 110, MALEAVEL SIMPLES (NAO INCLUI FIXADORES)","UN"]
["SINAPI-I 44632","SINAPI-I",44632,"PORTICO METALICO PARA VAO DE 14,8 M E VENTO DE 40 M/S (COMPOSTO POR DUAS COLUNAS TUBULARES LATERAIS H = *7,5* M, UMA VIGA TRELICADA ESPACIAL CENTRAL, PARAFUSOS, PORCAS E ARRUELAS), PARA SINALIZACAO DE VIAS","UN"]
[{"$f":"CONCATENATE($B5961,\" \",$C5961)","v":"SINAPI-I 44646"},"SINAPI-I",44646,"SEMI-PORTICO DUPLO METALICO PARA VAO DE 4,9 M E VENTO DE 40 M/S (COMPOSTO POR UMA COLUNA CENTRAL H = *7,5* M, VIGA TRELICADA ESPACIAL PARA AS LATERAIS, PARAFUSOS, PORCAS E ARRUELAS), PARA SINALIZACAO DE VIAS","UN"]
["SINAPI-I 44650","SINAPI-I",44650,"SEMI-PORTICO SIMPLES METALICO PARA VAO DE 2,7 M E VENTO DE 40 M/S (COMPOSTO POR UMA COLUNA TUBULAR H = *7,5* M, UMA VIGA TRELICADA ESPACIAL, PARAFUSOS, PORCAS E ARRUELAS), PARA SINALIZACAO DE VIAS","UN"]
["SINAPI-I 44979","SINAPI-I",44979,"PAINEL SUSPENSO DE GASES MEDICINAIS E ELETRICA, EM ALUMINIO PINTADO, 2 SAIDAS OXIGENIO, 2 DE AR COMPRIMIDO, 2 DE VACUO, 10 TOMADAS 220V, 2 LOGICA RJ45, 1 INTERRUPT DE LUZ, 1 CHAMADA DE ENFERMAGEM","UN"]
["SINAPI-I 44951","SINAPI-I",44951,"CIMENTO ASFALTICO DE PETROLEO A GRANEL (CAP) 50/70","T"]
["SINAPI-I 43825","SINAPI-I",43825,"VALVULA REDUTORA DE PRESSAO 1 1/2\", EXTREMIDADES COM ROSCA","UN"]
["SINAPI-I 44599","SINAPI-I",44599,"LUVA DE CORRER COM BOLSA JUNTA MECANICA, EM FERRO FUNDIDO, DN = 200 MM, INCLUI PARAFUSOS, PORCAS E ANEIS (NBR 7677)","UN"]
["SINAPI-I 44965","SINAPI-I",44965,"MEDIDOR DE VAZAO ELETROMAGNETICO EM ACO CARBONO, REVEST. EBONITE, CABECOTE ALUMINIO FUNDIDO, DISPLAY LCD INTEGRADO, 220 VAC, FAIXA DE VAZAO *77 A 2540* M3/H, DN = 300 MM, PN 10","UN"]
["SINAPI-I 44614","SINAPI-I",44614,"CONJUNTO DE ACESSORIOS PARA JUNTA FLANGEADA (PN-10), DN 150 MM, COMPOSTO POR: PARAFUSOS COM PORCAS DE ACO GALVANIZADO E UM ANEL DE BORRACHA, PARA A EXECUCAO DE UMA JUNTA FLANGEADA","UN"]
["SINAPI-I 44564","SINAPI-I",44564,"VALVULA DE RETENCAO TIPO PORTINHOLA UNICA COM FLANGES, EM FERRO FUNDIDO, DN = 200 MM, PN 10, PARA REDE DE SANEAMENTO","UN"]
["SINAPI-I 44577","SINAPI-I",44577,"VALVULA REDUTORA DE PRESSAO, TIPO Y, COM PILOTO, CORPO EM FERRO FUNDIDO REVESTIDO, MOLA DE ACO INOXIDAVEL E PILOTO DE COBRE OU ACO INOXIDAVEL, COM FLANGES, DN = 350 MM, PN 10, PARA REDE DE AGUA","UN"]
["SINAPI 89299","SINAPI",89299,"ALVENARIA ESTRUTURAL DE BLOCOS CERÂMICOS 14X19X39, (ESPESSURA DE 14 CM), UTILIZANDO COLHER DE PEDREIRO E ARGAMASSA DE ASSENTAMENTO COM PREPARO MANUAL. AF_03/2023","M2",90.17,94.05,null,null,0,0]
["SINAPI 89455","SINAPI",89455,"ALVENARIA DE BLOCOS DE CONCRETO ESTRUTURAL 14X19X39 CM (ESPESSURA 14 CM), FBK = 14 MPA, UTILIZANDO PALHETA. AF_10/2022","M2",102.41,104.92,null,null,0,0]
["SINAPI 103366","SINAPI",103366,"ALVENARIA DE VEDAÇÃO DE BLOCOS CERÂMICOS FURADOS NA HORIZONTAL DE 11,5X19X39 CM (ESPESSURA 11,5 CM) E ARGAMASSA DE ASSENTAMENTO COM PREPARO EM BETONEIRA. AF_12/2021","M2",65.2,68.209999999999994,null,null,6.7000000000000002E-3,6.4999999999999997E-3]
["SINAPI 103353","SINAPI",103353,"ALVENARIA DE VEDAÇÃO DE BLOCOS CERÂMICOS FURADOS NA HORIZONTAL DE 9X14X24 CM (ESPESSURA 9 CM) E ARGAMASSA DE ASSENTAMENTO COM PREPARO MANUAL. AF_12/2021","M2",116.74,124.06,null,null,2.5999999999999999E-3,2.3999999999999998E-3]
["SINAPI 103327","SINAPI",103327,"ALVENARIA DE VEDAÇÃO DE BLOCOS CERÂMICOS FURADOS NA VERTICAL DE 19X19X39 CM (ESPESSURA 19 CM) E ARGAMASSA DE ASSENTAMENTO COM PREPARO MANUAL. AF_12/2021","M2",100.07,104.3,null,null,4.4000000000000003E-3,4.1999999999999997E-3]
["SINAPI 101166","SINAPI",101166,"ALVENARIA DE EMBASAMENTO COM BLOCO ESTRUTURAL DE CERÂMICA, DE 14X19X29CM E ARGAMASSA DE ASSENTAMENTO COM PREPARO EM BETONEIRA. AF_05/2020","M3",708.41,742.91,null,null,0,0]
["SINAPI 87384","SINAPI",87384,"ARGAMASSA INDUSTRIALIZADA MULTIUSO PARA REVESTIMENTOS E ASSENTAMENTO DA ALVENARIA, PREPARO COM MISTURADOR DE EIXO HORIZONTAL DE 600 KG. AF_08/2019","M3",1599.57,1606.29,null,null,0,0]
["SINAPI 87404","SINAPI",87404,"ARGAMASSA PARA REVESTIMENTO DECORATIVO MONOCAMADA (MONOCAPA), MISTURA E PROJEÇÃO DE 1,5 M3/H DE ARGAMASSA. AF_08/2019","M3",4686.47,4703.05,null,null,0,0]
["SINAPI 88627","SINAPI",88627,"ARGAMASSA TRAÇO 1:0,5:4,5 (EM VOLUME DE CIMENTO, CAL E AREIA MÉDIA ÚMIDA) PARA ASSENTAMENTO DE ALVENARIA, PREPARO MANUAL. AF_08/2019","M3",668.91,687,null,null,0,0]
["SINAPI 100449","SINAPI",100449,"ARGAMASSA TRAÇO 1:1:6 (EM VOLUME DE CIMENTO, CAL E AREIA MÉDIA ÚMIDA) PARA EMBOÇO/MASSA ÚNICA/ASSENTAMENTO DE ALVENARIA DE VEDAÇÃO, PREPARO MECÂNICO COM BETONEIRA 250 L. AF_08/2019","M3",0,0]
["SINAPI 87361","SINAPI",87361,"ARGAMASSA TRAÇO 1:3 (EM VOLUME DE CIMENTO E AREIA GROSSA ÚMIDA) COM ADIÇÃO DE EMULSÃO POLIMÉRICA PARA CHAPISCO ROLADO, PREPARO MECÂNICO COM MISTURADOR DE EIXO HORIZONTAL DE 300 KG. AF_08/2019","M3",3321.2,3332.07,null,null,0,0]
["SINAPI 100478","SINAPI",100478,"ARGAMASSA TRAÇO 1:3 (EM VOLUME DE CIMENTO E AREIA MÉDIA ÚMIDA) COM ADIÇÃO DE IMPERMEABILIZANTE, PREPARO MECÂNICO COM MISTURADOR DE EIXO HORIZONTAL DE 300 KG. AF_08/2019","M3",698.64,708.09,null,null,0,0]
["SINAPI 100470","SINAPI",100470,"ARGAMASSA TRAÇO 1:3 (EM VOLUME DE CIMENTO E AREIA MÉDIA ÚMIDA), PREPARO MECÂNICO COM MISTURADOR DE EIXO HORIZONTAL DE 600 KG. AF_08/2019","M3",515.54,524.12,null,null,0,0]
["SINAPI 87317","SINAPI",87317,"ARGAMASSA TRAÇO 1:4 (EM VOLUME DE CIMENTO E AREIA GROSSA ÚMIDA) PARA CHAPISCO CONVENCIONAL, PREPARO MECÂNICO COM BETONEIRA 600 L. AF_08/2019","M3",482,491.4,null,null,0,0]
["SINAPI 100481","SINAPI",100481,"ARGAMASSA TRAÇO 1:4 (EM VOLUME DE CIMENTO E AREIA MÉDIA ÚMIDA) COM ADIÇÃO DE IMPERMEABILIZANTE, PREPARO MECÂNICO COM BETONEIRA 400 L. AF_08/2019","M3",623.25,632.52,null,null,0,0]
["SINAPI 100472","SINAPI",100472,"ARGAMASSA TRAÇO 1:4 (EM VOLUME DE CIMENTO E AREIA MÉDIA ÚMIDA), PREPARO MECÂNICO COM MISTURADOR DE EIXO HORIZONTAL DE 160 KG. AF_08/2019","M3",581.85,597,null,null,0,0]
["SINAPI 87345","SINAPI",87345,"ARGAMASSA TRAÇO 1:5 (EM VOLUME DE CIMENTO E AREIA MÉDIA ÚMIDA) PARA CONTRAPISO, PREPARO MECÂNICO COM MISTURADOR DE EIXO HORIZONTAL DE 160 KG. AF_08/2019","M3",662.98,682.62,null,null,0,0]
["SINAPI 87281","SINAPI",87281,"ARGAMASSA TRAÇO 1:7 (EM VOLUME DE CIMENTO E AREIA MÉDIA ÚMIDA) COM ADIÇÃO DE PLASTIFICANTE PARA EMBOÇO/MASSA ÚNICA/ASSENTAMENTO DE ALVENARIA DE VEDAÇÃO, PREPARO MECÂNICO COM BETONEIRA 600 L. AF_08/2019","M3",463.42,474.21,null,null,0,0]
["SINAPI 92922","SINAPI",92922,"ARMAÇÃO DE ESTRUTURAS DIVERSAS DE CONCRETO ARMADO, EXCETO VIGAS, PILARES, LAJES E FUNDAÇÕES, UTILIZANDO AÇO CA-50 DE 16,0 MM - MONTAGEM. AF_06/2022","KG",9.82,9.9499999999999993,null,null,4.1000000000000003E-3,4.0000000000000001E-3]
["SINAPI 92923","SINAPI",92923,"ARMAÇÃO DE ESTRUTURAS DIVERSAS DE CONCRETO ARMADO, EXCETO VIGAS, PILARES, LAJES E FUNDAÇÕES, UTILIZANDO AÇO CA-50 DE 20,0 MM - MONTAGEM. AF_06/2022","KG",10.89,10.98,null,null,1.8E-3,1.8E-3]
["SINAPI 104110","SINAPI",104110,"ARMAÇÃO DE PILAR OU VIGA DE ESTRUTURA DE CONCRETO ARMADO EMBUTIDA EM ALVENARIA DE VEDAÇÃO UTILIZANDO AÇO CA-50 DE 6,3 MM - MONTAGEM. AF_06/2022","KG",19.850000000000001,20.69,null,null,1.06E-2,1.01E-2]
["SINAPI 92883","SINAPI",92883,"ARMAÇÃO UTILIZANDO AÇO CA-25 DE 8,0 MM - MONTAGEM. AF_06/2022","KG",12.89,13.2,null,null,1.24E-2,1.21E-2]
["SINAPI 92802","SINAPI",92802,"CORTE E DOBRA DE AÇO CA-50, DIÂMETRO DE 8,0 MM. AF_06/2022","KG",10.050000000000001,10.1,null,null,0,0]
["SINAPI 94884","SINAPI",94884,"ASSENTAMENTO DE TUBO DE PEAD CORRUGADO DE DUPLA PAREDE PARA REDE COLETORA DE ESGOTO, DN 1500 MM, JUNTA ELÁSTICA INTEGRADA (NÃO INCLUI FORNECIMENTO). AF_01/2021","M",68.05,70.34,null,null,0,0]
["SINAPI 90734","SINAPI",90734,"ASSENTAMENTO DE TUBO DE PVC PARA REDE COLETORA DE ESGOTO DE PAREDE MACIÇA, DN 150 MM, JUNTA ELÁSTICA, (NÃO INCLUI FORNECIMENTO). AF_01/2021","M",4.22,4.55,null,null,0,0]
["SINAPI 90735","SINAPI",90735,"ASSENTAMENTO DE TUBO DE PVC PARA REDE COLETORA DE ESGOTO DE PAREDE MACIÇA, DN 200 MM, JUNTA ELÁSTICA (NÃO INCLUI FORNECIMENTO). AF_01/2021","M",4.88,5.25,null,null,0,0]
["SINAPI 90730","SINAPI",90730,"JUNTA ARGAMASSADA ENTRE TUBO DN 400 MM E O POÇO DE VISITA/ CAIXA DE CONCRETO OU ALVENARIA EM REDES DE ESGOTO. AF_01/2021","UN",60.6,64.95,null,null,0,0]
["SINAPI 90697","SINAPI",90697,"TUBO DE PVC PARA REDE COLETORA DE ESGOTO DE PAREDE MACIÇA, DN 250 MM, JUNTA ELÁSTICA - FORNECIMENTO E ASSENTAMENTO. AF_01/2021","M",218.15,218.57,null,null,0,0]
["SINAPI 105316","SINAPI",105316,"ASSENTAMENTO DE CONEXÃO 2 ACESSOS ALINHADOS DE FERRO FUNDIDO PARA REDE DE ÁGUA, DN 250, JUNTA ELÁSTICA, INSTALADO EM LOCAL COM NÍVEL BAIXO DE INTERFERÊNCIAS (NÃO INCLUI FORNECIMENTO). AF_05/2024","UN",20.38,21.44,null,null,0,0]
["SINAPI 105402","SINAPI",105402,"ASSENTAMENTO DE CONEXÃO 2 ACESSOS ALINHADOS DE FERRO FUNDIDO PARA REDE DE ÁGUA, DN 900, JUNTA ELÁSTICA, INSTALADO EM LOCAL COM NÍVEL ALTO DE INTERFERÊNCIAS (NÃO INCLUI FORNECIMENTO). AF_05/2024","UN",91.33,95.64,null,null,0,0]
["SINAPI 105382","SINAPI",105382,"ASSENTAMENTO DE CONEXÃO 2 ACESSOS ALINHADOS DE PVC PBA PARA REDE DE ÁGUA, DN 100, JUNTA ELÁSTICA INTEGRADA, INSTALADO EM LOCAL COM NÍVEL BAIXO DE INTERFERÊNCIAS (NÃO INCLUI FORNECIMENTO). AF_05/2024","UN",15.26,16.28,null,null,0,0]
["SINAPI 105301","SINAPI",105301,"ASSENTAMENTO DE CONEXÃO 2 ACESSOS INCLINADOS DE FERRO FUNDIDO PARA REDE DE ÁGUA, DN 300, JUNTA ELÁSTICA, INSTALADO EM LOCAL COM NÍVEL BAIXO DE INTERFERÊNCIAS (NÃO INCLUI FORNECIMENTO). AF_05/2024","UN",34.72,36.590000000000003,null,null,0,0]
["SINAPI 105274","SINAPI",105274,"ASSENTAMENTO DE CONEXÃO 2 ACESSOS INCLINADOS DE FERRO FUNDIDO PARA REDE DE ÁGUA, DN 800, JUNTA ELÁSTICA, INSTALADO EM LOCAL COM NÍVEL ALTO DE INTERFERÊNCIAS (NÃO INCLUI FORNECIMENTO). AF_05/2024","UN",119.33,125.12,null,null,0,0]
["SINAPI 105259","SINAPI",105259,"ASSENTAMENTO DE CONEXÃO 3 ACESSOS DE FERRO FUNDIDO PARA REDE DE ÁGUA, DN 100, JUNTA ELÁSTICA, INSTALADO EM LOCAL COM NÍVEL BAIXO DE INTERFERÊNCIAS (NÃO INCLUI FORNECIMENTO). AF_05/2024","UN",19.89,20.82,null,null,0,0]
["SINAPI 105344","SINAPI",105344,"ASSENTAMENTO DE CONEXÃO 3 ACESSOS DE FERRO FUNDIDO PARA REDE DE ÁGUA, DN 700, JUNTA ELÁSTICA, INSTALADO EM LOCAL COM NÍVEL BAIXO DE INTERFERÊNCIAS (NÃO INCLUI FORNECIMENTO). AF_05/2024","UN",116.99,122.62,null,null,0,0]
["SINAPI 97178","SINAPI",97178,"ASSENTAMENTO DE TUBO DE AÇO CARBONO PARA REDE DE ÁGUA, DN 1200 MM (48\") OU DN 1300 MM (52\"), JUNTA SOLDADA, INSTALADO EM LOCAL COM NÍVEL ALTO DE INTERFERÊNCIAS (NÃO INCLUI FORNECIMENTO). AF_05/2024","M",98.2,103.67,null,null,0,0]
["SINAPI 97190","SINAPI",97190,"ASSENTAMENTO DE TUBO DE AÇO CARBONO PARA REDE DE ÁGUA, DN 1600 MM (64\") OU DN 1700 MM (68\"), JUNTA SOLDADA, INSTALADO EM LOCAL COM NÍVEL BAIXO DE INTERFERÊNCIAS (NÃO INCLUI FORNECIMENTO). AF_05/2024","M",119.94,126.88,null,null,0,0]
["SINAPI 97171","SINAPI",97171,"ASSENTAMENTO DE TUBO DE FERRO FUNDIDO PARA REDE DE ÁGUA, DN 1000 MM, JUNTA ELÁSTICA, INSTALADO EM LOCAL COM NÍVEL BAIXO DE INTERFERÊNCIAS (NÃO INCLUI FORNECIMENTO). AF_05/2024","M",36.950000000000003,38.89,null,null,0,0]
["SINAPI 97149","SINAPI",97149,"ASSENTAMENTO DE TUBO DE FERRO FUNDIDO PARA REDE DE ÁGUA, DN 450 MM, JUNTA ELÁSTICA, INSTALADO EM LOCAL COM NÍVEL ALTO DE INTERFERÊNCIAS (NÃO INCLUI FORNECIMENTO). AF_05/2024","M",19.43,20.52,null,null,0,0]
["SINAPI 105311","SINAPI",105311,"ASSENTAMENTO DE TUBO DE PVC DEFOFO OU PRFV OU RPVC PARA REDE DE ÁGUA, DN 100, JUNTA ELÁSTICA INTEGRADA, INSTALADO EM LOCAL COM NÍVEL ALTO DE INTERFERÊNCIAS (NÃO INCLUI FORNECIMENTO). AF_05/2024","M",4.09,4.3899999999999997,null,null,0,0]
["SINAPI 105313","SINAPI",105313,"ASSENTAMENTO DE TUBO DE PVC PBA PARA REDE DE ÁGUA, DN 140, JUNTA ELÁSTICA INTEGRADA, INSTALADO EM LOCAL COM NÍVEL BAIXO DE INTERFERÊNCIAS (NÃO INCLUI FORNECIMENTO). AF_05/2024","M",4.5199999999999996,4.83,null,null,0,0]
["SINAPI 105286","SINAPI",105286,"ASSENTAMENTO E FORNECIMENTO DE LUVA SIMPLES, PVC PBA, JE, DN 50 / DE 60 MM, PARA REDE AGUA, JUNTA ELÁSTICA INTEGRADA, INSTALADO EM LOCAL COM NÍVEL ALTO DE INTERFERÊNCIAS (INCLUI FORNECIMENTO). AF_05/2024","UN",30.86,31.79,null,null,0.57840000000000003,0.5615]
["SINAPI 105376","SINAPI",105376,"ASSENTAMENTO E FORNECIMENTO DE TE DE REDUCAO, PVC PBA, BBB, JE, DN 100 X 50 / DE 110 X 60 MM, PARA REDE AGUA, JUNTA ELÁSTICA INTEGRADA, INSTALADO EM LOCAL COM NÍVEL BAIXO DE INTERFERÊNCIAS (INCLUI FORNECIMENTO). AF_05/2024","UN",129.9,131.94,null,null,0.76480000000000004,0.753]
["SINAPI 105369","SINAPI",105369,"FORNECIMENTO E ASSENTAMENTO DE TE RANHURADO EM FERRO FUNDIDO, DN 80 (3\") PARA REDE DE ÁGUA, INSTALADO EM LOCAL COM NÍVEL ALTO DE INTERFERÊNCIAS (INCLUI FORNECIMENTO). AF_05/2024","UN",71.73,72.760000000000005,null,null,0.69110000000000005,0.68130000000000002]
["SINAPI 92860","SINAPI",92860,"ASSENTAMENTO DE TUBO DE CONCRETO PARA REDES COLETORAS DE ESGOTO SANITÁRIO, DIÂMETRO DE 800 MM, JUNTA ELÁSTICA, INSTALADO EM LOCAL COM ALTO NÍVEL DE INTERFERÊNCIAS (NÃO INCLUI FORNECIMENTO). AF_03/2024","M",69.95,72.03,null,null,0,0]
["SINAPI 92810","SINAPI",92810,"ASSENTAMENTO DE TUBO DE CONCRETO PARA REDES COLETORAS DE ÁGUAS PLUVIAIS, DIÂMETRO DE 500 MM, JUNTA RÍGIDA, INSTALADO EM LOCAL COM BAIXO NÍVEL DE INTERFERÊNCIAS (NÃO INCLUI FORNECIMENTO). AF_03/2024","M",47.57,49.7,null,null,0,0]
["SINAPI 95571","SINAPI",95571,"TUBO DE CONCRETO (SIMPLES) PARA REDES COLETORAS DE ÁGUAS PLUVIAIS, DIÂMETRO DE 400 MM, JUNTA RÍGIDA, INSTALADO EM LOCAL COM ALTO NÍVEL DE INTERFERÊNCIAS - FORNECIMENTO E ASSENTAMENTO. AF_03/2024","M",78.98,80.81,null,null,0,0]
["SINAPI 92849","SINAPI",92849,"TUBO DE CONCRETO PARA REDES COLETORAS DE ESGOTO SANITÁRIO, DIÂMETRO DE 300 MM, JUNTA ELÁSTICA, INSTALADO EM LOCAL COM ALTO NÍVEL DE INTERFERÊNCIAS - FORNECIMENTO E ASSENTAMENTO. AF_03/2024","M",247.61,248.26,null,null,0.90649999999999997,0.9042]
["SINAPI 92216","SINAPI",92216,"TUBO DE CONCRETO PARA REDES COLETORAS DE ÁGUAS PLUVIAIS, DIÂMETRO DE 1000 MM, JUNTA RÍGIDA, INSTALADO EM LOCAL COM BAIXO NÍVEL DE INTERFERÊNCIAS - FORNECIMENTO E ASSENTAMENTO. AF_03/2024","M",638.94000000000005,643.51,null,null,0.83599999999999997,0.83]
["SINAPI 94342","SINAPI",94342,"ATERRO MANUAL DE VALAS COM AREIA PARA ATERRO. AF_08/2023","M3",113.47,115.67,null,null,8.3999999999999995E-3,8.2000000000000007E-3]
["SINAPI 104737","SINAPI",104737,"REATERRO MANUAL DE VALAS, COM PLACA VIBRATÓRIA. AF_08/2023","M3",26.26,28.1,null,null,2.5499999999999998E-2,2.3800000000000002E-2]
["SINAPI 93380","SINAPI",93380,"REATERRO MECANIZADO DE VALA COM RETROESCAVADEIRA (CAPACIDADE DA CAÇAMBA DA RETRO: 0,26 M³/POTÊNCIA: 88 HP), LARGURA ATÉ 0,8 M, PROFUNDIDADE 1,5 A 3,0 M, COM SOLO (SEM SUBSTITUIÇÃO) DE 1ª CATEGORIA, COM COMPACTADOR DE SOLOS DE PERCUSSÃO AF_08/2023","M3",16.82,17.559999999999999,null,null,4.9299999999999997E-2,4.7300000000000002E-2]
["SINAPI 105740","SINAPI",105740,"CONSTRUÇÃO DE BASE E SUB-BASE PARA PAVIMENTAÇÃO DE CONCRETO COMPACTADO COM ROLO, COM ESPESSURA DE 20 CM - EXCLUSIVE CARGA E TRANSPORTE. AF_09/2024","M3",258.07,258.77,null,null,2.29E-2,2.29E-2]
["SINAPI 105745","SINAPI",105745,"CONSTRUÇÃO DE BASE E SUB-BASE PARA PAVIMENTAÇÃO DE RACHÃO, COM ESPESSURA DE 50 CM - EXCLUSIVE CARGA E TRANSPORTE. AF_09/2024","M3",81.66,82.16,null,null,5.5500000000000001E-2,5.5100000000000003E-2]
["SINAPI 100568","SINAPI",100568,"CONSTRUÇÃO DE BASE E SUB-BASE PARA PAVIMENTAÇÃO DE SOLO (PREDOMINANTEMENTE ARENOSO) BRITA - 40%-60% COM CIMENTO - 8%, MISTURA EM PISTA, COM ESPESSURA DE 15 CM - EXCLUSIVE ESCAVAÇÃO, CARGA E TRANSPORTE E SOLO. AF_09/2024","M3",199.8,200.72,null,null,4.1700000000000001E-2,4.1599999999999998E-2]
["SINAPI 105685","SINAPI",105685,"CONSTRUÇÃO DE BASE E SUB-BASE PARA PAVIMENTAÇÃO DE SOLO (PREDOMINANTEMENTE ARENOSO) BRITA - 50%-50% COM CIMENTO - 6%, MISTURA EM USINA, COM ESPESSURA DE 20 CM - EXCLUSIVE CARGA E TRANSPORTE. AF_09/2024","M3",0,0]
["SINAPI 105624","SINAPI",105624,"CONSTRUÇÃO DE BASE E SUB-BASE PARA PAVIMENTAÇÃO DE SOLO (PREDOMINANTEMENTE ARENOSO) COM CIMENTO - 6%, MISTURA EM PISTA, COM ESPESSURA DE 10 CM - EXCLUSIVE ESCAVAÇÃO, CARGA E TRANSPORTE E SOLO. AF_09/2024","M3",116.19,116.89,null,null,5.6000000000000001E-2,5.57E-2]
["SINAPI 105617","SINAPI",105617,"CONSTRUÇÃO DE BASE E SUB-BASE PARA PAVIMENTAÇÃO DE SOLO (PREDOMINANTEMENTE ARENOSO) COM CIMENTO - 6%, MISTURA EM USINA, COM ESPESSURA DE 20 CM - EXCLUSIVE CARGA E TRANSPORTE. AF_09/2024","M3",0,0]
["SINAPI 105631","SINAPI",105631,"CONSTRUÇÃO DE BASE E SUB-BASE PARA PAVIMENTAÇÃO DE SOLO (PREDOMINANTEMENTE ARENOSO) MELHORADO COM CIMENTO - 4%, MISTURA EM PISTA, COM ESPESSURA DE 20 CM - EXCLUSIVE ESCAVAÇÃO, CARGA E TRANSPORTE E SOLO. AF_09/2024","M3",78.53,78.959999999999994,null,null,5.3699999999999998E-2,5.3400000000000003E-2]
["SINAPI 105757","SINAPI",105757,"EXECUÇÃO DE PINTURA DE LIGAÇÃO COM EMULSÃO ASFÁLTICA RR-2C, PARA OBRAS DE RECONSTRUÇÃO DE PAVIMENTOS. AF_09/2024","M2",0,0]
["SINAPI 96385","SINAPI",96385,"EXECUÇÃO E COMPACTAÇÃO DE CORPO DE ATERRO DE ATERRO (95% DE ENERGIA DO PROCTOR NORMAL) COM SOLO PREDOMINANTEMENTE ARGILOSO ESPESSURA 15 CM - EXCLUSIVE MATERIAL, ESCAVAÇÃO, CARGA E TRANSPORTE. AF_09/2024","M3",13.25,13.64,null,null,0.28299999999999997,0.27489999999999998]
["SINAPI 105755","SINAPI",105755,"RECONSTRUÇÃO DE BASE E SUB-BASE PARA PAVIMENTAÇÃO DE MACADAME SECO, COM ESPESSURA DE 25 CM - EXCLUSIVE CARGA E TRANSPORTE. AF_09/2024","M3",117.98,119.05,null,null,3.5099999999999999E-2,3.4799999999999998E-2]
["SINAPI 105671","SINAPI",105671,"RECONSTRUÇÃO DE BASE E SUB-BASE PARA PAVIMENTAÇÃO DE SOLO (PREDOMINANTEMENTE ARENOSO) BRITA - 40%-60% COM CIMENTO - 8%, MISTURA EM PISTA, COM ESPESSURA DE 20 CM - EXCLUSIVE ESCAVAÇÃO, CARGA E TRANSPORTE E SOLO. AF_09/2024","M3",204.2,205.33,null,null,4.8399999999999999E-2,4.82E-2]
["SINAPI 105650","SINAPI",105650,"RECONSTRUÇÃO DE BASE E SUB-BASE PARA PAVIMENTAÇÃO DE SOLO (PREDOMINANTEMENTE ARENOSO) BRITA - 40%-60% COM CIMENTO - 8%, MISTURA EM USINA, COM ESPESSURA DE 15 CM - EXCLUSIVE CARGA E TRANSPORTE. AF_09/2024","M3",0,0]
["SINAPI 105697","SINAPI",105697,"RECONSTRUÇÃO DE BASE E SUB-BASE PARA PAVIMENTAÇÃO DE SOLO (PREDOMINANTEMENTE ARENOSO) BRITA - 50%-50% COM CIMENTO - 6%, MISTURA EM PISTA, COM ESPESSURA DE 15 CM - EXCLUSIVE ESCAVAÇÃO, CARGA E TRANSPORTE E SOLO. AF_09/2024","M3",172.26,173.59,null,null,6.7500000000000004E-2,6.6900000000000001E-2]
["SINAPI 105582","SINAPI",105582,"RECONSTRUÇÃO DE BASE E SUB-BASE PARA PAVIMENTAÇÃO DE SOLO (PREDOMINANTEMENTE ARENOSO) BRITA - 50%-50%, MISTURA EM PISTA, COM ESPESSURA DE 20 CM - EXCLUSIVE ESCAVAÇÃO, CARGA E TRANSPORTE E SOLO. AF_09/2024","M3",73.94,75.08,null,null,0.13420000000000001,0.1321]
["SINAPI 105573","SINAPI",105573,"RECONSTRUÇÃO DE BASE E SUB-BASE PARA PAVIMENTAÇÃO DE SOLO (PREDOMINANTEMENTE ARENOSO) MELHORADO COM CIMENTO - 4%, MISTURA EM PISTA, COM ESPESSURA DE 10 CM - EXCLUSIVE ESCAVAÇÃO, CARGA E TRANSPORTE E SOLO. AF_09/2024","M3",92.98,93.98,null,null,9.6500000000000002E-2,9.5399999999999999E-2]
["SINAPI 105591","SINAPI",105591,"RECONSTRUÇÃO DE BASE E SUB-BASE PARA PAVIMENTAÇÃO DE SOLO (PREDOMINANTEMENTE ARGILOSO) BRITA - 50%-50%, MISTURA EM USINA, COM ESPESSURA DE 10 CM - EXCLUSIVE CARGA E TRANSPORTE. AF_09/2024","M3",0,0]
["SINAPI 100577","SINAPI",100577,"REGULARIZAÇÃO E COMPACTAÇÃO DE SUBLEITO DE SOLO PREDOMINANTEMENTE ARENOSO, PARA OBRAS DE CONSTRUÇÃO DE PAVIMENTOS. AF_09/2024","M2",0.56000000000000005,0.57999999999999996,null,null,0,0]
["SINAPI 102766","SINAPI",102766,"BOCA PARA BUEIRO DUPLO CELULAR 200 X 200 CM EM CONCRETO, ALAS COM ESCONSIDADE DE 30°, INCLUINDO FÔRMAS E MATERIAIS. AF_07/2021","UN",24536.36,25202.38,null,null,6.3E-3,6.1999999999999998E-3]
["SINAPI 102779","SINAPI",102779,"BOCA PARA BUEIRO DUPLO TUBULAR D = 40 CM EM GABIÃO, ALAS COM ESCONSIDADE DE 45°, INCLUINDO FÔRMAS E MATERIAIS. AF_07/2021","UN",8778.92,8989.7999999999993,null,null,0,0]
["SINAPI 102754","SINAPI",102754,"BOCA PARA BUEIRO SIMPLES TUBULAR D = 150 CM EM CONCRETO, ALAS COM ESCONSIDADE DE 30°, INCLUINDO FÔRMAS E MATERIAIS. AF_07/2021","UN",21291.95,21808.16,null,null,7.3000000000000001E-3,7.1999999999999998E-3]
["SINAPI 102769","SINAPI",102769,"BOCA PARA BUEIRO TRIPLO CELULAR 150 X 150 CM EM CONCRETO, ALAS COM ESCONSIDADE DE 30°, INCLUINDO FÔRMAS E MATERIAIS. AF_07/2021","UN",18906.419999999998,19445.759999999998,null,null,5.8999999999999999E-3,5.7000000000000002E-3]
["SINAPI 102113","SINAPI",102113,"BOMBA CENTRÍFUGA, TRIFÁSICA, 1 CV OU 0,99 HP, HM 14 A 40 M, Q 0,6 A 8,4 M3/H - FORNECIMENTO E INSTALAÇÃO. AF_12/2020","UN",1529.44,1543.61,null,null,3.7000000000000002E-3,3.7000000000000002E-3]
["SINAPI 102120","SINAPI",102120,"MOTO BOMBA HORIZONTAL ATÉ 10 CV, HM 75 A 80 M, Q 25,4 A 48 - FORNECIMENTO E INSTALAÇÃO. AF_12/2020","UN",0,0]
["SINAPI 102128","SINAPI",102128,"MOTO BOMBA SUBMERSÍVEL ATÉ 10 CV, HM 21 M - FORNECIMENTO E INSTALAÇÃO. AF_12/2020","UN",0,0]
["SINAPI 98104","SINAPI",98104,"CAIXA DE GORDURA SIMPLES (CAPACIDADE: 36L), RETANGULAR, EM ALVENARIA COM TIJOLOS CERÂMICOS MACIÇOS, DIMENSÕES INTERNAS = 0,2X0,4 M, ALTURA INTERNA = 0,8 M. AF_12/2020","UN",399.75,421.45,null,null,1.4E-3,1.2999999999999999E-3]
["SINAPI 97884","SINAPI",97884,"CAIXA ENTERRADA ELÉTRICA RETANGULAR, EM CONCRETO PRÉ-MOLDADO, FUNDO COM BRITA, DIMENSÕES INTERNAS: 0,8X0,8X0,5 M. AF_12/2020","UN",920.04,931.41,null,null,0.7792,0.76970000000000005]
["SINAPI 97905","SINAPI",97905,"CAIXA ENTERRADA HIDRÁULICA RETANGULAR, EM ALVENARIA COM BLOCOS DE CONCRETO, DIMENSÕES INTERNAS: 0,4X0,4X0,4 M PARA REDE DE ESGOTO. AF_12/2020","UN",263.23,277.19,null,null,3.0999999999999999E-3,2.8999999999999998E-3]
["SINAPI 100128","SINAPI",100128,"TIL (TUBO DE INSPEÇÃO E LIMPEZA) RADIAL PARA ESGOTO, EM PVC, DN 300X200 MM. AF_12/2020","UN",1518,1521.19,null,null,0,0]
["SINAPI 102616","SINAPI",102616,"CAIXA D´ÁGUA EM POLIÉSTER REFORÇADO COM FIBRA DE VIDRO, 3000 LITROS - FORNECIMENTO E INSTALAÇÃO. AF_06/2021","UN",2049.02,2050.69,null,null,0,0]
["SINAPI 102589","SINAPI",102589,"FURO EM CAIXA D'ÁGUA COM ESPESSURA DE 2 ATÉ 5 MM E DIÂMETRO DE 20 MM. AF_06/2021","UN",4.71,5.12,null,null,0,0]
["SINAPI 102600","SINAPI",102600,"FURO EM CAIXA D'ÁGUA COM ESPESSURA DE 6 ATÉ 8 MM E DIÂMETRO DE 60 MM. AF_06/2021","UN",10.45,11.33,null,null,0,0]
["SINAPI 106005","SINAPI",106005,"EXECUÇÃO DE CANALETA DE CONCRETO ARMADO MOLDADA IN LOCO, ESPESSURA DE 0,1 M, GEOMETRIA QUADRADA, COM DIMENSÕES INTERNAS: L=0,25 M; H=0,25 M. AF_05/2025","M",218.74,229.19,null,null,3.5999999999999999E-3,3.3999999999999998E-3]
["SINAPI 105999","SINAPI",105999,"EXECUÇÃO DE VALETA DE CONCRETO ARMADO MOLDADO IN LOCO, ESPESSURA DE 0,08 M, GEOMETRIA TRAPEIZOIDAL, COM DIMENSÕES INTERNAS: B=0,8 M; B=0,30 M; H=0,25 M. AF_05/2025","M",124.64,128.34,null,null,0,0]
["SINAPI 105945","SINAPI",105945,"PREPARO DE SOLO E GABARITO DE MADEIRA PARA VALETA MOLDADA IN LOCO COM GEOMETRIA TRAPEZOIDAL. AF_05/2025","M2",8.73,9.2799999999999994,null,null,0,0]
["SINAPI 102362","SINAPI",102362,"ALAMBRADO PARA QUADRA POLIESPORTIVA, ESTRUTURADO POR TUBOS DE ACO GALVANIZADO, (MONTANTES COM DIAMETRO 2\", TRAVESSAS E ESCORAS COM DIÂMETRO 1 ¼\"), COM TELA DE ARAME GALVANIZADO, FIO 14 BWG E MALHA QUADRADA 5X5CM (EXCETO MURETA). AF_03/2021","M2",177.52,182.45,null,null,0.47360000000000002,0.46079999999999999]
["SINAPI 101200","SINAPI",101200,"CERCA COM MOURÕES DE MADEIRA, 7,5X7,5 CM, ESPAÇAMENTO DE 2,5 M, ALTURA LIVRE DE 2 M, CRAVADOS 0,5 M, COM 4 FIOS DE ARAME FARPADO Nº 14 CLASSE 250 - FORNECIMENTO E INSTALAÇÃO. AF_05/2020","M",68.2,70.72,null,null,0,0]
["SINAPI 87889","SINAPI",87889,"CHAPISCO APLICADO EM ALVENARIA (SEM PRESENÇA DE VÃOS) E ESTRUTURAS DE CONCRETO DE FACHADA, COM ROLO PARA TEXTURA ACRÍLICA. ARGAMASSA TRAÇO 1:4 E EMULSÃO POLIMÉRICA (ADESIVO) COM PREPARO EM BETONEIRA 400L. AF_10/2022","M2",8.7100000000000009,9.0299999999999994,null,null,0,0]
["SINAPI 103672","SINAPI",103672,"CONCRETAGEM DE PILARES, FCK = 25 MPA, COM USO DE BOMBA - LANÇAMENTO, ADENSAMENTO E ACABAMENTO. AF_02/2022_PS","M3",605.63,609.70000000000005,null,null,2.0000000000000001E-4,2.0000000000000001E-4]
["SINAPI 103670","SINAPI",103670,"LANÇAMENTO COM USO DE BALDES, ADENSAMENTO E ACABAMENTO DE CONCRETO EM ESTRUTURAS. AF_02/2022","M3",364.65,394.16,null,null,4.4999999999999997E-3,4.1999999999999997E-3]
["SINAPI 91089","SINAPI",91089,"EXECUÇÃO DE REVESTIMENTO DE CONCRETO PROJETADO COM ESPESSURA DE 10 CM, ARMADO COM TELA, INCLINAÇÃO DE 90°, APLICAÇÃO DESCONTÍNUA, UTILIZANDO EQUIPAMENTO DE PROJEÇÃO COM 6 M³/H DE CAPACIDADE. AF_07/2024","M2",374.77,401.19,null,null,3.2099999999999997E-2,0.03]
["SINAPI 91096","SINAPI",91096,"EXECUÇÃO DE REVESTIMENTO DE CONCRETO PROJETADO COM ESPESSURA DE 7 CM, ARMADO COM FIBRAS DE AÇO, INCLINAÇÃO DE 90°, APLICAÇÃO DESCONTÍNUA, UTILIZANDO EQUIPAMENTO DE PROJEÇÃO COM 6 M³/H DE CAPACIDADE. AF_07/2024","M2",197.09,203.92,null,null,6.6900000000000001E-2,6.4699999999999994E-2]
["SINAPI 104287","SINAPI",104287,"ANCORAGEM ATIVA PARA CABO COM 1 CORDOALHA DE DIÂMETRO NOMINAL DE 15,2 MM. AF_08/2022","UN",0,0]
["SINAPI 104274","SINAPI",104274,"ANCORAGEM PASSIVA PARA CABO COM 6 CORDOALHAS DE DIÂMETRO NOMINAL DE 12,7 MM. AF_08/2022","UN",0,0]
["SINAPI 104302","SINAPI",104302,"FORNECIMENTO E INSTALAÇÃO DE CABO COM CORDOALHA NUA, RESISTÊNCIA À TRAÇÃO DE 190 KGF/MM² E DIÂMETRO NOMINAL DE 15,2 MM, EM VIGA. AF_08/2022","KG",0,0]
["SINAPI 90943","SINAPI",90943,"CONTRAPISO ACÚSTICO EM ARGAMASSA PRONTA, PREPARO MECÂNICO COM MISTURADOR 300 KG, APLICADO EM ÁREAS SECAS, ACABAMENTO NÃO REFORÇADO, ESPESSURA 6CM. AF_07/2021","M2",175.42,178.1,null,null,0,0]
["SINAPI 87769","SINAPI",87769,"CONTRAPISO EM ARGAMASSA PRONTA, PREPARO MANUAL, APLICADO EM ÁREAS MOLHADAS SOBRE IMPERMEABILIZAÇÃO, ACABAMENTO NÃO REFORÇADO, ESPESSURA 4CM. AF_07/2021","M2",142.86000000000001,146.77000000000001,null,null,0,0]
["SINAPI 87684","SINAPI",87684,"CONTRAPISO EM ARGAMASSA PRONTA, PREPARO MANUAL, APLICADO EM ÁREAS SECAS SOBRE LAJE, NÃO ADERIDO, ACABAMENTO NÃO REFORÇADO, ESPESSURA 4CM. AF_07/2021","M2",125.1,127.56,null,null,0,0]
["SINAPI 87642","SINAPI",87642,"CONTRAPISO EM ARGAMASSA TRAÇO 1:4 (CIMENTO E AREIA), PREPARO MANUAL, APLICADO EM ÁREAS SECAS SOBRE LAJE, ADERIDO, ACABAMENTO NÃO REFORÇADO, ESPESSURA 4CM. AF_07/2021","M2",57.34,59.62,null,null,0,0]
["SINAPI 92717","SINAPI",92717,"APARELHO PARA CORTE E SOLDA OXI-ACETILENO SOBRE RODAS, INCLUSIVE CILINDROS E MAÇARICOS - CHI DIURNO. AF_05/2023","CHI",0.19,0.19,null,null,0,0]
["SINAPI 90651","SINAPI",90651,"BOMBA CENTRÍFUGA MONOESTÁGIO COM MOTOR ELÉTRICO MONOFÁSICO, POTÊNCIA 15 HP, DIÂMETRO DO ROTOR 173 MM, HM/Q = 30 MCA / 90 M3/H A 45 MCA / 55 M3/H - CHI DIURNO. AF_06/2015","CHI",0.93,0.93,null,null,0,0]
["SINAPI 90656","SINAPI",90656,"BOMBA DE PROJEÇÃO DE CONCRETO SECO, POTÊNCIA 10 CV, VAZÃO 3 M3/H - CHP DIURNO. AF_06/2015","CHP",13.77,13.77,null,null,0,0]
["SINAPI 96036","SINAPI",96036,"CAMINHÃO BASCULANTE 10 M3, TRUCADO, POTÊNCIA 230 CV, INCLUSIVE CAÇAMBA METÁLICA, COM DISTRIBUIDOR DE AGREGADOS ACOPLADO - CHI DIURNO. AF_02/2017","CHI",86.74,89.81,null,null,0.53949999999999998,0.52110000000000001]
["SINAPI 5892","SINAPI",5892,"CAMINHÃO TOCO, PESO BRUTO TOTAL 14.300 KG, CARGA ÚTIL MÁXIMA 9590 KG, DISTÂNCIA ENTRE EIXOS 4,76 M, POTÊNCIA 185 CV (NÃO INCLUI CARROCERIA) - CHI DIURNO. AF_06/2014","CHI",60.94,63.91,null,null,0.4572,0.43590000000000001]
["SINAPI 91533","SINAPI",91533,"COMPACTADOR DE SOLOS DE PERCUSSÃO (SOQUETE) COM MOTOR A GASOLINA 4 TEMPOS, POTÊNCIA 4 CV - CHP DIURNO. AF_08/2015","CHP",41.04,43.89,null,null,5.1400000000000001E-2,4.8099999999999997E-2]
["SINAPI 102822","SINAPI",102822,"CONJUNTO CILINDRO E BOMBA HIDRÁULICA PARA PROTENSÃO DE MONOBARRAS PARA TIRANTES, ESFORÇO MÁXIMO DE 30 TONELADAS - CHI DIURNO. AF_05/2023","CHI",0,0]
["SINAPI 103945","SINAPI",103945,"CONJUNTO MACACO HIDRÁULICO E CENTRAL DE BOMBEAMENTO MOTORIZADO 1,8 KW PARA PROTENSÃO DE MONOCABOS PARA CONCRETO PROTENDIDO, ESFORÇO MÁXIMO DE 30 TONELADAS - CHI DIURNO. AF_05/2022","CHI",0,0]
["SINAPI 102916","SINAPI",102916,"ENCERADEIRA INDUSTRIAL, 400 MM, 220V, 1 HP - CHP DIURNO. AF_05/2023","CHP",0,0]
["SINAPI 102839","SINAPI",102839,"ESTABILIZADOR DE LINHA E PRESSÃO, CAPACIDADE DE 120 BAR, COM MANÔMETRO DE LEITURA, REGISTRO DE 1 COM RETORNO E LINHA - CHI DIURNO. AF_05/2023","CHI",0,0]
["SINAPI 95212","SINAPI",95212,"GRUA ASCENCIONAL, LANCA DE 42 M, CAPACIDADE DE 1,5 T A 30 M, ALTURA ATE 39 M - CHP DIURNO. AF_05/2023","CHP",172.34,176.2,null,null,0.72460000000000002,0.7087]
["SINAPI 102844","SINAPI",102844,"GUINDASTE HIDRAULICO AUTOPROPELIDO, COM LANÇA TRELIÇADA 40 M, CAPACIDADE MÁXIMA 75 T, EQUIPADO COM CLAMSHELL - CHP DIURNO. AF_04/2019","CHP",0,0]
["SINAPI 91635","SINAPI",91635,"GUINDAUTO HIDRÁULICO, CAPACIDADE MÁXIMA DE CARGA 6500 KG, MOMENTO MÁXIMO DE CARGA 5,8 TM, ALCANCE MÁXIMO HORIZONTAL 7,60 M, INCLUSIVE CAMINHÃO TOCO PBT 9.700 KG, POTÊNCIA DE 160 CV - CHI DIURNO. AF_08/2015","CHI",69.37,72.739999999999995,null,null,0.4748,0.45279999999999998]
["SINAPI 98765","SINAPI",98765,"INVERSOR DE SOLDA MONOFÁSICO DE 160 A, POTÊNCIA DE 5400 W, TENSÃO DE 220 V, PARA SOLDA COM ELETRODOS DE 2,0 A 4,0 MM E PROCESSO TIG - CHI DIURNO. AF_06/2018","CHI",7.0000000000000007E-2,7.0000000000000007E-2,null,null,0,0]
["SINAPI 102275","SINAPI",102275,"MARTELO DEMOLIDOR ELÉTRICO, COM POTÊNCIA DE 2.000 W, 1.000 IMPACTOS POR MINUTO, PESO DE 30 KG - CHP DIURNO. AF_01/2021","CHP",32.56,35.08,null,null,0,0]
["SINAPI 88398","SINAPI",88398,"MISTURADOR DE ARGAMASSA, EIXO HORIZONTAL, CAPACIDADE DE MISTURA 600 KG, MOTOR ELÉTRICO POTÊNCIA 7,5 CV - CHI DIURNO. AF_05/2023","CHI",1.24,1.24,null,null,0,0]
["SINAPI 102987","SINAPI",102987,"MÁQUINA DEMARCADORA DE FAIXA DE TRÁFEGO À FRIO, TRAÇÃO MANUAL, 4 CV, PRESSÃO MAX 3300 PSI, TANQUE 20 L - CHP DIURNO. AF_06/2021","CHP",0,0]
["SINAPI 103158","SINAPI",103158,"MÁQUINA PARA SOLDA POR ELETROFUSÃO PARA TUBOS DE POLIETILENO DE ALTA DENSIDADE (PEAD) COM DIÂMETRO EXTERNO DE 20 A 800 MM, POTÊNCIA ENTRE 2750 E 3000 W - CHI DIURNO. AF_05/2023","CHI",0,0]
["SINAPI 95703","SINAPI",95703,"PERFURATRIZ MANUAL, TORQUE MAXIMO 55 KGF.M, POTENCIA 5 CV, COM DIAMETRO MAXIMO 8 1/2\" - CHI DIURNO. AF_11/2016","CHI",38.76,41.61,null,null,0,0]
["SINAPI 95702","SINAPI",95702,"PERFURATRIZ MANUAL, TORQUE MAXIMO 55 KGF.M, POTENCIA 5 CV, COM DIAMETRO MAXIMO 8 1/2\" - CHP DIURNO. AF_11/2016","CHP",47.72,50.57,null,null,0,0]
[{"$f":"CONCATENATE($B7816,\" \",$C7816)","v":"SINAPI 91277"},"SINAPI",91277,"PLACA VIBRATÓRIA REVERSÍVEL COM MOTOR 4 TEMPOS A GASOLINA, FORÇA CENTRÍFUGA DE 25 KN (2500 KGF), POTÊNCIA 5,5 CV - CHP DIURNO. AF_08/2015","CHP",10.91,10.91,null,null,0.13109999999999999,0.13109999999999999]
["SINAPI 5942","SINAPI",5942,"PÁ CARREGADEIRA SOBRE RODAS, POTÊNCIA LÍQUIDA 128 HP, CAPACIDADE DA CAÇAMBA 1,7 A 2,8 M3, PESO OPERACIONAL 11632 KG - CHI DIURNO. AF_06/2014","CHI",89.94,92.75,null,null,0,0]
["SINAPI 6879","SINAPI",6879,"ROLO COMPACTADOR DE PNEUS ESTÁTICO, PRESSÃO VARIÁVEL, POTÊNCIA 111 HP, PESO SEM/COM LASTRO 9,5 / 26 T, LARGURA DE TRABALHO 1,90 M - CHP DIURNO. AF_07/2014","CHP",218.15,220.49,null,null,0.5786,0.57250000000000001]
["SINAPI 5863","SINAPI",5863,"ROLO COMPACTADOR VIBRATÓRIO REBOCÁVEL, CILINDRO DE AÇO LISO, POTÊNCIA DE TRAÇÃO DE 65 CV, PESO 4,7 T, IMPACTO DINÂMICO 18,3 T, LARGURA DE TRABALHO 1,67 M - CHP DIURNO. AF_02/2016","CHP",24.36,24.36,null,null,1,1]
["SINAPI 102905","SINAPI",102905,"TORRE, COMPOSTA POR GUINCHO MECÂNICO, GUINCHO MANUAL, CABOS DE AÇO, PITEIRA E SOQUETE - CHI DIURNO. AF_05/2023","CHI",0,0]
["SINAPI 102904","SINAPI",102904,"TORRE, COMPOSTA POR GUINCHO MECÂNICO, GUINCHO MANUAL, CABOS DE AÇO, PITEIRA E SOQUETE - CHP DIURNO. AF_05/2023","CHP",0,0]
["SINAPI 89035","SINAPI",89035,"TRATOR DE PNEUS, POTÊNCIA 85 CV, TRAÇÃO 4X4, PESO COM LASTRO DE 4.675 KG - CHP DIURNO. AF_06/2014","CHP",132.47999999999999,135.33000000000001,null,null,0.25169999999999998,0.24640000000000001]
["SINAPI 93434","SINAPI",93434,"USINA DE MISTURA ASFÁLTICA À QUENTE, TIPO CONTRA FLUXO, PROD 40 A 80 TON/HORA - CHI DIURNO. AF_05/2023","CHI",361.91,373.78,null,null,0.59840000000000004,0.57940000000000003]
["SINAPI 104791","SINAPI",104791,"DEMOLIÇÃO DE ARGAMASSAS, DE FORMA DE FORMA MECANIZADA COM MARTELETE, SEM REAPROVEITAMENTO. AF_09/2023","M2",7.44,8.0399999999999991,null,null,0,0]
["SINAPI 104803","SINAPI",104803,"REMOÇÃO CALHAS E RUFOS, DE FORMA MANUAL, SEM REAPROVEITAMENTO. AF_09/2023","M",5.7,6.17,null,null,0,0]
["SINAPI 97640","SINAPI",97640,"REMOÇÃO DE FORROS DE DRYWALL, PVC E FIBROMINERAL, DE FORMA MANUAL, SEM REAPROVEITAMENTO. AF_09/2023","M2",2.39,2.58,null,null,0,0]
["SINAPI 97644","SINAPI",97644,"REMOÇÃO DE PORTAS, DE FORMA MANUAL, SEM REAPROVEITAMENTO. AF_09/2023","M2",11.88,12.83,null,null,0,0]
["SINAPI 97650","SINAPI",97650,"REMOÇÃO DE TRAMA DE MADEIRA PARA COBERTURA, DE FORMA MANUAL, SEM REAPROVEITAMENTO. AF_09/2023","M2",9.5399999999999991,10.31,null,null,0,0]
["SINAPI 87443","SINAPI",87443,"BETONEIRA CAPACIDADE NOMINAL 400 L, CAPACIDADE DE MISTURA 310 L, MOTOR A DIESEL POTÊNCIA 5,0 CV, SEM CARREGADOR - MANUTENÇÃO. AF_05/2023","H",0.55000000000000004,0.55000000000000004,null,null,0,0]
["SINAPI 89222","SINAPI",89222,"BETONEIRA CAPACIDADE NOMINAL DE 600 L, CAPACIDADE DE MISTURA 360 L, MOTOR ELÉTRICO TRIFÁSICO POTÊNCIA DE 4 CV, SEM CARREGADOR - JUROS. AF_05/2023","H",0.3,0.3,null,null,0,0]
["SINAPI 90658","SINAPI",90658,"BOMBA DE PROJEÇÃO DE CONCRETO SECO, POTÊNCIA 10 CV, VAZÃO 6 M3/H - DEPRECIAÇÃO. AF_06/2015","H",4.22,4.22,null,null,0,0]
["SINAPI 102808","SINAPI",102808,"CALDEIRA A GÁS COM TERMOSTATO, CAPACIDADE 100 LITROS - MANUTENÇÃO. AF_05/2023","H",0,0]
["SINAPI 92133","SINAPI",92133,"CAMINHONETE COM MOTOR A DIESEL, POTÊNCIA 180 CV, CABINE DUPLA, 4X4 - DEPRECIAÇÃO. AF_11/2015","H",12.92,12.92,null,null,0,0]
["SINAPI 89870","SINAPI",89870,"CAMINHÃO BASCULANTE 14 M3, COM CAVALO MECÂNICO DE CAPACIDADE MÁXIMA DE TRAÇÃO COMBINADO DE 36000 KG, POTÊNCIA 286 CV, INCLUSIVE SEMIREBOQUE COM CAÇAMBA METÁLICA - DEPRECIAÇÃO. AF_12/2014","H",37.020000000000003,37.020000000000003,null,null,0,0]
["SINAPI 92238","SINAPI",92238,"CAMINHÃO DE TRANSPORTE DE MATERIAL ASFÁLTICO 20.000 L, COM CAVALO MECÂNICO DE CAPACIDADE MÁXIMA DE TRAÇÃO COMBINADO DE 45.000 KG, POTÊNCIA 330 CV, INCLUSIVE TANQUE DE ASFALTO COM MAÇARICO - JUROS. AF_12/2015","H",11.42,11.42,null,null,0.11559999999999999,0.11559999999999999]
["SINAPI 91396","SINAPI",91396,"CAMINHÃO PIPA 10.000 L TRUCADO, PESO BRUTO TOTAL 23.000 KG, CARGA ÚTIL MÁXIMA 15.935 KG, DISTÂNCIA ENTRE EIXOS 4,8 M, POTÊNCIA 230 CV, INCLUSIVE TANQUE DE AÇO PARA TRANSPORTE DE ÁGUA - DEPRECIAÇÃO. AF_06/2014","H",29.18,29.18,null,null,1,1]
["SINAPI 91359","SINAPI",91359,"CAMINHÃO PIPA 6.000 L, PESO BRUTO TOTAL 13.000 KG, DISTÂNCIA ENTRE EIXOS 4,80 M, POTÊNCIA 189 CV INCLUSIVE TANQUE DE AÇO PARA TRANSPORTE DE ÁGUA, CAPACIDADE 6 M3 - DEPRECIAÇÃO. AF_06/2014","H",21.04,21.04,null,null,1,1]
["SINAPI 89264","SINAPI",89264,"CAMINHÃO TOCO, PBT 16.000 KG, CARGA ÚTIL MÁX. 10.685 KG, DIST. ENTRE EIXOS 4,8 M, POTÊNCIA 189 CV, INCLUSIVE CARROCERIA FIXA ABERTA DE MADEIRA P/ TRANSPORTE GERAL DE CARGA SECA, DIMEN. APROX. 2,5 X 7,00 X 0,50 M - DEPRECIAÇÃO. AF_06/2014","H",20.98,20.98,null,null,0.92469999999999997,0.92469999999999997]
["SINAPI 91530","SINAPI",91530,"COMPACTADOR DE SOLOS DE PERCUSSÃO (SOQUETE) COM MOTOR A GASOLINA 4 TEMPOS, POTÊNCIA 4 CV - JUROS. AF_08/2015","H",0.22,0.22,null,null,1,1]
["SINAPI 90971","SINAPI",90971,"COMPRESSOR DE AR REBOCAVEL, VAZÃO 250 PCM, PRESSAO DE TRABALHO 102 PSI, MOTOR A DIESEL POTÊNCIA 81 CV - MATERIAIS NA OPERAÇÃO. AF_06/2015","H",60.27,60.27,null,null,0,0]
["SINAPI 90962","SINAPI",90962,"COMPRESSOR DE AR REBOCÁVEL, VAZÃO 89 PCM, PRESSÃO EFETIVA DE TRABALHO 102 PSI, MOTOR DIESEL, POTÊNCIA 20 CV - MANUTENÇÃO. AF_06/2015","H",8.31,8.31,null,null,1,1]
["SINAPI 102969","SINAPI",102969,"COMPRESSOR DE AR, VAZAO DE 10 PCM, RESERVATORIO 100 L, PRESSAO DE TRABALHO ENTRE 6,9 E 9,7 BAR, POTENCIA 2 HP, TENSAO 110/220 V - MATERIAIS NA OPERAÇÃO. AF_05/2023","H",0.1,0.1,null,null,0,0]
["SINAPI 103943","SINAPI",103943,"CONJUNTO MACACO HIDRÁULICO E CENTRAL DE BOMBEAMENTO MOTORIZADO 1,8 KW PARA PROTENSÃO DE MONOCABOS PARA CONCRETO PROTENDIDO, ESFORÇO MÁXIMO DE 30 TONELADAS - MATERIAIS NA OPERAÇÃO. AF_05/2022","H",1.1000000000000001,1.1000000000000001,null,null,0,0]
["SINAPI 92042","SINAPI",92042,"DISTRIBUIDOR DE AGREGADOS REBOCAVEL, CAPACIDADE 1,9 M³, LARGURA DE TRABALHO 3,66 M - MANUTENÇÃO. AF_11/2015","H",5.39,5.39,null,null,1,1]
["SINAPI 95718","SINAPI",95718,"ESCAVADEIRA HIDRAULICA SOBRE ESTEIRA, EQUIPADA COM CLAMSHELL, COM CAPACIDADE DA CAÇAMBA ENTRE 1,20 E 1,50 M3, PESO OPERACIONAL ENTRE 20,00 E 22,00 TON, POTENCIA LIQUIDA ENTRE 150 E 160 HP - MANUTENÇÃO. AF_11/2016","H",87.23,87.23,null,null,0,0]
["SINAPI 91468","SINAPI",91468,"ESPARGIDOR DE ASFALTO PRESSURIZADO, TANQUE 6 M3 COM ISOLAÇÃO TÉRMICA, AQUECIDO COM 2 MAÇARICOS, COM BARRA ESPARGIDORA 3,60 M, MONTADO SOBRE CAMINHÃO TOCO, PBT 14.300 KG, POTÊNCIA 185 CV - DEPRECIAÇÃO. AF_05/2023","H",25.54,25.54,null,null,1,1]
[{"$f":"CONCATENATE($B8264,\" \",$C8264)","v":"SINAPI 89239"},"SINAPI",89239,"FRESADORA DE ASFALTO A FRIO SOBRE RODAS, LARGURA FRESAGEM DE 2,0 M, POTÊNCIA 550 HP - MATERIAIS NA OPERAÇÃO. AF_11/2014","H",439.46,439.46,null,null,0,0]
["SINAPI 93413","SINAPI",93413,"GERADOR PORTÁTIL MONOFÁSICO, POTÊNCIA 5500 VA, MOTOR A GASOLINA, POTÊNCIA DO MOTOR 13 CV - MANUTENÇÃO. AF_03/2016","H",0.24,0.24,null,null,0,0]
["SINAPI 93271","SINAPI",93271,"GRUA ASCENCIONAL, LANÇA DE 30 M, CAPACIDADE DE 1,0 T A 30 M, ALTURA ATÉ 39 M MATERIAIS NA OPERAÇÃO. AF_05/2023","H",6.73,6.73,null,null,0,0]
["SINAPI 93424","SINAPI",93424,"GRUPO GERADOR ESTACIONÁRIO, POTÊNCIA 150 KVA, MOTOR A DIESEL- JUROS. AF_03/2016","H",1.77,1.77,null,null,0,0]
["SINAPI 104909","SINAPI",104909,"GUINDASTE DERRICK, LANÇA DE *20* M, CARGA MÁXIMA 10T, POTÊNCIA 45 KW - DEPRECIAÇÃO. AF_01/2024","H",0,0]
["SINAPI 104708","SINAPI",104708,"GUINDASTE HIDRÁULICO AUTOPROPELIDO, COM LANÇA TRELICADA 41 M, CAPACIDADE MÁXIMA DE ELEVAÇÃO 43 T, POTÊNCIA 230 KW, EQUIPADO COM CAÇAMBA DE ARRASTO (DRAGLINE) DE 0,76 M3 - MANUTENÇÃO. AF_06/2023","H",0,0]
["SINAPI 104906","SINAPI",104906,"GUINDASTE HIDRÁULICO RODOVIÁRIO, LANCA TELESCÓPICA DE *50+20* M, CAPACIDADE MÁXIMA DE 90T, 4 EIXOS, POTÊNCIA 330 KW, MOTOR DIESEL - MATERIAIS NA OPERAÇÃO. AF_01/2024","H",98.17,98.17,null,null,0,0]
["SINAPI 91466","SINAPI",91466,"GUINDAUTO HIDRÁULICO, CAPACIDADE MÁXIMA DE CARGA 6200 KG, MOMENTO MÁXIMO DE CARGA 11,7 TM, ALCANCE MÁXIMO HORIZONTAL 9,70 M, INCLUSIVE CAMINHÃO TOCO PBT 16.000 KG, POTÊNCIA DE 189 CV - IMPOSTOS E SEGUROS. AF_08/2015","H",4.05,4.05,null,null,1,1]
["SINAPI 105983","SINAPI",105983,"GUINDAUTO HIDRÁULICO, CAPACIDADE MÁXIMA DE CARGA 8500 KG, MOMENTO MÁXIMO DE CARGA 30,4 TM, ALCANCE MÁXIMO HORIZONTAL 14,30 M, INCLUSIVE CAMINHÃO TRUCADO PBT 23.000 KG, POTÊNCIA DE 256 CV E CARROCERIA FIXA ABERTA DE MADEIRA - MATERIAIS NA OPERAÇÃO. AF_05/2025","H",156.96,156.96,null,null,0,0]
["SINAPI 95114","SINAPI",95114,"MARTELETE OU ROMPEDOR PNEUMÁTICO MANUAL, 28 KG, COM SILENCIADOR - DEPRECIAÇÃO. AF_07/2016","H",1.81,1.81,null,null,0,0]
["SINAPI 105914","SINAPI",105914,"MARTELO PERFURADOR PNEUMÁTICO MANUAL, HASTE 19 X 108 MM, *11* KG - JUROS. AF_02/2025","H",0,0]
["SINAPI 90688","SINAPI",90688,"MINICARREGADEIRA SOBRE RODAS, POTÊNCIA LÍQUIDA DE 47 HP, CAPACIDADE NOMINAL DE OPERAÇÃO DE 646 KG - DEPRECIAÇÃO. AF_06/2015","H",26.6,26.6,null,null,1,1]
["SINAPI 88400","SINAPI",88400,"MISTURADOR DE ARGAMASSA, EIXO HORIZONTAL, CAPACIDADE DE MISTURA 160 KG, MOTOR ELÉTRICO POTÊNCIA 3 CV - DEPRECIAÇÃO. AF_05/2023","H",0.8,0.8,null,null,0,0]
["SINAPI 90636","SINAPI",90636,"MISTURADOR DUPLO HORIZONTAL DE ALTA TURBULÊNCIA, CAPACIDADE / VOLUME 2 X 500 LITROS, MOTORES ELÉTRICOS MÍNIMO 5 CV CADA, PARA NATA CIMENTO, ARGAMASSA E OUTROS - MATERIAIS NA OPERAÇÃO. AF_06/2015","H",4.5,4.5,null,null,0,0]
["SINAPI 102982","SINAPI",102982,"MÁQUINA DEMARCADORA DE FAIXA DE TRÁFEGO À FRIO, TRAÇÃO MANUAL, 4 CV, PRESSÃO MAX 3300 PSI, TANQUE 20 L - DEPRECIAÇÃO. AF_06/2021","H",0,0]
["SINAPI 93406","SINAPI",93406,"MÁQUINA JATO DE PRESSAO PORTÁTIL, CAMARA DE 1 SAIDA, CAPACIDADE 280 L, DIAMETRO 670 MM, BICO DE JATO CURTO VENTURI DE 5/16\", MANGUEIRA DE 1\" COM COMPRESSOR DE AR REBOCÁVEL 189 PCM E MOTOR DIESEL 63 CV - MANUTENÇÃO. AF_05/2023","H",8.8000000000000007,8.8000000000000007,null,null,1,1]
["SINAPI 103178","SINAPI",103178,"MÁQUINA PARA SOLDA POR TERMOFUSÃO PARA TUBOS DE POLIETILENO DE ALTA DENSIDADE (PEAD) COM DIÂMETRO EXTERNO DE 710 A 1200 MM, POTÊNCIA ENTRE 16000 E 29500 W - JUROS. AF_05/2023","H",0,0]
["SINAPI 92108","SINAPI",92108,"PENEIRA ROTATIVA COM MOTOR ELÉTRICO TRIFÁSICO DE 2 CV, CILINDRO DE 1 M X 0,60 M, COM FUROS DE 3,17 MM - DEPRECIAÇÃO. AF_05/2023","H",0.94,0.94,null,null,0,0]
["SINAPI 90672","SINAPI",90672,"PERFURATRIZ COM TORRE METÁLICA PARA EXECUÇÃO DE ESTACA HÉLICE CONTÍNUA, PROFUNDIDADE MÁXIMA DE 30 M, DIÂMETRO MÁXIMO DE 800 MM, POTÊNCIA INSTALADA DE 268 HP, MESA ROTATIVA COM TORQUE MÁXIMO DE 170 KNM - MANUTENÇÃO. AF_06/2015","H",324.48,324.48,null,null,0,0]
["SINAPI 102960","SINAPI",102960,"PERFURATRIZ HIDRÁULICA SOBRE ESTEIRA, TORQUE MÁXIMO 98 KNM, PROFUNDIDADE MÁXIMA 25 M, DIÂMETRO MÁXIMO 115 MM, POTÊNCIA MOTOR 190 HP - DEPRECIAÇÃO. AF_02/2021","H",183.52,183.52,null,null,0,0]
["SINAPI 102879","SINAPI",102879,"PERFURATRIZ PARA EXECUÇÃO DE ESTACAS SECANTES, TIPO HÉLICE CONTÍNUA COM CABEÇOTE DUPLO E TUBO METÁLICO - MATERIAIS NA OPERAÇÃO. AF_04/2019","H",178.5,178.5,null,null,0,0]
["SINAPI 102974","SINAPI",102974,"PERFURATRIZ ROTATIVA SOBRE ESTEIRA, TORQUE MAXIMO 2500 KGM, POTENCIA 110 HP, MOTOR DIESEL - MANUTENÇÃO. AF_05/2017","H",91.89,91.89,null,null,0,0]
["SINAPI 102885","SINAPI",102885,"PLATAFORMA ELEVATÓRIA - MATERIAIS NA OPERAÇÃO. AF_04/2019","H",0.92,0.92,null,null,0,0]
["SINAPI 90666","SINAPI",90666,"PROJETOR PNEUMÁTICO DE ARGAMASSA PARA CHAPISCO E REBOCO COM RECIPIENTE ACOPLADO, TIPO CANEQUINHA, COM COMPRESSOR DE AR REBOCÁVEL VAZÃO 89 PCM E MOTOR DIESEL DE 20 CV - MANUTENÇÃO. AF_05/2023","H",8.36,8.36,null,null,0.99399999999999999,0.99399999999999999]
["SINAPI 53858","SINAPI",53858,"PÁ CARREGADEIRA SOBRE RODAS, POTÊNCIA LÍQUIDA 128 HP, CAPACIDADE DA CAÇAMBA 1,7 A 2,8 M3, PESO OPERACIONAL 11632 KG - MATERIAIS NA OPERAÇÃO. AF_06/2014","H",45.45,45.45,null,null,0,0]
["SINAPI 89249","SINAPI",89249,"RECICLADORA DE ASFALTO A FRIO SOBRE RODAS, LARGURA FRESAGEM DE 2,0 M, POTÊNCIA 422 HP - MATERIAIS NA OPERAÇÃO. AF_11/2014","H",374.61,374.61,null,null,0,0]
["SINAPI 5664","SINAPI",5664,"RETROESCAVADEIRA SOBRE RODAS COM CARREGADEIRA, TRAÇÃO 4X4, POTÊNCIA LÍQ. 88 HP, CAÇAMBA CARREG. CAP. MÍN. 1 M3, CAÇAMBA RETRO CAP. 0,26 M3, PESO OPERACIONAL MÍN. 6.674 KG, PROFUNDIDADE ESCAVAÇÃO MÁX. 4,37 M - MANUTENÇÃO. AF_06/2014","H",36.93,36.93,null,null,0,0]
["SINAPI 53788","SINAPI",53788,"ROLO COMPACTADOR VIBRATÓRIO DE UM CILINDRO AÇO LISO, POTÊNCIA 80 HP, PESO OPERACIONAL MÁXIMO 8,1 T, IMPACTO DINÂMICO 16,15 / 9,5 T, LARGURA DE TRABALHO 1,68 M - MATERIAIS NA OPERAÇÃO. AF_06/2014","H",56.82,56.82,null,null,0,0]
["SINAPI 5729","SINAPI",5729,"ROLO COMPACTADOR VIBRATÓRIO TANDEM AÇO LISO, POTÊNCIA 58 HP, PESO SEM/COM LASTRO 6,5 / 9,4 T, LARGURA DE TRABALHO 1,2 M - MANUTENÇÃO. AF_06/2014","H",49.26,49.26,null,null,1,1]
["SINAPI 95137","SINAPI",95137,"TALHA MANUAL DE CORRENTE, CAPACIDADE DE 2 TON. COM ELEVAÇÃO DE 3 M - JUROS. AF_07/2016","H",0.01,0.01,null,null,0,0]
["SINAPI 104088","SINAPI",104088,"TERMOFUSORA PARA TUBOS E CONEXÕES EM PPR COM DIÂMETROS DE 20 A 63 MM, POTÊNCIA DE 800 W, TENSAO 220 V - JUROS. AF_05/2022","H",0.01,0.01,null,null,0,0]
["SINAPI 104096","SINAPI",104096,"TERMOFUSORA PARA TUBOS E CONEXÕES EM PPR COM DIÂMETROS DE 75 A 110 MM, POTÊNCIA DE *1100* W, TENSÃO 220 V - MATERIAIS NA OPERAÇÃO. AF_05/2022","H",0.67,0.67,null,null,0,0]
["SINAPI 53806","SINAPI",53806,"TRATOR DE ESTEIRAS, POTÊNCIA 170 HP, PESO OPERACIONAL 19 T, CAÇAMBA 5,2 M3 - MANUTENÇÃO. AF_06/2014","H",69.069999999999993,69.069999999999993,null,null,0,0]
["SINAPI 53814","SINAPI",53814,"TRATOR DE ESTEIRAS, POTÊNCIA 347 HP, PESO OPERACIONAL 38,5 T, COM LÂMINA 8,70 M3 - MANUTENÇÃO. AF_06/2014","H",227.65,227.65,null,null,0,0]
["SINAPI 102907","SINAPI",102907,"UNIDADE DOSADORA AIRLESS TIPO HOT SPRAY - JUROS. AF_05/2023","H",0,0]
["SINAPI 93437","SINAPI",93437,"USINA DE ASFALTO À FRIO, CAPACIDADE DE 40 A 60 TON/HORA, ELÉTRICA POTÊNCIA 30 CV - MANUTENÇÃO. AF_05/2023","H",10.17,10.17,null,null,1,1]
["SINAPI 100638","SINAPI",100638,"USINA DE MISTURA ASFÁLTICA À QUENTE, TIPO CONTRA FLUXO, PROD 100 A 140 TON/HORA - JUROS. AF_12/2019","H",62.55,62.55,null,null,1,1]
["SINAPI 103658","SINAPI",103658,"VARREDEIRA DE GRAMA SINTÉTICA A GASOLINA, 2,4 CV, 4 TEMPOS - JUROS. AF_05/2023","H",0,0]
["SINAPI 103928","SINAPI",103928,"BACIA DE DISSIPAÇÃO, TIPO BACIA EM PEDRA DE MÃO ARGAMASSADA (DES 01, 02, 03, 04), LANÇADO MANUALMENTE, INCLUINDO MATERIAIS E FÔRMAS (2 UTILIZAÇÕES). AF_08/2022","M3",518.36,539.01,null,null,0,0]
["SINAPI 104318","SINAPI",104318,"JOELHO 45 GRAUS, PVC, SOLDÁVEL, DN 20 MM, INSTALADO EM DRENO DE AR CONDICIONADO - FORNECIMENTO E INSTALAÇÃO. AF_08/2022","UN",8.35,8.9,null,null,0,0]
["SINAPI 104321","SINAPI",104321,"LUVA, PVC, SOLDÁVEL, DN 20 MM, INSTALADO EM DRENO DE AR CONDICIONADO - FORNECIMENTO E INSTALAÇÃO. AF_08/2022","UN",5.89,6.25,null,null,0,0]
["SINAPI 102690","SINAPI",102690,"DRENO ESPINHA DE PEIXE (SEÇÃO (0,40 X 0,40 M), COM TUBO DE PEAD CORRUGADO PERFURADO, DN 100 MM, ENCHIMENTO COM BRITA, ENVOLVIDO COM MANTA GEOTÊXTIL, INCLUSIVE CONEXÕES. AF_07/2021","M",64.39,65.430000000000007,null,null,0.1888,0.18579999999999999]
["SINAPI 102674","SINAPI",102674,"DRENO PROFUNDO (SEÇÃO 0,50 X 1,50 M), COM TUBO DE PEAD CORRUGADO PERFURADO, DN 100 MM, ENCHIMENTO COM AREIA. AF_07/2021","M",135.47,136.62,null,null,8.9800000000000005E-2,8.8999999999999996E-2]
["SINAPI 102668","SINAPI",102668,"DRENO SUBSUPERFICIAL (SEÇÃO 0,40 X 0,40 M), COM TUBO DE PVC CORRUGADO RÍGIDO PERFURADO, DN 100 MM, ENCHIMENTO COM BRITA, ENVOLVIDO COM MANTA GEOTÊXTIL. AF_07/2021","M",108.84,109.78,null,null,0,0]
["SINAPI 98326","SINAPI",98326,"FABRICAÇÃO DE DUTO RETANGULAR PARA AR CONDICIONADO (TRECHO RETO) EM CHAPA GALVANIZADA BITOLA 24. AF_03/2024","M2",0,0]
["SINAPI 98391","SINAPI",98391,"INSTALAÇÃO DE COLARINHO DE AÇO GALVANIZADO DN 161 MM (6\") PARA DUTO FLEXÍVEL CIRCULAR PARA AR CONDICIONADO. AF_03/2024","UN",0,0]
["SINAPI 98381","SINAPI",98381,"INSTALAÇÃO DE DUTO FLEXÍVEL CIRCULAR PARA AR CONDICIONADO EM ALUMÍNIO ISOLADO - DN 109 MM (4\"). AF_03/2024","M",0,0]
["SINAPI 98362","SINAPI",98362,"INSTALAÇÃO DE DUTO RETANGULAR PARA AR CONDICIONADO (TRECHO RETO) EM CHAPA GALVANIZADA BITOLA 24 - COM ISOLAMENTO DE MANTA FIXADA NA CHAPA COM CLAVO, INCLUSO FABRICAÇÃO. AF_03/2024","M2",0,0]
["SINAPI 97304","SINAPI",97304,"COTOVELO HORIZONTAL 90º, PARA ELETROCALHA, LISA OU PERFURADA EM AÇO GALVANIZADO, LARGURA DE 600MM E ALTURA DE 50MM - FORNECIMENTO E INSTALAÇÃO. AF_04/2023","UN",0,0]
["SINAPI 97312","SINAPI",97312,"COTOVELO RETO 90º, PARA ELETROCALHA, LISA OU PERFURADA EM AÇO GALVANIZADO, LARGURA DE 800MM E ALTURA DE 50MM - FORNECIMENTO E INSTALAÇÃO. AF_04/2023","UN",0,0]
["SINAPI 97277","SINAPI",97277,"CURVA HORIZONTAL 90º, PARA ELETROCALHA, LISA OU PERFURADA EM AÇO GALVANIZADO, LARGURA DE 75MM E ALTURA DE 50MM - FORNECIMENTO E INSTALAÇÃO. AF_04/2023","UN",0,0]
["SINAPI 97245","SINAPI",97245,"ELETROCALHA LISA OU PERFURADA EM AÇO GALVANIZADO, LARGURA 500MM E ALTURA 50MM, INCLUSIVE EMENDA E FIXAÇÃO - FORNECIMENTO E INSTALAÇÃO. AF_04/2023","M",0,0]
["SINAPI 97266","SINAPI",97266,"EMENDA PARA ELETROCALHA, LISA OU PERFURADA EM AÇO GALVANIZADO, LARGURA DE 500MM E ALTURA DE 50MM - FORNECIMENTO E INSTALAÇÃO. AF_04/2023","UN",0,0]
["SINAPI 97319","SINAPI",97319,"TÊ HORIZONTAL 90º, PARA ELETROCALHA, LISA OU PERFURADA EM AÇO GALVANIZADO, LARGURA DE 250MM E ALTURA DE 50MM - FORNECIMENTO E INSTALAÇÃO. AF_04/2023","UN",0,0]
["SINAPI 103503","SINAPI",103503,"CABO FOTOVOLTAICO 6 MM² INSTALADO EM ELETRODUTO - FORNECIMENTO E INSTALAÇÃO. AF_12/2021","M",0,0]
["SINAPI 103523","SINAPI",103523,"RESERVATÓRIO TÉRMICO/BOILER SOLAR EM AÇO INOX 1000 L COM 5 PLACAS COLETORAS EM VIDRO TEMPERADO COM SERPENTINA EM TUBO DE COBRE 2 X 1 M - FORNECIMENTO E INSTALAÇÃO. AF_12/2021","UN",10453.36,10477.030000000001,null,null,0.97419999999999995,0.97199999999999998]
["SINAPI 97061","SINAPI",97061,"COLOCAÇÃO DE TELA FACHADEIRA PERIMETRAL. AF_03/2024","M2",0,0]
["SINAPI 104987","SINAPI",104987,"GUARDA-CORPO DE CONCRETAGEM COM MONTANTES METÁLICOS FIXADOS EM BARROTES (VIGAMENTO) DE FORMA DE MADEIRA COM FECHAMENTO EM PAINEL DE TELA METÁLICA. AF_03/2024","M",0,0]
["SINAPI 97015","SINAPI",97015,"GUARDA-CORPO FIXADO EM FÔRMA DE MADEIRA COM MONTANTES E TRAVESSÕES EM MADEIRA E FECHAMENTO EM PLACA COMPENSADO PARA EDIFÍCIOS COM ALTURA IGUAL OU SUPERIOR A 4 PAVIMENTOS. AF_03/2024","M",57.61,59.28,null,null,0,0]
["SINAPI 97065","SINAPI",97065,"MONTAGEM E DESMONTAGEM DE ANDAIME MULTIDIRECIONAL (EXCLUSIVE ANDAIME E LIMPEZA). AF_03/2024","M3",14.76,16,null,null,0,0]
["SINAPI 97004","SINAPI",97004,"PLATAFORMA DE PROTEÇÃO SECUNDÁRIA PARA COLETA DE RESÍDUOS COM ESTRUTURA METÁLICA E TRAMA DE MADEIRA FORRADA EM PAINEL COMPENSADO - 3 MONTAGENS POR OBRA. AF_03/2024","M",0,0]
["SINAPI 97050","SINAPI",97050,"TOTEN EM MADEIRA COM PLACA INDICATIVA POSICIONADA NO TERRENO. AF_03/2024","M2",0,0]
["SINAPI 102074","SINAPI",102074,"ESCADA EM CONCRETO ARMADO MOLDADO IN LOCO, FCK 25 MPA, COM 2 LANCES EM U E LAJE PLANA, FÔRMA EM CHAPA DE MADEIRA COMPENSADA RESINADA. AF_11/2020","M3",4603.63,4765.21,null,null,2.3999999999999998E-3,2.3999999999999998E-3]
["SINAPI 102081","SINAPI",102081,"ESCADA TIPO MARINHEIRO EM TUBO ACO GALVANIZADO 1 1/2\", SEM GUARDA-CORPO, FIXADA COM CHUMBADOR MECÂNICO. AF_11/2020","M",0,0]
["SINAPI 101990","SINAPI",101990,"FABRICAÇÃO DE FÔRMA PARA ESCADAS, COM 2 LANCES EM \"L\" E LAJE PLANA, EM MADEIRA SERRADA, E=25 MM. AF_11/2020","M2",261.29000000000002,264.91000000000003,null,null,0,0]
["SINAPI 102063","SINAPI",102063,"MONTAGEM E DESMONTAGEM DE FÔRMA PARA ESCADA DUPLA COM 2 LANCES EM \"X\" E LAJE PLANA, EM CHAPA DE MADEIRA COMPENSADA PLASTIFICADA, 6 UTILIZAÇÕES. AF_11/2020","M2",242.06,252.5,null,null,0,0]
["SINAPI 102038","SINAPI",102038,"MONTAGEM E DESMONTAGEM DE FÔRMA PARA ESCADAS, COM 2 LANCES EM \"L\" E LAJE CASCATA, EM CHAPA DE MADEIRA COMPENSADA PLASTIFICADA, 10 UTILIZAÇÕES. AF_11/2020","M2",210.39,221.33,null,null,0,0]
["SINAPI 102004","SINAPI",102004,"MONTAGEM E DESMONTAGEM DE FÔRMA PARA ESCADAS, COM 2 LANCES EM \"U\" E LAJE CASCATA, EM CHAPA DE MADEIRA COMPENSADA PLASTIFICADA, 6 UTILIZAÇÕES. AF_11/2020","M2",258.16000000000003,270.5,null,null,0,0]
["SINAPI 102005","SINAPI",102005,"MONTAGEM E DESMONTAGEM DE FÔRMA PARA ESCADAS, COM 2 LANCES EM \"U\" E LAJE CASCATA, EM CHAPA DE MADEIRA COMPENSADA PLASTIFICADA, 8 UTILIZAÇÕES. AF_11/2020","M2",230.89,242.25,null,null,0,0]
["SINAPI 101136","SINAPI",101136,"ESCAVAÇÃO HORIZONTAL, INCLUINDO CARGA, DESCARGA E TRANSPORTE EM SOLO DE 1A CATEGORIA COM TRATOR DE ESTEIRAS (170HP/LÂMINA: 5,20M3) E CAMINHÃO BASCULANTE DE 10M3, DMT ATÉ 200M. AF_07/2020","M3",14.22,14.49,null,null,0.20749999999999999,0.2036]
["SINAPI 101121","SINAPI",101121,"ESCAVAÇÃO HORIZONTAL, INCLUINDO ESCARIFICAÇÃO EM SOLO DE 2A CATEGORIA COM TRATOR DE ESTEIRAS (170HP/LÂMINA: 5,20M3). AF_07/2020","M3",4.4400000000000004,4.57,null,null,0,0]
["SINAPI 101210","SINAPI",101210,"ESCAVAÇÃO VERTICAL PARA EDIFICAÇÃO, COM CARGA, DESCARGA E TRANSPORTE DE SOLO DE 1ª CATEGORIA, COM ESCAVADEIRA HIDRÁULICA (CAÇAMBA: 0,8 M³ / 111 HP), FROTA DE 4 CAMINHÕES BASCULANTES DE 14 M³, DMT DE 1,5 KM E VELOCIDADE MÉDIA 18 KM/H. AF_05/2020","M3",17.88,18.11,null,null,0,0]
["SINAPI 101216","SINAPI",101216,"ESCAVAÇÃO VERTICAL PARA EDIFICAÇÃO, COM CARGA, DESCARGA E TRANSPORTE DE SOLO DE 1ª CATEGORIA, COM ESCAVADEIRA HIDRÁULICA (CAÇAMBA: 0,8 M³ / 111 HP), FROTA DE 4 CAMINHÕES BASCULANTES DE 18 M³, DMT DE 2 KM E VELOCIDADE MÉDIA 19 KM/H. AF_05/2020","M3",17.989999999999998,18.21,null,null,0,0]
["SINAPI 101262","SINAPI",101262,"ESCAVAÇÃO VERTICAL PARA EDIFICAÇÃO, COM CARGA, DESCARGA E TRANSPORTE DE SOLO DE 1ª CATEGORIA, COM ESCAVADEIRA HIDRÁULICA (CAÇAMBA: 1,2 M³ / 155HP), FROTA DE 6 CAMINHÕES BASCULANTES DE 10 M³, DMT DE 2 KM E VELOCIDADE MÉDIA 19 KM/H. AF_05/2020","M3",20.329999999999998,20.64,null,null,0.27300000000000002,0.26889999999999997]
["SINAPI 101272","SINAPI",101272,"ESCAVAÇÃO VERTICAL PARA INFRAESTRUTURA, COM CARGA, DESCARGA E TRANSPORTE DE SOLO DE 1ª CATEGORIA, COM ESCAVADEIRA HIDRÁULICA (CAÇAMBA: 0,8 M³ / 111HP), FROTA DE 10 CAMINHÕES BASCULANTES DE 10 M³, DMT DE 6 KM E VELOCIDADE MÉDIA22 KM/H. AF_05/2020","M3",32.89,33.369999999999997,null,null,0.29670000000000002,0.29249999999999998]
["SINAPI 101242","SINAPI",101242,"ESCAVAÇÃO VERTICAL PARA INFRAESTRUTURA, COM CARGA, DESCARGA E TRANSPORTE DE SOLO DE 1ª CATEGORIA, COM ESCAVADEIRA HIDRÁULICA (CAÇAMBA: 0,8 M³ / 111HP), FROTA DE 6 CAMINHÕES BASCULANTES DE 18 M³, DMT DE 4 KM E VELOCIDADE MÉDIA 22 KM/H. AF_05/2020","M3",21.14,21.4,null,null,0,0]
["SINAPI 101276","SINAPI",101276,"ESCAVAÇÃO VERTICAL PARA INFRAESTRUTURA, COM CARGA, DESCARGA E TRANSPORTE DE SOLO DE 1ª CATEGORIA, COM ESCAVADEIRA HIDRÁULICA (CAÇAMBA: 1,2 M³ / 155HP), FROTA DE 9 CAMINHÕES BASCULANTES DE 10 M³, DMT DE 4 KM E VELOCIDADE MÉDIA 22 KM/H. AF_05/2020","M3",24.94,25.28,null,null,0.28749999999999998,0.28360000000000002]
["SINAPI 102303","SINAPI",102303,"ESCAVAÇÃO MECANIZADA DE VALA COM PROF. ATÉ 1,5 M (MÉDIA MONTANTE E JUSANTE/UMA COMPOSIÇÃO POR TRECHO), RETROESCAV. (0,26 M3), LARG. DE 0,8 M A 1,5 M, EM SOLO MOLE, LOCAIS COM BAIXO NÍVEL DE INTERFERÊNCIA. AF_09/2024","M3",11.81,12.25,null,null,0,0]
["SINAPI 102301","SINAPI",102301,"ESCAVAÇÃO MECANIZADA DE VALA COM PROF. MAIOR QUE 1,5 M ATÉ 3,0 M (MÉDIA MONTANTE E JUSANTE/UMA COMPOSIÇÃO POR TRECHO), RETROESCAV. (0,26 M3), LARG. DE 0,8 M A 1,5 M, EM SOLO MOLE, EM LOCAIS COM ALTO NÍVEL DE INTERFERÊNCIA. AF_09/2024","M3",16.96,17.59,null,null,0,0]
["SINAPI 90102","SINAPI",90102,"ESCAVAÇÃO MECANIZADA DE VALA COM PROF. MAIOR QUE 1,5 M ATÉ 3,0 M (MÉDIA MONTANTE E JUSANTE/UMA COMPOSIÇÃO POR TRECHO), RETROESCAV. (0,26 M3), LARGURA DE 0,8 M A 1,5 M, EM SOLO DE 1A CATEGORIA, EM LOCAIS COM ALTO NÍVEL DE INTERFERÊNCIA. AF_09/2024","M3",12.96,13.44,null,null,0,0]
["SINAPI 102320","SINAPI",102320,"ESCAVAÇÃO MECANIZADA DE VALA COM PROF. MAIOR QUE 3,0 M ATÉ 4,5 M (MÉDIA MONTANTE E JUSANTE/UMA COMPOSIÇÃO POR TRECHO), ESCAVADEIRA (1,2 M3), LARG. DE 1,5 M A 2,5 M, EM SOLO DE 2A CATEGORIA, LOCAIS COM BAIXO NÍVEL DE INTERFERÊNCIA. AF_09/2024","M3",7.26,7.43,null,null,0,0]
["SINAPI 102310","SINAPI",102310,"ESCAVAÇÃO MECANIZADA DE VALA COM PROF.MAIOR QUE 4,5 M ATÉ 6,0 M (MÉDIA MONTANTE E JUSANTE/UMA COMPOSIÇÃO POR TRECHO),COM ESCAVADEIRA (0,8 M3), LARG. MENOR QUE 1,5 M, EM SOLO DE 2A CATEGORIA, EM LOCAIS COM ALTO NÍVEL DE INTERFERÊNCIA. AF_09/2024","M3",11.41,11.71,null,null,0,0]
["SINAPI 102346","SINAPI",102346,"ESCAVAÇÃO DE VALA EM MATERIAL DE 3ª CATEGORIA, RESISTÊNCIA À COMPRESSÃO MENOR QUE 50 MPA, COM ROMPEDOR ACOPLADO EM ESCAVADEIRA HIDRÁULICA - EXCLUSIVE RETIRADA, CARGA E TRANSPORTE. AF_03/2021","M3",0,0]
["SINAPI 101591","SINAPI",101591,"ESCORAMENTO DE VALA, TIPO CONTÍNUO COM PERFIL METÁLICO \"U\", COM PROFUNDIDADE DE 1,5 A 3,0 M, LARGURA MAIOR OU IGUAL 1,5 M E MENOR QUE 2,5 M. AF_08/2020","M2",127.82,132.87,null,null,4.3E-3,4.1000000000000003E-3]
["SINAPI 101582","SINAPI",101582,"ESCORAMENTO DE VALA, TIPO CONTÍNUO, COM PROFUNDIDADE DE 0 A 1,5 M, LARGURA MENOR QUE 1,5 M. AF_08/2020","M2",82.2,85.77,null,null,0,0]
["SINAPI 101572","SINAPI",101572,"ESCORAMENTO DE VALA, TIPO PONTALETEAMENTO, COM PROFUNDIDADE DE 1,5 A 3,0 M, LARGURA MENOR QUE 1,5 M. AF_08/2020","M2",22.45,23.74,null,null,0,0]
["SINAPI 101624","SINAPI",101624,"PREPARO DE FUNDO DE VALA COM LARGURA MAIOR OU IGUAL A 1,5 M E MENOR QUE 2,5 M, COM CAMADA DE BRITA, LANÇAMENTO MECANIZADO. AF_08/2020","M3",165.89,170.93,null,null,5.0000000000000001E-4,5.0000000000000001E-4]
["SINAPI 104180","SINAPI",104180,"PERFURAÇÃO DE SOLO, INSTALAÇÃO E DESINSTALAÇÃO DE PONTEIRAS PARA SISTEMA DE REBAIXAMENTO DE LENÇOL FREÁTICO POR PONTEIRAS FILTRANTES EM OBRAS ESTACIONÁRIAS. AF_12/2022","M",0,0]
["SINAPI 105811","SINAPI",105811,"JANELA DE ALUMÍNIO DE CORRER COM 2 FOLHAS PARA VIDROS (VIDROS INCLUSOS), COM BANDEIRA, BATENTE/ REQUADRO 6 A 14 CM, ACABAMENTO COM ACETATO OU BRILHANTE, FIXAÇÃO COM PARAFUSO, SEM GUARNIÇÃO/ ALIZAR, DIMENSÕES 100X120 CM, VEDAÇÃO COM SILICONE, EXCLUSIVE CONTRAMARCO - FORNECIMENTO E INSTALAÇÃO. AF_11/2024","M2",0,0]
["SINAPI 100662","SINAPI",100662,"JANELA DE PVC BRANCO DE CORRER COM 3 FOLHAS (2 VENEZIANAS E 1 PARA VIDRO, VIDRO INCLUSO), BATENTE/ REQUADRO DE 4 A 14 CM, DIMENSÕES 100X200 CM, COM GUARNIÇÃO/ ALIZAR, COM FERRAGENS, FIXAÇÃO COM PARAFUSOS, VEDAÇÃO COM SILICONE, EXCLUSIVE CONTRAMARCO - FORNECIMENTO E INSTALAÇÃO. AF_11/2024","M2",0,0]
[{"$f":"CONCATENATE($B9544,\" \",$C9544)","v":"SINAPI 100676"},"SINAPI",100676,"BATENTE PARA PORTA COM BANDEIRA, FIXAÇÃO COM PARAFUSO E BUCHA. AF_12/2019","UN",258.52,266.72000000000003,null,null,0,0]
["SINAPI 100708","SINAPI",100708,"FECHO DE EMBUTIR TIPO UNHA 40CM. AF_12/2019","UN",189.65,194.36,null,null,0,0]
["SINAPI 90844","SINAPI",90844,"KIT DE PORTA DE MADEIRA PARA PINTURA, SEMI-OCA (LEVE OU MÉDIA), PADRÃO MÉDIO, 90X210CM, ESPESSURA DE 3,5CM, ITENS INCLUSOS: DOBRADIÇAS, MONTAGEM E INSTALAÇÃO DO BATENTE, FECHADURA COM EXECUÇÃO DO FURO - FORNECIMENTO E INSTALAÇÃO. AF_12/2019","UN",1388.12,1419.03,null,null,0,0]
["SINAPI 91317","SINAPI",91317,"KIT DE PORTA DE MADEIRA PARA PINTURA, SEMI-OCA (PESADA OU SUPERPESADA), PADRÃO POPULAR, 90X210CM, ESPESSURA DE 3,5CM, ITENS INCLUSOS: DOBRADIÇAS, MONTAGEM E INSTALAÇÃO DO BATENTE, FECHADURA COM EXECUÇÃO DO FURO - FORNECIMENTO E INSTALAÇÃO. AF_12/2019","UN",1444.63,1478.02,null,null,0,0]
["SINAPI 91326","SINAPI",91326,"KIT DE PORTA DE MADEIRA PARA VERNIZ, SEMI-OCA (LEVE OU MÉDIA), PADRÃO POPULAR, 80X210CM, ESPESSURA DE 3,5CM, ITENS INCLUSOS: DOBRADIÇAS, MONTAGEM E INSTALAÇÃO DO BATENTE, SEM FECHADURA - FORNECIMENTO E INSTALAÇÃO. AF_12/2019","UN",998.63,1025.26,null,null,0,0]
["SINAPI 90790","SINAPI",90790,"KIT DE PORTA-PRONTA DE MADEIRA EM ACABAMENTO MELAMÍNICO BRANCO, FOLHA LEVE OU MÉDIA, 80X210CM, EXCLUSIVE FECHADURA, FIXAÇÃO COM PREENCHIMENTO PARCIAL DE ESPUMA EXPANSIVA - FORNECIMENTO E INSTALAÇÃO. AF_12/2019","UN",965.35,967.45,null,null,0,0]
["SINAPI 90798","SINAPI",90798,"KIT DE PORTA-PRONTA DE MADEIRA EM ACABAMENTO MELAMÍNICO BRANCO, FOLHA PESADA OU SUPERPESADA, E BATENTE METÁLICO, 80X210CM, FIXAÇÃO COM ARGAMASSA - FORNECIMENTO E INSTALAÇÃO. AF_12/2019","UN",1219.5999999999999,1229.5899999999999,null,null,0,0]
["SINAPI 90823","SINAPI",90823,"PORTA DE MADEIRA PARA PINTURA, SEMI-OCA (LEVE OU MÉDIA), 90X210CM, ESPESSURA DE 3,5CM, INCLUSO DOBRADIÇAS - FORNECIMENTO E INSTALAÇÃO. AF_12/2019","UN",506.48,512.79999999999995,null,null,0,0]
["SINAPI 101175","SINAPI",101175,"ESTACA BROCA DE CONCRETO, DIÂMETRO DE 30CM, ESCAVAÇÃO MANUAL COM TRADO CONCHA, COM ARMADURA DE ARRANQUE. AF_05/2020","M",128.61000000000001,135.24,null,null,0,0]
["SINAPI 100896","SINAPI",100896,"ESTACA ESCAVADA MECANICAMENTE, SEM FLUIDO ESTABILIZANTE, COM 25CM DE DIÂMETRO, CONCRETO LANÇADO POR CAMINHÃO BETONEIRA (EXCLUSIVE MOBILIZAÇÃO E DESMOBILIZAÇÃO). AF_01/2020","M",61.01,61.83,null,null,6.5100000000000005E-2,6.4199999999999993E-2]
["SINAPI 100893","SINAPI",100893,"ESTACA METÁLICA PARA CONTENÇÃO, UTILIZANDO PERFIL LAMINADO W250X38,5 (EXCLUSIVE MOBILIZAÇÃO E DESMOBILIZAÇÃO). AF_01/2020","KG",12.39,12.46,null,null,0.91769999999999996,0.91249999999999998]
["SINAPI 100366","SINAPI",100366,"FABRICAÇÃO E INSTALAÇÃO DE MEIA TESOURA DE MADEIRA NÃO APARELHADA, COM VÃO DE 12 M, PARA TELHA CERÂMICA OU DE CONCRETO, INCLUSO IÇAMENTO. AF_07/2019","UN",4427.1499999999996,4567.7700000000004,null,null,5.4600000000000003E-2,5.2900000000000003E-2]
["SINAPI 100359","SINAPI",100359,"FABRICAÇÃO E INSTALAÇÃO DE MEIA TESOURA DE MADEIRA NÃO APARELHADA, COM VÃO DE 5 M, PARA TELHA CERÂMICA OU DE CONCRETO, INCLUSO IÇAMENTO. AF_07/2019","UN",1805.96,1871.36,null,null,3.2300000000000002E-2,3.1199999999999999E-2]
["SINAPI 100377","SINAPI",100377,"FABRICAÇÃO E INSTALAÇÃO DE TESOURA (INTEIRA OU MEIA) EM AÇO, VÃOS MAIORES OU IGUAIS A 3,0 M E MENORES OU IGUAL A 6,0 M, INCLUSO IÇAMENTO. AF_07/2019","KG",11.82,12.01,null,null,0.76990000000000003,0.75770000000000004]
["SINAPI 92612","SINAPI",92612,"FABRICAÇÃO E INSTALAÇÃO DE TESOURA INTEIRA EM AÇO, VÃO DE 8 M, PARA TELHA ONDULADA DE FIBROCIMENTO, METÁLICA, PLÁSTICA OU TERMOACÚSTICA, INCLUSO IÇAMENTO, INCLUSO IÇAMENTO. AF_07/2019","UN",1439.08,1465.14,null,null,0.7571,0.74360000000000004]
["SINAPI 92558","SINAPI",92558,"FABRICAÇÃO E INSTALAÇÃO DE TESOURA INTEIRA EM MADEIRA NÃO APARELHADA, VÃO DE 6 M, PARA TELHA ONDULADA DE FIBROCIMENTO, METÁLICA, PLÁSTICA OU TERMOACÚSTICA, INCLUSO IÇAMENTO. AF_07/2019","UN",1742.58,1802,null,null,3.3500000000000002E-2,3.2399999999999998E-2]
["SINAPI 92549","SINAPI",92549,"FABRICAÇÃO E INSTALAÇÃO DE TESOURA INTEIRA EM MADEIRA NÃO APARELHADA, VÃO DE 7 M, PARA TELHA CERÂMICA OU DE CONCRETO, INCLUSO IÇAMENTO. AF_07/2019","UN",2215.84,2300.84,null,null,2.64E-2,2.5399999999999999E-2]
["SINAPI 100389","SINAPI",100389,"RETIRADA E RECOLOCAÇÃO DE CAIBRO EM TELHADOS DE ATÉ 2 ÁGUAS COM TELHA CERÂMICA OU DE CONCRETO DE ENCAIXE, INCLUSO TRANSPORTE VERTICAL. AF_07/2019","M2",21.09,22.27,null,null,0,0]
["SINAPI 92543","SINAPI",92543,"TRAMA DE MADEIRA COMPOSTA POR TERÇAS PARA TELHADOS DE ATÉ 2 ÁGUAS PARA TELHA ONDULADA DE FIBROCIMENTO, METÁLICA, PLÁSTICA OU TERMOACÚSTICA, INCLUSO TRANSPORTE VERTICAL. AF_07/2019","M2",28.04,28.55,null,null,0,0]
["SINAPI 104944","SINAPI",104944,"FORNECIMENTO E MONTAGEM DE TESOURAS PRÉ-FABRICADAS, INCLUSO IÇAMENTO COM GUINDASTE. AF_03/2024","M3",0,0]
["SINAPI 105918","SINAPI",105918,"CONTENÇÃO EM CORTINA COM ESTACAS SECANTES COM 40 CM DE DIÂMETRO E PROFUNDIDADE ATÉ 20 METROS. AF_02/2025","M2",0,0]
["SINAPI 98653","SINAPI",98653,"CONTENÇÃO EM PAREDE DIAFRAGMA COM 80 CM DE ESPESSURA E PROFUNDIDADE ATÉ 25 METROS. AF_02/2025","M3",0,0]
["SINAPI 105806","SINAPI",105806,"CONTENÇÃO EM PERFIL PRANCHADO COM PRANCHÃO DE MADEIRA, PERFIS ESPAÇADOS A 1,5 M PARA 2 OU MAIS SUBSOLOS. AF_11/2024","M2",0,0]
["SINAPI 105065","SINAPI",105065,"PILAR DE MADEIRA ROLIÇA, EUCALIPTO OU EQUIVALENTE DA REGIÃO, FIXADO COM PORTA PILAR METÁLICO, DIÂMETRO DE 30 A 34 CM, APOIO ARTICULADO, COMPRIMENTO DE 3 M. AF_03/2024","M",0,0]
["SINAPI 105056","SINAPI",105056,"PILAR DE MADEIRA ROLIÇA, EUCALIPTO OU EQUIVALENTE DA REGIÃO, FIXADO COM VERGALHÃO, DIÂMETRO DE 30 A 34 CM, APOIO ARTICULADO, COMPRIMENTO DE 3 M. AF_03/2024","M",353.18,355.61,null,null,0,0]
["SINAPI 105099","SINAPI",105099,"VIGA DE MADEIRA ROLIÇA, EUCALIPTO OU EQUIVALENTE DA REGIÃO, DIÂMETRO DE 12 A 15 CM. AF_03/2024","M",92.29,95.53,null,null,0,0]
["SINAPI 93961","SINAPI",93961,"EXECUÇÃO DE GRAMPO PARA SOLO GRAMPEADO COM COMPRIMENTO MAIOR QUE 10 M, DIÂMETRO DE 10 CM, PERFURAÇÃO COM EQUIPAMENTO MANUAL E ARMADURA COM DIÂMETRO DE 20 MM. AF_07/2024","M",263.51,281.29000000000002,null,null,5.9900000000000002E-2,5.6099999999999997E-2]
["SINAPI 93957","SINAPI",93957,"EXECUÇÃO DE GRAMPO PARA SOLO GRAMPEADO COM COMPRIMENTO MENOR OU IGUAL A 6 M, DIÂMETRO DE 10 CM, PERFURAÇÃO COM EQUIPAMENTO MANUAL E ARMADURA COM DIÂMETRO DE 20 MM. AF_07/2024","M",366.77,391.95,null,null,6.5000000000000002E-2,6.08E-2]
["SINAPI 104850","SINAPI",104850,"EXECUÇÃO DE PERFURAÇÃO PARA TIRANTE, COMPRIMENTO MAIOR OU IGUAL A 22 M E MENOR QUE 30 M, COM DIÂMETRO DE FURO DE 100 MM EXECUTADO COM HASTE UTILIZANDO PERFURATRIZ MANUAL SOBRE BASE DE MONTAGEM. AF_11/2023","M",48.98,50.44,null,null,0.13900000000000001,0.13500000000000001]
["SINAPI 104856","SINAPI",104856,"INJEÇÃO DE CALDA DE CIMENTO PARA CHUMBAMENTO DE TIRANTE MONOBARRA COM ARMADURA DE 36 MM, COMPRIMENTO MAIOR OU IGUAL A 22 M E MENOR QUE 30 M, DIÂMETRO DE 100 MM, INCLUSIVE PRODUÇÃO. AF_11/2023","M",0,0]
["SINAPI 104869","SINAPI",104869,"INSTALAÇÃO DE TIRANTE MONOBARRA COM ARMADURA DE 32 MM, COMPRIMENTO MAIOR OU IGUAL A 14 M E MENOR QUE 22 M, INCLUSIVE MONTAGEM, INSTALAÇÃO E PROTENSÃO. AF_11/2023","M",0,0]
["SINAPI 105938","SINAPI",105938,"REVESTIMENTO NÃO ADERIDO DE PAREDES EXTERNAS COM PLACAS DE PORCELANATO DE ÁREA MAIOR DO QUE 2500 CM2 E MENOR OU IGUAL A 6400 CM2, FIXADAS COM INSERTE METÁLICO. AF_03/2025","M2",0,0]
["SINAPI 98059","SINAPI",98059,"FILTRO ANAERÓBIO CIRCULAR, EM CONCRETO PRÉ-MOLDADO, DIÂMETRO INTERNO = 1,88 M, ALTURA INTERNA = 1,50 M, VOLUME ÚTIL: 3331,1 L (PARA 19 CONTRIBUINTES). AF_12/2020","UN",4047.58,4096.55,null,null,0.66339999999999999,0.65549999999999997]
["SINAPI 98062","SINAPI",98062,"SUMIDOURO CIRCULAR, EM CONCRETO PRÉ-MOLDADO, DIÂMETRO INTERNO = 1,88 M, ALTURA INTERNA = 2,00 M, ÁREA DE INFILTRAÇÃO: 13,1 M² (PARA 5 CONTRIBUINTES). AF_12/2020","UN",3365.78,3397.98,null,null,0.7661,0.75880000000000003]
["SINAPI 98100","SINAPI",98100,"SUMIDOURO RETANGULAR, EM ALVENARIA COM BLOCOS DE CONCRETO, DIMENSÕES INTERNAS: 1,6 X 3,4 X H=3,0 M, ÁREA DE INFILTRAÇÃO: 32,9 M² (PARA 13 CONTRIBUINTES). . AF_12/2020","UN",6137.67,6403.97,null,null,2.5000000000000001E-3,2.3999999999999998E-3]
["SINAPI 98085","SINAPI",98085,"TANQUE SÉPTICO RETANGULAR, EM ALVENARIA COM BLOCOS DE CONCRETO, DIMENSÕES INTERNAS: 1,6 X 4,4 X H=1,8 M, VOLUME ÚTIL: 9856 L (PARA 68 CONTRIBUINTES). AF_12/2020","UN",9744.0300000000007,10188.129999999999,null,null,5.1999999999999998E-3,4.8999999999999998E-3]
["SINAPI 104918","SINAPI",104918,"ARMAÇÃO DE SAPATA ISOLADA, VIGA BALDRAME E SAPATA CORRIDA UTILIZANDO AÇO CA-50 DE 8 MM - MONTAGEM. AF_01/2024","KG",15.35,15.77,null,null,7.1999999999999998E-3,7.0000000000000001E-3]
["SINAPI 96527","SINAPI",96527,"ESCAVAÇÃO MANUAL PARA VIGA BALDRAME OU SAPATA CORRIDA (INCLUINDO ESCAVAÇÃO PARA COLOCAÇÃO DE FÔRMAS). AF_01/2024","M3",127.79,137.96,null,null,0,0]
["SINAPI 96539","SINAPI",96539,"FABRICAÇÃO, MONTAGEM E DESMONTAGEM DE FÔRMA PARA VIGA BALDRAME, EM CHAPA DE MADEIRA COMPENSADA RESINADA, E=17 MM, 2 UTILIZAÇÕES. AF_01/2024","M2",136.75,144.38999999999999,null,null,0,0]
["SINAPI 105518","SINAPI",105518,"MONTAGEM E DESMONTAGEM DE FÔRMA PARA ESTRUTURA CIRCULAR, COM INSTALAÇÃO EXCLUSIVAMENTE NA FACE INTERNA DA ESTRUTURA, COM AUXÍLIO DE GUINDASTE. AF_07/2024","M2",0,0]
["SINAPI 92524","SINAPI",92524,"MONTAGEM E DESMONTAGEM DE FÔRMA DE LAJE MACIÇA, PÉ-DIREITO DUPLO, EM CHAPA DE MADEIRA COMPENSADA PLASTIFICADA, 10 UTILIZAÇÕES. AF_09/2020","M2",81.510000000000005,84.4,null,null,5.6599999999999998E-2,5.4600000000000003E-2]
["SINAPI 103761","SINAPI",103761,"MONTAGEM E DESMONTAGEM DE FÔRMA DE LAJE MACIÇA, PÉ-DIREITO SIMPLES, EM CHAPA DE MADEIRA COMPENSADA RESINADA E CIMBRAMENTO DE MADEIRA, 4 UTILIZAÇÕES. AF_03/2022","M2",86.27,89.76,null,null,0,0]
["SINAPI 92490","SINAPI",92490,"MONTAGEM E DESMONTAGEM DE FÔRMA DE LAJE NERVURADA COM CUBETA E ASSOALHO, PÉ-DIREITO SIMPLES, EM CHAPA DE MADEIRA COMPENSADA RESINADA, 8 UTILIZAÇÕES. AF_09/2020","M2",77.900000000000006,81.56,null,null,5.9200000000000003E-2,5.6500000000000002E-2]
["SINAPI 92443","SINAPI",92443,"MONTAGEM E DESMONTAGEM DE FÔRMA DE PILARES RETANGULARES E ESTRUTURAS SIMILARES, PÉ-DIREITO SIMPLES, EM CHAPA DE MADEIRA COMPENSADA PLASTIFICADA, 18 UTILIZAÇÕES. AF_09/2020","M2",55.03,57.34,null,null,0,0]
["SINAPI 92469","SINAPI",92469,"MONTAGEM E DESMONTAGEM DE FÔRMA DE VIGA, ESCORAMENTO COM GARFO DE MADEIRA, PÉ-DIREITO DUPLO, EM CHAPA DE MADEIRA PLASTIFICADA, 12 UTILIZAÇÕES. AF_09/2020","M2",141.63999999999999,147.06,null,null,0,0]
["SINAPI 92446","SINAPI",92446,"MONTAGEM E DESMONTAGEM DE FÔRMA DE VIGA, ESCORAMENTO COM PONTALETE DE MADEIRA, PÉ-DIREITO SIMPLES, EM MADEIRA SERRADA, 1 UTILIZAÇÃO. AF_09/2020","M2",346.39,358.85,null,null,0,0]
["SINAPI 92452","SINAPI",92452,"MONTAGEM E DESMONTAGEM DE FÔRMA DE VIGA, ESCORAMENTO METÁLICO, PÉ-DIREITO SIMPLES, EM CHAPA DE MADEIRA RESINADA, 2 UTILIZAÇÕES. AF_09/2020","M2",194.31,202.6,null,null,0,0]
["SINAPI 92743","SINAPI",92743,"MURO DE GABIÃO, ENCHIMENTO COM PEDRA DE MÃO TIPO RACHÃO, DE GRAVIDADE, COM GAIOLAS DE COMPRIMENTO IGUAL A 2 M, PARA MUROS COM ALTURA MENOR OU IGUAL A 4 M - FORNECIMENTO E EXECUÇÃO. AF_03/2024","M3",708.84,726.05,null,null,0,0]
["SINAPI 104509","SINAPI",104509,"ADUELA/ GALERIA ABERTA PRE-MOLDADA DE CONCRETO ARMADO, SECAO QUADRANGULAR INTERNA DE 2,50 X 2,50 M (L X A), MISULA DE 20 X 20 CM, C = 1,00 M, ESPESSURA MIN = 25 CM, TB-45 E FCK DO CONCRETO = 30 MPA FORNECIMENTO E ASSENTAMENTO. AF_01/2023","M",0,0]
["SINAPI 104502","SINAPI",104502,"ADUELA/ GALERIA ABERTA PRE-MOLDADA DE CONCRETO ARMADO, SECAO RETANGULAR INTERNA DE 2,50 X 1,50 M (L X A), MISULA DE 20 X 20 CM, C = 1,00 M, ESPESSURA MIN = 15 CM, TB-45 E FCK DO CONCRETO = 30 MPA FORNECIMENTO E ASSENTAMENTO. AF_01/2023","M",0,0]
["SINAPI 104631","SINAPI",104631,"APLICAÇÃO MANUAL DE GESSO DESEMPENADO (SEM TALISCAS) EM TETO DE AMBIENTES COM PAREDES EM PÉ DIREITO DUPLO E ÁREA ENTRE 5M² E 10M², ESPESSURA DE 1,0CM. AF_03/2023","M2",45.95,48.63,null,null,0,0]
["SINAPI 87411","SINAPI",87411,"APLICAÇÃO MANUAL DE GESSO DESEMPENADO (SEM TALISCAS) EM TETO DE AMBIENTES DE ÁREA MAIOR QUE 10M², ESPESSURA DE 0,5CM. AF_03/2023","M2",18.23,19.09,null,null,0,0]
["SINAPI 90282","SINAPI",90282,"GRAUTE FGK=15 MPA; TRAÇO 1:2,2:2,5:0,3 (EM MASSA SECA DE CIMENTO/ AREIA GROSSA/ BRITA 0/ ADITIVO) - PREPARO MECÂNICO COM BETONEIRA 400 L. AF_09/2021","M3",484.07,492.45,null,null,0,0]
[{"$f":"CONCATENATE($B10312,\" \",$C10312)","v":"SINAPI 99839"},"SINAPI",99839,"GUARDA-CORPO DE AÇO GALVANIZADO DE 1,10M DE ALTURA, MONTANTES TUBULARES DE 1.1/2 ESPAÇADOS DE 1,20M, TRAVESSA SUPERIOR DE 2, GRADIL FORMADO POR BARRAS CHATAS EM FERRO DE 32X4,8MM, FIXADO COM CHUMBADOR MECÂNICO. AF_04/2019_PS","M",550.75,578.01,null,null,0.2235,0.21299999999999999]
["SINAPI 99845","SINAPI",99845,"GUARDA-CORPO DE AÇO GALVANIZADO DE 1,10M, MONTANTES TUBULARES DE 100X50MM ESPAÇADOS DE 1,20M, TRAVESSA SUPERIOR DE 3\", GRADIL EM CANTONEIRA 51X51X4,8 MM E BARRAS CHATAS NA VERTICAL DE 32X4,8 MM, FIXADO COM ADESIVO ESTRUTURAL EPOXI. AF_04/2019","M",0,0]
["SINAPI 94276","SINAPI",94276,"ASSENTAMENTO DE GUIA (MEIO-FIO) EM TRECHO CURVO, CONFECCIONADA EM CONCRETO PRÉ-FABRICADO, DIMENSÕES 100X15X13X20 CM (COMPRIMENTO X BASE INFERIOR X BASE SUPERIOR X ALTURA). AF_01/2024","M",48.47,49.85,null,null,0,0]
["SINAPI 94263","SINAPI",94263,"GUIA (MEIO-FIO) CONCRETO, MOLDADA IN LOCO EM TRECHO RETO COM EXTRUSORA, 13 CM BASE X 22 CM ALTURA. AF_01/2024","M",36.770000000000003,38.42,null,null,1.3899999999999999E-2,1.3299999999999999E-2]
["SINAPI 97603","SINAPI",97603,"CÂMERA DE MONITORAMENTO COM ATÉ 25 METROS DE ALCANCE TIPO BULLET - FORNECIMENTO E INSTALAÇÃO. AF_09/2024","UN",0,0]
["SINAPI 100913","SINAPI",100913,"LUMINÁRIA TIPO CALHA, DE EMBUTIR, COM 1 LÂMPADA TUBULAR LED DE 18 W, SEM REATOR - FORNECIMENTO E INSTALAÇÃO. AF_09/2024","UN",0,0]
["SINAPI 103783","SINAPI",103783,"LUMINÁRIA TIPO PLAFON QUADRADA, DE SOBREPOR, COM LED DE 12 W - FORNECIMENTO E INSTALAÇÃO. AF_09/2024","UN",0,0]
["SINAPI 97610","SINAPI",97610,"LÂMPADA COMPACTA DE LED 10 W, BASE E27 - FORNECIMENTO E INSTALAÇÃO. AF_09/2024","UN",16.489999999999998,17.079999999999998,null,null,0,0]
["SINAPI 98547","SINAPI",98547,"IMPERMEABILIZAÇÃO DE SUPERFÍCIE COM MANTA ASFÁLTICA, DUAS CAMADAS, INCLUSIVE APLICAÇÃO DE PRIMER ASFÁLTICO, E=3MM E E=4MM. AF_09/2023","M2",234.62,239.68,null,null,0,0]
["SINAPI 98573","SINAPI",98573,"PROTEÇÃO MECÂNICA DE SUPERFÍCIE VERTICAL COM CONCRETO 15 MPA, E=5CM. AF_09/2023","M2",73.87,76.84,null,null,0,0]
["SINAPI 91934","SINAPI",91934,"CABO DE COBRE FLEXÍVEL ISOLADO, 16 MM², ANTI-CHAMA 450/750 V, PARA CIRCUITOS TERMINAIS - FORNECIMENTO E INSTALAÇÃO. AF_03/2023","M",26.39,26.99,null,null,0,0]
["SINAPI 92870","SINAPI",92870,"CAIXA RETANGULAR 4\" X 4\" ALTA (2,00 M DO PISO), METÁLICA, INSTALADA EM PAREDE - FORNECIMENTO E INSTALAÇÃO. AF_03/2023","UN",39.56,42.56,null,null,7.4099999999999999E-2,6.88E-2]
["SINAPI 91907","SINAPI",91907,"CURVA 180 GRAUS PARA ELETRODUTO, PVC, ROSCÁVEL, DN 32 MM (1\"), PARA CIRCUITOS TERMINAIS, INSTALADA EM LAJE - FORNECIMENTO E INSTALAÇÃO. AF_03/2023","UN",23.05,24.07,null,null,0,0]
["SINAPI 91910","SINAPI",91910,"CURVA 180 GRAUS PARA ELETRODUTO, PVC, ROSCÁVEL, DN 40 MM (1 1/4\"), PARA CIRCUITOS TERMINAIS, INSTALADA EM LAJE - FORNECIMENTO E INSTALAÇÃO. AF_03/2023","UN",26.68,27.91,null,null,0,0]
["SINAPI 91983","SINAPI",91983,"DIMMER ROTATIVO (1 MÓDULO), 220V/600W, INCLUINDO SUPORTE E PLACA - FORNECIMENTO E INSTALAÇÃO. AF_03/2023","UN",109.54,111.42,null,null,0,0]
["SINAPI 91834","SINAPI",91834,"ELETRODUTO FLEXÍVEL CORRUGADO, PVC, DN 25 MM (3/4\"), PARA CIRCUITOS TERMINAIS, INSTALADO EM FORRO - FORNECIMENTO E INSTALAÇÃO. AF_03/2023","M",22.22,23.42,null,null,0,0]
["SINAPI 91866","SINAPI",91866,"ELETRODUTO RÍGIDO ROSCÁVEL, PVC, DN 20 MM (1/2\"), PARA CIRCUITOS TERMINAIS, INSTALADO EM LAJE - FORNECIMENTO E INSTALAÇÃO. AF_03/2023","M",10.91,11.32,null,null,0,0]
["SINAPI 91960","SINAPI",91960,"INTERRUPTOR PARALELO (2 MÓDULOS), 10A/250V, SEM SUPORTE E SEM PLACA - FORNECIMENTO E INSTALAÇÃO. AF_03/2023","UN",55.21,58.2,null,null,0,0]
["SINAPI 91953","SINAPI",91953,"INTERRUPTOR SIMPLES (1 MÓDULO), 10A/250V, INCLUINDO SUPORTE E PLACA - FORNECIMENTO E INSTALAÇÃO. AF_03/2023","UN",34.770000000000003,36.65,null,null,0,0]
["SINAPI 92026","SINAPI",92026,"INTERRUPTOR SIMPLES (2 MÓDULOS) COM 1 TOMADA DE EMBUTIR 2P+T 10 A, SEM SUPORTE E SEM PLACA - FORNECIMENTO E INSTALAÇÃO. AF_03/2023","UN",64.44,67.87,null,null,0,0]
["SINAPI 91878","SINAPI",91878,"LUVA PARA ELETRODUTO, PVC, ROSCÁVEL, DN 20 MM (1/2\"), PARA CIRCUITOS TERMINAIS, INSTALADA EM LAJE - FORNECIMENTO E INSTALAÇÃO. AF_03/2023","UN",7.18,7.66,null,null,0,0]
["SINAPI 91951","SINAPI",91951,"SUPORTE PARAFUSADO COM PLACA DE ENCAIXE 4\" X 4\" BAIXO (0,30 M DO PISO) PARA PONTO ELÉTRICO - FORNECIMENTO E INSTALAÇÃO. AF_03/2023","UN",15.73,16.28,null,null,0,0]
["SINAPI 92014","SINAPI",92014,"TOMADA BAIXA DE EMBUTIR (3 MÓDULOS), 2P+T 10 A, SEM SUPORTE E SEM PLACA - FORNECIMENTO E INSTALAÇÃO. AF_03/2023","UN",62.95,66.099999999999994,null,null,0,0]
["SINAPI 92005","SINAPI",92005,"TOMADA MÉDIA DE EMBUTIR (2 MÓDULOS), 2P+T 20 A, INCLUINDO SUPORTE E PLACA - FORNECIMENTO E INSTALAÇÃO. AF_03/2023","UN",70.27,73.930000000000007,null,null,0,0]
["SINAPI 95789","SINAPI",95789,"CONDULETE DE ALUMÍNIO, TIPO LR, PARA ELETRODUTO DE AÇO GALVANIZADO DN 25 MM (1''), APARENTE - FORNECIMENTO E INSTALAÇÃO. AF_10/2022","UN",46.05,48.09,null,null,0,0]
["SINAPI 95798","SINAPI",95798,"CONDULETE DE ALUMÍNIO, TIPO TB, PARA ELETRODUTO DE AÇO GALVANIZADO DN 20 MM (3/4''), APARENTE - FORNECIMENTO E INSTALAÇÃO. AF_10/2022","UN",0,0]
["SINAPI 95812","SINAPI",95812,"CONDULETE DE PVC, TIPO LB, PARA ELETRODUTO DE PVC SOLDÁVEL DN 32 MM (1''), APARENTE - FORNECIMENTO E INSTALAÇÃO. AF_10/2022","UN",38.700000000000003,40.06,null,null,0,0]
["SINAPI 95818","SINAPI",95818,"CONDULETE DE PVC, TIPO X, PARA ELETRODUTO DE PVC SOLDÁVEL DN 32 MM (1''), APARENTE - FORNECIMENTO E INSTALAÇÃO. AF_10/2022","UN",71.349999999999994,74.61,null,null,0,0]
["SINAPI 104406","SINAPI",104406,"ELETRODUTO RIGIDO, EM ACO ZINCADO OU GALVANIZADO, TIPO PESADO, DN=3/4\", APARENTE - FORNECIMENTO E INSTALAÇÃO. AF_10/2022","M",0,0]
["SINAPI 92980","SINAPI",92980,"CABO DE COBRE FLEXÍVEL ISOLADO, 10 MM², ANTI-CHAMA 0,6/1,0 KV, PARA DISTRIBUIÇÃO - FORNECIMENTO E INSTALAÇÃO. AF_10/2020","M",11.15,11.2,null,null,0,0]
["SINAPI 97393","SINAPI",97393,"COTOVELO HORIZONTAL PARA BARRAMENTO BLINDADO, 250A - FORNECIMENTO E INSTALAÇÃO. AF_10/2020","UN",0,0]
["SINAPI 97398","SINAPI",97398,"COTOVELO HORIZONTAL PARA BARRAMENTO BLINDADO, 550A - FORNECIMENTO E INSTALAÇÃO. AF_10/2020","UN",0,0]
["SINAPI 93664","SINAPI",93664,"DISJUNTOR BIPOLAR TIPO DIN, CORRENTE NOMINAL DE 32A - FORNECIMENTO E INSTALAÇÃO. AF_10/2020","UN",76.36,77.31,null,null,0,0]
["SINAPI 101896","SINAPI",101896,"DISJUNTOR TERMOMAGNÉTICO TRIPOLAR, CORRENTE NOMINAL DE 200A - FORNECIMENTO E INSTALAÇÃO. AF_10/2020","UN",764.65,771.56,null,null,0,0]
["SINAPI 97421","SINAPI",97421,"GABARITO PARA BARRAMENTO BLINDADO - FORNECIMENTO E INSTALAÇÃO. AF_10/2020","UN",0,0]
["SINAPI 101882","SINAPI",101882,"QUADRO DE DISTRIBUIÇÃO DE ENERGIA EM CHAPA DE AÇO GALVANIZADO, DE EMBUTIR, COM BARRAMENTO TRIFÁSICO, PARA 30 DISJUNTORES DIN 225A - FORNECIMENTO E INSTALAÇÃO. AF_10/2020","UN",1173.72,1177.49,null,null,0.95409999999999995,0.95109999999999995]
["SINAPI 97362","SINAPI",97362,"QUADRO DE MEDIÇÃO GERAL DE ENERGIA PARA BARRAMENTO BLINDADO COM 4 MEDIDORES - FORNECIMENTO E INSTALAÇÃO. AF_10/2020","UN",1603.5,1607.94,null,null,0.9667,0.96399999999999997]
["SINAPI 101539","SINAPI",101539,"ARMAÇÃO SECUNDÁRIA, COM 2 ESTRIBOS E 2 ISOLADORES - FORNECIMENTO E INSTALAÇÃO. AF_07/2020","UN",71.27,73.67,null,null,8.0299999999999996E-2,7.7600000000000002E-2]
["SINAPI 101503","SINAPI",101503,"ENTRADA DE ENERGIA ELÉTRICA, AÉREA, BIFÁSICA, COM CAIXA DE EMBUTIR, CABO DE 25 MM2 E DISJUNTOR DIN 50A (NÃO INCLUSO O POSTE DE CONCRETO). AF_07/2020_PS","UN",2208.13,2257.17,null,null,2.4400000000000002E-2,2.3800000000000002E-2]
["SINAPI 101512","SINAPI",101512,"ENTRADA DE ENERGIA ELÉTRICA, AÉREA, TRIFÁSICA, COM CAIXA DE EMBUTIR, CABO DE 35 MM2 E DISJUNTOR DIN 50A (NÃO INCLUSO O POSTE DE CONCRETO). AF_07/2020","UN",2611.4299999999998,2665.64,null,null,0.1106,0.10829999999999999]
["SINAPI 101518","SINAPI",101518,"ENTRADA DE ENERGIA ELÉTRICA, SUBTERRÂNEA, MONOFÁSICA, COM CAIXA DE EMBUTIR, CABO DE 16 MM2 E DISJUNTOR DIN 50A (NÃO INCLUSA MURETA DE ALVENARIA). AF_07/2020_PS","UN",1001.13,1022.14,null,null,0,0]
["SINAPI 101515","SINAPI",101515,"ENTRADA DE ENERGIA ELÉTRICA, SUBTERRÂNEA, MONOFÁSICA, COM CAIXA DE SOBREPOR, CABO DE 25 MM2 E DISJUNTOR DIN 50A (NÃO INCLUSA MURETA DE ALVENARIA). AF_07/2020_PS","UN",1048.45,1067.69,null,null,0,0]
["SINAPI 94707","SINAPI",94707,"ADAPTADOR COM FLANGE E ANEL DE VEDAÇÃO, PVC, SOLDÁVEL, DN 60 MM X 2\", INSTALADO EM RESERVAÇÃO PREDIAL DE ÁGUA - FORNECIMENTO E INSTALAÇÃO. AF_04/2024","UN",53.76,54.54,null,null,0,0]
["SINAPI 94658","SINAPI",94658,"ADAPTADOR CURTO COM BOLSA E ROSCA PARA REGISTRO, PVC, SOLDÁVEL, DN 32 MM X 1\", INSTALADO EM RESERVAÇÃO PREDIAL DE ÁGUA - FORNECIMENTO E INSTALAÇÃO. AF_04/2024","UN",5.6,5.86,null,null,0,0]
["SINAPI 105172","SINAPI",105172,"BUCHA DE REDUÇÃO, EM FERRO GALVANIZADO, CONEXÃO ROSQUEADA, DN 80 MM X 50 MM (3\" X 2\"), INSTALADO EM RESERVAÇÃO PREDIAL DE ÁGUA - FORNECIMENTO E INSTALAÇÃO. AF_04/2024","UN",97.01,98.92,null,null,0.75819999999999999,0.74350000000000005]
["SINAPI 94734","SINAPI",94734,"CONECTOR, CPVC, SOLDÁVEL, DN 73 MM X 2 1/2\", INSTALADO EM RESERVAÇÃO PREDIAL DE ÁGUA - FORNECIMENTO E INSTALAÇÃO. AF_04/2024","UN",386.61,387.53,null,null,0,0]
["SINAPI 94483","SINAPI",94483,"CONJUNTO HIDRÁULICO EM AÇO ROSCÁVEL PARA INSTALAÇÃO DE BOMBA, DN SUCÇÃO 32 MM (1 1/4\") E DN RECALQUE 25 MM (1\"), PARA EDIFICAÇÃO COM 4 PAVIMENTOS - FORNECIMENTO E INSTALAÇÃO. AF_04/2024","UN",1443.23,1488.29,null,null,0.52890000000000004,0.51290000000000002]
["SINAPI 94616","SINAPI",94616,"COTOVELO EM COBRE, DN 66 MM, 90 GRAUS, SEM ANEL DE SOLDA, INSTALADO EM RESERVAÇÃO PREDIAL DE ÁGUA - FORNECIMENTO E INSTALAÇÃO. AF_04/2024","UN",403,406.28,null,null,0.90329999999999999,0.89600000000000002]
["SINAPI 94751","SINAPI",94751,"CURVA 90 GRAUS, CPVC, SOLDÁVEL, DN 73 MM, INSTALADO EM RESERVAÇÃO PREDIAL DE ÁGUA - FORNECIMENTO E INSTALAÇÃO. AF_04/2024","UN",0,0]
["SINAPI 94673","SINAPI",94673,"CURVA 90 GRAUS, PVC, SOLDÁVEL, DN 25 MM, INSTALADO EM RESERVAÇÃO PREDIAL DE ÁGUA - FORNECIMENTO E INSTALAÇÃO. AF_04/2024","UN",7.45,7.75,null,null,0,0]
["SINAPI 94633","SINAPI",94633,"FLANGE CURTA EM COBRE, DN 79 MM X 3\", INSTALADO EM RESERVAÇÃO PREDIAL DE ÁGUA - FORNECIMENTO E INSTALAÇÃO. AF_04/2024","UN",0,0]
["SINAPI 94744","SINAPI",94744,"JOELHO 90 GRAUS, CPVC, SOLDÁVEL, DN 35 MM, INSTALADO EM RESERVAÇÃO PREDIAL DE ÁGUA - FORNECIMENTO E INSTALAÇÃO. AF_04/2024","UN",27.62,28.05,null,null,0,0]
["SINAPI 94676","SINAPI",94676,"JOELHO 90 GRAUS, PVC, SOLDÁVEL, DN 40 MM INSTALADO EM RESERVAÇÃO PREDIAL DE ÁGUA - FORNECIMENTO E INSTALAÇÃO. AF_04/2024","UN",13.61,14.12,null,null,0,0]
["SINAPI 105152","SINAPI",105152,"JOELHO PPR 45 GRAUS, SOLDÁVEL, DN 50 MM, INSTALADO EM RESERVAÇÃO PREDIAL DE ÁGUA - FORNECIMENTO E INSTALAÇÃO. AF_04/2024","UN",40.340000000000003,41.34,null,null,0,0]
[{"$f":"CONCATENATE($B11080,\" \",$C11080)","v":"SINAPI 105145"},"SINAPI",105145,"LUVA DE REDUÇÃO, SOLDÁVEL, PVC, DN 50 X 25 MM, INSTALADO EM RESERVAÇÃO PREDIAL DE ÁGUA - FORNECIMENTO E INSTALAÇÃO. AF_04/2024","UN",11.89,12.22,null,null,0,0]
["SINAPI 94731","SINAPI",94731,"LUVA, CPVC, SOLDÁVEL, DN 42 MM, INSTALADO EM RESERVAÇÃO PREDIAL DE ÁGUA - FORNECIMENTO E INSTALAÇÃO. AF_04/2024","UN",27.69,28.06,null,null,0,0]
["SINAPI 94669","SINAPI",94669,"LUVA, PVC, SOLDÁVEL, DN 85 MM, INSTALADO EM RESERVAÇÃO PREDIAL DE ÁGUA - FORNECIMENTO E INSTALAÇÃO. AF_04/2024","UN",62.4,63.6,null,null,0,0]
["SINAPI 94470","SINAPI",94470,"NIPLE, EM FERRO GALVANIZADO, CONEXÃO ROSQUEADA, DN 80 MM (3\"), INSTALADO EM RESERVAÇÃO PREDIAL DE ÁGUA - FORNECIMENTO E INSTALAÇÃO. AF_04/2024","UN",124.93,127.15,null,null,0.78200000000000003,0.76839999999999997]
["SINAPI 94761","SINAPI",94761,"TE, CPVC, SOLDÁVEL, DN 73 MM, INSTALADO EM RESERVAÇÃO PREDIAL DE ÁGUA - FORNECIMENTO E INSTALAÇÃO. AF_04/2024","UN",232.98,234.79,null,null,0,0]
["SINAPI 96726","SINAPI",96726,"TUBO, PPR, DN 110 MM, CLASSE PN 12, INSTALADO EM RESERVAÇÃO PREDIAL DE ÁGUA - FORNECIMENTO E INSTALAÇÃO. AF_04/2024","M",201.09,203.64,null,null,0,0]
["SINAPI 96733","SINAPI",96733,"TUBO, PPR, DN 75 MM, CLASSE PN 25, INSTALADO EM RESERVAÇÃO PREDIAL DE ÁGUA - FORNECIMENTO E INSTALAÇÃO. AF_04/2024","M",164.4,166.08,null,null,0,0]
["SINAPI 94702","SINAPI",94702,"TÊ DE REDUÇÃO, PVC, SOLDÁVEL, DN 110 MM X 60 MM, INSTALADO EM RESERVAÇÃO PREDIAL DE ÁGUA - FORNECIMENTO E INSTALAÇÃO. AF_04/2024","UN",179.75,182.76,null,null,0,0]
["SINAPI 94696","SINAPI",94696,"TÊ, PVC, SOLDÁVEL, DN 60 MM INSTALADO EM RESERVAÇÃO PREDIAL DE ÁGUA - FORNECIMENTO E INSTALAÇÃO. AF_04/2024","UN",50.09,51.38,null,null,0,0]
["SINAPI 94697","SINAPI",94697,"TÊ, PVC, SOLDÁVEL, DN 75 MM INSTALADO EM RESERVAÇÃO PREDIAL DE ÁGUA - FORNECIMENTO E INSTALAÇÃO. AF_04/2024","UN",84.9,86.8,null,null,0,0]
["SINAPI 96828","SINAPI",96828,"CONEXÃO FIXA, ROSCA FÊMEA, PARA INSTALAÇÕES EM PEX ÁGUA, DN 20MM X 3/4\", CONEXÃO POR CRIMPAGEM - FORNECIMENTO E INSTALAÇÃO. AF_02/2023","UN",25.75,26.7,null,null,0.56969999999999998,0.5494]
["SINAPI 96878","SINAPI",96878,"DISTRIBUIDOR 2 SAÍDAS, PARA INSTALAÇÕES EM PEX ÁGUA, ENTRADA DE 32 MM X 2 SAÍDAS DE 25 MM, CONEXÃO POR CRIMPAGEM - FORNECIMENTO E INSTALAÇÃO. AF_02/2023","UN",211.01,213.42,null,null,0.86470000000000002,0.85499999999999998]
["SINAPI 96846","SINAPI",96846,"JOELHO 90 GRAUS, ROSCA FÊMEA TERMINAL, METÁLICO, PARA INSTALAÇÕES EM PEX ÁGUA, DN 25 MM X 3/4\", CONEXÃO POR ANEL DESLIZANTE - FORNECIMENTO E INSTALAÇÃO. AF_02/2023","UN",40.869999999999997,42.58,null,null,0.50870000000000004,0.48830000000000001]
["SINAPI 96839","SINAPI",96839,"JOELHO, ROSCA FÊMEA, COM BASE FIXA, METÁLICO, PARA INSTALAÇÕES EM PEX ÁGUA, DN 16MM X 1/2\", CONEXÃO POR ANEL DESLIZANTE - FORNECIMENTO E INSTALAÇÃO. AF_02/2023","UN",28.65,29.99,null,null,0.44890000000000002,0.42880000000000001]
["SINAPI 96829","SINAPI",96829,"LUVA DE REDUÇÃO PARA INSTALAÇÕES EM PEX ÁGUA, DN 20 X 16 MM, CONEXÃO POR CRIMPAGEM - FORNECIMENTO E INSTALAÇÃO. AF_02/2023","UN",19.77,20.28,null,null,0.69750000000000001,0.68]
["SINAPI 104579","SINAPI",104579,"LUVA DE REDUÇÃO, PARA INSTALAÇÕES EM PEX ÁGUA, DN 32 X 25 MM, COM ANEL DESLIZANTE - FORNECIMENTO E INSTALAÇÃO. AF_02/2023","UN",32.94,34,null,null,0.62390000000000001,0.60440000000000005]
["SINAPI 104543","SINAPI",104543,"TÊ DE REDUÇÃO, PARA INSTALAÇÕES EM PEX ÁGUA, DN 20 X 16 X 20 MM, COM ANEL DESLIZANTE - FORNECIMENTO E INSTALAÇÃO. AF_02/2023","UN",0,0]
["SINAPI 104557","SINAPI",104557,"TÊ ROSCA MACHO, PARA INSTALAÇÕES EM PEX ÁGUA, DN 20 MM X 3/4\", COM ANEL DESLIZANTE - FORNECIMENTO E INSTALAÇÃO. AF_02/2023","UN",0,0]
["SINAPI 96822","SINAPI",96822,"UNIÃO DE REDUÇÃO, METÁLICA, PARA INSTALAÇÕES EM PEX ÁGUA, DN 32 X 25 MM, CONEXÃO POR ANEL DESLIZANTE - FORNECIMENTO E INSTALAÇÃO. AF_02/2023","UN",32.94,34,null,null,0.62390000000000001,0.60440000000000005]
["SINAPI 96657","SINAPI",96657,"CONECTOR MACHO, PPR, 25 X 1/2, CLASSE PN 25, INSTALADO EM RAMAL DE DISTRIBUIÇÃO DE ÁGUA FORNECIMENTO E INSTALAÇÃO. AF_08/2022","UN",29.08,29.5,null,null,0,0]
["SINAPI 96655","SINAPI",96655,"JOELHO 45 GRAUS, PPR, DN 40 MM, CLASSE PN 25, INSTALADO EM RAMAL DE DISTRIBUIÇÃO DE ÁGUA - FORNECIMENTO E INSTALAÇÃO. AF_08/2022","UN",25.94,26.64,null,null,0,0]
["SINAPI 96637","SINAPI",96637,"JOELHO 90 GRAUS, PPR, DN 25 MM, CLASSE PN 25, INSTALADO EM RAMAL OU SUB-RAMAL DE ÁGUA FORNECIMENTO E INSTALAÇÃO. AF_08/2022","UN",19.059999999999999,20.399999999999999,null,null,0,0]
["SINAPI 96659","SINAPI",96659,"LUVA, PPR, DN 32 MM, CLASSE PN 25, INSTALADO EM RAMAL DE DISTRIBUIÇÃO DE ÁGUA FORNECIMENTO E INSTALAÇÃO. AF_08/2022","UN",10.15,10.59,null,null,0,0]
["SINAPI 96676","SINAPI",96676,"TUBO, PPR, DN 25, CLASSE PN 25, INSTALADO EM PRUMADA DE ÁGUA FORNECIMENTO E INSTALAÇÃO. AF_08/2022","M",27.56,28.24,null,null,0,0]
["SINAPI 104192","SINAPI",104192,"TÊ MISTURADOR, PPR, F M M, DN 25 X 25 MM, INSTALADO EM RAMAL OU SUB-RAMAL DE ÁGUA - FORNECIMENTO E INSTALAÇÃO. AF_08/2022","UN",35.229999999999997,36.5,null,null,0,0]
["SINAPI 104329","SINAPI",104329,"CAIXA SIFONADA, COM GRELHA REDONDA, PVC, DN 150 X 150 X 50 MM, JUNTA SOLDÁVEL, FORNECIDA E INSTALADA EM RAMAL DE DESCARGA OU EM RAMAL DE ESGOTO SANITÁRIO. AF_08/2022","UN",83.36,85.53,null,null,0,0]
["SINAPI 89710","SINAPI",89710,"RALO SECO, PVC, DN 100 X 40 MM, JUNTA SOLDÁVEL, FORNECIDO E INSTALADO EM RAMAL DE DESCARGA OU EM RAMAL DE ESGOTO SANITÁRIO. AF_08/2022","UN",20.14,20.98,null,null,0,0]
["SINAPI 89855","SINAPI",89855,"JOELHO 45 GRAUS, PVC, SERIE NORMAL, ESGOTO PREDIAL, DN 150 MM, JUNTA ELÁSTICA, FORNECIDO E INSTALADO EM SUBCOLETOR AÉREO DE ESGOTO SANITÁRIO. AF_08/2022","UN",110.71,112.55,null,null,0,0]
["SINAPI 89744","SINAPI",89744,"JOELHO 90 GRAUS, PVC, SERIE NORMAL, ESGOTO PREDIAL, DN 100 MM, JUNTA ELÁSTICA, FORNECIDO E INSTALADO EM RAMAL DE DESCARGA OU RAMAL DE ESGOTO SANITÁRIO. AF_08/2022","UN",29.02,30.01,null,null,0,0]
["SINAPI 89785","SINAPI",89785,"JUNÇÃO SIMPLES, PVC, SERIE NORMAL, ESGOTO PREDIAL, DN 50 X 50 MM, JUNTA ELÁSTICA, FORNECIDO E INSTALADO EM RAMAL DE DESCARGA OU RAMAL DE ESGOTO SANITÁRIO. AF_08/2022","UN",27.88,28.83,null,null,0,0]
["SINAPI 95693","SINAPI",95693,"LUVA SIMPLES, PVC, SÉRIE NORMAL, ESGOTO PREDIAL, DN 150 MM, JUNTA ELÁSTICA, FORNECIDO E INSTALADO EM SUBCOLETOR AÉREO DE ESGOTO SANITÁRIO. AF_08/2022","UN",52.63,53.87,null,null,0,0]
["SINAPI 89860","SINAPI",89860,"TE, PVC, SERIE NORMAL, ESGOTO PREDIAL, DN 100 X 100 MM, JUNTA ELÁSTICA, FORNECIDO E INSTALADO EM SUBCOLETOR AÉREO DE ESGOTO SANITÁRIO. AF_08/2022","UN",51.86,53.77,null,null,0,0]
["SINAPI 89848","SINAPI",89848,"TUBO PVC, SERIE NORMAL, ESGOTO PREDIAL, DN 100 MM, FORNECIDO E INSTALADO EM SUBCOLETOR AÉREO DE ESGOTO SANITÁRIO. AF_08/2022","M",29.72,30.96,null,null,0,0]
["SINAPI 89436","SINAPI",89436,"ADAPTADOR CURTO COM BOLSA E ROSCA PARA REGISTRO, PVC, SOLDÁVEL, DN 32MM X 1, INSTALADO EM RAMAL DE DISTRIBUIÇÃO DE ÁGUA - FORNECIMENTO E INSTALAÇÃO. AF_06/2022","UN",9.15,9.66,null,null,0,0]
["SINAPI 103964","SINAPI",103964,"BUCHA DE REDUÇÃO, LONGA, PVC, SOLDÁVEL, DN 40 X 25 MM, INSTALADO EM PRUMADA DE ÁGUA - FORNECIMENTO E INSTALAÇÃO. AF_06/2022","UN",8.5299999999999994,8.83,null,null,0,0]
["SINAPI 89365","SINAPI",89365,"CURVA 45 GRAUS, PVC, SOLDÁVEL, DN 25MM, INSTALADO EM RAMAL OU SUB-RAMAL DE ÁGUA - FORNECIMENTO E INSTALAÇÃO. AF_06/2022","UN",12.74,13.52,null,null,0,0]
["SINAPI 103983","SINAPI",103983,"CURVA 45 GRAUS, PVC, SOLDÁVEL, DN 40MM, INSTALADO EM RAMAL DE DISTRIBUIÇÃO DE ÁGUA - FORNECIMENTO E INSTALAÇÃO. AF_06/2022","UN",18.79,19.78,null,null,0,0]
["SINAPI 89503","SINAPI",89503,"CURVA 90 GRAUS, PVC, SOLDÁVEL, DN 50MM, INSTALADO EM PRUMADA DE ÁGUA - FORNECIMENTO E INSTALAÇÃO. AF_06/2022","UN",22.88,23.53,null,null,0,0]
["SINAPI 89485","SINAPI",89485,"JOELHO 45 GRAUS, PVC, SOLDÁVEL, DN 25MM, INSTALADO EM PRUMADA DE ÁGUA - FORNECIMENTO E INSTALAÇÃO. AF_06/2022","UN",6.87,7.23,null,null,0,0]
["SINAPI 89362","SINAPI",89362,"JOELHO 90 GRAUS, PVC, SOLDÁVEL, DN 25MM, INSTALADO EM RAMAL OU SUB-RAMAL DE ÁGUA - FORNECIMENTO E INSTALAÇÃO. AF_06/2022","UN",11.14,11.92,null,null,0,0]
["SINAPI 89505","SINAPI",89505,"JOELHO 90 GRAUS, PVC, SOLDÁVEL, DN 60MM, INSTALADO EM PRUMADA DE ÁGUA - FORNECIMENTO E INSTALAÇÃO. AF_06/2022","UN",40.049999999999997,40.83,null,null,0,0]
["SINAPI 89542","SINAPI",89542,"LUVA DE CORRER, PVC, SOLDÁVEL, DN 32MM, INSTALADO EM PRUMADA DE ÁGUA - FORNECIMENTO E INSTALAÇÃO. AF_06/2022","UN",25.43,25.73,null,null,0,0]
["SINAPI 89577","SINAPI",89577,"LUVA DE CORRER, PVC, SOLDÁVEL, DN 50MM, INSTALADO EM PRUMADA DE ÁGUA - FORNECIMENTO E INSTALAÇÃO. AF_06/2022","UN",34.68,35.119999999999997,null,null,0,0]
["SINAPI 89389","SINAPI",89389,"LUVA SOLDÁVEL E COM ROSCA, PVC, SOLDÁVEL, DN 32MM X 1, INSTALADO EM RAMAL OU SUB-RAMAL DE ÁGUA - FORNECIMENTO E INSTALAÇÃO. AF_06/2022","UN",12.38,12.95,null,null,0,0]
["SINAPI 89611","SINAPI",89611,"LUVA, PVC, SOLDÁVEL, DN 75MM, INSTALADO EM PRUMADA DE ÁGUA - FORNECIMENTO E INSTALAÇÃO. AF_06/2022","UN",31.66,32.28,null,null,0,0]
["SINAPI 104004","SINAPI",104004,"TE, PVC, SOLDÁVEL, DN 50MM, INSTALADO EM RAMAL DE DISTRIBUIÇÃO DE ÁGUA - FORNECIMENTO E INSTALAÇÃO. AF_06/2022","UN",32.229999999999997,33.81,null,null,0,0]
["SINAPI 89357","SINAPI",89357,"TUBO, PVC, SOLDÁVEL, DE 32MM, INSTALADO EM RAMAL OU SUB-RAMAL DE ÁGUA - FORNECIMENTO E INSTALAÇÃO. AF_06/2022","M",36.46,38.79,null,null,0,0]
["SINAPI 90374","SINAPI",90374,"TÊ COM BUCHA DE LATÃO NA BOLSA CENTRAL, PVC, SOLDÁVEL, DN 25MM X 3/4, INSTALADO EM RAMAL OU SUB-RAMAL DE ÁGUA - FORNECIMENTO E INSTALAÇÃO. AF_06/2022","UN",23.28,24.25,null,null,0,0]
["SINAPI 89421","SINAPI",89421,"UNIÃO, PVC, SOLDÁVEL, DN 20MM, INSTALADO EM RAMAL DE DISTRIBUIÇÃO DE ÁGUA - FORNECIMENTO E INSTALAÇÃO. AF_06/2022","UN",11.76,12.17,null,null,0,0]
["SINAPI 89832","SINAPI",89832,"BUCHA DE REDUÇÃO, CPVC, SOLDÁVEL, DN 42MM X 22MM, INSTALADO EM RAMAL DE DISTRIBUIÇÃO DE ÁGUA - FORNECIMENTO E INSTALAÇÃO. AF_06/2022","UN",44.77,45.32,null,null,0,0]
["SINAPI 89721","SINAPI",89721,"CURVA 90 GRAUS, CPVC, SOLDÁVEL, DN 22MM, INSTALADO EM RAMAL DE DISTRIBUIÇÃO DE ÁGUA - FORNECIMENTO E INSTALAÇÃO. AF_06/2022","UN",18.14,18.79,null,null,0,0]
["SINAPI 89787","SINAPI",89787,"JOELHO 45 GRAUS, CPVC, SOLDÁVEL, DN 42MM, INSTALADO EM PRUMADA DE ÁGUA FORNECIMENTO E INSTALAÇÃO. AF_06/2022","UN",39.18,39.75,null,null,0,0]
["SINAPI 89644","SINAPI",89644,"JOELHO DE TRANSIÇÃO, 90 GRAUS, CPVC, SOLDÁVEL, DN 22MM X 1/2\", INSTALADO EM RAMAL OU SUB-RAMAL DE ÁGUA - FORNECIMENTO E INSTALAÇÃO. AF_06/2022","UN",25.9,26.54,null,null,0,0]
["SINAPI 89682","SINAPI",89682,"LUVA DE CORRER, CPVC, SOLDÁVEL, DN 35MM, INSTALADO EM RAMAL OU SUB-RAMAL DE ÁGUA FORNECIMENTO E INSTALAÇÃO. AF_06/2022","UN",34.82,35.479999999999997,null,null,0,0]
["SINAPI 89826","SINAPI",89826,"LUVA DE TRANSIÇÃO, CPVC, SOLDÁVEL, DN42MM X 1.1/2, INSTALADO EM PRUMADA DE ÁGUA FORNECIMENTO E INSTALAÇÃO. AF_06/2022","UN",133.82,134.16,null,null,0,0]
["SINAPI 104020","SINAPI",104020,"TE DE REDUÇÃO, CPVC, SOLDÁVEL, DN 42 X 35 MM, INSTALADO EM PRUMADA DE ÁGUA - FORNECIMENTO E INSTALAÇÃO. AF_06/2022","UN",60.29,60.99,null,null,0,0]
["SINAPI 89636","SINAPI",89636,"TUBO, CPVC, SOLDÁVEL, DN 35MM, INSTALADO EM RAMAL OU SUB-RAMAL DE ÁGUA FORNECIMENTO E INSTALAÇÃO. AF_06/2022","M",76.349999999999994,78.84,null,null,0,0]
["SINAPI 89705","SINAPI",89705,"TÊ, CPVC, SOLDÁVEL, DN28MM, INSTALADO EM RAMAL OU SUB-RAMAL DE ÁGUA FORNECIMENTO E INSTALAÇÃO. AF_06/2022","UN",29.62,30.75,null,null,0,0]
["SINAPI 104178","SINAPI",104178,"CAP, PVC, SERIE R, ÁGUA PLUVIAL, DN 100 MM, JUNTA ELÁSTICA, FORNECIDO E INSTALADO EM RAMAL DE ENCAMINHAMENTO. AF_06/2022","UN",21.49,21.83,null,null,0,0]
["SINAPI 89531","SINAPI",89531,"JOELHO 45 GRAUS, PVC, SERIE R, ÁGUA PLUVIAL, DN 100 MM, JUNTA ELÁSTICA, FORNECIDO E INSTALADO EM RAMAL DE ENCAMINHAMENTO. AF_06/2022","UN",37.840000000000003,38.49,null,null,0,0]
["SINAPI 104167","SINAPI",104167,"JOELHO 90 GRAUS, PVC, SERIE R, ÁGUA PLUVIAL, DN 150 MM, JUNTA ELÁSTICA, FORNECIDO E INSTALADO EM RAMAL DE ENCAMINHAMENTO. AF_06/2022","UN",119.11,120.44,null,null,0,0]
["SINAPI 89563","SINAPI",89563,"JUNÇÃO SIMPLES, PVC, SERIE R, ÁGUA PLUVIAL, DN 50 MM, JUNTA ELÁSTICA, FORNECIDO E INSTALADO EM RAMAL DE ENCAMINHAMENTO. AF_06/2022","UN",33.909999999999997,34.32,null,null,0,0]
["SINAPI 89557","SINAPI",89557,"REDUÇÃO EXCÊNTRICA, PVC, SERIE R, ÁGUA PLUVIAL, DN 100 X 75 MM, JUNTA ELÁSTICA, FORNECIDO E INSTALADO EM RAMAL DE ENCAMINHAMENTO. AF_06/2022","UN",31.2,31.57,null,null,0,0]
["SINAPI 89667","SINAPI",89667,"TÊ DE INSPEÇÃO, PVC, SERIE R, ÁGUA PLUVIAL, DN 75 MM, JUNTA ELÁSTICA, FORNECIDO E INSTALADO EM CONDUTORES VERTICAIS DE ÁGUAS PLUVIAIS. AF_06/2022","UN",42.9,43.49,null,null,0,0]
["SINAPI 102240","SINAPI",102240,"DIVISORIA (N2) - PAINEL/VIDRO - PAINEL MDF/VIDRO 6 MM, LINHA 90 MM - PERFIS DE ALUMÍNIO EXTRUDADO. AF_01/2021","M2",0,0]
["SINAPI 102259","SINAPI",102259,"DIVISÓRIA SANITÁRIA, TIPO CABINE, EM PAINÉIS ESTRUTURAIS TS, INCLUSIVE ESTRUTURA, PORTA E FERRAGENS. AF_01/2021","M2",0,0]
["SINAPI 102255","SINAPI",102255,"TAPA VISTA DE MICTÓRIO EM GRANITO CINZA POLIDO, ESP = 3CM, ASSENTADO COM ARGAMASSA COLANTE AC III-E . AF_01/2021","M2",980.15,999.65,null,null,0,0]
["SINAPI 97548","SINAPI",97548,"CURVA 45 GRAUS, EM AÇO, CONEXÃO SOLDADA, DN 20 (3/4\"), INSTALADO EM RAMAIS E SUB-RAMAIS DE GÁS - FORNECIMENTO E INSTALAÇÃO. AF_10/2020","UN",55.24,57.61,null,null,0.4824,0.46260000000000001]
["SINAPI 97438","SINAPI",97438,"CURVA 90 GRAUS, EM AÇO, CONEXÃO RANHURADA, DN 80 (3\"), INSTALADO EM PRUMADAS - FORNECIMENTO E INSTALAÇÃO. AF_10/2020","UN",125.99,129.59,null,null,0.65610000000000002,0.63790000000000002]
["SINAPI 97490","SINAPI",97490,"CURVA 90 GRAUS, EM AÇO, CONEXÃO SOLDADA, DN 80 (3\"), INSTALADO EM REDE DE ALIMENTAÇÃO PARA HIDRANTE - FORNECIMENTO E INSTALAÇÃO. AF_10/2020","UN",615.14,620.95000000000005,null,null,0.88239999999999996,0.87409999999999999]
["SINAPI 92702","SINAPI",92702,"JOELHO 45 GRAUS, EM FERRO GALVANIZADO, CONEXÃO ROSQUEADA, DN 25 (1\"), INSTALADO EM RAMAIS E SUB-RAMAIS DE GÁS - FORNECIMENTO E INSTALAÇÃO. AF_10/2020","UN",64.459999999999994,68.17,null,null,0.31230000000000002,0.29530000000000001]
["SINAPI 92677","SINAPI",92677,"JOELHO 45 GRAUS, EM FERRO GALVANIZADO, CONEXÃO ROSQUEADA, DN 65 (2 1/2\"), INSTALADO EM REDE DE ALIMENTAÇÃO PARA SPRINKLER - FORNECIMENTO E INSTALAÇÃO. AF_10/2020","UN",149.75,152.83000000000001,null,null,0.75190000000000001,0.73680000000000001]
["SINAPI 92354","SINAPI",92354,"JOELHO 45 GRAUS, EM FERRO GALVANIZADO, DN 80 (3\"), CONEXÃO ROSQUEADA, INSTALADO EM PRUMADAS - FORNECIMENTO E INSTALAÇÃO. AF_10/2020","UN",234.66,240.51,null,null,0.70150000000000001,0.6845]
["SINAPI 97465","SINAPI",97465,"LUVA COM REDUÇÃO, EM AÇO, CONEXÃO SOLDADA, DN 32 X 25 MM (1 1/4\" X 1\"), INSTALADO EM REDE DE ALIMENTAÇÃO PARA HIDRANTE - FORNECIMENTO E INSTALAÇÃO. AF_10/2020","UN",63.12,64.680000000000007,null,null,0.69489999999999996,0.67810000000000004]
["SINAPI 92929","SINAPI",92929,"LUVA DE REDUÇÃO, EM FERRO GALVANIZADO, 1 1/2\" X 1\", CONEXÃO ROSQUEADA, INSTALADO EM REDE DE ALIMENTAÇÃO PARA HIDRANTE - FORNECIMENTO E INSTALAÇÃO. AF_10/2020","UN",63.1,66.099999999999994,null,null,0.43109999999999998,0.41149999999999998]
["SINAPI 92925","SINAPI",92925,"LUVA DE REDUÇÃO, EM FERRO GALVANIZADO, 1 1/4\" X 1\", CONEXÃO ROSQUEADA, INSTALADO EM REDE DE ALIMENTAÇÃO PARA HIDRANTE - FORNECIMENTO E INSTALAÇÃO. AF_10/2020","UN",55.3,58.04,null,null,0.40600000000000003,0.38679999999999998]
["SINAPI 92931","SINAPI",92931,"LUVA DE REDUÇÃO, EM FERRO GALVANIZADO, 2\" X 1 1/2\", CONEXÃO ROSQUEADA, INSTALADO EM REDE DE ALIMENTAÇÃO PARA HIDRANTE - FORNECIMENTO E INSTALAÇÃO. AF_10/2020","UN",83.34,86.65,null,null,0.52239999999999998,0.50249999999999995]
["SINAPI 92953","SINAPI",92953,"LUVA DE REDUÇÃO, EM FERRO GALVANIZADO, 3/4\" X 1/2\", CONEXÃO ROSQUEADA, INSTALADO EM RAMAIS E SUB-RAMAIS DE GÁS - FORNECIMENTO E INSTALAÇÃO. AF_10/2020","UN",29.04,30.57,null,null,0.36809999999999998,0.34970000000000001]
["SINAPI 97464","SINAPI",97464,"LUVA, EM AÇO, CONEXÃO SOLDADA, DN 32 (1 1/4\"), INSTALADO EM REDE DE ALIMENTAÇÃO PARA HIDRANTE - FORNECIMENTO E INSTALAÇÃO. AF_10/2020","UN",53.48,55.04,null,null,0.63990000000000002,0.62170000000000003]
["SINAPI 92668","SINAPI",92668,"LUVA, EM FERRO GALVANIZADO, CONEXÃO ROSQUEADA, DN 80 (3\"), INSTALADO EM REDE DE ALIMENTAÇÃO PARA SPRINKLER - FORNECIMENTO E INSTALAÇÃO. AF_10/2020","UN",135.30000000000001,137.54,null,null,0.79759999999999998,0.78459999999999996]
["SINAPI 92696","SINAPI",92696,"NIPLE, EM FERRO GALVANIZADO, CONEXÃO ROSQUEADA, DN 25 (1\"), INSTALADO EM RAMAIS E SUB-RAMAIS DE GÁS - FORNECIMENTO E INSTALAÇÃO. AF_10/2020","UN",42.53,45,null,null,0.30330000000000001,0.28670000000000001]
["SINAPI 92665","SINAPI",92665,"NIPLE, EM FERRO GALVANIZADO, CONEXÃO ROSQUEADA, DN 65 (2 1/2\"), INSTALADO EM REDE DE ALIMENTAÇÃO PARA SPRINKLER - FORNECIMENTO E INSTALAÇÃO. AF_10/2020","UN",85.07,87.11,null,null,0.70599999999999996,0.6895]
["SINAPI 92688","SINAPI",92688,"TUBO DE AÇO GALVANIZADO COM COSTURA, CLASSE MÉDIA, CONEXÃO ROSQUEADA, DN 20 (3/4\"), INSTALADO EM RAMAIS E SUB-RAMAIS DE GÁS - FORNECIMENTO E INSTALAÇÃO. AF_10/2020","M",42.69,44.22,null,null,0.57769999999999999,0.55769999999999997]
["SINAPI 92342","SINAPI",92342,"TUBO DE AÇO GALVANIZADO COM COSTURA, CLASSE MÉDIA, DN 65 (2 1/2\"), CONEXÃO ROSQUEADA, INSTALADO EM PRUMADAS - FORNECIMENTO E INSTALAÇÃO. AF_10/2020","M",127.53,130.19999999999999,null,null,0.75239999999999996,0.7369]
["SINAPI 97439","SINAPI",97439,"TÊ, EM AÇO, CONEXÃO RANHURADA, DN 50 (2\"), INSTALADO EM PRUMADAS - FORNECIMENTO E INSTALAÇÃO. AF_10/2020","UN",137.41999999999999,141.09,null,null,0.67959999999999998,0.66190000000000004]
["SINAPI 97493","SINAPI",97493,"TÊ, EM AÇO, CONEXÃO SOLDADA, DN 40 (1 1/2\"), INSTALADO EM REDE DE ALIMENTAÇÃO PARA HIDRANTE - FORNECIMENTO E INSTALAÇÃO. AF_10/2020","UN",172.1,175.99,null,null,0.72350000000000003,0.70750000000000002]
["SINAPI 101926","SINAPI",101926,"TÊ, EM FERRO GALVANIZADO, 4\", CONEXÃO ROSQUEADA, INSTALADO EM PRUMADAS - FORNECIMENTO E INSTALAÇÃO. AF_10/2020","UN",451.03,459.65,null,null,0.76990000000000003,0.75539999999999996]
["SINAPI 92644","SINAPI",92644,"TÊ, EM FERRO GALVANIZADO, CONEXÃO ROSQUEADA, DN 80 (3\"), INSTALADO EM REDE DE ALIMENTAÇÃO PARA HIDRANTE - FORNECIMENTO E INSTALAÇÃO. AF_10/2020","UN",290.45,298.95999999999998,null,null,0.64839999999999998,0.63]
["SINAPI 92894","SINAPI",92894,"UNIÃO, EM FERRO GALVANIZADO, DN 40 (1 1/2\"), CONEXÃO ROSQUEADA, INSTALADO EM REDE DE ALIMENTAÇÃO PARA HIDRANTE - FORNECIMENTO E INSTALAÇÃO. AF_10/2020","UN",113.22,116.22,null,null,0.68289999999999995,0.6653]
["SINAPI 100835","SINAPI",100835,"JOELHO 90 GRAUS, PARA INSTALAÇÕES EM PEX MULTICAMADA, DN 20 MM, CONEXÃO POR CRIMPAGEM - FORNECIMENTO E INSTALAÇÃO. AF_01/2020","UN",0,0]
["SINAPI 100812","SINAPI",100812,"LUVA DE REDUÇÃO PARA INSTALAÇÕES EM PEX MULTICAMADA, DN 26 X 20 MM, CONEXÃO POR CRIMPAGEM - FORNECIMENTO E INSTALAÇÃO. AF_01/2020","UN",0,0]
["SINAPI 100798","SINAPI",100798,"TUBO, PEX, MULTICAMADA, COM PROTEÇÃO UV, DN 32, INSTALADO EM IMPLANTAÇÃO DE INSTALAÇÕES DE GÁS - FORNECIMENTO E INSTALAÇÃO. AF_01/2020","M",0,0]
["SINAPI 100810","SINAPI",100810,"TUBO, PEX, MULTICAMADA, COM TUBO LUVA, DN 32, INSTALADO EM RAMAL INTERNO DE INSTALAÇÕES DE GÁS - FORNECIMENTO E INSTALAÇÃO. AF_01/2020","M",57.83,60.36,null,null,0.49280000000000002,0.47220000000000001]
["SINAPI 103282","SINAPI",103282,"AR CONDICIONADO JANELA, 7500 BTU/H, CICLO FRIO - FORNECIMENTO E INSTALAÇÃO. AF_11/2021","UN",0,0]
["SINAPI 103267","SINAPI",103267,"AR CONDICIONADO SPLIT ON/OFF, CASSETE (TETO), FRIO 4 VIAS 18000 BTU/H - FORNECIMENTO E INSTALAÇÃO. AF_11/2021_PE","UN",6753.45,6775.08,null,null,7.0000000000000001E-3,6.8999999999999999E-3]
["SINAPI 103264","SINAPI",103264,"AR CONDICIONADO SPLIT ON/OFF, PISO TETO, 48.000 BTU/H, CICLO FRIO - FORNECIMENTO E INSTALAÇÃO. AF_11/2021_PE","UN",10613.5,10645.08,null,null,2.8199999999999999E-2,2.81E-2]
["SINAPI 97327","SINAPI",97327,"TUBO EM COBRE FLEXÍVEL, DN 1/4\", COM ISOLAMENTO, INSTALADO EM RAMAL DE ALIMENTAÇÃO DE AR CONDICIONADO COM CONDENSADORA INDIVIDUAL FORNECIMENTO E INSTALAÇÃO. AF_12/2015","M",27.99,28.27,null,null,0.75170000000000003,0.74429999999999996]
["SINAPI 93085","SINAPI",93085,"BUCHA DE REDUÇÃO EM COBRE, DN 22 MM X 15 MM, SEM ANEL DE SOLDA, PONTA X BOLSA, INSTALADO EM RAMAL DE DISTRIBUIÇÃO DE HIDRÁULICA PREDIAL - FORNECIMENTO E INSTALAÇÃO. AF_04/2022","UN",17.41,18.239999999999998,null,null,0.43190000000000001,0.4123]
["SINAPI 103857","SINAPI",103857,"CONECTOR EM BRONZE/LATÃO, DN 22 MM X 1/2\", SEM ANEL DE SOLDA, BOLSA X ROSCA F, INSTALADO EM RAMAL E SUB-RAMAL DE GÁS MEDICINAL - FORNECIMENTO E INSTALAÇÃO. AF_04/2022","UN",24.24,24.95,null,null,0.64849999999999997,0.63009999999999999]
["SINAPI 93111","SINAPI",93111,"CONECTOR EM BRONZE/LATÃO, DN 22 MM X 3/4\", SEM ANEL DE SOLDA, BOLSA X ROSCA F, INSTALADO EM RAMAL E SUB-RAMAL DE HIDRÁULICA PREDIAL - FORNECIMENTO E INSTALAÇÃO. AF_04/2022","UN",27.57,28.26,null,null,0.70079999999999998,0.68369999999999997]
["SINAPI 93078","SINAPI",93078,"COTOVELO EM BRONZE/LATÃO, DN 22 MM X 3/4\", 90 GRAUS, SEM ANEL DE SOLDA, BOLSA X ROSCA F, INSTALADO EM RAMAL DE DISTRIBUIÇÃO DE HIDRÁULICA PREDIAL - FORNECIMENTO E INSTALAÇÃO. AF_04/2022","UN",34.58,35.31,null,null,0.74780000000000002,0.73240000000000005]
["SINAPI 103881","SINAPI",103881,"COTOVELO EM COBRE, DN 28 MM, 90 GRAUS, SEM ANEL DE SOLDA, INSTALADO EM RAMAL E SUB-RAMAL DE AQUECIMENTO SOLAR - FORNECIMENTO E INSTALAÇÃO. AF_04/2022","UN",43.37,45.06,null,null,0.53749999999999998,0.51729999999999998]
["SINAPI 103855","SINAPI",103855,"CURVA DE TRANSPOSIÇÃO EM BRONZE/LATÃO, DN 22 MM, SEM ANEL DE SOLDA, BOLSA X BOLSA, INSTALADO EM RAMAL E SUB-RAMAL DE GÁS MEDICINAL - FORNECIMENTO E INSTALAÇÃO. AF_04/2022","UN",57.2,58.24,null,null,0.78039999999999998,0.76649999999999996]
["SINAPI 93112","SINAPI",93112,"CURVA DE TRANSPOSIÇÃO EM BRONZE/LATÃO, DN 22 MM, SEM ANEL DE SOLDA, BOLSA X BOLSA, INSTALADO EM RAMAL E SUB-RAMAL DE HIDRÁULICA PREDIAL - FORNECIMENTO E INSTALAÇÃO. AF_04/2022","UN",54.28,55.08,null,null,0.82240000000000002,0.8105]
["SINAPI 93125","SINAPI",93125,"CURVA EM COBRE, DN 54 MM, 45 GRAUS, SEM ANEL DE SOLDA, BOLSA X BOLSA, INSTALADO EM PRUMADA DE HIDRÁULICA PREDIAL - FORNECIMENTO E INSTALAÇÃO. AF_04/2022","UN",143.72999999999999,144.9,null,null,0.90269999999999995,0.89539999999999997]
["SINAPI 103850","SINAPI",103850,"JUNTA DE EXPANSÃO EM COBRE, DN 15 MM, PONTA X PONTA, INSTALADO EM RAMAL E SUB-RAMAL DE GÁS MEDICINAL - FORNECIMENTO E INSTALAÇÃO. AF_04/2022","UN",483.02,483.81,null,null,0.98050000000000004,0.97889999999999999]
["SINAPI 103883","SINAPI",103883,"LUVA EM COBRE, DN 15 MM, SEM ANEL DE SOLDA, INSTALADO EM RAMAL E SUB-RAMAL DE AQUECIMENTO SOLAR - FORNECIMENTO E INSTALAÇÃO. AF_04/2022","UN",13.98,14.82,null,null,0.28179999999999999,0.26590000000000003]
["SINAPI 103884","SINAPI",103884,"LUVA PASSANTE EM COBRE, DN 15 MM, SEM ANEL DE SOLDA, INSTALADO EM RAMAL E SUB-RAMAL DE AQUECIMENTO SOLAR - FORNECIMENTO E INSTALAÇÃO. AF_04/2022","UN",14.01,14.85,null,null,0.28339999999999999,0.26729999999999998]
["SINAPI 103860","SINAPI",103860,"LUVA PASSANTE EM COBRE, DN 28 MM, SEM ANEL DE SOLDA, INSTALADO EM RAMAL E SUB-RAMAL DE GÁS MEDICINAL - FORNECIMENTO E INSTALAÇÃO. AF_04/2022","UN",29.06,30.33,null,null,0.47560000000000002,0.45569999999999999]
["SINAPI 93113","SINAPI",93113,"LUVA PASSANTE EM COBRE, DN 28 MM, SEM ANEL DE SOLDA, INSTALADO EM RAMAL E SUB-RAMAL DE HIDRÁULICA PREDIAL - FORNECIMENTO E INSTALAÇÃO. AF_04/2022","UN",26.27,27.29,null,null,0.52610000000000001,0.50639999999999996]
["SINAPI 92304","SINAPI",92304,"TE EM COBRE, DN 66 MM, SEM ANEL DE SOLDA, INSTALADO EM PRUMADA DE HIDRÁULICA PREDIAL - FORNECIMENTO E INSTALAÇÃO. AF_04/2022","UN",470.57,472.48,null,null,0.95120000000000005,0.94740000000000002]
["SINAPI 97335","SINAPI",97335,"TUBO EM COBRE RÍGIDO, DN 22 MM, CLASSE A, SEM ISOLAMENTO, INSTALADO EM PRUMADA DE GÁS COMBUSTÍVEL - FORNECIMENTO E INSTALAÇÃO. AF_04/2022","M",86.26,86.48,null,null,0.96919999999999995,0.9667]
["SINAPI 97337","SINAPI",97337,"TUBO EM COBRE RÍGIDO, DN 35 MM, CLASSE A, SEM ISOLAMENTO, INSTALADO EM PRUMADA DE GÁS COMBUSTÍVEL - FORNECIMENTO E INSTALAÇÃO. AF_04/2022","M",164.97,165.34,null,null,0.9738,0.97160000000000002]
["SINAPI 103867","SINAPI",103867,"TÊ EM COBRE, DN 28 MM, SEM ANEL DE SOLDA, INSTALADO EM RAMAL E SUB-RAMAL DE GÁS MEDICINAL - FORNECIMENTO E INSTALAÇÃO. AF_04/2022","UN",59.6,62.14,null,null,0.4904,0.47039999999999998]
["SINAPI 98462","SINAPI",98462,"ESTRUTURA DE MADEIRA PROVISÓRIA PARA SUPORTE DE CAIXA DÁGUA ELEVADA DE 3000 LITROS. AF_03/2024","UN",10871.29,11150.88,null,null,0,0]
["SINAPI 98447","SINAPI",98447,"PAREDE DE MADEIRA COMPENSADA PARA CONSTRUÇÃO TEMPORÁRIA EM CHAPA SIMPLES, INTERNA, COM ÁREA LÍQUIDA MAIOR OU IGUAL A 6 M², COM VÃO. AF_03/2024","M2",84.37,87.16,null,null,0,0]
["SINAPI 98460","SINAPI",98460,"PISO PARA CONSTRUÇÃO TEMPORÁRIA EM MADEIRA, SEM REAPROVEITAMENTO. AF_03/2024","M2",64.569999999999993,66.900000000000006,null,null,0,0]
["SINAPI 101950","SINAPI",101950,"LAJE PRÉ-MOLDADA UNIDIRECIONAL, BIAPOIADA, ENCHIMENTO EM CERÂMICA, VIGOTA TRELIÇADA, ALTURA TOTAL DA LAJE (ENCHIMENTO+CAPA) = (20+5). AF_11/2020","M2",0,0]
["SINAPI 96620","SINAPI",96620,"LASTRO DE CONCRETO MAGRO, APLICADO EM PISOS, LAJES SOBRE SOLO OU RADIERS. AF_01/2024","M3",755.07,784.53,null,null,0,0]
["SINAPI 104051","SINAPI",104051,"COTOVELO/JOELHO 90°, POLIPROPILENO, PARA TUBOS EM PEAD, 20 X 20 MM, PARA LIGAÇÃO PREDIAL DE ÁGUA. AF_06/2022","UN",7.07,7.34,null,null,0.48230000000000001,0.46460000000000001]
["SINAPI 104065","SINAPI",104065,"CURVA LONGA, 45 GRAUS, PVC OCRE, JUNTA ELÁSTICA, DN 150 MM, PARA COLETOR PREDIAL DE ESGOTO. AF_06/2022","UN",141.88,142.44999999999999,null,null,0,0]
["SINAPI 104073","SINAPI",104073,"TÊ DE REDUÇÃO, PVC OCRE, JUNTA ELÁSTICA, DN 150 X 100 MM, PARA COLETOR PREDIAL DE ESGOTO. AF_06/2022","UN",0,0]
["SINAPI 99820","SINAPI",99820,"LIMPEZA DE JANELA INTEIRAMENTE DE VIDRO. AF_04/2019","M2",2.31,2.44,null,null,0,0]
["SINAPI 99814","SINAPI",99814,"LIMPEZA DE SUPERFÍCIE COM JATO DE ALTA PRESSÃO. AF_04/2019","M2",2.42,2.6,null,null,0,0]
["SINAPI 101377","SINAPI",101377,"AJUDANTE DE OPERAÇÃO EM GERAL COM ENCARGOS COMPLEMENTARES","MES",4972.29,5354.43,null,null,0,0]
["SINAPI 101383","SINAPI",101383,"AUXILIAR DE AZULEJISTA COM ENCARGOS COMPLEMENTARES","MES",4781.55,5141.05,null,null,0,0]
["SINAPI 93566","SINAPI",93566,"AUXILIAR DE ESCRITORIO COM ENCARGOS COMPLEMENTARES","MES",3863.85,4268.92,null,null,0,0]
["SINAPI 88260","SINAPI",88260,"CALCETEIRO COM ENCARGOS COMPLEMENTARES","H",30.05,32.51,null,null,0,0]
["SINAPI 100291","SINAPI",100291,"CURSO DE CAPACITAÇÃO PARA AJUDANTE DE PINTOR (ENCARGOS COMPLEMENTARES) - HORISTA","H",0.27,0.3,null,null,0,0]
["SINAPI 95420","SINAPI",95420,"CURSO DE CAPACITAÇÃO PARA ARQUITETO PLENO (ENCARGOS COMPLEMENTARES) - MENSALISTA","MES",129.51,144.88,null,null,0,0]
["SINAPI 101297","SINAPI",101297,"CURSO DE CAPACITAÇÃO PARA AUXILIAR DE LABORATORISTA (ENCARGOS COMPLEMENTARES) - MENSALISTA","MES",28.38,31.74,null,null,0,0]
["SINAPI 95323","SINAPI",95323,"CURSO DE CAPACITAÇÃO PARA AUXILIAR TÉCNICO DE ENGENHARIA (ENCARGOS COMPLEMENTARES) - HORISTA","H",0.33,0.37,null,null,0,0]
["SINAPI 95400","SINAPI",95400,"CURSO DE CAPACITAÇÃO PARA DESENHISTA PROJETISTA (ENCARGOS COMPLEMENTARES) - HORISTA","H",0.1,0.11,null,null,0,0]
["SINAPI 101323","SINAPI",101323,"CURSO DE CAPACITAÇÃO PARA IMPERMEABILIZADOR (ENCARGOS COMPLEMENTARES) - MENSALISTA","MES",67.77,75.81,null,null,0,0]
[{"$f":"CONCATENATE($B13000,\" \",$C13000)","v":"SINAPI 95423"},"SINAPI",95423,"CURSO DE CAPACITAÇÃO PARA MESTRE DE OBRAS (ENCARGOS COMPLEMENTARES) - MENSALISTA","MES",166.18,185.9,null,null,0,0]
["SINAPI 101332","SINAPI",101332,"CURSO DE CAPACITAÇÃO PARA MOTORISTA DE CARRO DE PASSEIO (ENCARGOS COMPLEMENTARES) - MENSALISTA","MES",14.84,16.600000000000001,null,null,0,0]
["SINAPI 101342","SINAPI",101342,"CURSO DE CAPACITAÇÃO PARA OPERADOR DE DEMARCADORA DE FAIXAS DE TRAFEGO (ENCARGOS COMPLEMENTARES) - MENSALISTA","MES",25.89,28.97,null,null,0,0]
["SINAPI 101346","SINAPI",101346,"CURSO DE CAPACITAÇÃO PARA OPERADOR DE JATO ABRASIVO OU JATISTA (ENCARGOS COMPLEMENTARES) - MENSALISTA","MES",32.75,36.64,null,null,0,0]
["SINAPI 95367","SINAPI",95367,"CURSO DE CAPACITAÇÃO PARA OPERADOR DE USINA DE ASFALTO, DE SOLOS OU DE CONCRETO (ENCARGOS COMPLEMENTARES) - HORISTA","H",0.25,0.28000000000000003,null,null,0,0]
["SINAPI 95378","SINAPI",95378,"CURSO DE CAPACITAÇÃO PARA SERVENTE (ENCARGOS COMPLEMENTARES) - HORISTA","H",0.36,0.4,null,null,0,0]
["SINAPI 100299","SINAPI",100299,"CURSO DE CAPACITAÇÃO PARA TÉCNICO EM SEGURANÇA DO TRABALHO (ENCARGOS COMPLEMENTARES) - HORISTA","H",0.57999999999999996,0.64,null,null,0,0]
["SINAPI 100288","SINAPI",100288,"CURSO DE CAPACITAÇÃO PARA VIGIA DIURNO (ENCARGOS COMPLEMENTARES) - HORISTA","H",0.09,0.1,null,null,0,0]
["SINAPI 93567","SINAPI",93567,"ENGENHEIRO CIVIL DE OBRA PLENO COM ENCARGOS COMPLEMENTARES","MES",22878.19,25541.759999999998,null,null,0,0]
["SINAPI 100307","SINAPI",100307,"MONTADOR DE ELETROELETRÔNICOS COM ENCARGOS COMPLEMENTARES","H",30.42,32.92,null,null,0,0]
["SINAPI 88282","SINAPI",88282,"MOTORISTA DE CAMINHÃO COM ENCARGOS COMPLEMENTARES","H",33.08,36.049999999999997,null,null,0,0]
["SINAPI 88293","SINAPI",88293,"OPERADOR DE DEMARCADORA DE FAIXAS COM ENCARGOS COMPLEMENTARES","H",31.86,34.67,null,null,0,0]
["SINAPI 88301","SINAPI",88301,"OPERADOR DE PÁ CARREGADEIRA COM ENCARGOS COMPLEMENTARES","H",31.86,34.67,null,null,0,0]
["SINAPI 88303","SINAPI",88303,"OPERADOR DE ROLO COMPACTADOR COM ENCARGOS COMPLEMENTARES","H",27.84,30.18,null,null,0,0]
[{"$f":"CONCATENATE($B13192,\" \",$C13192)","v":"SINAPI 101448"},"SINAPI",101448,"PINTOR PARA TINTA EPÓXI COM ENCARGOS COMPLEMENTARES","MES",6384.13,6893.38,null,null,0,0]
["SINAPI 100533","SINAPI",100533,"TECNICO DE EDIFICACOES COM ENCARGOS COMPLEMENTARES","H",21.75,24.05,null,null,0,0]
["SINAPI 99059","SINAPI",99059,"LOCAÇÃO CONVENCIONAL DE OBRA, UTILIZANDO GABARITO DE TÁBUAS CORRIDAS PONTALETADAS A CADA 2,00M - 2 UTILIZAÇÕES. AF_03/2024","M",73.739999999999995,77.599999999999994,null,null,0,0]
["SINAPI 86899","SINAPI",86899,"BANCADA DE MÁRMORE BRANCO POLIDO, DE 0,50 X 0,60 M, PARA LAVATÓRIO - FORNECIMENTO E INSTALAÇÃO. AF_01/2020","UN",356.77,365.14,null,null,9.4500000000000001E-2,9.2299999999999993E-2]
["SINAPI 100872","SINAPI",100872,"BARRA DE APOIO RETA, EM ALUMINIO, COMPRIMENTO 80 CM, FIXADA NA PAREDE - FORNECIMENTO E INSTALAÇÃO. AF_01/2020","UN",298.62,301.99,null,null,0,0]
["SINAPI 100860","SINAPI",100860,"CHUVEIRO ELÉTRICO COMUM CORPO PLÁSTICO, TIPO DUCHA - FORNECIMENTO E INSTALAÇÃO. AF_01/2020","UN",114.59,116.18,null,null,0,0]
["SINAPI 86903","SINAPI",86903,"LAVATÓRIO LOUÇA BRANCA COM COLUNA, 45 X 55CM OU EQUIVALENTE, PADRÃO MÉDIO - FORNECIMENTO E INSTALAÇÃO. AF_01/2020","UN",408.32,413.94,null,null,0,0]
["SINAPI 100861","SINAPI",100861,"SUPORTE MÃO FRANCESA EM AÇO, ABAS IGUAIS 30 CM, CAPACIDADE MINIMA 60 KG, BRANCO - FORNECIMENTO E INSTALAÇÃO. AF_01/2020","UN",38.26,39.94,null,null,0.44069999999999998,0.42209999999999998]
["SINAPI 86925","SINAPI",86925,"TANQUE DE MÁRMORE SINTÉTICO COM COLUNA, 22L OU EQUIVALENTE, INCLUSO SIFÃO FLEXÍVEL EM PVC, VÁLVULA PLÁSTICA E TORNEIRA DE METAL CROMADO PADRÃO POPULAR - FORNECIMENTO E INSTALAÇÃO. AF_01/2020","UN",604.53,609.55999999999995,null,null,0,0]
["SINAPI 100878","SINAPI",100878,"VASO SANITÁRIO SIFONADO COM CAIXA ACOPLADA, LOUÇA BRANCA - PADRÃO ALTO - FORNECIMENTO E INSTALAÇÃO. AF_01/2020","UN",827.07,832.13,null,null,0,0]
["SINAPI 101658","SINAPI",101658,"LUMINÁRIA DE LED PARA ILUMINAÇÃO PÚBLICA, DE 138 W ATÉ 180 W - FORNECIMENTO E INSTALAÇÃO. AF_02/2025_PS","UN",553.97,555.9,null,null,3.5799999999999998E-2,3.56E-2]
["SINAPI 101655","SINAPI",101655,"LUMINÁRIA DE LED PARA ILUMINAÇÃO PÚBLICA, DE 51 W ATÉ 67 W - FORNECIMENTO E INSTALAÇÃO. AF_02/2025_PS","UN",340.07,342,null,null,5.8299999999999998E-2,5.79E-2]
["SINAPI 104235","SINAPI",104235,"EMBOÇO OU MASSA ÚNICA EM ARGAMASSA INDUSTRIALIZADA, PREPARO MECÂNICA E APLICAÇÃO COM EQUIPAMENTO DE MISTURA E PROJEÇÃO DE 1,5 M3/H DE ARGAMASSA EM PANOS DE FACHADA SEM PRESENÇA DE VÃOS, ESPESSURA DE 25 MM, ACESSO POR ANDAIME. AF_08/2022","M2",71.680000000000007,73.64,null,null,0,0]
["SINAPI 87820","SINAPI",87820,"EMBOÇO OU MASSA ÚNICA EM ARGAMASSA INDUSTRIALIZADA, PREPARO MECÂNICO E APLICAÇÃO COM EQUIPAMENTO DE MISTURA E PROJEÇÃO DE 1,5 M3/H EM SUPERFÍCIES EXTERNAS DA SACADA, ESPESSURA 45 MM, SEM USO DE TELA METÁLICA. AF_08/2022","M2",159.66,166.58,null,null,0,0]
["SINAPI 104222","SINAPI",104222,"EMBOÇO OU MASSA ÚNICA EM ARGAMASSA TRAÇO 1:2:8, PREPARO MANUAL, APLICADA MANUALMENTE EM PANOS DE FACHADA COM PRESENÇA DE VÃOS, ESPESSURA DE 35 MM, ACESSO POR ANDAIME. AF_08/2022","M2",79.02,83.81,null,null,0,0]
["SINAPI 104204","SINAPI",104204,"EMBOÇO OU MASSA ÚNICA EM ARGAMASSA TRAÇO 1:2:8, PREPARO MECÂNICA COM BETONEIRA 400 L, APLICADA COM PROJETOR TIPO CANEQUINHA EM PANOS DE FACHADA COM PRESENÇA DE VÃOS, ESPESSURA DE 35 MM, ACESSO POR BALANCIM MANUAL. AF_08/2022","M2",83.12,87.55,null,null,9.01E-2,8.5599999999999996E-2]
["SINAPI 104212","SINAPI",104212,"EMBOÇO OU MASSA ÚNICA EM ARGAMASSA TRAÇO 1:2:8, PREPARO MECÂNICA COM BETONEIRA 400 L, APLICADA COM PROJETOR TIPO CANEQUINHA EM SUPERFÍCIES EXTERNAS DA SACADA, ESPESSURA DE 35 MM, ACESSO POR BALANCIM MANUAL, SEM USO DE TELA METÁLICA. AF_08/2022","M2",112.69,119.53,null,null,0.1028,9.7000000000000003E-2]
["SINAPI 104225","SINAPI",104225,"EMBOÇO OU MASSA ÚNICA EM ARGAMASSA TRAÇO 1:2:8, PREPARO MECÂNICA COM BETONEIRA 400 L, APLICADA MANUALMENTE EM PANOS DE FACHADA COM PRESENÇA DE VÃOS, ESPESSURA DE 45 MM, ACESSO POR ANDAIME. AF_08/2022","M2",78.75,83.2,null,null,0,0]
["SINAPI 87805","SINAPI",87805,"EMBOÇO OU MASSA ÚNICA EM ARGAMASSA TRAÇO 1:2:8, PREPARO MECÂNICO COM BETONEIRA 400 L, APLICADA MANUALMENTE EM PANOS CEGOS DE FACHADA (SEM PRESENÇA DE VÃOS), ESPESSURA MAIOR OU IGUAL A 50 MM. AF_08/2022","M2",73.040000000000006,76.94,null,null,0,0]
["SINAPI 104972","SINAPI",104972,"EMBOÇO, EM ARGAMASSA TRAÇO 1:2:8, PREPARO MANUAL, APLICADO MANUALMENTE EM PAREDES INTERNAS DE AMBIENTES COM PÉ-DIREITO DUPLO E ÁREA ENTRE 5M² E 10M², E = 10MM, COM TALISCAS. AF_03/2024","M2",39.15,41.72,null,null,0,0]
["SINAPI 87531","SINAPI",87531,"EMBOÇO, EM ARGAMASSA TRAÇO 1:2:8, PREPARO MECÂNICO, APLICADO MANUALMENTE EM PAREDES INTERNAS DE AMBIENTES COM ÁREA ENTRE 5M² E 10M², E = 17,5MM, COM TALISCAS. AF_03/2024","M2",37.83,39.92,null,null,0,0]
["SINAPI 104958","SINAPI",104958,"MASSA ÚNICA, EM ARGAMASSA TRAÇO 1:2:8 PREPARO MECÂNICO, APLICADA MANUALMENTE EM PAREDES INTERNAS DE AMBIENTES COM ÁREA MAIOR QUE 10M², E = 10MM, COM TALISCAS. AF_03/2024","M2",24.89,26.3,null,null,0,0]
["SINAPI 104973","SINAPI",104973,"MASSA ÚNICA, EM ARGAMASSA TRAÇO 1:2:8, PREPARO MECÂNICO, APLICADA MANUALMENTE EM PAREDES INTERNAS DE AMBIENTES COM PÉ-DIREITO DUPLO ÁREA MAIOR QUE 10M², E = 10MM, COM TALISCAS. AF_03/2024","M2",32.619999999999997,34.659999999999997,null,null,0,0]
["SINAPI 103305","SINAPI",103305,"INSTALAÇÃO DE BANCO METÁLICO SEM ENCOSTO, EM TUBOS E CHAPAS DE AÇO CARBONO, PINTURA POR PROCESSO ELETROSTÁTICO, DIMENSÕES 49 CM X 157 CM X 34 CM, SOBRE PISO DE CONCRETO EXISTENTE. AF_11/2021","UN",0,0]
["SINAPI 87853","SINAPI",87853,"REVESTIMENTO DECORATIVO MONOCAMADA EXECUTADO COM EQUIPAMENTO DE PROJEÇÃO EM FACHADA DE UM EDIFÍCIO DE ALVENARIA ESTRUTURAL E ACABAMENTO TRAVERTINO. AF_03/2024","M2",145.74,147.81,null,null,7.4000000000000003E-3,7.3000000000000001E-3]
["SINAPI 105107","SINAPI",105107,"MONTAGEM E DESMONTAGEM DE TRECHO INICIAL DE ELEVADOR DE CREMALHEIRA, CABINE DUPLA - EXCLUSO FUNDAÇÕES. AF_03/2024","UN",3485.48,3775.99,null,null,0,0]
["SINAPI 98518","SINAPI",98518,"PLANTIO DE PALMEIRA COM ALTURA DE MUDA MAIOR QUE 4,00 M . AF_07/2024","UN",0,0]
["SINAPI 91597","SINAPI",91597,"ARMAÇÃO DO SISTEMA DE PAREDES DE CONCRETO, EXECUTADA COMO ARMADURA NEGATIVA DE LAJES, TELA T-196. AF_12/2024","KG",8.5399999999999991,8.58,null,null,9.8400000000000001E-2,9.7900000000000001E-2]
["SINAPI 91601","SINAPI",91601,"ARMAÇÃO DO SISTEMA DE PAREDES DE CONCRETO, EXECUTADA COMO REFORÇO, VERGALHÃO DE 6,3 MM DE DIÂMETRO. AF_12/2024","KG",12.81,13.09,null,null,0,0]
["SINAPI 99431","SINAPI",99431,"CONCRETAGEM DE LAJES EM EDIFICAÇÕES UNIFAMILIARES FEITAS COM SISTEMA DE FÔRMAS MANUSEÁVEIS, COM CONCRETO USINADO BOMBEÁVEL FCK 25 MPA - LANÇAMENTO, ADENSAMENTO E ACABAMENTO. AF_09/2024","M3",675.96,678.88,null,null,1E-4,1E-4]
["SINAPI 91525","SINAPI",91525,"ESTUCAMENTO DE DENSIDADE ALTA NAS FACES INTERNAS DE PAREDES DO SISTEMA DE PAREDES DE CONCRETO, EM AMBIENTES COM ÁREA ENTRE 5 M² E 10 M², UTILIZAÇÃO DE ARGAMASSA COLANTE. AF_12/2024","M2",7.92,8.4,null,null,0,0]
["SINAPI 104416","SINAPI",104416,"ESTUCAMENTO DE DENSIDADE BAIXA NAS FACES INTERNAS DE PAREDES DO SISTEMA DE PAREDES DE CONCRETO, EM AMBIENTES COM ÁREA MAIOR OU IGUAL A 10 M², UTILIZAÇÃO DE ARGAMASSA COLANTE. AF_12/2024","M2",2,2.16,null,null,0,0]
["SINAPI 104726","SINAPI",104726,"INSTALAÇÃO DE ISOLAMENTO COM LÃ DE PET EM PAREDE DRYWALL. AF_07/2023","M2",0,0]
["SINAPI 96364","SINAPI",96364,"PAREDE COM SISTEMA EM CHAPAS DE GESSO PARA DRYWALL, USO INTERNO COM UMA FACE SIMPLES E OUTRA FACE DUPLA E ESTRUTURA METÁLICA COM GUIAS DUPLAS, SEM VÃOS. AF_07/2023_PS","M2",153.51,155.81,null,null,1.6799999999999999E-2,1.66E-2]
["SINAPI 103212","SINAPI",103212,"INSTALAÇÃO DE BALANÇO DE 2 LUGARES COM ESTRUTURA METÁLICA EM TUBOS DE AÇO CARBONO, INSTALADO SOBRE PISO DE CONCRETO EXISTENTE. AF_10/2021","UN",0,0]
["SINAPI 103213","SINAPI",103213,"INSTALAÇÃO DE GANGORRA SIMPLES DE MADEIRA TRATADA, INSTALADA SOBRE PISO DE CONCRETO EXISTENTE. AF_10/2021","UN",0,0]
["SINAPI 103187","SINAPI",103187,"INSTALAÇÃO DE SIMULADOR DE CAMINHADA TRIPLO, EM TUBO DE AÇO CARBONO - EQUIPAMENTO DE GINÁSTICA PARA ACADEMIA AO AR LIVRE / ACADEMIA DA TERCEIRA IDADE - ATI, INSTALADO SOBRE PISO DE CONCRETO EXISTENTE. AF_10/2021","UN",4897.68,4906.75,null,null,0.9778,0.97599999999999998]
["SINAPI 94991","SINAPI",94991,"EXECUÇÃO DE PASSEIO (CALÇADA) OU PISO DE CONCRETO COM CONCRETO MOLDADO IN LOCO, USINADO C20, ACABAMENTO CONVENCIONAL, NÃO ARMADO. AF_08/2022","M3",685.67,694.51,null,null,0,0]
["SINAPI 94995","SINAPI",94995,"EXECUÇÃO DE PASSEIO (CALÇADA) OU PISO DE CONCRETO COM CONCRETO MOLDADO IN LOCO, USINADO, ACABAMENTO CONVENCIONAL, ESPESSURA 8 CM, ARMADO. AF_08/2022","M2",90.44,91.51,null,null,0,0]
["SINAPI 92396","SINAPI",92396,"EXECUÇÃO DE PASSEIO EM PISO INTERTRAVADO, COM BLOCO RETANGULAR COR NATURAL DE 20 X 10 CM, ESPESSURA 6 CM. AF_10/2022","M2",77.22,78.900000000000006,null,null,1.6999999999999999E-3,1.6000000000000001E-3]
["SINAPI 97116","SINAPI",97116,"BARRAS DE TRANSFERÊNCIA, AÇO CA-25 DE 16,0 MM, PARA EXECUÇÃO DE PAVIMENTO DE CONCRETO - FORNECIMENTO E INSTALAÇÃO. AF_04/2022","KG",25.04,26.06,null,null,0,0]
["SINAPI 103907","SINAPI",103907,"EXECUÇÃO DE PAVIMENTO DE CONCRETO SIMPLES (PCS), FCK = 35 MPA, ESPESSURA DE 17,5 CM. AF_04/2022","M2",138.31,140.13999999999999,null,null,2.0000000000000001E-4,2.0000000000000001E-4]
["SINAPI 103919","SINAPI",103919,"EXECUÇÃO DE PISO INDUSTRIAL REFORÇADO COM FIBRAS, FCK = 30 MPA, ESPESSURA DE 12,0 CM. AF_04/2022","M2",0,0]
["SINAPI 103909","SINAPI",103909,"EXECUÇÃO PAVIMENTO DE CONCRETO SIMPLES (PCS), FCK = 35 MPA, ESPESSURA DE 22,5 CM. AF_04/2022","M2",177.23,179.28,null,null,2.9999999999999997E-4,2.9999999999999997E-4]
["SINAPI 104103","SINAPI",104103,"FACHADA EM VIDRO NO SISTEMA SPIDER GLASS, CONSIDERANDO MÓDULOS DE 2,00 X 2,50 M, FIXADO EM ESTRUTURA METÁLICA FORNECIMENTO E INSTALAÇÃO. AF_06/2022","M2",0,0]
["SINAPI 103587","SINAPI",103587,"PERFURAÇÃO HORIZONTAL DIRECIONAL E INSTALAÇÃO DE TUBULAÇÃO PEAD 20 MM, EM SOLO MOLE. AF_01/2022","M",0,0]
["SINAPI 103623","SINAPI",103623,"PERFURAÇÃO HORIZONTAL DIRECIONAL E INSTALAÇÃO DE TUBULAÇÃO PEAD 355 MM, EM SOLO DE 1ª CATEGORIA. AF_01/2022","M",0,0]
["SINAPI 103611","SINAPI",103611,"PERFURAÇÃO HORIZONTAL DIRECIONAL E INSTALAÇÃO DE TUBULAÇÃO PEAD 50 MM, EM SOLO DE 1ª CATEGORIA. AF_01/2022","M",0,0]
["SINAPI 103592","SINAPI",103592,"PERFURAÇÃO HORIZONTAL DIRECIONAL E INSTALAÇÃO DE TUBULAÇÃO PEAD 90 MM, EM SOLO MOLE. AF_01/2022","M",0,0]
["SINAPI 88412","SINAPI",88412,"APLICAÇÃO MANUAL DE FUNDO SELADOR ACRÍLICO EM PANOS CEGOS DE FACHADA (SEM PRESENÇA DE VÃOS) DE EDIFÍCIOS DE MÚLTIPLOS PAVIMENTOS. AF_03/2024","M2",3.69,3.79,null,null,0,0]
["SINAPI 88417","SINAPI",88417,"APLICAÇÃO MANUAL DE PINTURA COM TINTA TEXTURIZADA ACRÍLICA EM PANOS CEGOS DE FACHADA (SEM PRESENÇA DE VÃOS) DE EDIFÍCIOS DE MÚLTIPLOS PAVIMENTOS, UMA COR. AF_03/2024","M2",17.440000000000001,17.68,null,null,0,0]
["SINAPI 88496","SINAPI",88496,"EMASSAMENTO COM MASSA LÁTEX, APLICAÇÃO EM TETO, DUAS DEMÃOS, LIXAMENTO MANUAL. AF_04/2023","M2",39.29,41.94,null,null,0,0]
["SINAPI 104640","SINAPI",104640,"PINTURA LÁTEX ACRÍLICA STANDARD, APLICAÇÃO MANUAL EM TETO, DUAS DEMÃOS. AF_04/2023","M2",14.42,15.23,null,null,0,0]
["SINAPI 102199","SINAPI",102199,"PINTURA FUNDO NIVELADOR POLIURETÂNICO BRANCO EM MADEIRA. AF_01/2021","M2",0,0]
["SINAPI 102223","SINAPI",102223,"PINTURA VERNIZ (INCOLOR) ALQUÍDICO EM MADEIRA, USO INTERNO E EXTERNO, 3 DEMÃOS. AF_01/2021","M2",35.08,37.14,null,null,0,0]
["SINAPI 102204","SINAPI",102204,"PINTURA VERNIZ (INCOLOR) ALQUÍDICO EM MADEIRA, USO INTERNO, 1 DEMÃO. AF_01/2021","M2",11.99,12.68,null,null,0,0]
["SINAPI 100742","SINAPI",100742,"PINTURA COM TINTA ALQUÍDICA DE ACABAMENTO (ESMALTE SINTÉTICO ACETINADO) APLICADA A ROLO OU PINCEL SOBRE SUPERFÍCIES METÁLICAS (EXCETO PERFIL) EXECUTADO EM OBRA (POR DEMÃO). AF_01/2020","M2",29.64,31.6,null,null,0,0]
["SINAPI 100749","SINAPI",100749,"PINTURA COM TINTA ALQUÍDICA DE ACABAMENTO (ESMALTE SINTÉTICO FOSCO) PULVERIZADA SOBRE SUPERFÍCIES METÁLICAS (EXCETO PERFIL) EXECUTADO EM OBRA (POR DEMÃO). AF_01/2020_PE","M2",28.38,29.91,null,null,0,0]
["SINAPI 100731","SINAPI",100731,"PINTURA COM TINTA EPOXÍDICA DE FUNDO E ACABAMENTO PULVERIZADA SOBRE PERFIL METÁLICO EXECUTADO EM FÁBRICA (POR DEMÃO). AF_01/2020","M2",0,0]
["SINAPI 102512","SINAPI",102512,"PINTURA DE EIXO VIÁRIO SOBRE ASFALTO COM TINTA RETRORREFLETIVA A BASE DE RESINA ACRÍLICA COM MICROESFERAS DE VIDRO, E = 10 CM, APLICAÇÃO MECÂNICA COM DEMARCADORA AUTOPROPELIDA. AF_05/2021","M",6.44,6.66,null,null,0.34160000000000001,0.33029999999999998]
["SINAPI 102517","SINAPI",102517,"PINTURA DE SÍMBOLO \"PEDESTRE\" COM TINTA ACRÍLICA, UTILIZAÇÃO DE MOLDE PLÁSTICO E APLICAÇÃO MECÂNICA, 130X90 CM. AF_05/2021","UN",0,0]
["SINAPI 102513","SINAPI",102513,"PINTURA DE SÍMBOLOS E TEXTOS COM TINTA ACRÍLICA, DEMARCAÇÃO COM FITA ADESIVA E APLICAÇÃO COM ROLO. AF_05/2021","M2",55.07,58.67,null,null,0,0]
["SINAPI 98675","SINAPI",98675,"PISO ELEVADO COM ESTRUTURA EM PLÁSTICO, PARA RECEBER REVESTIMENTO TEXTIL. AF_09/2020","M2",0,0]
["SINAPI 101095","SINAPI",101095,"PISO PODOTÁTIL, DIRECIONAL OU ALERTA, SOLIDARIZADO AO PISO EXISTENTE (ELEMENTOS DISCRETOS). AF_05/2020","M",0,0]
["SINAPI 100605","SINAPI",100605,"ASSENTAMENTO DE POSTE DE CONCRETO COM COMPRIMENTO NOMINAL DE 10 M, CARGA NOMINAL DE 600 DAN, ENGASTAMENTO BASE CONCRETADA COM 1 M DE CONCRETO E 0,6 M DE SOLO (NÃO INCLUI FORNECIMENTO). AF_04/2025","UN",1142.95,1181.8399999999999,null,null,4.1500000000000002E-2,4.0099999999999997E-2]
["SINAPI 100614","SINAPI",100614,"ASSENTAMENTO DE POSTE DE CONCRETO COM COMPRIMENTO NOMINAL DE 12 M, CARGA NOMINAL DE 400 DAN, ENGASTAMENTO BASE CONCRETADA COM 1 M DE CONCRETO E 0,8 M DE SOLO (NÃO INCLUI FORNECIMENTO). AF_04/2025","UN",1026.1199999999999,1056.94,null,null,4.6699999999999998E-2,4.53E-2]
["SINAPI 100591","SINAPI",100591,"ASSENTAMENTO DE POSTE DE CONCRETO COM COMPRIMENTO NOMINAL DE 14 M, CARGA NOMINAL MENOR OU IGUAL A 1000 DAN, ENGASTAMENTO SIMPLES COM 2 M DE SOLO (NÃO INCLUI FORNECIMENTO). AF_04/2025","UN",882.82,906.28,null,null,5.4699999999999999E-2,5.3199999999999997E-2]
["SINAPI 100601","SINAPI",100601,"ASSENTAMENTO DE POSTE DE CONCRETO COM COMPRIMENTO NOMINAL DE 9 M, CARGA NOMINAL DE 400 DAN, ENGASTAMENTO BASE CONCRETADA COM 1 M DE CONCRETO E 0,5 M DE SOLO (NÃO INCLUI FORNECIMENTO). AF_04/2025","UN",893.42,921.83,null,null,5.28E-2,5.11E-2]
["SINAPI 100623","SINAPI",100623,"POSTE DE AÇO CÔNICO CONTÍNUO CURVO DUPLO, ENGASTAMENTO SIMPLES COM 1 M DE SOLO, H=9M - FORNECIMENTO E INSTALAÇÃO. AF_04/2025","UN",2308.36,2321.7800000000002,null,null,0.76819999999999999,0.76370000000000005]
["SINAPI 105946","SINAPI",105946,"POSTE DE AÇO CÔNICO CONTÍNUO RETO, FLANGEADO, H=5M - FORNECIMENTO E INSTALAÇÃO. AF_04/2025","UN",0,0]
["SINAPI 97985","SINAPI",97985,"ACRÉSCIMO PARA POÇO DE VISITA CIRCULAR PARA ESGOTO, EM ALVENARIA COM TIJOLOS CERÂMICOS MACIÇOS, DIÂMETRO INTERNO = 1 M. AF_12/2020","M",1556.53,1633.56,null,null,0,0]
["SINAPI 99266","SINAPI",99266,"ACRÉSCIMO PARA POÇO DE VISITA RETANGULAR PARA DRENAGEM, EM ALVENARIA COM BLOCOS DE CONCRETO, DIMENSÕES INTERNAS = 1X2 M. AF_12/2020","M",1931.83,2027.65,null,null,0,0]
["SINAPI 99311","SINAPI",99311,"ACRÉSCIMO PARA POÇO DE VISITA RETANGULAR PARA DRENAGEM, EM ALVENARIA COM BLOCOS DE CONCRETO, DIMENSÕES INTERNAS = 3,5X3,5 M. AF_12/2020","M",4139.26,4345.66,null,null,0,0]
["SINAPI 98011","SINAPI",98011,"ACRÉSCIMO PARA POÇO DE VISITA RETANGULAR PARA ESGOTO, EM ALVENARIA COM BLOCOS DE CONCRETO, DIMENSÕES INTERNAS = 1,5X2 M. AF_12/2020","M",2280.02,2389.94,null,null,0,0]
["SINAPI 98037","SINAPI",98037,"ACRÉSCIMO PARA POÇO DE VISITA RETANGULAR PARA ESGOTO, EM ALVENARIA COM BLOCOS DE CONCRETO, DIMENSÕES INTERNAS = 2,5X4 M. AF_12/2020","M",4003.46,4196.91,null,null,0,0]
["SINAPI 102457","SINAPI",102457,"BASE PARA POÇO DE VISITA CIRCULAR PARA DRENAGEM, EM CONCRETO PRÉ-MOLDADO, DIÂMETRO INTERNO = 1,20 M, PROFUNDIDADE = 1,60 M, EXCLUINDO TAMPÃO. AF_05/2021","UN",1797.74,1832.7,null,null,0.4768,0.4677]
["SINAPI 99259","SINAPI",99259,"BASE PARA POÇO DE VISITA RETANGULAR PARA DRENAGEM, EM ALVENARIA COM BLOCOS DE CONCRETO, DIMENSÕES INTERNAS = 1X1,5 M, PROFUNDIDADE = 1,40 M, EXCLUINDO TAMPÃO. AF_12/2020","UN",3397.26,3540.94,null,null,1.3299999999999999E-2,1.2800000000000001E-2]
["SINAPI 99279","SINAPI",99279,"BASE PARA POÇO DE VISITA RETANGULAR PARA DRENAGEM, EM ALVENARIA COM BLOCOS DE CONCRETO, DIMENSÕES INTERNAS = 1X3,5 M, PROFUNDIDADE = 1,40 M, EXCLUINDO TAMPÃO. AF_12/2020","UN",6287.74,6547.46,null,null,1.52E-2,1.46E-2]
["SINAPI 99308","SINAPI",99308,"BASE PARA POÇO DE VISITA RETANGULAR PARA DRENAGEM, EM ALVENARIA COM BLOCOS DE CONCRETO, DIMENSÕES INTERNAS = 3X4 M, PROFUNDIDADE = 1,40 M, EXCLUINDO TAMPÃO. AF_12/2020","UN",14232.84,14749.89,null,null,1.84E-2,1.78E-2]
["SINAPI 98046","SINAPI",98046,"BASE PARA POÇO DE VISITA RETANGULAR PARA ESGOTO, EM ALVENARIA COM BLOCOS DE CONCRETO, DIMENSÕES INTERNAS = 3,5X4 M, PROFUNDIDADE = 1,40 M, EXCLUINDO TAMPÃO. AF_12/2020","UN",16469.68,17049.57,null,null,1.83E-2,1.77E-2]
["SINAPI 97933","SINAPI",97933,"CAIXA COM GRELHA SIMPLES RETANGULAR, EM CONCRETO PRÉ-MOLDADO, DIMENSÕES INTERNAS: 0,6X1,0X1,0 M. AF_12/2020","UN",1252.32,1256.03,null,null,0.93079999999999996,0.92810000000000004]
["SINAPI 99272","SINAPI",99272,"POÇO DE INSPEÇÃO CIRCULAR PARA DRENAGEM, EM ALVENARIA COM TIJOLOS CERÂMICOS MACIÇOS, DIÂMETRO INTERNO = 0,60 M, PROFUNDIDADE = 0,95 M, EXCLUINDO TAMPÃO. AF_12/2020","UN",1138.42,1190.8900000000001,null,null,3.5000000000000001E-3,3.3E-3]
["SINAPI 97977","SINAPI",97977,"POÇO DE INSPEÇÃO CIRCULAR PARA ESGOTO, EM ALVENARIA COM TIJOLOS CERÂMICOS MACIÇOS, DIÂMETRO INTERNO = 0,60 M, PROFUNDIDADE = 1,45 M, EXCLUINDO TAMPÃO. AF_12/2020","UN",1702.2,1779.82,null,null,2.3E-3,2.2000000000000001E-3]
["SINAPI 102476","SINAPI",102476,"CONCRETO FCK = 25MPA, TRAÇO 1:2,2:2,5 (EM MASSA SECA DE CIMENTO/ AREIA MÉDIA/ SEIXO ROLADO) - PREPARO MECÂNICO COM BETONEIRA 400 L. AF_05/2021","M3",581.44000000000005,589.82000000000005,null,null,0,0]
["SINAPI 102485","SINAPI",102485,"CONCRETO MAGRO PARA LASTRO, TRAÇO 1:4,5:4,5 (EM MASSA SECA DE CIMENTO/ AREIA MÉDIA/ SEIXO ROLADO) - PREPARO MANUAL. AF_05/2021","M3",556.23,569.21,null,null,0,0]
["SINAPI 104832","SINAPI",104832,"CONCRETO MAGRO PARA LASTRO, TRAÇO EM MASSA SECA 1:3,4:3,5 (CIMENTO:AREIA RECICLADA:BRITA 1 RECICLADA), COM USO DE AGREGADO RECICLADO MISTO (ARM) - PREPARO MANUAL. AF_11/2023","M3",0,0]
["SINAPI 97090","SINAPI",97090,"ARMAÇÃO PARA EXECUÇÃO DE RADIER, PISO DE CONCRETO OU LAJE SOBRE SOLO, COM USO DE TELA Q-138. AF_09/2021","KG",15.72,15.84,null,null,0,0]
["SINAPI 103068","SINAPI",103068,"EXECUÇÃO DE LAJE SOBRE SOLO, ESPESSURA DE 15 CM, FCK = 30 MPA, COM USO DE FORMAS METÁLICAS. AF_09/2021","M2",0,0]
["SINAPI 103075","SINAPI",103075,"EXECUÇÃO DE PISO DE CONCRETO, COM ACABAMENTO SUPERFICIAL, ESPESSURA DE 15 CM, FCK = 30 MPA, COM USO DE FORMAS EM MADEIRA SERRADA. AF_09/2021","M2",204.03,206.79,null,null,4.0000000000000002E-4,4.0000000000000002E-4]
["SINAPI 97102","SINAPI",97102,"EXECUÇÃO DE RADIER, ESPESSURA DE 15 CM, FCK = 30 MPA, COM USO DE FORMAS EM MADEIRA SERRADA. AF_09/2021","M2",215.51,218.6,null,null,4.0000000000000002E-4,4.0000000000000002E-4]
["SINAPI 91190","SINAPI",91190,"CHUMBAMENTO PONTUAL EM PASSAGEM DE TUBO COM DIÂMETRO MENOR OU IGUAL A 40 MM. AF_09/2023","UN",12.07,12.85,null,null,0,0]
["SINAPI 91180","SINAPI",91180,"FIXAÇÃO DE TUBOS HORIZONTAIS DE PVC ÁGUA/PVC ESGOTO/PVC PLUVIAL/CPVC/PPR/COBRE OU AÇO, DIÂMETROS MAIORES QUE 40 MM E MENORES OU IGUAIS A 75 MM, COM ABRAÇADEIRA TIPO D COM PARAFUSO DE FIXAÇÃO 2 1/2\", FIXADA DIRETAMENTE NA LAJE OU PAREDE. AF_09/2023","M",26.95,28.24,null,null,0,0]
["SINAPI 90438","SINAPI",90438,"FURO MANUAL EM ALVENARIA, PARA INSTALAÇÕES HIDRÁULICAS, DIÂMETROS MAIORES QUE 75 MM E MENORES OU IGUAIS A 100 MM. AF_09/2023","UN",69.7,75.72,null,null,0,0]
["SINAPI 90440","SINAPI",90440,"FURO MECANIZADO EM CONCRETO, COM MARTELO DEMOLIDOR, PARA INSTALAÇÕES HIDRÁULICAS, DIÂMETROS MAIORES QUE 40 MM E MENORES OU IGUAIS A 75 MM. AF_09/2023","UN",30.3,32.76,null,null,0,0]
["SINAPI 104783","SINAPI",104783,"PASSANTE TIPO TUBO COM DIÂMETRO DE 50 MM, FIXADO EM LAJE, PARA PASSAGEM DE TUBULAÇÕES COM NO MÁXIMO 40 MM DE DIÂMETRO. AF_09/2023","UN",5.5,5.79,null,null,0,0]
["SINAPI 104764","SINAPI",104764,"SUPORTE PARA 2 ELETRODUTOS, ESPAÇADO A CADA 80 CM, EM PERFILADO COM COMPRIMENTO DE 25 CM FIXADO EM LAJE, POR METRO DE ELETRODUTO FIXADO. AF_09/2023","M",22.91,23.81,null,null,0.2457,0.23649999999999999]
["SINAPI 101866","SINAPI",101866,"REASSENTAMENTO DE BLOCOS 16 FACES PARA PISO INTERTRAVADO, ESPESSURA DE 4 CM, EM CALÇADA, COM REAPROVEITAMENTO DOS BLOCOS 16 FACES - INCLUSO RETIRADA E COLOCAÇÃO DO MATERIAL. AF_12/2020","M2",39.450000000000003,42.03,null,null,1.8E-3,1.6999999999999999E-3]
["SINAPI 104385","SINAPI",104385,"REASSENTAMENTO DE PARALELEPÍPEDOS, REJUNTAMENTO COM PEDRISCO E EMULSÃO ASFÁLTICA, COM REAPROVEITAMENTO DOS PARALELEPÍPEDOS - INCLUSO RETIRADA E COLOCAÇÃO DO MATERIAL. AF_12/2020","M2",0,0]
[{"$f":"CONCATENATE($B14600,\" \",$C14600)","v":"SINAPI 101848"},"SINAPI",101848,"RECOMPOSIÇÃO DE BASE E OU SUB-BASE PARA FECHAMENTO DE VALAS DE SOLO BRITA (50/50) COM CIMENTO (TEOR DE 8%) - INCLUSO RETIRADA E COLOCAÇÃO DO MATERIAL. AF_12/2020","M3",194.89,195.87,null,null,3.7999999999999999E-2,3.78E-2]
["SINAPI 101829","SINAPI",101829,"RECOMPOSIÇÃO DE BASE E OU SUB-BASE PARA REMENDO PROFUNDO DE SOLO BRITA (40/60) COM CIMENTO (TEOR DE 4%) - INCLUSO RETIRADA E COLOCAÇÃO DO MATERIAL. AF_12/2020","M3",263.83,275.47000000000003,null,null,5.0000000000000001E-3,4.7999999999999996E-3]
["SINAPI 101816","SINAPI",101816,"RECOMPOSIÇÃO DE PAVIMENTO EM PEDRAS POLIÉDRICAS, REJUNTAMENTO COM ARGAMASSA, COM REAPROVEITAMENTO DAS PEDRAS POLIÉDRICAS, PARA O FECHAMENTO DE VALAS - INCLUSO RETIRADA E COLOCAÇÃO DO MATERIAL. AF_12/2020","M2",81.92,85.61,null,null,3.3999999999999998E-3,3.3E-3]
["SINAPI 93018","SINAPI",93018,"CURVA 90 GRAUS PARA ELETRODUTO, PVC, ROSCÁVEL, DN 50 MM (1 1/2\"), PARA REDE ENTERRADA DE DISTRIBUIÇÃO DE ENERGIA ELÉTRICA - FORNECIMENTO E INSTALAÇÃO. AF_12/2021","UN",31.07,32.83,null,null,0,0]
["SINAPI 93009","SINAPI",93009,"ELETRODUTO RÍGIDO ROSCÁVEL, PVC, DN 60 MM (2\"), PARA REDE ENTERRADA DE DISTRIBUIÇÃO DE ENERGIA ELÉTRICA - FORNECIMENTO E INSTALAÇÃO. AF_12/2021","M",37.54,38.22,null,null,0,0]
["SINAPI 98298","SINAPI",98298,"CABO ELETRÔNICO CATEGORIA 6A, INSTALADO EM EDIFICAÇÃO RESIDENCIAL - FORNECIMENTO E INSTALAÇÃO. AF_11/2019","M",30.32,30.49,null,null,0,0]
["SINAPI 98284","SINAPI",98284,"CABO TELEFÔNICO CCI-50 5 PARES, SEM BLINDAGEM, INSTALADO EM DISTRIBUIÇÃO DE EDIFICAÇÃO RESIDENCIAL - FORNECIMENTO E INSTALAÇÃO. AF_11/2019","M",12.91,13.67,null,null,0,0]
["SINAPI 98276","SINAPI",98276,"CABO TELEFÔNICO CI-50 10 PARES INSTALADO EM PRUMADA - FORNECIMENTO E INSTALAÇÃO. AF_11/2019","M",10.41,10.58,null,null,0,0]
["SINAPI 98402","SINAPI",98402,"CABO TELEFÔNICO CTP-APL-50 30 PARES INSTALADO EM ENTRADA DE EDIFICAÇÃO - FORNECIMENTO E INSTALAÇÃO. AF_11/2019","M",31.3,31.9,null,null,0,0]
[{"$f":"CONCATENATE($B14728,\" \",$C14728)","v":"SINAPI 103401"},"SINAPI",103401,"ASSENTAMENTO DE CONEXÃO COM 2 ACESSOS, EM PEAD LISO PARA REDE DE ÁGUA OU ESGOTO, DIÂMETRO DE 110 MM, JUNTA SOLDADA (NÃO INCLUI O FORNECIMENTO E EXECUÇÃO DE SOLDA). AF_12/2021","UN",23.53,25.32,null,null,0,0]
["SINAPI 103418","SINAPI",103418,"ASSENTAMENTO DE CONEXÃO COM 3 ACESSOS, EM PEAD LISO PARA REDE DE ÁGUA OU ESGOTO, DIÂMETRO DE 200 MM, JUNTA SOLDADA (NÃO INCLUI O FORNECIMENTO E EXECUÇÃO DE SOLDA). AF_12/2021","UN",85.6,92.1,null,null,0,0]
["SINAPI 103482","SINAPI",103482,"EXECUÇÃO DE JUNTA SOLDADA POR ELETROFUSÃO, DE TUBO OU CONEXÃO EM PEAD LISO PARA REDE DE ÁGUA OU ESGOTO, DIÂMETRO DE 1000 MM (NÃO INCLUI O FORNECIMENTO DE TUBO E CONEXÃO). AF_12/2021","UN",0,0]
["SINAPI 103474","SINAPI",103474,"EXECUÇÃO DE JUNTA SOLDADA POR ELETROFUSÃO, DE TUBO OU CONEXÃO EM PEAD LISO PARA REDE DE ÁGUA OU ESGOTO, DIÂMETRO DE 400 MM (NÃO INCLUI O FORNECIMENTO DE TUBO E CONEXÃO). AF_12/2021","UN",0,0]
["SINAPI 103444","SINAPI",103444,"EXECUÇÃO DE JUNTA SOLDADA POR TERMOFUSÃO, DE TUBO OU CONEXÃO EM PEAD LISO PARA REDE DE ÁGUA OU ESGOTO, DIÂMETRO DE 180 MM (NÃO INCLUI O FORNECIMENTO DE TUBO E CONEXÃO). AF_12/2021","UN",0,0]
["SINAPI 103452","SINAPI",103452,"EXECUÇÃO DE JUNTA SOLDADA POR TERMOFUSÃO, DE TUBO OU CONEXÃO EM PEAD LISO PARA REDE DE ÁGUA OU ESGOTO, DIÂMETRO DE 450 MM (NÃO INCLUI O FORNECIMENTO DE TUBO E CONEXÃO). AF_12/2021","UN",0,0]
["SINAPI 104805","SINAPI",104805,"TUBO PEAD LISO PARA REDE DE ÁGUA OU ESGOTO, DIÂMETRO DE 1400 MM, JUNTA SOLDADA (NÃO INCLUI A EXECUÇÃO DE SOLDA) - FORNECIMENTO E ASSENTAMENTO. AF_12/2021","M",0,0]
["SINAPI 103392","SINAPI",103392,"TUBO PEAD LISO PARA REDE DE ÁGUA OU ESGOTO, DIÂMETRO DE 900 MM, JUNTA SOLDADA (NÃO INCLUI A EXECUÇÃO DE SOLDA) - FORNECIMENTO E ASSENTAMENTO. AF_12/2021","M",4958.01,4959.5600000000004,null,null,0.99380000000000002,0.99350000000000005]
["SINAPI 104590","SINAPI",104590,"REVESTIMENTO CERÂMICO PARA PAREDES EXTERNAS, COM PLACAS TIPO GRÊS OU SEMIGRÊS, FORMATO MENOR OU IGUAL A 200 CM2, DISPOSTAS EM AMARRAÇÃO. AF_02/2023","M2",272.25,278.04000000000002,null,null,0,0]
["SINAPI 87271","SINAPI",87271,"REVESTIMENTO CERÂMICO PARA PAREDES INTERNAS COM PLACAS TIPO ESMALTADA DE DIMENSÕES 25X35 CM APLICADAS A MEIA ALTURA DAS PAREDES. AF_02/2023_PE","M2",75.3,78.31,null,null,0,0]
["SINAPI 104594","SINAPI",104594,"REVESTIMENTO CERÂMICO PARA PISO COM PLACAS TIPO ESMALTADA DE DIMENSÕES 80X80 CM APLICADA EM AMBIENTES DE ÁREA ENTRE 5 M² E 10 M². AF_02/2023_PE","M2",80.37,82.56,null,null,0,0]
["SINAPI 104597","SINAPI",104597,"REVESTIMENTO CERÂMICO PARA PISO COM PLACAS TIPO PORCELANATO DE DIMENSÕES 80X80 CM APLICADA EM AMBIENTES DE ÁREA ENTRE 5 M² E 10 M². AF_02/2023_PE","M2",133.81,136.74,null,null,0,0]
["SINAPI 103746","SINAPI",103746,"FORNECIMENTO E INSTALAÇÃO DE DEFENSA METÁLICA MALEÁVEL SIMPLES, SOBRE SOLO. AF_03/2022","M",0,0]
["SINAPI 103700","SINAPI",103700,"FORNECIMENTO E INSTALAÇÃO DE PLACA DE SINALIZAÇÃO EM CHAPA DE ALUMÍNIO EM SUPORTE DE MADEIRA. AF_03/2022","M2",0,0]
["SINAPI 103701","SINAPI",103701,"FORNECIMENTO E INSTALAÇÃO DE PLACA DE SINALIZAÇÃO EM CHAPA DE AÇO EM SUPORTE DE MADEIRA. AF_03/2022","M2",0,0]
["SINAPI 103721","SINAPI",103721,"FORNECIMENTO E INSTALAÇÃO DE PÓRTICO METÁLICO COM VÃO DE 27,1 M. AF_03/2022","UN",0,0]
["SINAPI 103697","SINAPI",103697,"FORNECIMENTO E INSTALAÇÃO DE SUPORTE DE MADEIRA PARA PLACAS DE SINALIZAÇÃO, EM BASE DE CONCRETO, COM H= DE 2,0 M E SEÇÃO DE 7,5 X 7,5 CM. AF_03/2022","UN",137.88999999999999,144.46,null,null,0,0]
["SINAPI 104752","SINAPI",104752,"CONECTOR SPLIT-BOLT, PARA SPDA, PARA CABOS ATÉ 35 MM2 - FORNECIMENTO E INSTALAÇÃO. AF_08/2023","UN",23.1,24.07,null,null,0,0]
["SINAPI 96985","SINAPI",96985,"HASTE DE ATERRAMENTO, DIÂMETRO 5/8\", COM 3 METROS - FORNECIMENTO E INSTALAÇÃO. AF_08/2023","UN",74.28,75.59,null,null,0,0]
["SINAPI 104996","SINAPI",104996,"CAIXA DE SOBREPOR EM AÇO GALVANIZADO PARA ABRIGO DE HIDRÔMETRO - FORNECIMENTO E INSTALAÇÃO (EXCLUSIVE HIDRÔMETRO). AF_03/2024","UN",0,0]
["SINAPI 95673","SINAPI",95673,"HIDRÔMETRO DN 1/2\", 1,5 M3/H - FORNECIMENTO E INSTALAÇÃO. AF_03/2024","UN",134.44,136.65,null,null,0.80359999999999998,0.79059999999999997]
["SINAPI 95660","SINAPI",95660,"KIT CAVALETE PARA MEDIÇÃO DE ÁGUA - ENTRADA INDIVIDUALIZADA, EM PPR PN20 DN 25 MM (3/4\") PARA 4 MEDIDORES - FORNECIMENTO E INSTALAÇÃO (EXCLUSIVE HIDRÔMETRO). AF_03/2024","UN",1336.87,1377.46,null,null,0,0]
["SINAPI 95642","SINAPI",95642,"KIT CAVALETE PARA MEDIÇÃO DE ÁGUA - ENTRADA INDIVIDUALIZADA, EM PVC 25 MM (3/4\"), PARA 3 MEDIDORES - FORNECIMENTO E INSTALAÇÃO (EXCLUSIVE HIDRÔMETRO). AF_03/2024","UN",491.68,511.98,null,null,0,0]
["SINAPI 98753","SINAPI",98753,"SOLDA DE TOPO EM CHAPA/PERFIL/TUBO DE AÇO CHANFRADO, ESPESSURA=3/4''. AF_06/2018","M",275.56,281.45999999999998,null,null,0,0]
["SINAPI 94219","SINAPI",94219,"CUMEEIRA E ESPIGÃO PARA TELHA CERÂMICA EMBOÇADA COM ARGAMASSA TRAÇO 1:2:9 (CIMENTO, CAL E AREIA), PARA TELHADOS COM MAIS DE 2 ÁGUAS, INCLUSO TRANSPORTE VERTICAL. AF_07/2019","M",38.53,40.33,null,null,0,0]
["SINAPI 94451","SINAPI",94451,"CUMEEIRA PARA TELHA DE FIBROCIMENTO ESTRUTURAL E = 6 MM, INCLUSO ACESSÓRIOS DE FIXAÇÃO E IÇAMENTO. AF_07/2019","M",83.35,83.71,null,null,0,0]
["SINAPI 94447","SINAPI",94447,"TELHAMENTO COM TELHA CERÂMICA CAPA-CANAL, TIPO PAULISTA, COM ATÉ 2 ÁGUAS, INCLUSO TRANSPORTE VERTICAL. AF_07/2019","M2",61.26,62.7,null,null,0,0]
["SINAPI 94210","SINAPI",94210,"TELHAMENTO COM TELHA ONDULADA DE FIBROCIMENTO E = 6 MM, COM RECOBRIMENTO LATERAL DE 1 1/4 DE ONDA PARA TELHADO COM INCLINAÇÃO MÁXIMA DE 10°, COM ATÉ 2 ÁGUAS, INCLUSO IÇAMENTO. AF_07/2019","M2",48.91,49.65,null,null,0,0]
["SINAPI 105409","SINAPI",105409,"CARGA E DESCARGA COM MANIPULADOR TELESCÓPICO, DE PÁLETE DE BACIA SANITÁRIA, CAIXA ACOPLADA, TANQUE OU PIA, EM BALSA DE 1000 TONELADAS. AF_05/2024","T",0,0]
["SINAPI 105445","SINAPI",105445,"CARGA E DESCARGA COM MANIPULADOR TELESCÓPICO, DE PÁLETE DE LATAS 18 LITROS, EM BALSA DE 600 TONELADAS. AF_05/2024","T",0,0]
["SINAPI 105450","SINAPI",105450,"CARGA E DESCARGA COM MANIPULADOR TELESCÓPICO, DE TELHAS TERMOACÚSTICAS, FIBROCIMENTO, AÇO ZINCADO, FIBROCIMENTO ESTRUTURAL, CANALETE 90 OU KALHETÃO, EM BALSA DE 600 TONELADAS. AF_05/2024","T",0,0]
["SINAPI 105427","SINAPI",105427,"CARGA E DESCARGA DE CAMINHÃO DE 14 M³, EM BALSA DE 1000 TONELADAS. AF_05/2024","T",0,0]
["SINAPI 105504","SINAPI",105504,"CARGA E DESCARGA DE POSTES DE CONCRETO, COM CAMINHÃO CARROCERIA COM GUINDAUTO (MUNCK) 11,7 TM, EM BALSA DE 600 TONELADAS. AF_05/2024","T",0,0]
["SINAPI 105506","SINAPI",105506,"CARGA E DESCARGA DE TELA DE AÇO, COM CAMINHÃO CARROCERIA COM GUINDAUTO (MUNCK) 11,7 TM, EM BALSA DE 600 TONELADAS. AF_05/2024","T",0,0]
["SINAPI 105423","SINAPI",105423,"CARGA E DESCARGA MANUAL, DE JANELA, KIT PORTA-PRONTA OU PORTA DE MADEIRA, PORTA DE AÇO E PORTA DE ALUMÍNIO, EM BALSA DE 2000 TONELADAS. AF_05/2024","T",0,0]
["SINAPI 105509","SINAPI",105509,"TRANSPORTE FLUVIAL COM CONJUNTO EMPURRADOR DE 475 HP E BALSA DE 1.000 A 1.500 TONELADAS, EM VIA NAVEGÁVEL NO SENTIDO A MONTANTE (SUBINDO O RIO). AF_05/2024","TXKM",0,0]
["SINAPI 100280","SINAPI",100280,"TRANSPORTE HORIZONTAL COM CARRINHO PLATAFORMA, DE BACIA SANITÁRIA, CAIXA ACOPLADA, TANQUE OU PIA (UNIDADE: UNIDXKM). AF_07/2019","UNXKM",22.8,24.56,null,null,0,0]
["SINAPI 100200","SINAPI",100200,"TRANSPORTE HORIZONTAL COM CARRINHO PLATAFORMA, DE SACOS DE 20 KG (UNIDADE: KGXKM). AF_07/2019","KGXKM",0.5,0.53,null,null,0,0]
["SINAPI 100209","SINAPI",100209,"TRANSPORTE HORIZONTAL MANUAL, DE BLOCOS CERÂMICOS FURADOS NA HORIZONTAL DE 9X19X19CM (UNIDADE: BLOCOXKM). AF_07/2019","UNXKM",12.04,12.97,null,null,0,0]
["SINAPI 100276","SINAPI",100276,"TRANSPORTE HORIZONTAL MANUAL, DE TELHA DE FIBROCIMENTO OU TELHA ESTRUTURAL DE FIBROCIMENTO, CANALETE 90 OU KALHETÃO (UNIDADE: M2XKM). AF_07/2019","M2XKM",40.840000000000003,43.99,null,null,0,0]
[{"$f":"CONCATENATE($B15304,\" \",$C15304)","v":"SINAPI 100236"},"SINAPI",100236,"TRANSPORTE HORIZONTAL MANUAL, DE TUBO DE PVC SOLDÁVEL COM DIÂMETRO MENOR OU IGUAL A 60 MM (UNIDADE: MXKM). AF_07/2019","MXKM",3.45,3.71,null,null,0,0]
["SINAPI 100267","SINAPI",100267,"TRANSPORTE VERTICAL MANUAL, 1 PAVIMENTO, DE PORTA (UNIDADE: UNID). AF_07/2019","UN",2.0499999999999998,2.21,null,null,0,0]
["SINAPI 100231","SINAPI",100231,"TRANSPORTE VERTICAL MANUAL, 1 PAVIMENTO, DE SACOS DE 20 KG (UNIDADE: KG). AF_07/2019","KG",0.04,0.05,null,null,0,0]
["SINAPI 100978","SINAPI",100978,"CARGA, MANOBRA E DESCARGA DE SOLOS E MATERIAIS GRANULARES EM CAMINHÃO BASCULANTE 10 M³ - CARGA COM ESCAVADEIRA HIDRÁULICA (CAÇAMBA DE 1,20 M³ / 155 HP) E DESCARGA LIVRE (UNIDADE: M3). AF_07/2020","M3",7.22,7.33,null,null,0.2465,0.24279999999999999]
["SINAPI 100976","SINAPI",100976,"CARGA, MANOBRA E DESCARGA DE SOLOS E MATERIAIS GRANULARES EM CAMINHÃO BASCULANTE 18 M³ - CARGA COM PÁ CARREGADEIRA (CAÇAMBA DE 1,7 A 2,8 M³ / 128 HP) E DESCARGA LIVRE (UNIDADE: M3). AF_07/2020","M3",8.68,8.8000000000000007,null,null,0,0]
["SINAPI 101477","SINAPI",101477,"CARGA, MANOBRA E DESCARGA DE TUBOS METÁLICOS, DN 1000 MM, EM CAMINHÃO CARROCERIA COM GUINDAUTO (MUNCK) 11,7 TM. AF_07/2020","T",13.95,14.33,null,null,0.26950000000000002,0.26240000000000002]
["SINAPI 101485","SINAPI",101485,"CARGA, MANOBRA E DESCARGA DE TUBOS PLÁSTICOS, DN 750 MM, EM CAMINHÃO CARROCERIA COM GUINDAUTO (MUNCK) 11,7 TM. AF_07/2020","T",157.15,161.44999999999999,null,null,0.2697,0.2626]
["SINAPI 95875","SINAPI",95875,"TRANSPORTE COM CAMINHÃO BASCULANTE DE 10 M³, EM VIA URBANA PAVIMENTADA, DMT ATÉ 30 KM (UNIDADE: M3XKM). AF_07/2020","M3XKM",2.5299999999999998,2.56,null,null,0.3241,0.32029999999999997]
["SINAPI 95878","SINAPI",95878,"TRANSPORTE COM CAMINHÃO BASCULANTE DE 10 M³, EM VIA URBANA PAVIMENTADA, DMT ATÉ 30 KM (UNIDADE: TXKM). AF_07/2020","TXKM",1.69,1.72,null,null,0.33139999999999997,0.3256]
["SINAPI 97919","SINAPI",97919,"TRANSPORTE COM CAMINHÃO BASCULANTE DE 6 M³, EM VIA URBANA PAVIMENTADA, ADICIONAL PARA DMT EXCEDENTE A 30 KM (UNIDADE: TXKM). AF_07/2020","TXKM",0.81,0.82,null,null,0.34570000000000001,0.34150000000000003]
["SINAPI 100947","SINAPI",100947,"TRANSPORTE COM CAMINHÃO CARROCERIA 9T, EM VIA URBANA PAVIMENTADA, DMT ATÉ 30KM (UNIDADE: TXKM). AF_07/2020","TXKM",2.2999999999999998,2.34,null,null,0.32169999999999999,0.31619999999999998]
["SINAPI 102332","SINAPI",102332,"TRANSPORTE COM CAMINHÃO TANQUE DE TRANSPORTE DE MATERIAL ASFÁLTICO DE 20000 L, EM VIA URBANA PAVIMENTADA, DMT ATÉ 30KM (UNIDADE: TXKM). AF_07/2020","TXKM",1.86,1.88,null,null,2.69E-2,2.6599999999999999E-2]
["SINAPI 102331","SINAPI",102331,"TRANSPORTE COM CAMINHÃO TANQUE DE TRANSPORTE DE MATERIAL ASFÁLTICO DE 30000 L, EM VIA URBANA PAVIMENTADA, ADICIONAL PARA DMT EXCEDENTE A 30 KM (UNIDADE: TXKM). AF_07/2020","TXKM",0.56000000000000005,0.56999999999999995,null,null,1.7899999999999999E-2,1.7500000000000002E-2]
["SINAPI 103150","SINAPI",103150,"ASSENTAMENTO DE CONEXÃO COM 1 ACESSO, FERRO FUNDIDO PARA REDE DE ÁGUA, DN 900 MM, JUNTA FLANGEADA (NÃO INCLUI O FORNECIMENTO). AF_09/2021","UN",372.92,390.94,null,null,0.2346,0.2238]
["SINAPI 103108","SINAPI",103108,"ASSENTAMENTO DE CONEXÃO COM 2 ACESSOS, FERRO FUNDIDO PARA REDE DE ÁGUA, DN 200 MM, JUNTA FLANGEADA (NÃO INCLUI O FORNECIMENTO). AF_09/2021","UN",115.47,120.71,null,null,0.25309999999999999,0.2422]
["SINAPI 103123","SINAPI",103123,"ASSENTAMENTO DE CONEXÃO COM 3 ACESSOS, FERRO FUNDIDO PARA REDE DE ÁGUA, DN 150 MM, JUNTA FLANGEADA (NÃO INCLUI O FORNECIMENTO). AF_09/2021","UN",124.57,130.25,null,null,0.25119999999999998,0.2402]
["SINAPI 103121","SINAPI",103121,"ASSENTAMENTO DE CONEXÃO COM 3 ACESSOS, FERRO FUNDIDO PARA REDE DE ÁGUA, DN 80 MM, JUNTA FLANGEADA (NÃO INCLUI O FORNECIMENTO). AF_09/2021","UN",69.67,72.63,null,null,0.2707,0.25969999999999999]
["SINAPI 101099","SINAPI",101099,"TUBULÃO A CÉU ABERTO, DIÂMETRO DO FUSTE DE 120CM, ESCAVAÇÃO MANUAL, SEM ALARGAMENTO DE BASE, CONCRETO FEITO EM OBRA E LANÇADO COM JERICA. AF_05/2020","M3",1052.07,1094.8599999999999,null,null,3.7000000000000002E-3,3.5999999999999999E-3]
["SINAPI 104360","SINAPI",104360,"USINAGEM DE CONCRETO ASFÁLTICO COM CAP 50/70, PARA CAMADA DE BINDER, PADRÃO DNIT FAIXA B, EM USINA DE ASFALTO CONTÍNUA DE 140 TON/H. AF_03/2020","T",0,0]
["SINAPI 96395","SINAPI",96395,"USINAGEM DE CONCRETO PARA COMPACTAÇÃO COM ROLO. AF_03/2020","M3",245.06,245.4,null,null,4.3E-3,4.3E-3]
["SINAPI 105027","SINAPI",105027,"CONTRAVERGA PRÉ-MOLDADA, ESPESSURA DE *15* CM. AF_03/2024","M",25.73,26.37,null,null,5.1299999999999998E-2,5.0099999999999999E-2]
["SINAPI 105021","SINAPI",105021,"VERGA PRÉ-MOLDADA COM ATÉ 1,5 M DE VÃO, ESPESSURA DE *15* CM. AF_03/2024","M",26.15,26.82,null,null,5.0500000000000003E-2,4.9200000000000001E-2]
["SINAPI 102160","SINAPI",102160,"INSTALAÇÃO DE VIDRO IMPRESSO, E = 4 MM, EM ESQUADRIA DE MADEIRA, FIXADO COM BAGUETE. AF_01/2021","M2",166.58,169.77,null,null,0,0]
["SINAPI 102168","SINAPI",102168,"INSTALAÇÃO DE VIDRO LISO INCOLOR, E = 8 MM, EM ESQUADRIA DE ALUMÍNIO OU PVC, FIXADO COM BAGUETE. AF_01/2021_PS","M2",361.54,363.3,null,null,0.12570000000000001,0.125]
["SINAPI 102180","SINAPI",102180,"INSTALAÇÃO DE VIDRO TEMPERADO, E = 8 MM, ENCAIXADO EM PERFIL U. AF_01/2021_PS","M2",494.77,502.26,null,null,0,0]
["SINAPI 103039","SINAPI",103039,"REGISTRO DE ESFERA, PVC, ROSCÁVEL, COM VOLANTE, 1 1/2\" - FORNECIMENTO E INSTALAÇÃO. AF_08/2021","UN",75.290000000000006,76.650000000000006,null,null,0,0]
["SINAPI 94496","SINAPI",94496,"REGISTRO DE GAVETA BRUTO, LATÃO, ROSCÁVEL, 1 1/4\" - FORNECIMENTO E INSTALAÇÃO. AF_08/2021","UN",94.93,95.96,null,null,0,0]
["SINAPI 103049","SINAPI",103049,"REGISTRO DE PRESSÃO, PVC, SOLDÁVEL, VOLANTE SIMPLES, DN 25 MM - FORNECIMENTO E INSTALAÇÃO. AF_08/2021","UN",21.97,22.38,null,null,0,0]
["SINAPI 95251","SINAPI",95251,"VÁLVULA DE ESFERA BRUTA, BRONZE, ROSCÁVEL, 1 1/4'' - FORNECIMENTO E INSTALAÇÃO. AF_08/2021","UN",138.94,139.97,null,null,0,0]
["SINAPI 99623","SINAPI",99623,"VÁLVULA DE RETENÇÃO HORIZONTAL, DE BRONZE, ROSCÁVEL, 2\" - FORNECIMENTO E INSTALAÇÃO. AF_08/2021","UN",455.06,456.8,null,null,0.95369999999999999,0.95]
["SINAPI 99628","SINAPI",99628,"VÁLVULA DE RETENÇÃO VERTICAL, DE BRONZE, ROSCÁVEL, 3/4\" - FORNECIMENTO E INSTALAÇÃO. AF_08/2021","UN",94.2,94.77,null,null,0.92710000000000004,0.92149999999999999]
["SINAPI 103034","SINAPI",103034,"VÁLVULA ESTABILIZADORA DE VAZÃO/ AUTOFLOW, 3/4\" - FORNECIMENTO E INSTALAÇÃO. AF_08/2021","UN",0,0]
["SINAPI 103562","SINAPI",103562,"JUNTA DE DESMONTAGEM TRAVADA AXIALMENTE DE FERRO FUNDIDO PARA REDE DE ÁGUA OU ESGOTO, DN 80 MM. AF_12/2021","UN",0,0]
["SINAPI 103557","SINAPI",103557,"MEDIDOR DE VAZÃO ELETROMAGNÉTICO DE AÇO CARBONO PARA REDE DE ÁGUA OU ESGOTO, DN 100 MM, JUNTA FLANGEADA. AF_12/2021","UN",0,0]
["SINAPI 103541","SINAPI",103541,"VÁLVULA DE RETENÇÃO DE FERRO FUNDIDO PARA REDE DE ÁGUA OU ESGOTO, COM FLANGES, DN 200 MM, JUNTA FLANGEADA. AF_12/2021","UN",0,0]
["SINAPI 103552","SINAPI",103552,"VÁLVULA REDUTORA DE PRESSÃO DE FERRO FUNDIDO PARA REDE DE ÁGUA, DN 250 MM, JUNTA FLANGEADA. AF_12/2021","UN",0,0]
["SINAPI-I_SP 11270","SINAPI-I_SP",11270,"ABRACADEIRA DE LATAO PARA FIXACAO DE CABO PARA-RAIO, DIMENSOES 32 X 24 X 24 MM","UN",2.88,2.88]
["SINAPI-I_SP 397","SINAPI-I_SP",397,"ABRACADEIRA EM ACO PARA AMARRACAO DE ELETRODUTOS, TIPO D, COM 2 1/2\" E PARAFUSO DE FIXACAO","UN",5.15,5.15]
["SINAPI-I_SP 39145","SINAPI-I_SP",39145,"ABRACADEIRA EM ACO PARA AMARRACAO DE ELETRODUTOS, TIPO U SIMPLES, COM 4\"","UN",5.71,5.71]
["SINAPI-I_SP 42404","SINAPI-I_SP",42404,"ACO CA-25, 25,0 MM, BARRA DE TRANSFERENCIA","KG",9.86,9.86]
["SINAPI-I_SP 34","SINAPI-I_SP",34,"ACO CA-50, 10,0 MM, VERGALHAO","KG",7.53,7.53]
["SINAPI-I_SP 10899","SINAPI-I_SP",10899,"ADAPTADOR EM LATAO, ENGATE RAPIDO 2 1/2\" X ROSCA INTERNA 5 FIOS 2 1/2\", PARA INSTALACAO PREDIAL DE COMBATE A INCENDIO","UN",144.57,144.57]
["SINAPI-I_SP 43","SINAPI-I_SP",43,"ADAPTADOR PVC PBA, PONTA/ROSCA, JE, DN 75 / DE 85 MM","UN",57.4,57.4]
["SINAPI-I_SP 71","SINAPI-I_SP",71,"ADAPTADOR PVC, ROSCAVEL, COM FLANGES E ANEL DE VEDACAO, 1\", PARA CAIXA D'AGUA","UN",32.46,32.46]
["SINAPI-I_SP 156","SINAPI-I_SP",156,"ADESIVO ESTRUTURAL A BASE DE RESINA EPOXI, BICOMPONENTE, FLUIDO","KG",51.21,51.21]
["SINAPI-I_SP 4319","SINAPI-I_SP",4319,"AFASTADOR PARA TELHA DE FIBROCIMENTO CANALETE 90 OU KALHETAO","UN",1.9,1.9]
["SINAPI-I_SP 40553","SINAPI-I_SP",40553,"AGREGADO RECICLADO, TIPO RACHAO RECICLADO CINZA, CLASSE A","M3",60,60]
["SINAPI-I_SP 427","SINAPI-I_SP",427,"ALCA PREFORMADA DE CONTRA POSTE, EM ACO GALVANIZADO, PARA CABO 3/16\", COMPRIMENTO *860* MM","UN",6.55,6.55]
["SINAPI-I_SP 298","SINAPI-I_SP",298,"ANEL BORRACHA, DN 75 MM, PARA TUBO SERIE REFORCADA ESGOTO PREDIAL","UN",2.3199999999999998,2.3199999999999998]
[{"$f":"CONCATENATE($B16003,\" \",$C16003)","v":"SINAPI-I_SP 309"},"SINAPI-I_SP",309,"ANEL BORRACHA, PARA TUBO PVC, REDE COLETOR ESGOTO, DN 350 MM (NBR 7362)","UN",56.43,56.43]
["SINAPI-I_SP 41637","SINAPI-I_SP",41637,"ANEL DE CONCRETO ARMADO, COM FUROS/DRENO PARA SUMIDOURO, D = 0,80 M, H = 0,50 M","UN",169.88,169.88]
["SINAPI-I_SP 6138","SINAPI-I_SP",6138,"ANEL DE VEDACAO, PVC FLEXIVEL, 100 MM, PARA SAIDA DE BACIA / VASO SANITARIO","UN",11.03,11.03]
["SINAPI-I_SP 43423","SINAPI-I_SP",43423,"ANEL EM CONCRETO ARMADO, LISO, PARA POCOS DE INSPECAO, SEM FUNDO, DIAMETRO INTERNO DE 0,60 M E ALTURA DE 0,20 M","UN",93.88,93.88]
["SINAPI-I_SP 21100","SINAPI-I_SP",21100,"AQUECEDOR DE AGUA A GAS GLP/GN COM CAPACIDADE DE ARMAZENAMENTO DE 50 A 80 L","UN",3845.1,3845.1]
["SINAPI-I_SP 34482","SINAPI-I_SP",34482,"AQUECEDOR SOLAR COM RESERVATORIO TERMICO DE 800 L E *4* PLACAS COLETORAS DE *2,0* M2 (NAO INCLUI ACESSORIOS) (SEM INSTALACAO)","UN",6303.51,6303.51]
["SINAPI-I_SP 43190","SINAPI-I_SP",43190,"AR CONDICIONADO SPLIT ON/OFF, HI-WALL (PAREDE), 12000 BTUS/H, CICLO FRIO, 60 HZ, CLASSIFICACAO ENERGETICA A - SELO PROCEL, GAS HFC, CONTROLE S/ FIO","UN",2053.81,2053.81]
["SINAPI-I_SP 346","SINAPI-I_SP",346,"ARAME DE ACO OVALADO 15 X 17 (45,7 KG, 700 KGF), ROLO 1000 M","KG",25.06,25.06]
["SINAPI-I_SP 11075","SINAPI-I_SP",11075,"AREIA PARA LEITO FILTRANTE (0,42 A 1,68 MM) - POSTO JAZIDA/FORNECEDOR (RETIRADO NA JAZIDA, SEM TRANSPORTE)","M3",975.53,975.53]
["SINAPI-I_SP 37596","SINAPI-I_SP",37596,"ARGAMASSA COLANTE TIPO AC III E","KG",2.99,2.99]
["SINAPI-I_SP 1092","SINAPI-I_SP",1092,"ARMACAO VERTICAL COM HASTE E CONTRA-PINO, EM CHAPA DE ACO GALVANIZADO 3/16\", COM 2 ESTRIBOS, SEM ISOLADOR","UN",30,30]
["SINAPI-I_SP 39211","SINAPI-I_SP",39211,"ARRUELA EM ALUMINIO, COM ROSCA, DE 1 1/4\", PARA ELETRODUTO","UN",1.8,1.8]
["SINAPI-I_SP 516","SINAPI-I_SP",516,"ASFALTO MODIFICADO TIPO II - NBR 9910 (ASFALTO OXIDADO PARA IMPERMEABILIZACAO, COEFICIENTE DE PENETRACAO 20-35)","KG",14.6,14.6]
["SINAPI-I_SP 532","SINAPI-I_SP",532,"AUXILIAR TECNICO / ASSISTENTE DE ENGENHARIA (HORISTA)","H",32.85,36.729999999999997]
["SINAPI-I_SP 541","SINAPI-I_SP",541,"BANCADA DE MARMORE SINTETICO COM UMA CUBA, 120 X *60* CM","UN",255,255]
["SINAPI-I_SP 1748","SINAPI-I_SP",1748,"BANCADA/BANCA/PIA DE ACO INOXIDAVEL (AISI 430) COM 1 CUBA CENTRAL, COM VALVULA, ESCORREDOR DUPLO, DE *0,55 X 1,40* M","UN",305.70999999999998,305.70999999999998]
["SINAPI-I_SP 39623","SINAPI-I_SP",39623,"BARRA ANTIPANICO SIMPLES, PARA PORTA DE VIDRO, COR CINZA","UN",1019.7,1019.7]
["SINAPI-I_SP 36206","SINAPI-I_SP",36206,"BARRA DE APOIO RETA, EM ACO INOX POLIDO, COMPRIMENTO 90 CM, DIAMETRO MINIMO 3 CM","UN",236.29,236.29]
[{"$f":"CONCATENATE($B16259,\" \",$C16259)","v":"SINAPI-I_SP 37597"},"SINAPI-I_SP",37597,"BATE-ESTACAS POR GRAVIDADE, POTENCIA160 HP, PESO DO MARTELO ATE 3 TONELADAS","UN",651367.18000000005,651367.18000000005]
["SINAPI-I_SP 7267","SINAPI-I_SP",7267,"BLOCO CERAMICO / TIJOLO VAZADO PARA ALVENARIA DE VEDACAO, 6 FUROS NA HORIZONTAL DE 9 X 14 X 19 CM (L X A X C)","UN",0.63,0.63]
["SINAPI-I_SP 44459","SINAPI-I_SP",44459,"BLOCO CERAMICO / TIJOLO VAZADO PARA ALVENARIA DE VEDACAO, 9 FUROS NA HORIZONTAL DE 11,5 X 14 X 24 CM (L X A X C)","UN",0.8,0.8]
["SINAPI-I_SP 38590","SINAPI-I_SP",38590,"BLOCO DE CONCRETO ESTRUTURAL 14 X 19 X 29 CM, FBK 4,5 MPA (NBR 6136)","UN",3.87,3.87]
["SINAPI-I_SP 34578","SINAPI-I_SP",34578,"BLOCO DE CONCRETO ESTRUTURAL 19 X 19 X 39 CM, FBK 14 MPA (NBR 6136)","UN",7.5,7.5]
["SINAPI-I_SP 650","SINAPI-I_SP",650,"BLOCO DE VEDACAO DE CONCRETO, 9 X 19 X 39 CM (CLASSE C - NBR 6136)","UN",3,3]
["SINAPI-I_SP 36170","SINAPI-I_SP",36170,"BLOQUETE/PISO INTERTRAVADO DE CONCRETO - MODELO ONDA/16 FACES/RETANGULAR/TIJOLINHO/PAVER/HOLANDES/PARALELEPIPEDO, *20 X 10* CM, E = 8 CM, RESISTENCIA DE 35 MPA, COR NATURAL","M2",86,86]
["SINAPI-I_SP 733","SINAPI-I_SP",733,"BOMBA CENTRIFUGA MOTOR ELETRICO MONOFASICO 0,74HP DIAMETRO DE SUCCAO X ELEVACAO 1 1/4\" X 1\", DIAMETRO DO ROTOR 120 MM, HM/Q: 8 M / 7,70 M3/H A 24 M / 2,80 M3/H","UN",1581.03,1581.03]
["SINAPI-I_SP 39009","SINAPI-I_SP",39009,"BOMBA DE PROJECAO DE CONCRETO SECO, POTENCIA 10 CV, VAZAO 6 M3/H","UN",66608.039999999994,66608.039999999994]
["SINAPI-I_SP 44489","SINAPI-I_SP",44489,"BOMBA TRIPLEX COM MOTOR A DIESEL, NACIONAL, DIAMETRO DE SUCCAO DE 2 1/2\"","UN",236356.02,236356.02]
["SINAPI-I_SP 39886","SINAPI-I_SP",39886,"BUCHA DE REDUCAO DE COBRE SEM ANEL DE SOLDA, PONTA X BOLSA, 22 X 15 MM","UN",6.3,6.3]
["SINAPI-I_SP 770","SINAPI-I_SP",770,"BUCHA DE REDUCAO DE FERRO GALVANIZADO, COM ROSCA BSP, DE 1/2\" X 1/4\"","UN",6.4,6.4]
["SINAPI-I_SP 775","SINAPI-I_SP",775,"BUCHA DE REDUCAO DE FERRO GALVANIZADO, COM ROSCA BSP, DE 2 1/2\" X 2\"","UN",49.89,49.89]
["SINAPI-I_SP 820","SINAPI-I_SP",820,"BUCHA DE REDUCAO DE PVC, SOLDAVEL, LONGA, COM 50 X 32 MM, PARA AGUA FRIA PREDIAL","UN",5.97,5.97]
["SINAPI-I_SP 39189","SINAPI-I_SP",39189,"BUCHA DE REDUCAO EM ALUMINIO, COM ROSCA, DE 1 1/2\" X 3/4\", PARA ELETRODUTO","UN",23.41,23.41]
["SINAPI-I_SP 39205","SINAPI-I_SP",39205,"BUCHA DE REDUCAO EM ALUMINIO, COM ROSCA, DE 4\" X 2 1/2\", PARA ELETRODUTO","UN",132.5,132.5]
["SINAPI-I_SP 38418","SINAPI-I_SP",38418,"BUCHA DE REDUCAO, PVC, LONGA, SERIE R, DN 50 X 40 MM, PARA ESGOTO PREDIAL","UN",5.72,5.72]
["SINAPI-I_SP 1099","SINAPI-I_SP",1099,"CABECOTE PARA ENTRADA DE LINHA DE ALIMENTACAO PARA ELETRODUTO, EM LIGA DE ALUMINIO COM ACABAMENTO ANTI CORROSIVO, COM FIXACAO POR ENCAIXE LISO DE 360 GRAUS, DE 1 1/4\"","UN",7.51,7.51]
["SINAPI-I_SP 39679","SINAPI-I_SP",39679,"CABECOTE PARA ENTRADA DE LINHA DE ALIMENTACAO PARA ELETRODUTO, EM LIGA DE ALUMINIO COM ACABAMENTO ANTI CORROSIVO, COM FIXACAO POR ENCAIXE LISO DE 360 GRAUS, DE 3 1/2\"","UN",64.53,64.53]
["SINAPI-I_SP 25005","SINAPI-I_SP",25005,"CABO DE ALUMINIO NU SEM ALMA DE ACO, BITOLA 1/0 AWG","KG",56.91,56.91]
["SINAPI-I_SP 979","SINAPI-I_SP",979,"CABO DE COBRE, FLEXIVEL, CLASSE 4 OU 5, ISOLACAO EM PVC/A, ANTICHAMA BWF-B, 1 CONDUTOR, 450/750 V, SECAO NOMINAL 16 MM2","M",15.5,15.5]
["SINAPI-I_SP 39235","SINAPI-I_SP",39235,"CABO DE COBRE, FLEXIVEL, CLASSE 4 OU 5, ISOLACAO EM PVC/A, ANTICHAMA BWF-B, 1 CONDUTOR, 450/750 V, SECAO NOMINAL 70 MM2","M",72.650000000000006,72.650000000000006]
["SINAPI-I_SP 1018","SINAPI-I_SP",1018,"CABO DE COBRE, FLEXIVEL, CLASSE 4 OU 5, ISOLACAO EM PVC/A, ANTICHAMA BWF-B, COBERTURA PVC-ST1, ANTICHAMA BWF-B, 1 CONDUTOR, 0,6/1 KV, SECAO NOMINAL 50 MM2","M",53.39,53.39]
["SINAPI-I_SP 1006","SINAPI-I_SP",1006,"CABO DE COBRE, RIGIDO, CLASSE 2, ISOLACAO EM PVC, ANTI-CHAMA BWF-B, 1 CONDUTOR, 450/750 V, DIAMETRO 120 MM2","M",128.49,128.49]
["SINAPI-I_SP 43832","SINAPI-I_SP",43832,"CABO ELETRONICO CATEGORIA 6A U/UTP 23AWG X 4P","M",22.62,22.62]
["SINAPI-I_SP 39263","SINAPI-I_SP",39263,"CABO MULTIPOLAR DE COBRE, FLEXIVEL, CLASSE 4 OU 5, ISOLACAO EM HEPR, COBERTURA EM PVC-ST2, ANTICHAMA BWF-B, 0,6/1 KV, 3 CONDUTORES DE 25 MM2","M",94.58,94.58]
["SINAPI-I_SP 11919","SINAPI-I_SP",11919,"CABO TELEFONICO CI 50, 10 PARES, USO INTERNO","M",6.75,6.75]
["SINAPI-I_SP 4433","SINAPI-I_SP",4433,"CAIBRO NAO APARELHADO *6 X 6* CM, EM MACARANDUBA/MASSARANDUBA, ANGELIM OU EQUIVALENTE DA REGIAO - BRUTA","M",29.33,29.33]
["SINAPI-I_SP 34638","SINAPI-I_SP",34638,"CAIXA D'AGUA / RESERVATORIO EM POLIETILENO, 750 LITROS, COM TAMPA","UN",423.65,423.65]
["SINAPI-I_SP 43435","SINAPI-I_SP",43435,"CAIXA DE CONCRETO ARMADO PRE-MOLDADO, COM FUNDO E SEM TAMPA, DIMENSOES DE 0,40 X 0,40 X 0,40 M","UN",245.88,245.88]
["SINAPI-I_SP 11694","SINAPI-I_SP",11694,"CAIXA DE DESCARGA PLASTICA PARA BACIA / VASO SANITARIO DE EMBUTIR, COM ESPELHO ACIONADOR EM PLASTICO, CAPACIDADE 6 A 10 LITROS, (COMPLETA - ACESSORIOS INCLUSOS)","UN",1136.43,1136.43]
["SINAPI-I_SP 39812","SINAPI-I_SP",39812,"CAIXA DE PASSAGEM ELETRICA DE PAREDE, DE EMBUTIR, EM PVC, COM TAMPA APARAFUSADA, DIMENSOES 200 X 200 X *90* MM","UN",66.61,66.61]
["SINAPI-I_SP 20253","SINAPI-I_SP",20253,"CAIXA DE PASSAGEM METALICA, DE SOBREPOR, COM TAMPA APARAFUSADA, DIMENSOES 35 X 35 X *12* CM","UN",64.849999999999994,64.849999999999994]
["SINAPI-I_SP 39693","SINAPI-I_SP",39693,"CAIXA DE PROTECAO EXTERNA PARA MEDIDOR HOROSAZONAL, DE BAIXA TENSAO, COM MODULO, EM CHAPA DE ACO (PADRAO DA CONCESSIONARIA LOCAL)","UN",2317.4699999999998,2317.4699999999998]
["SINAPI-I_SP 41068","SINAPI-I_SP",41068,"CALCETEIRO / RASTELEIRO (MENSALISTA)","MES",3856.86,4313.51]
["SINAPI-I_SP 12618","SINAPI-I_SP",12618,"CALHA / PERFIL PLUVIAL DE PVC, DIAMETRO ENTRE *119 E 170* MM, COMPRIMENTO DE 3 M, PARA DRENAGEM PLUVIAL PREDIAL","UN",180.15,180.15]
["SINAPI-I_SP 37754","SINAPI-I_SP",37754,"CAMINHAO TOCO, PESO BRUTO TOTAL 14300 KG, CARGA UTIL MAXIMA 9480 KG, DISTANCIA ENTRE EIXOS 4,80 M, POTENCIA 185 CV (INCLUI CABINE E CHASSI, NAO INCLUI CARROCERIA)","UN",515334.44,515334.44]
["SINAPI-I_SP 658","SINAPI-I_SP",658,"CANALETA DE CONCRETO 9 X 19 X 19 CM (CLASSE C - NBR 6136)","UN",1.87,1.87]
["SINAPI-I_SP 588","SINAPI-I_SP",588,"CANTONEIRA EM ALUMINIO, ABAS IGUAIS, LARGURA DE 31,75 MM (1 1/4\"), ESPESSURA DE 4,76 MM (3/16\") E PESO LINEAR DE APROXIMADAMENTE 0,755 KG/M","M",35.5,35.5]
["SINAPI-I_SP 12396","SINAPI-I_SP",12396,"CAP OU TAMPAO DE FERRO GALVANIZADO, COM ROSCA BSP, DE 3/8\"","UN",5.86,5.86]
["SINAPI-I_SP 1183","SINAPI-I_SP",1183,"CAP, PVC PBA, JE, DN 75 / DE 85 MM, PARA REDE DE AGUA (NBR 10351)","UN",22.96,22.96]
["SINAPI-I_SP 1631","SINAPI-I_SP",1631,"CAPACITOR TRIFASICO, POTENCIA 2,5 KVAR, TENSAO 220 V, FORNECIDO COM CAPA PROTETORA, RESISTOR INTERNO A UNIDADE CAPACITIVA","UN",195.5,195.5]
["SINAPI-I_SP 40915","SINAPI-I_SP",40915,"CARPINTEIRO DE ESQUADRIAS (MENSALISTA)","MES",3856.89,4313.54]
["SINAPI-I_SP 37762","SINAPI-I_SP",37762,"CAVALO MECANICO TRACAO 4X2, PESO BRUTO TOTAL 16000 KG, CAPACIDADE MAXIMA DE TRACAO *36000* KG, DISTANCIA ENTRE EIXOS *3,56* M, POTENCIA *286* CV (INCLUI CABINE E CHASSI, NAO INCLUI SEMIRREBOQUE)","UN",741956.04,741956.04]
["SINAPI-I_SP 1321","SINAPI-I_SP",1321,"CHAPA DE ACO FINA A QUENTE BITOLA MSG 13, E = 2,25 MM (18,00 KG/M2)","KG",8.49,8.49]
["SINAPI-I_SP 43106","SINAPI-I_SP",43106,"CHAPA DE ACO GALVANIZADA BITOLA GSG 24, E = 0,64 (5,12 KG/M2)","KG",10.87,10.87]
["SINAPI-I_SP 40425","SINAPI-I_SP",40425,"CHAPA DE ACO GROSSA, SAE 1020, BITOLA 1/4\", E = 6,35 MM (49,85 KG/M2)","KG",8.2100000000000009,8.2100000000000009]
["SINAPI-I_SP 34669","SINAPI-I_SP",34669,"CHAPA DE MDF BRANCO LISO 2 FACES, E = 6 MM, DE *2,75 X 1,85* M","M2",37.33,37.33]
["SINAPI-I_SP 1346","SINAPI-I_SP",1346,"CHAPA/PAINEL DE MADEIRA COMPENSADA PLASTIFICADA (MADEIRITE PLASTIFICADO) PARA FORMA DE CONCRETO, DE 2200 X 1100 MM, E = 10 MM","M2",37.020000000000003,37.020000000000003]
["SINAPI-I_SP 11976","SINAPI-I_SP",11976,"CHUMBADOR DE ACO ZINCADO, DIAMETRO 1/4\" COM PARAFUSO 1/4\" X 40 MM","UN",1.33,1.33]
["SINAPI-I_SP 44327","SINAPI-I_SP",44327,"COLA PARA TUBOS E MANTAS ELASTOMERICAS, A BASE DE SOLVENTE","L",161.57,161.57]
["SINAPI-I_SP 40699","SINAPI-I_SP",40699,"COMPACTADOR DE SOLO, TIPO PLACA VIBRATORIA NAO REVERSIVEL, A GASOLINA 4 TEMPOS, PESO 80 A 120 KG, FORCA CENTRIF. DE 1300 A 2000 KGF, LARG. TRABALHO DE 400 A 500 MM, FREQ. VIBRACAO DE 4800 A 6000 RPM, VELOCIDADE TRABALHO DE 20 A 30 M/MIN, POT. DE 5,0 A 6,0 HP","UN",7160.4,7160.4]
["SINAPI-I_SP 36526","SINAPI-I_SP",36526,"COMPRESSOR DE AR REBOCAVEL VAZAO 400 PCM, PRESSAO EFETIVA DE TRABALHO 102 PSI, MOTOR DIESEL, POTENCIA 110 CV","UN",148303.12,148303.12]
["SINAPI-I_SP 34347","SINAPI-I_SP",34347,"CONCERTINA SIMPLES EM ACO GALVANIZADO DE ALTA RESISTENCIA, COM ESPIRAL DE 300 MM, D = 2,76 MM","M",15.84,15.84]
["SINAPI-I_SP 38406","SINAPI-I_SP",38406,"CONCRETO USINADO BOMBEAVEL, CLASSE DE RESISTENCIA C30, COM BRITA 0 E 1, SLUMP = 130 +/- 20 MM, EXCLUI SERVICO DE BOMBEAMENTO (NBR 8953)","M3",473.54,473.54]
["SINAPI-I_SP 2559","SINAPI-I_SP",2559,"CONDULETE DE ALUMINIO TIPO C, PARA ELETRODUTO ROSCAVEL DE 3/4\", COM TAMPA CEGA","UN",14.59,14.59]
["SINAPI-I_SP 2571","SINAPI-I_SP",2571,"CONDULETE DE ALUMINIO TIPO LR, PARA ELETRODUTO ROSCAVEL DE 2\", COM TAMPA CEGA","UN",56.98,56.98]
["SINAPI-I_SP 2575","SINAPI-I_SP",2575,"CONDULETE DE ALUMINIO TIPO T, PARA ELETRODUTO ROSCAVEL DE 1 1/4\", COM TAMPA CEGA","UN",33.69,33.69]
["SINAPI-I_SP 12016","SINAPI-I_SP",12016,"CONDULETE EM PVC, TIPO \"LB\", SEM TAMPA, DE 1/2\" OU 3/4\"","UN",8.3000000000000007,8.3000000000000007]
["SINAPI-I_SP 39341","SINAPI-I_SP",39341,"CONDULETE EM PVC, TIPO \"T\", SEM TAMPA, DE 1\"","UN",12.07,12.07]
["SINAPI-I_SP 39863","SINAPI-I_SP",39863,"CONECTOR BRONZE/LATAO SEM ANEL DE SOLDA, BOLSA X ROSCA F, 22 MM X 1/2\"","UN",14.95,14.95]
["SINAPI-I_SP 1598","SINAPI-I_SP",1598,"CONECTOR DE ALUMINIO TIPO PRENSA CABO, BITOLA 1/2\", PARA CABOS DE DIAMETRO DE 12,5 A 15 MM","UN",13.48,13.48]
["SINAPI-I_SP 39602","SINAPI-I_SP",39602,"CONECTOR MACHO RJ 45, CATEGORIA 5 E (CAT 5E) PARA CABOS","UN",1.79,1.79]
["SINAPI-I_SP 2526","SINAPI-I_SP",2526,"CONECTOR RETO DE ALUMINIO PARA ELETRODUTO DE 1 1/4\", PARA ADAPTAR ENTRADA DE ELETRODUTO METALICO FLEXIVEL EM QUADROS","UN",5.94,5.94]
["SINAPI-I_SP 44248","SINAPI-I_SP",44248,"CONECTOR, CPVC, SOLDAVEL, 54 MM X 2\", PARA AGUA QUENTE","UN",95.57,95.57]
["SINAPI-I_SP 38851","SINAPI-I_SP",38851,"CONECTOR/ADAPTADOR FIXO, ROSCA FEMEA, METALICA, COM ANEL DESLIZANTE, DN 32 MM X 1\", PARA TUBO PEX PARA INST. AGUA QUENTE/FRIA","UN",24.46,24.46]
["SINAPI-I_SP 1614","SINAPI-I_SP",1614,"CONTATOR TRIPOLAR, CORRENTE DE 32 A, TENSAO NOMINAL DE *500* V, CATEGORIA AC-2 E AC-3","UN",355.88,355.88]
["SINAPI-I_SP 1612","SINAPI-I_SP",1612,"CONTATOR TRIPOLAR, CORRENTE DE 9 A, TENSAO NOMINAL DE *500* V, CATEGORIA AC-2 E AC-3","UN",157.41999999999999,157.41999999999999]
["SINAPI-I_SP 11280","SINAPI-I_SP",11280,"CORTADEIRA DE PISO DE CONCRETO E ASFALTO, PARA DISCO PADRAO DE DIAMETRO 350 MM (14\") OU 450 MM (18\"), MOTOR A GASOLINA, POTENCIA 13 HP, SEM DISCO","UN",12917.55,12917.55]
["SINAPI-I_SP 37437","SINAPI-I_SP",37437,"COTOVELO 45 GRAUS, PEAD PE 100, DE 63 MM, PARA ELETROFUSAO","UN",49.36,49.36]
["SINAPI-I_SP 3461","SINAPI-I_SP",3461,"COTOVELO 90 GRAUS DE FERRO GALVANIZADO, COM ROSCA BSP, DE 6\"","UN",1014.11,1014.11]
["SINAPI-I_SP 12714","SINAPI-I_SP",12714,"COTOVELO DE COBRE 90 GRAUS SEM ANEL DE SOLDA, BOLSA X BOLSA, 15 MM","UN",5.48,5.48]
["SINAPI-I_SP 43590","SINAPI-I_SP",43590,"CREMONA RETANGULAR INJETADA LISA COM CHAVE, COM CASTANHA / ALCA, EM LATAO, COM ACABAMENTO CROMADO, DE SOBREPOR / EMBUTIR","UN",138.74,138.74]
["SINAPI-I_SP 1648","SINAPI-I_SP",1648,"CRUZETA DE FERRO GALVANIZADO, COM ROSCA BSP, DE 1\"","UN",46.11,46.11]
["SINAPI-I_SP 2622","SINAPI-I_SP",2622,"CURVA 135 GRAUS PARA ELETRODUTO, EM ACO GALVANIZADO ELETROLITICO, COM ROSCA, DIAMETRO DE 15 MM (1/2\"), ESPESSURA DE 1,50 MM","UN",4.57,4.57]
["SINAPI-I_SP 39880","SINAPI-I_SP",39880,"CURVA 45 GRAUS DE COBRE SEM ANEL DE SOLDA, BOLSA X BOLSA, 22 MM","UN",12.06,12.06]
["SINAPI-I_SP 1783","SINAPI-I_SP",1783,"CURVA 45 GRAUS DE FERRO GALVANIZADO, COM ROSCA BSP MACHO/FEMEA, DE 1 1/2\"","UN",70.83,70.83]
["SINAPI-I_SP 40381","SINAPI-I_SP",40381,"CURVA 45 GRAUS EM ACO CARBONO, SOLDAVEL, PRESSAO 3.000 LBS, DN 3/4\"","UN",26.65,26.65]
["SINAPI-I_SP 1791","SINAPI-I_SP",1791,"CURVA 90 GRAUS DE FERRO GALVANIZADO, COM ROSCA BSP FEMEA, DE 2 1/2\"","UN",256.04000000000002,256.04000000000002]
["SINAPI-I_SP 1815","SINAPI-I_SP",1815,"CURVA 90 GRAUS DE FERRO GALVANIZADO, COM ROSCA BSP MACHO, DE 2 1/2\"","UN",318.95999999999998,318.95999999999998]
["SINAPI-I_SP 40385","SINAPI-I_SP",40385,"CURVA 90 GRAUS EM ACO CARBONO, RAIO CURTO, SOLDAVEL, PRESSAO 3.000 LBS, DN 1 1/2\"","UN",84.46,84.46]
["SINAPI-I_SP 39273","SINAPI-I_SP",39273,"CURVA 90 GRAUS, CURTA, DE PVC RIGIDO ROSCAVEL, DE 1\", PARA ELETRODUTO","UN",2.69,2.69]
["SINAPI-I_SP 1926","SINAPI-I_SP",1926,"CURVA DE PVC 45 GRAUS, SOLDAVEL, 20 MM, COR MARROM, PARA AGUA FRIA PREDIAL","UN",2.2799999999999998,2.2799999999999998]
["SINAPI-I_SP 39867","SINAPI-I_SP",39867,"CURVA DE TRANSPOSICAO BRONZE/LATAO SEM ANEL DE SOLDA, BOLSA X BOLSA, 22 MM","UN",43.1,43.1]
["SINAPI-I_SP 1865","SINAPI-I_SP",1865,"CURVA LONGA PVC, PB, JE, 90 GRAUS, DN 150 MM, PARA REDE COLETORA ESGOTO","UN",164.38,164.38]
["SINAPI-I_SP 1966","SINAPI-I_SP",1966,"CURVA PVC CURTA 90 GRAUS, DN 100 MM, PARA ESGOTO PREDIAL","UN",25.16,25.16]
["SINAPI-I_SP 20096","SINAPI-I_SP",20096,"CURVA PVC, SERIE R, 87.30 GRAUS, CURTA, PARA PE-DE-COLUNA, DN 75 MM, PARA ESGOTO PREDIAL","UN",27.73,27.73]
["SINAPI-I_SP 44495","SINAPI-I_SP",44495,"DISCO DE CORTE PARA METAL COM DUAS TELAS 12 X 1/8 X 3/4\" (300 X 3,2 X 19,05 MM)","UN",26.49,26.49]
["SINAPI-I_SP 2393","SINAPI-I_SP",2393,"DISJUNTOR TERMOMAGNETICO TRIPOLAR 250 A / 600 V, TIPO FXD","UN",859.57,859.57]
[{"$f":"CONCATENATE($B17539,\" \",$C17539)","v":"SINAPI-I_SP 39465"},"SINAPI-I_SP",39465,"DISPOSITIVO DPS CLASSE II, 1 POLO, TENSAO MAXIMA DE 175 V, CORRENTE MAXIMA DE *20* KA (TIPO AC)","UN",62.97,62.97]
["SINAPI-I_SP 39480","SINAPI-I_SP",39480,"DISPOSITIVO DPS CLASSE II, 1 POLO, TENSAO MAXIMA DE 460 V, CORRENTE MAXIMA DE *90* KA (TIPO AC)","UN",304.08,304.08]
["SINAPI-I_SP 39456","SINAPI-I_SP",39456,"DISPOSITIVO DR, 4 POLOS, SENSIBILIDADE DE 30 MA, CORRENTE DE 40 A, TIPO AC","UN",147.75,147.75]
["SINAPI-I_SP 2401","SINAPI-I_SP",2401,"DISTRIBUIDOR DE AGREGADOS REBOCAVEL, CAPACIDADE 1,9 M3, LARGURA DE TRABALHO 3,66 M","UN",89991.11,89991.11]
["SINAPI-I_SP 2433","SINAPI-I_SP",2433,"DOBRADICA EM ACO/FERRO, 3\" X 2 1/2\", E= 1,2 A 1,8 MM, SEM ANEL, CROMADO OU ZINCADO, TAMPA CHATA, COM PARAFUSOS","UN",12.14,12.14]
["SINAPI-I_SP 10577","SINAPI-I_SP",10577,"ELEMENTO VAZADO DE CONCRETO, QUADRICULADO, 25 FUROS *50 X 50 X 5* CM","UN",31.22,31.22]
["SINAPI-I_SP 2682","SINAPI-I_SP",2682,"ELETRODUTO DE PVC RIGIDO ROSCAVEL DE 2 1/2 \", SEM LUVA","M",23.49,23.49]
["SINAPI-I_SP 2678","SINAPI-I_SP",2678,"ELETRODUTO DE PVC RIGIDO SOLDAVEL, CLASSE B, DE 25 MM","M",2.52,2.52]
["SINAPI-I_SP 2689","SINAPI-I_SP",2689,"ELETRODUTO PVC FLEXIVEL CORRUGADO, COR AMARELA, DE 20 MM","M",2.09,2.09]
["SINAPI-I_SP 39254","SINAPI-I_SP",39254,"ELETRODUTO/CONDULETE DE PVC RIGIDO, LISO, COR CINZA, DE 1/2\", PARA INSTALACOES APARENTES (NBR 5410)","M",9.94,9.94]
["SINAPI-I_SP 2696","SINAPI-I_SP",2696,"ENCANADOR OU BOMBEIRO HIDRAULICO (HORISTA)","H",26.41,29.54]
["SINAPI-I_SP 43482","SINAPI-I_SP",43482,"EPI - FAMILIA ALMOXARIFE - HORISTA (ENCARGOS COMPLEMENTARES - COLETADO CAIXA)","H",0.81,0.81]
["SINAPI-I_SP 43495","SINAPI-I_SP",43495,"EPI - FAMILIA CARPINTEIRO DE FORMAS - MENSALISTA (ENCARGOS COMPLEMENTARES - COLETADO CAIXA)","MES",270.51,270.51]
["SINAPI-I_SP 43491","SINAPI-I_SP",43491,"EPI - FAMILIA SERVENTE - HORISTA (ENCARGOS COMPLEMENTARES - COLETADO CAIXA)","H",1.39,1.39]
["SINAPI-I_SP 45112","SINAPI-I_SP",45112,"ESCAVADEIRA HIDRAULICA DE BRACO LONGO (LONGO ALCANCE) SOBRE ESTEIRAS, CACAMBA 0,52 M3, PESO OPERACIONAL 24 T, POTENCIA LIQUIDA 155 HP","UN",1106276.27,1106276.27]
["SINAPI-I_SP 40433","SINAPI-I_SP",40433,"ESPACADOR/SEPARADOR DE CORDOALHA TIPO DISCO 12 FUROS DE 14 MM, PARA TIRANTES","UN",1.58,1.58]
["SINAPI-I_SP 11557","SINAPI-I_SP",11557,"ESPELHO, RETO OU CURVO, EM LATAO CROMADO, ESPESSURA MINIMA 6 MM, LARGURA *43*MM, ALTURA *230*MM - PARA FECHADURA DE EMBUTIR","PAR",33.1,33.1]
["SINAPI-I_SP 2762","SINAPI-I_SP",2762,"ESTOPIM SIMPLES","M",12.1,12.1]
["SINAPI-I_SP 38475","SINAPI-I_SP",38475,"EXTENSAO DE SOLDA 201 ACETILENO, E = *1,5 A 2,5* MM","UN",49.35,49.35]
["SINAPI-I_SP 43613","SINAPI-I_SP",43613,"FECHADURA BICO DE PAPAGAIO PARA PORTA DE CORRER INTERNA, EM ACO INOX COM ACABAMENTO CROMADO, MAQUINA COM 45 MM, INCLUINDO CHAVE TIPO BIPARTIDA","CJ",97.02,97.02]
["SINAPI-I_SP 38165","SINAPI-I_SP",38165,"FECHO / FECHADURA COM PUXADOR CONCHA, COM TRANCA TIPO TRAVA, PARA JANELA / PORTA DE CORRER (INCLUI TESTA, FECHADURA, PUXADOR) - COMPLETA","CJ",62.9,62.9]
["SINAPI-I_SP 43470","SINAPI-I_SP",43470,"FERRAMENTAS - FAMILIA ALMOXARIFE - MENSALISTA (ENCARGOS COMPLEMENTARES - COLETADO CAIXA)","MES",11.14,11.14]
["SINAPI-I_SP 43481","SINAPI-I_SP",43481,"FERRAMENTAS - FAMILIA TOPOGRAFO - MENSALISTA (ENCARGOS COMPLEMENTARES - COLETADO CAIXA)","MES",9.89,9.89]
["SINAPI-I_SP 11455","SINAPI-I_SP",11455,"FERROLHO COM FECHO / TRINCO REDONDO, EM ACO GALVANIZADO / ZINCADO, DE SOBREPOR, COM COMPRIMENTO DE 8\" E ESPESSURA MINIMA DA CHAPA DE 1,50 MM","UN",15.27,15.27]
["SINAPI-I_SP 14146","SINAPI-I_SP",14146,"FINCAPINO LONGO CALIBRE 22, CARGA FORTE POTENCIA 7 (PARA FERRAMENTA DE ACAO DIRETA), COR AMARELA","CENTO",75.989999999999995,75.989999999999995]
["SINAPI-I_SP 20111","SINAPI-I_SP",20111,"FITA ISOLANTE ADESIVA ANTICHAMA, USO ATE 750 V, EM ROLO DE 19 MM X 20 M","UN",20.86,20.86]
["SINAPI-I_SP 3266","SINAPI-I_SP",3266,"FLANGE SEXTAVADO DE FERRO GALVANIZADO, COM ROSCA BSP, DE 2\"","UN",70.069999999999993,70.069999999999993]
["SINAPI-I_SP 3287","SINAPI-I_SP",3287,"FORRO DE MADEIRA CUMARU/IPE CHAMPANHE OU EQUIVALENTE DA REGIAO, ENCAIXE MACHO/FEMEA COM FRISO, *10 X 1* CM (SEM COLOCACAO)","M2",140,140]
["SINAPI-I_SP 14576","SINAPI-I_SP",14576,"FRESADORA DE ASFALTO A FRIO SOBRE ESTEIRAS, LARG. FRESAGEM 2,00 M, POT. 410 KW/550 HP","UN",5599073.21,5599073.21]
["SINAPI-I_SP 11588","SINAPI-I_SP",11588,"GABIAO MANTA (COLCHAO) MALHA HEXAGONAL 6 X 8 CM (ZN/AL REVESTIDO COM POLIMERO), FIO 2 MM, DIMENSOES 4,0 X 2,0 X 0,23 M (C X L X A)","UN",1330.98,1330.98]
["SINAPI-I_SP 34635","SINAPI-I_SP",34635,"GABIAO TIPO CAIXA PARA SOLO REFORCADO, MALHA HEXAGONAL DE DUPLA TORCAO 8 X 10 CM (ZN/AL REVESTIDO COM POLIMERO), FIO 2,7 MM, DIMENSOES 2,0 X 1,0 X 1,0 M, COM CAUDA DE 3,0 M","UN",1046.24,1046.24]
["SINAPI-I_SP 4018","SINAPI-I_SP",4018,"GEOTEXTIL NAO TECIDO AGULHADO DE FILAMENTOS CONTINUOS 100% POLIESTER, RESITENCIA A TRACAO = 31 KN/M","M2",23.95,23.95]
["SINAPI-I_SP 11837","SINAPI-I_SP",11837,"GRAMPO LINHA VIVA DE LATAO ESTANHADO, DIAMETRO DO CONDUTOR PRINCIPAL DE 10 A 120 MM2, DIAMETRO DA DERIVACAO DE 10 A 70 MM2","UN",77.12,77.12]
["SINAPI-I_SP 11244","SINAPI-I_SP",11244,"GRELHA FOFO ARTICULADA, CARGA MAXIMA 1,5 T, *300 X 1000* MM, E= *15* MM","UN",247.21,247.21]
["SINAPI-I_SP 13333","SINAPI-I_SP",13333,"GRUPO GERADOR DE SOLDA ELETRICA, COM MAQUINA DE SOLDA, ATE 400 AMPERES E GERADOR A DIESEL 60 CV, MOTOR 4 CILINDROS, TANQUE COMBUST., CARENAGEM DE PROTECAO SOBRE RODAS","UN",264340.36,264340.36]
["SINAPI-I_SP 39593","SINAPI-I_SP",39593,"GRUPO GERADOR DIESEL, SEM CARENAGEM, POTENCIA STANDART ENTRE 250 E 260 KVA, VELOCIDADE DE 1800 RPM, FREQUENCIA DE 60 HZ","UN",243835.09,243835.09]
["SINAPI-I_SP 37776","SINAPI-I_SP",37776,"GUINDAUTO HIDRAULICO, CAPACIDADE MAXIMA DE CARGA 10000 KG, MOMENTO MAXIMO DE CARGA 23 TM, ALCANCE MAXIMO HORIZONTAL 11,80 M, PARA MONTAGEM SOBRE CHASSI DE CAMINHAO PBT MINIMO 15000 KG (INCLUI MONTAGEM, NAO INCLUI CAMINHAO)","UN",259536.14,259536.14]
["SINAPI-I_SP 4314","SINAPI-I_SP",4314,"HASTE RETA PARA GANCHO DE FERRO GALVANIZADO, COM ROSCA 5/16\" X 45 CM PARA FIXACAO DE TELHA DE FIBROCIMENTO, INCLUI PORCA E ARRUELAS DE VEDACAO","CJ",4.04,4.04]
["SINAPI-I_SP 12776","SINAPI-I_SP",12776,"HIDROMETRO WOLTMANN, DN 2\", VAZAO MAXIMA DE 50 M3/H, PARA AGUA POTAVEL FRIA, RELOJOARIA PLANA, TURBINA HORIZONTAL, EQUIPADO COM TELEMETRIA (SEM CONEXOES)","UN",2129.02,2129.02]
["SINAPI-I_SP 38077","SINAPI-I_SP",38077,"INTERRUPTOR SIMPLES + TOMADA 2P+T 10A, 250V, CONJUNTO MONTADO PARA EMBUTIR 4\" X 2\" (PLACA + SUPORTE + MODULOS)","UN",15.79,15.79]
["SINAPI-I_SP 38071","SINAPI-I_SP",38071,"INTERRUPTORES SIMPLES (3 MODULOS) 10A, 250V, CONJUNTO MONTADO PARA EMBUTIR 4\" X 2\" (PLACA + SUPORTE + MODULOS)","UN",17.88,17.88]
["SINAPI-I_SP 11190","SINAPI-I_SP",11190,"JANELA BASCULANTE, ACO, COM BATENTE/REQUADRO, 60 X 60 CM (SEM VIDROS)","UN",187.19,187.19]
["SINAPI-I_SP 44053","SINAPI-I_SP",44053,"JANELA INTEGRADA VENEZIANA EM ALUMINIO PERFIL 25, 120 X 120 CM (A X L), 2 FLS (2 VIDROS) E VENEZIANA COM ACIONAMENTO MANUAL, SEM BANDEIRA, ACABAMENTO BRILHANTE, BATENTE DE 11,50 A 12,50 CM, COM VIDRO 4 MM, INCLUSO GUARNICAO","UN",1574.65,1574.65]
["SINAPI-I_SP 37970","SINAPI-I_SP",37970,"JOELHO CPVC, SOLDAVEL, 45 GRAUS, 89 MM, PARA AGUA QUENTE","UN",204.62,204.62]
["SINAPI-I_SP 38987","SINAPI-I_SP",38987,"JOELHO PPR 45 GRAUS, SOLDAVEL, F/F, DN 40 MM, PARA AQUA QUENTE E FRIA PREDIAL","UN",12.98,12.98]
["SINAPI-I_SP 3510","SINAPI-I_SP",3510,"JOELHO PVC, 90 GRAUS, ROSCAVEL, 1 1/4\", COR BRANCA, AGUA FRIA PREDIAL","UN",13.17,13.17]
["SINAPI-I_SP 3482","SINAPI-I_SP",3482,"JOELHO PVC, ROSCAVEL, 90 GRAUS, 1\", COR BRANCA, PARA AGUA FRIA PREDIAL","UN",5.68,5.68]
["SINAPI-I_SP 37951","SINAPI-I_SP",37951,"JOELHO PVC, SOLDAVEL, PB, 45 GRAUS, DN 40 MM, PARA ESGOTO PREDIAL","UN",2.66,2.66]
["SINAPI-I_SP 20151","SINAPI-I_SP",20151,"JOELHO, PVC SERIE R, 45 GRAUS, DN 100 MM, PARA ESGOTO PREDIAL","UN",22.04,22.04]
["SINAPI-I_SP 38913","SINAPI-I_SP",38913,"JOELHO/COTOVELO 90 GRAUS, METALICO, PARA CONEXAO COM ANEL DESLIZANTE, DN 16 MM, EM TUBO PEX PARA INST. AGUA QUENTE/FRIA","UN",11.18,11.18]
["SINAPI-I_SP 38919","SINAPI-I_SP",38919,"JOELHO/COTOVELO 90 GRAUS, ROSCA FEMEA, COM BASE FIXA, METALICO, PARA CONEXAO COM ANEL DESLIZANTE, DN 20 MM X 1/2\", EM TUBO PEX PARA INST. AGUA QUENTE/FRIA","UN",15.1,15.1]
["SINAPI-I_SP 3659","SINAPI-I_SP",3659,"JUNCAO SIMPLES DE REDUCAO, PVC, DN 100 X 50 MM, SERIE NORMAL PARA ESGOTO PREDIAL","UN",20.190000000000001,20.190000000000001]
["SINAPI-I_SP 20146","SINAPI-I_SP",20146,"JUNCAO SIMPLES, PVC SERIE R, DN 150 X 150 MM, PARA ESGOTO PREDIAL","UN",197.19,197.19]
["SINAPI-I_SP 39876","SINAPI-I_SP",39876,"JUNTA DE EXPANSAO BRONZE/LATAO, PONTA X PONTA, 42 MM","UN",863.04,863.04]
["SINAPI-I_SP 39486","SINAPI-I_SP",39486,"KIT PORTA PRONTA DE MADEIRA, FOLHA LEVE (NBR 15930) DE 600 X 2100 MM OU 700 X 2100 MM, DE 35 MM A 40 MM DE ESPESSURA, NUCLEO COLMEIA, ESTRUTURA USINADA PARA FECHADURA, CAPA LISA EM HDF, ACABAMENTO EM PRIMER PARA PINTURA (INCLUI MARCO, ALIZARES E DOBRADICAS)","UN",561.04999999999995,561.04999999999995]
["SINAPI-I_SP 43621","SINAPI-I_SP",43621,"KIT PORTA PRONTA DE MADEIRA, FOLHA PESADA (NBR 15930) DE 900 X 2100 MM, DE 40 MM A 45 MM DE ESPESSURA, COM MARCO EM ACO, NUCLEO SOLIDO, CAPA LISA EM HDF, ACABAMENTO MELAMINICO BRANCO (INCLUI MARCO, ALIZARES, DOBRADICAS E FECHADURA)","UN",1076.3900000000001,1076.3900000000001]
["SINAPI-I_SP 3731","SINAPI-I_SP",3731,"LADRILHO HIDRAULICO, *20 X 20* CM, E= 2 CM, PADRAO DADOS, COR NATURAL","M2",101.21,101.21]
["SINAPI-I_SP 38194","SINAPI-I_SP",38194,"LAMPADA LED 10 W BIVOLT BRANCA, FORMATO TRADICIONAL (BASE E27)","UN",4.29,4.29]
["SINAPI-I_SP 10431","SINAPI-I_SP",10431,"LAVATORIO DE LOUCA COLORIDA, COM COLUNA, DIMENSOES *54 X 44* CM (L X C)","UN",308.44,308.44]
["SINAPI-I_SP 13192","SINAPI-I_SP",13192,"LIXADEIRA ELETRICA ANGULAR PARA CONCRETO, POTENCIA 1.400 W, PRATO DIAMANTADO DE 5\"","UN",5828.67,5828.67]
["SINAPI-I_SP 4085","SINAPI-I_SP",4085,"LOCACAO DE BOMBA SUBMERSIVEL PARA DRENAGEM E ESGOTAMENTO, MOTOR ELETRICO TRIFASICO, POTENCIA DE 4 CV, DIAMETRO DE RECALQUE DE 3\". FAIXA DE OPERACAO Q=60 M3/H (+ OU - 1 M3/H) E AMT=2 M, Q=11 M3/H (+ OU - 1 M3/H) E AMT = 23 M (+ OU - 1 M)","H",3.13,3.13]
["SINAPI-I_SP 42248","SINAPI-I_SP",42248,"LUMINARIA DE LED PARA ILUMINACAO PUBLICA, DE 181 W ATE 239 W, INVOLUCRO EM ALUMINIO OU ACO INOX","UN",427.3,427.3]
["SINAPI-I_SP 42243","SINAPI-I_SP",42243,"LUMINARIA DE LED PARA ILUMINACAO PUBLICA, DE 98 W ATE 137 W, INVOLUCRO EM ALUMINIO OU ACO INOX","UN",272.29000000000002,272.29000000000002]
["SINAPI-I_SP 43543","SINAPI-I_SP",43543,"LUMINARIA TIPO TARTARUGA A PROVA DE TEMPO, GASES, VAPOR E PO, EM ALUMINIO, COM GRADE, BASE E27, POTENCIA MAXIMA 100 W (NAO INCLUI LAMPADA)","UN",158.76,158.76]
["SINAPI-I_SP 12725","SINAPI-I_SP",12725,"LUVA DE COBRE SEM ANEL DE SOLDA, BOLSA X BOLSA, 28 MM","UN",11.76,11.76]
["SINAPI-I_SP 38022","SINAPI-I_SP",38022,"LUVA DE CORRER PARA TUBO SOLDAVEL, PVC, 60 MM, PARA AGUA FRIA PREDIAL","UN",41.02,41.02]
["SINAPI-I_SP 20165","SINAPI-I_SP",20165,"LUVA DE CORRER, PVC SERIE R, 100 MM, PARA ESGOTO PREDIAL","UN",26.44,26.44]
["SINAPI-I_SP 3913","SINAPI-I_SP",3913,"LUVA DE FERRO GALVANIZADO, COM ROSCA BSP, DE 2 1/2\"","UN",71.53,71.53]
["SINAPI-I_SP 3924","SINAPI-I_SP",3924,"LUVA DE REDUCAO DE FERRO GALVANIZADO, COM ROSCA BSP, DE 1 1/2\" X 1\"","UN",27.2,27.2]
["SINAPI-I_SP 3933","SINAPI-I_SP",3933,"LUVA DE REDUCAO DE FERRO GALVANIZADO, COM ROSCA BSP, DE 4\" X 2\"","UN",200.94,200.94]
["SINAPI-I_SP 21120","SINAPI-I_SP",21120,"LUVA DE TRANSICAO, CPVC, 15 MM X 1/2\", PARA AGUA QUENTE PREDIAL","UN",12.62,12.62]
["SINAPI-I_SP 1901","SINAPI-I_SP",1901,"LUVA EM PVC RIGIDO ROSCAVEL, DE 1/2\", PARA ELETRODUTO","UN",0.61,0.61]
["SINAPI-I_SP 44281","SINAPI-I_SP",44281,"LUVA PARA PERFURATRIZ DE ESTEIRA T38, D = 1 1/2\"","UN",272.33999999999997,272.33999999999997]
["SINAPI-I_SP 3862","SINAPI-I_SP",3862,"LUVA PVC SOLDAVEL, 40 MM, PARA AGUA FRIA PREDIAL","UN",4.45,4.45]
["SINAPI-I_SP 12892","SINAPI-I_SP",12892,"LUVA RASPA DE COURO, CANO CURTO (PUNHO *7* CM)","PAR",12.28,12.28]
["SINAPI-I_SP 38676","SINAPI-I_SP",38676,"LUVA SIMPLES, PVC, SOLDAVEL, DN 150 MM, SERIE NORMAL, PARA ESGOTO PREDIAL","UN",35.39,35.39]
["SINAPI-I_SP 37428","SINAPI-I_SP",37428,"LUVA, PEAD PE 100, DE 200 MM, PARA ELETROFUSAO","UN",223.39,223.39]
["SINAPI-I_SP 39308","SINAPI-I_SP",39308,"LUVA/UNIAO, PLASTICA, PARA CONEXAO COM CRIMPAGEM, DN 16 MM, EM TUBO PEX PARA INST. AGUA QUENTE/FRIA","UN",6.84,6.84]
["SINAPI-I_SP 11519","SINAPI-I_SP",11519,"MACANETA ALAVANCA RETA OCA, EM ZAMAC COM ACABAMENTO CROMADO, COMPRIMENTO APROX DE 15 CM","PAR",60.25,60.25]
["SINAPI-I_SP 37527","SINAPI-I_SP",37527,"MANGUEIRA DE INCENDIO, TIPO 2, DE 1 1/2\", COMPRIMENTO = 15 M, TECIDO EM FIO DE POLIESTER E TUBO INTERNO EM BORRACHA SINTETICA, COM UNIOES ENGATE RAPIDO","UN",514.72,514.72]
["SINAPI-I_SP 21037","SINAPI-I_SP",21037,"MANGUEIRA DE INCENDIO, TIPO 2, DE 2 1/2\", COMPRIMENTO = 30 M, TECIDO EM FIO DE POLIESTER E TUBO INTERNO EM BORRACHA SINTETICA, COM UNIOES ENGATE RAPIDO","UN",1205.03,1205.03]
["SINAPI-I_SP 39323","SINAPI-I_SP",39323,"MANTA GEOTEXTIL TECIDO DE LAMINETES DE POLIPROPILENO, RESISTENCIA A TRACAO = *25* KN/M","M2",25.02,25.02]
["SINAPI-I_SP 43609","SINAPI-I_SP",43609,"MAQUINA DE 40 MM PARA FECHADURA, PARA PORTA INTERNA, EM ACO INOX","UN",38.270000000000003,38.270000000000003]
["SINAPI-I_SP 40703","SINAPI-I_SP",40703,"MARTELO DEMOLIDOR ELETRICO, COM POTENCIA DE 2.000 W, FREQUENCIA DE 1.000 IMPACTOS POR MINUTO, FORCA DE IMPACTO ENTRE 60 E 65 J, PESO DE 30 KG","UN",10714.5,10714.5]
["SINAPI-I_SP 14531","SINAPI-I_SP",14531,"MARTELO DEMOLIDOR PNEUMATICO MANUAL, COM REDUCAO DE VIBRACAO, PESO DE 21 KG","UN",19975.86,19975.86]
[{"$f":"CONCATENATE($B18755,\" \",$C18755)","v":"SINAPI-I_SP 4058"},"SINAPI-I_SP",4058,"MECANICO DE EQUIPAMENTOS PESADOS (HORISTA)","H",29.88,33.42]
["SINAPI-I_SP 38592","SINAPI-I_SP",38592,"MEIO BLOCO DE CONCRETO ESTRUTURAL 14 X 19 X 14 CM, FBK 14 MPA (NBR 6136)","UN",2.91,2.91]
["SINAPI-I_SP 41680","SINAPI-I_SP",41680,"MEIO-FIO OU GUIA DE CONCRETO PRE-MOLDADO, COMP *39* CM, *19 X 6,5/6,5* CM (H X L1/L2)","UN",12.65,12.65]
["SINAPI-I_SP 11699","SINAPI-I_SP",11699,"MICTORIO INDIVIDUAL ACO INOX (AISI 304), E = 0,8 MM, DE *50 X 45 X 35* (C X A X P)","UN",844.76,844.76]
["SINAPI-I_SP 37546","SINAPI-I_SP",37546,"MISTURADOR DE ARGAMASSA, EIXO HORIZONTAL, CAPACIDADE DE MISTURA 160 KG, MOTOR ELETRICO TRIFASICO 220/380 V, POTENCIA 3 CV","UN",12780.45,12780.45]
["SINAPI-I_SP 37544","SINAPI-I_SP",37544,"MISTURADOR DE ARGAMASSA, EIXO HORIZONTAL, CAPACIDADE DE MISTURA 300 KG, MOTOR ELETRICO TRIFASICO 220/380 V, POTENCIA 5 CV","UN",13517.47,13517.47]
["SINAPI-I_SP 14252","SINAPI-I_SP",14252,"MOTOBOMBA AUTOESCORVANTE MOTOR A GASOLINA, POTENCIA 6,0HP, BOCAIS 3\" X 3\", HM/Q = 5 MCA / 24 M3/H A 52,5 MCA / 5,0 M3/H","UN",3145.99,3145.99]
["SINAPI-I_SP 39404","SINAPI-I_SP",39404,"MOTOR A GASOLINA PARA VIBRADOR DE IMERSAO, 4 TEMPOS, DE 5,5 CV","UN",2192.81,2192.81]
["SINAPI-I_SP 365","SINAPI-I_SP",365,"MUDA DE ARBUSTO FOLHAGEM, SANSAO-DO-CAMPO OU EQUIVALENTE DA REGIAO, H= *50 A 70* CM","UN",42.22,42.22]
["SINAPI-I_SP 4205","SINAPI-I_SP",4205,"NIPLE DE REDUCAO DE FERRO GALVANIZADO, COM ROSCA BSP, DE 1 1/2\" X 1 1/4\"","UN",33.32,33.32]
["SINAPI-I_SP 4206","SINAPI-I_SP",4206,"NIPLE DE REDUCAO DE FERRO GALVANIZADO, COM ROSCA BSP, DE 1 1/4\" X 1\"","UN",26.03,26.03]
["SINAPI-I_SP 40371","SINAPI-I_SP",40371,"NIPLE SEXTAVADO EM ACO CARBONO, COM ROSCA BSP, PRESSAO 3.000 LBS, DN 2\"","UN",88.19,88.19]
["SINAPI-I_SP 38170","SINAPI-I_SP",38170,"OLHO MAGICO PARA PORTAS, EM LATAO, COM LENTE DE POLICARBONATO, ANGULO DE *200* GRAUS, ESPESSURA ENTRE *25 E 46* MM, INCLUINDO FECHO JANELA","UN",18.510000000000002,18.510000000000002]
["SINAPI-I_SP 40987","SINAPI-I_SP",40987,"OPERADOR DE ESCAVADEIRA (MENSALISTA)","MES",4791.59,5358.9]
["SINAPI-I_SP 14221","SINAPI-I_SP",14221,"PA CARREGADEIRA SOBRE RODAS, POTENCIA 152 HP, CAPACIDADE DA CACAMBA DE 1,53 A 2,30 M3, PESO OPERACIONAL MAXIMO DE 10216 KG","UN",612686.64,612686.64]
["SINAPI-I_SP 38366","SINAPI-I_SP",38366,"PAPEL KRAFT BETUMADO","M2",5.78,5.78]
["SINAPI-I_SP 4273","SINAPI-I_SP",4273,"PARA-RAIOS DE DISTRIBUICAO, TENSAO NOMINAL 30 KV, CORRENTE NOMINAL DE DESCARGA 10 KA","UN",382.87,382.87]
["SINAPI-I_SP 39435","SINAPI-I_SP",39435,"PARAFUSO DRY WALL, EM ACO FOSFATIZADO, CABECA TROMBETA E PONTA AGULHA (TA), COMPRIMENTO 25 MM","UN",0.11,0.11]
["SINAPI-I_SP 4343","SINAPI-I_SP",4343,"PARAFUSO FRANCES ZINCADO, DIAMETRO 1/2\", COMPRIMENTO 4\", COM PORCA E ARRUELA","UN",5.15,5.15]
["SINAPI-I_SP 4320","SINAPI-I_SP",4320,"PARAFUSO ZINCADO 5/16\" X 250 MM PARA FIXACAO DE TELHA DE FIBROCIMENTO CANALETE 49, INCLUI BUCHA NYLON S-10","UN",3.73,3.73]
["SINAPI-I_SP 4300","SINAPI-I_SP",4300,"PARAFUSO ZINCADO ROSCA SOBERBA, CABECA SEXTAVADA, 5/16\" X 50 MM, PARA FIXACAO DE TELHA EM MADEIRA","UN",1.01,1.01]
["SINAPI-I_SP 41066","SINAPI-I_SP",41066,"PASTILHEIRO (MENSALISTA)","MES",3856.89,4313.54]
["SINAPI-I_SP 39594","SINAPI-I_SP",39594,"PATCH PANEL, 24 PORTAS, CATEGORIA 5E, COM RACKS DE 19\" DE LARGURA E 1 U DE ALTURA","UN",334.89,334.89]
["SINAPI-I_SP 4710","SINAPI-I_SP",4710,"PEDRA QUARTZITO OU CALCARIO LAMINADO, SERRADA, TIPO CARIRI, ITACOLOMI, LAGOA SANTA, LUMINARIA, PIRENOPOLIS, SAO TOME OU OUTRAS SIMILARES DA REGIAO, *20 X *40 CM, E= *1,5 A *2,5 CM","M2",255.82,255.82]
["SINAPI-I_SP 39427","SINAPI-I_SP",39427,"PERFIL CANALETA, FORMATO C, EM ACO ZINCADO, PARA ESTRUTURA FORRO DRYWALL, E = 0,5 MM, *46 X 18* (L X H), COMPRIMENTO 3 M","M",4.3,4.3]
["SINAPI-I_SP 39422","SINAPI-I_SP",39422,"PERFIL MONTANTE, FORMATO C, EM ACO ZINCADO, PARA ESTRUTURA PAREDE DRYWALL, E = 0,5 MM, 70 X 3000 MM (L X C)","M",6.63,6.63]
["SINAPI-I_SP 38541","SINAPI-I_SP",38541,"PERFURATRIZ COM TORRE METALICA PARA EXECUCAO DE ESTACA HELICE CONTINUA, PROFUNDIDADE MAXIMA DE 30 M, DIAMETRO MAXIMO DE 800 MM, POTENCIA INSTALADA DE 268 HP, MESA ROTATIVA COM TORQUE MAXIMO DE 170 KNM","UN",4594594.59,4594594.59]
["SINAPI-I_SP 44548","SINAPI-I_SP",44548,"PERFURATRIZ PARA FURO DIRECIONAL HORIZONTAL (HDD) COM CAPACIDADE ATE 89 KN, POTENCIA 24,8 HP A 80 HP (INCLUSO FERRAMENTAS E LOCALIZADOR), PARA REDE SUBTERRANEA","UN",2847739.95,2847739.95]
["SINAPI-I_SP 14147","SINAPI-I_SP",14147,"PINO DE ACO COM ROSCA 1/4 \", COMPRIMENTO DA HASTE = 30 MM E ROSCA = 20 MM (ACAO DIRETA)","CENTO",59.53,59.53]
["SINAPI-I_SP 1287","SINAPI-I_SP",1287,"PISO EM CERAMICA ESMALTADA, COR LISA, PEI MAIOR OU IGUAL A 4, FORMATO MENOR OU IGUAL A 2025 CM2","M2",27.3,27.3]
["SINAPI-I_SP 38135","SINAPI-I_SP",38135,"PISO TATIL / PODOTATIL, LADRILHO HIDRAULICO / CONCRETO, *25 X 25* CM, E= *2,5* CM, PADRAO TATIL ALERTA OU DIRECIONAL, COR AMARELA","M2",113.46,113.46]
["SINAPI-I_SP 39414","SINAPI-I_SP",39414,"PLACA / CHAPA DE GESSO ACARTONADO, RESISTENTE AO FOGO (RF), COR ROSA, E = 12,5 MM, 1200 X 1800 MM (L X C)","M2",25.97,25.97]
["SINAPI-I_SP 43741","SINAPI-I_SP",43741,"PLACA / CHAPA DE GESSO ACARTONADO, STANDARD (ST), COR BRANCA, E = 15 MM, 1200 X 2400 MM (L X C)","M2",21.61,21.61]
["SINAPI-I_SP 42438","SINAPI-I_SP",42438,"PLACA ORIENTATIVA SOBRE EXERCICIOS, 2,00 M X 1,00 M (CHAPA GALVANIZADA #20), ESTRUTURA EM TUBOS REDONDOS DE ACO CARBONO, PINTURA NO PROCESSO ELETROSTATICO, ADESIVO FRENTE E VERSO - PARA ACADEMIA AO AR LIVRE / ACADEMIA DA TERCEIRA IDADE - ATI","UN",2090.75,2090.75]
["SINAPI-I_SP 4888","SINAPI-I_SP",4888,"PLUG OU BUJAO DE FERRO GALVANIZADO, DE 1/2\"","UN",4.5999999999999996,4.5999999999999996]
["SINAPI-I_SP 2745","SINAPI-I_SP",2745,"PONTALETE ROLICO SEM TRATAMENTO, D = 8 A 11 CM, H = 3 M, EM EUCALIPTO OU EQUIVALENTE DA REGIAO - BRUTA (PARA ESCORAMENTO)","M",3.88,3.88]
["SINAPI-I_SP 4989","SINAPI-I_SP",4989,"PORTA DE ABRIR / GIRO, DE MADEIRA FOLHA MEDIA (NBR 15930) DE 1000 X 2100 MM, DE 35 MM A 40 MM DE ESPESSURA, NUCLEO SEMI-SOLIDO (SARRAFEADO), CAPA LISA EM HDF, ACABAMENTO EM LAMINADO NATURAL PARA VERNIZ","UN",363.32,363.32]
["SINAPI-I_SP 4964","SINAPI-I_SP",4964,"PORTA DE ABRIR / GIRO, DE MADEIRA FOLHA MEDIA (NBR 15930) DE 800 X 2100 MM, DE 35 MM A 40 MM DE ESPESSURA, NUCLEO SEMI-SOLIDO (SARRAFEADO), CAPA FRISADA EM HDF, ACABAMENTO MELAMINICO EM PADRAO MADEIRA","UN",303.52,303.52]
["SINAPI-I_SP 4943","SINAPI-I_SP",4943,"PORTA DE ENROLAR MANUAL COMPLETA, PERFIL MEIA CANA VAZADA TIJOLINHO, EM ACO GALVANIZADO NATURAL, CHAPA NUMERO 24 (SEM INSTALACAO)","M2",617.71,617.71]
["SINAPI-I_SP 4948","SINAPI-I_SP",4948,"PORTAO DE ABRIR / GIRO, EM GRADIL DE METALON REDONDO DE 3/4\" VERTICAL, COM REQUADRO, ACABAMENTO NATURAL - COMPLETO","M2",676.38,676.38]
["SINAPI-I_SP 5050","SINAPI-I_SP",5050,"POSTE CONICO CONTINUO EM ACO GALVANIZADO, RETO, FLANGEADO, H = 3 M, DIAMETRO INFERIOR = *95* MM","UN",426.88,426.88]
["SINAPI-I_SP 41190","SINAPI-I_SP",41190,"POSTE DE CONCRETO ARMADO DE SECAO CIRCULAR, EXTENSAO DE 15,00 M, RESISTENCIA DE 1000 DAN, TIPO C-23","UN",5430.5,5430.5]
["SINAPI-I_SP 41208","SINAPI-I_SP",41208,"POSTE DE CONCRETO ARMADO DE SECAO DUPLO T, EXTENSAO DE 12,00 M, RESISTENCIA DE 150 DAN, TIPO D","UN",989.94,989.94]
["SINAPI-I_SP 13339","SINAPI-I_SP",13339,"POSTE DE CONCRETO ARMADO DE SECAO DUPLO T, EXTENSAO DE 12,00 M, RESISTENCIA DE 300 A 400 DAN, TIPO B OU D","UN",1341.6,1341.6]
["SINAPI-I_SP 12388","SINAPI-I_SP",12388,"POSTE DECORATIVO PARA JARDIM EM ACO TUBULAR, SEM LUMINARIA, H = *2,5* M","UN",252.68,252.68]
["SINAPI-I_SP 20247","SINAPI-I_SP",20247,"PREGO DE ACO POLIDO COM CABECA 15 X 15 (1 1/4 X 13)","KG",13.51,13.51]
["SINAPI-I_SP 5071","SINAPI-I_SP",5071,"PREGO DE ACO POLIDO COM CABECA 18 X 24 (2 1/4 X 10)","KG",12.2,12.2]
["SINAPI-I_SP 39015","SINAPI-I_SP",39015,"PROTETOR/PONTEIRA PLASTICA PARA PONTA DE VERGALHAO DE ATE 1\", TIPO PROTETOR DE ESPERA","UN",1,1]
["SINAPI-I_SP 39762","SINAPI-I_SP",39762,"QUADRO DE DISTRIBUICAO COM BARRAMENTO TRIFASICO, DE EMBUTIR, EM CHAPA DE ACO GALVANIZADO, PARA 36 DISJUNTORES DIN, 100 A","UN",533.1,533.1]
["SINAPI-I_SP 39763","SINAPI-I_SP",39763,"QUADRO DE DISTRIBUICAO COM BARRAMENTO TRIFASICO, DE EMBUTIR, EM CHAPA DE ACO GALVANIZADO, PARA 48 DISJUNTORES DIN, 100 A","UN",910.91,910.91]
["SINAPI-I_SP 39798","SINAPI-I_SP",39798,"QUADRO DE DISTRIBUICAO, SEM BARRAMENTO, EM PVC, DE EMBUTIR, PARA 27 DISJUNTORES NEMA OU 36 DISJUNTORES DIN","UN",226.4,226.4]
["SINAPI-I_SP 5102","SINAPI-I_SP",5102,"RALO SECO / RALO DE PASSAGEM EM PVC, QUADRADO, 100 X 100 X 53 MM, SAIDA 40 MM, COM GRELHA BRANCA","UN",12.67,12.67]
["SINAPI-I_SP 20043","SINAPI-I_SP",20043,"REDUCAO EXCENTRICA PVC, DN 100 X 50 MM, PARA ESGOTO PREDIAL","UN",9.68,9.68]
["SINAPI-I_SP 11677","SINAPI-I_SP",11677,"REGISTRO DE ESFERA, PVC, COM VOLANTE, VS, SOLDAVEL, DN 50 MM, COM CORPO DIVIDIDO","UN",58.13,58.13]
["SINAPI-I_SP 6015","SINAPI-I_SP",6015,"REGISTRO GAVETA COM ACABAMENTO E CANOPLA CROMADOS, SIMPLES, BITOLA 1 1/2\"","UN",110.19,110.19]
["SINAPI-I_SP 6005","SINAPI-I_SP",6005,"REGISTRO GAVETA COM ACABAMENTO E CANOPLA CROMADOS, SIMPLES, BITOLA 3/4\"","UN",61.9,61.9]
["SINAPI-I_SP 10518","SINAPI-I_SP",10518,"RETARDO PARA CORDEL DETONANTE","UN",116.96,116.96]
["SINAPI-I_SP 45213","SINAPI-I_SP",45213,"RISCADOR DE FORMICA COM COMPRIMENTO *16* CM E ALTURA *5* CM","UN",34.92,34.92]
["SINAPI-I_SP 13600","SINAPI-I_SP",13600,"ROLO COMPACTADOR VIBRATORIO DE UM CILINDRO LISO DE ACO, POTENCIA 125 HP, PESO SEM/COM LASTRO 10,75/12,92 T, IMPACTO DINAMICO 31,5/18,5 T, LARGURA TRABALHO 2,15 M","UN",806866.86,806866.86]
["SINAPI-I_SP 11578","SINAPI-I_SP",11578,"ROSETA QUADRADA, SEM FUROS, EM ACO INOX POLIDO, LARGURA APROXIMADA DE 50 MM, PARA FECHADURA DE PORTA - PARAFUSOS INCLUIDOS","UN",11.03,11.03]
["SINAPI-I_SP 4415","SINAPI-I_SP",4415,"SARRAFO NAO APARELHADO *2,5 X 5* CM, EM MACARANDUBA/MASSARANDUBA, ANGELIM, PEROBA-ROSA OU EQUIVALENTE DA REGIAO - BRUTA","M",5.67,5.67]
["SINAPI-I_SP 6085","SINAPI-I_SP",6085,"SELADOR ACRILICO OPACO PREMIUM INTERIOR/EXTERIOR","L",12.2,12.2]
["SINAPI-I_SP 39395","SINAPI-I_SP",39395,"SENSOR DE PRESENCA BIVOLT DE TETO SEM FOTOCELULA PARA QUALQUER TIPO DE LAMPADA POTENCIA MAXIMA *900* W, USO INTERNO","UN",50.7,50.7]
[{"$f":"CONCATENATE($B19651,\" \",$C19651)","v":"SINAPI-I_SP 6145"},"SINAPI-I_SP",6145,"SIFAO PLASTICO TIPO COPO PARA PIA AMERICANA 1.1/2 X 1.1/2\"","UN",21.81,21.81]
["SINAPI-I_SP 4828","SINAPI-I_SP",4828,"SOLEIRA/ PEITORIL EM MARMORE, POLIDO, BRANCO COMUM, L= *15* CM, E= *2* CM, CORTE RETO","M",95.04,95.04]
["SINAPI-I_SP 21047","SINAPI-I_SP",21047,"SPRINKLER TIPO PENDENTE, BULBO AMARELO DE RESPOSTA RAPIDA, 79 GRAUS CELSIUS, ACABAMENTO CROMADO, D = 20 MM (3/4\")","UN",57.02,57.02]
["SINAPI-I_SP 3384","SINAPI-I_SP",3384,"SUPORTE GUIA SIMPLES COM ROLDANA EM POLIPROPILENO PARA CHUMBAR, H = 20 CM","UN",8.98,8.98]
["SINAPI-I_SP 6178","SINAPI-I_SP",6178,"TABUA DE MADEIRA PARA PISO, CUMARU/IPE CHAMPANHE OU EQUIVALENTE DA REGIAO, ENCAIXE MACHO/FEMEA, *10 X 2* CM","M2",450.31,450.31]
["SINAPI-I_SP 41616","SINAPI-I_SP",41616,"TAMPA DE CONCRETO ARMADO PARA FOSSA, D = 1,50 M, E = 0,05 M","UN",407.79,407.79]
["SINAPI-I_SP 2668","SINAPI-I_SP",2668,"TAMPAO / TERMINAL / PLUG, D = 2\", PARA DUTO CORRUGADO PEAD (CABEAMENTO SUBTERRANEO)","UN",6.92,6.92]
["SINAPI-I_SP 11296","SINAPI-I_SP",11296,"TAMPAO FOFO SIMPLES COM BASE / REQUADRO, CLASSE D400 CARGA MAX. 40 T, REDONDO, TAMPA 900 MM (COM INSCRICAO EM RELEVO DO TIPO DE REDE)","UN",2138.83,2138.83]
["SINAPI-I_SP 36790","SINAPI-I_SP",36790,"TANQUE DUPLO EM MARMORE SINTETICO COM CUBA LISA E ESFREGADOR, *110 X 60* CM","UN",383.93,383.93]
["SINAPI-I_SP 3588","SINAPI-I_SP",3588,"TE 45 GRAUS DE FERRO GALVANIZADO, COM ROSCA BSP, DE 1 1/4\"","UN",78.209999999999994,78.209999999999994]
["SINAPI-I_SP 40393","SINAPI-I_SP",40393,"TE 90 GRAUS EM ACO CARBONO, SOLDAVEL, PRESSAO 3.000 LBS, DN 3/4\"","UN",39.6,39.6]
["SINAPI-I_SP 6297","SINAPI-I_SP",6297,"TE DE FERRO GALVANIZADO, DE 1 1/2\"","UN",46.75,46.75]
["SINAPI-I_SP 7126","SINAPI-I_SP",7126,"TE DE REDUCAO COM ROSCA, PVC, 90 GRAUS, 1.1/2\" X 3/4\", AGUA FRIA PREDIAL","UN",24.05,24.05]
["SINAPI-I_SP 6311","SINAPI-I_SP",6311,"TE DE REDUCAO DE FERRO GALVANIZADO, COM ROSCA BSP, DE 3\" X 1 1/4\"","UN",218.62,218.62]
["SINAPI-I_SP 6315","SINAPI-I_SP",6315,"TE DE REDUCAO DE FERRO GALVANIZADO, COM ROSCA BSP, DE 4\" X 2\"","UN",413.94,413.94]
["SINAPI-I_SP 37445","SINAPI-I_SP",37445,"TE DE SERVICO, PEAD PE 100, DE 125 X 63 MM, PARA ELETROFUSAO","UN",312.63,312.63]
["SINAPI-I_SP 38873","SINAPI-I_SP",38873,"TE METALICO, PARA CONEXAO COM ANEL DESLIZANTE, DN 16 MM, EM TUBO PEX PARA INST. AGUA QUENTE/FRIA","UN",17.02,17.02]
["SINAPI-I_SP 38458","SINAPI-I_SP",38458,"TE NORMAL, PPR, F/F/F, SOLDAVEL, 90 GRAUS, DN 50 X 50 X 50 MM, PARA AGUA QUENTE PREDIAL","UN",25.02,25.02]
["SINAPI-I_SP 40419","SINAPI-I_SP",40419,"TE RANHURADO EM FERRO FUNDIDO, DN 50 (2\")","UN",31.92,31.92]
["SINAPI-I_SP 38905","SINAPI-I_SP",38905,"TE ROSCA FEMEA, METALICO, PARA CONEXAO COM ANEL DESLIZANTE, DN 16 MM X 1/2\", EM TUBO PEX PARA INST. AGUA QUENTE/FRIA","UN",22.03,22.03]
["SINAPI-I_SP 7144","SINAPI-I_SP",7144,"TE SOLDAVEL, PVC, 90 GRAUS, 75 MM, PARA AGUA FRIA PREDIAL (NBR 5648)","UN",60.01,60.01]
["SINAPI-I_SP 34547","SINAPI-I_SP",34547,"TELA DE ACO SOLDADA GALVANIZADA/ZINCADA PARA ALVENARIA, FIO D = *1,20 A 1,70* MM, MALHA 15 X 15 MM, (C X L) *50 X 12* CM","M",3.31,3.31]
["SINAPI-I_SP 7156","SINAPI-I_SP",7156,"TELA DE ACO SOLDADA NERVURADA, CA-60, Q-196, (3,11 KG/M2), DIAMETRO DO FIO = 5,0 MM, LARGURA = 2,45 M, ESPACAMENTO DA MALHA = 10 X 10 CM","M2",23.66,23.66]
["SINAPI-I_SP 10931","SINAPI-I_SP",10931,"TELA DE ARAME GALVANIZADA, HEXAGONAL, FIO 0,56 MM (24 BWG), MALHA 1/2\", H = 1 M","M2",12.91,12.91]
["SINAPI-I_SP 7170","SINAPI-I_SP",7170,"TELA FACHADEIRA EM POLIETILENO, ROLO DE 3 X 100 M (L X C), COR BRANCA, SEM LOGOMARCA - PARA PROTECAO DE OBRAS","M2",2.0699999999999998,2.0699999999999998]
["SINAPI-I_SP 34417","SINAPI-I_SP",34417,"TELHA DE FIBROCIMENTO ONDULADA E = 4 MM, DE 2,13 X 0,50 M (SEM AMIANTO)","UN",18.46,18.46]
["SINAPI-I_SP 7226","SINAPI-I_SP",7226,"TELHA ESTRUTURAL DE FIBROCIMENTO 1 ABA, DE 0,52 X 5,50 M (SEM AMIANTO)","UN",262.55,262.55]
["SINAPI-I_SP 12869","SINAPI-I_SP",12869,"TELHADOR / TELHADISTA (HORISTA)","H",22.02,24.62]
["SINAPI-I_SP 1578","SINAPI-I_SP",1578,"TERMINAL A COMPRESSAO EM COBRE ESTANHADO PARA CABO 50 MM2, 1 FURO E 1 COMPRESSAO, PARA PARAFUSO DE FIXACAO M8","UN",5.59,5.59]
["SINAPI-I_SP 38414","SINAPI-I_SP",38414,"TERMOFUSORA PARA TUBOS E CONEXOES EM PPR COM DIAMETROS DE 75 A 110 MM, POTENCIA DE *1100* W, TENSAO 220 V","UN",1464.27,1464.27]
["SINAPI-I_SP 38128","SINAPI-I_SP",38128,"TERRA VEGETAL (ENSACADA)","KG",1,1]
["SINAPI-I_SP 7313","SINAPI-I_SP",7313,"TINTA ASFALTICA IMPERMEABILIZANTE DILUIDA EM SOLVENTE, PARA MATERIAIS CIMENTICIOS, METAL E MADEIRA","L",19.78,19.78]
["SINAPI-I_SP 7342","SINAPI-I_SP",7342,"TINTA MINERAL IMPERMEAVEL EM PO, BRANCA","KG",2.17,2.17]
["SINAPI-I_SP 38082","SINAPI-I_SP",38082,"TOMADA RJ11, 2 FIOS, CONJUNTO MONTADO PARA EMBUTIR 4\" X 2\" (PLACA + SUPORTE + MODULO)","UN",20.92,20.92]
["SINAPI-I_SP 11764","SINAPI-I_SP",11764,"TORNEIRA DE BOIA CONVENCIONAL PARA CAIXA D'AGUA, AGUA FRIA, 1.1/4\", COM HASTE E TORNEIRA METALICOS E BALAO PLASTICO","UN",181.24,181.24]
["SINAPI-I_SP 40329","SINAPI-I_SP",40329,"TORNEIRA PLASTICA DE BOIA CONVENCIONAL PARA CAIXA DE AGUA, AGUA FRIA, 3/4 \", COM HASTE METALICA E COM TORNEIRA E BALAO PLASTICOS (PADRAO POPULAR)","UN",27.45,27.45]
["SINAPI-I_SP 11823","SINAPI-I_SP",11823,"TORNEIRA PLASTICA DE BOIA PARA CAIXA DE DESCARGA, 1/2\", BALAO E TORNEIRA PLASTICOS, COM HASTE METALICA","UN",11.56,11.56]
["SINAPI-I_SP 25020","SINAPI-I_SP",25020,"TRATOR DE ESTEIRAS, POTENCIA BRUTA DE 347 HP, PESO OPERACIONAL DE 38,5 T, COM ESCARIFICADOR E LAMINA COM CAPACIDADE DE 4,70M3","UN",4585785.54,4585785.54]
["SINAPI-I_SP 42407","SINAPI-I_SP",42407,"TRELICA NERVURADA (ESPACADOR), ALTURA = 120,0 MM, DIAMETRO DOS BANZOS INFERIORES E SUPERIOR = 6,0 MM, DIAMETRO DA DIAGONAL = 4,2 MM","M",5.4,5.4]
["SINAPI-I_SP 21021","SINAPI-I_SP",21021,"TUBO ACO CARBONO COM COSTURA, NBR 5580, CLASSE M, DN = 40 MM, E = 3,35 MM, *3,71* KG//M","M",44.84,44.84]
["SINAPI-I_SP 7672","SINAPI-I_SP",7672,"TUBO ACO CARBONO SEM COSTURA 6\", E= 7,11 MM, SCHEDULE 40, *28,26 KG/M","M",600.75,600.75]
["SINAPI-I_SP 21011","SINAPI-I_SP",21011,"TUBO ACO GALVANIZADO COM COSTURA, CLASSE LEVE, DN 32 MM (1 1/4\"), E = 2,65 MM, *2,71* KG/M (NBR 5580)","M",46.65,46.65]
["SINAPI-I_SP 7700","SINAPI-I_SP",7700,"TUBO ACO GALVANIZADO COM COSTURA, CLASSE MEDIA, DN 3/4\", E = *2,65* MM, PESO *1,58* KG/M (NBR 5580)","M",23.74,23.74]
["SINAPI-I_SP 41783","SINAPI-I_SP",41783,"TUBO CORRUGADO PEAD, PAREDE DUPLA, INTERNA LISA, JEI, DN/DI *800* MM, PARA SANEAMENTO (DRENAGEM/ESGOTO)","M",1008.07,1008.07]
["SINAPI-I_SP 39739","SINAPI-I_SP",39739,"TUBO DE BORRACHA ELASTOMERICA FLEXIVEL, PRETA, PARA ISOLAMENTO TERMICO DE TUBULACAO, DN 1\" (25 MM), E= 32 MM, COEFICIENTE DE CONDUTIVIDADE TERMICA 0,036W/MK, VAPOR DE AGUA MAIOR OU IGUAL A 10.000","M",51.9,51.9]
["SINAPI-I_SP 12742","SINAPI-I_SP",12742,"TUBO DE COBRE CLASSE \"E\", DN = 104 MM, PARA INSTALACAO HIDRAULICA PREDIAL","M",615.42999999999995,615.42999999999995]
["SINAPI-I_SP 39665","SINAPI-I_SP",39665,"TUBO DE COBRE FLEXIVEL, D = 5/8 \", E = 0,79 MM, PARA AR-CONDICIONADO/ INSTALACOES GAS RESIDENCIAIS E COMERCIAIS","M",53.49,53.49]
["SINAPI-I_SP 7725","SINAPI-I_SP",7725,"TUBO DE CONCRETO ARMADO PARA AGUAS PLUVIAIS, CLASSE PA-1, COM ENCAIXE PONTA E BOLSA, DIAMETRO NOMINAL DE = 600 MM","M",266,266]
["SINAPI-I_SP 7722","SINAPI-I_SP",7722,"TUBO DE CONCRETO ARMADO PARA AGUAS PLUVIAIS, CLASSE PA-2, COM ENCAIXE PONTA E BOLSA, DIAMETRO NOMINAL DE 700 MM","M",353.17,353.17]
["SINAPI-I_SP 7740","SINAPI-I_SP",7740,"TUBO DE CONCRETO ARMADO PARA ESGOTO SANITARIO, CLASSE EA-2, COM ENCAIXE PONTA E BOLSA, COM JUNTA ELASTICA, DIAMETRO NOMINAL DE 400 MM","M",223.52,223.52]
["SINAPI-I_SP 7796","SINAPI-I_SP",7796,"TUBO DE CONCRETO SIMPLES PARA AGUAS PLUVIAIS, CLASSE PS1, COM ENCAIXE PONTA E BOLSA, DIAMETRO NOMINAL DE 300 MM","M",68,68]
["SINAPI-I_SP 1031","SINAPI-I_SP",1031,"TUBO DE DESCIDA EXTERNO, DE PVC, PARA CAIXA DE DESCARGA EXTERNA ALTA - DIAMETRO DE 40 MM E ALTURA DE APROXIMADAMENTE 1,55 M","UN",15.58,15.58]
["SINAPI-I_SP 44526","SINAPI-I_SP",44526,"TUBO DE POLIETILENO DE ALTA DENSIDADE, PEAD, PE-80, DE = 110 MM X 10,0 MM PAREDE, (SDR 11 - PN 12,5) PARA REDE DE AGUA OU ESGOTO (NBR 15561)","M",132.69999999999999,132.69999999999999]
["SINAPI-I_SP 44520","SINAPI-I_SP",44520,"TUBO DE POLIETILENO DE ALTA DENSIDADE, PEAD, PE-80, DE= 400 MM X 36,4 MM PAREDE, (SDR 11 - PN 12,5) PARA REDE DE AGUA OU ESGOTO (NBR 15561)","M",1752.39,1752.39]
["SINAPI-I_SP 38827","SINAPI-I_SP",38827,"TUBO MONOCAMADA PEX, DN 32 MM, PARA AGUA QUENTE E FRIA","M",13.77,13.77]
["SINAPI-I_SP 38971","SINAPI-I_SP",38971,"TUBO PPR, CLASSE PN 12, DN 32 MM","M",9.9499999999999993,9.9499999999999993]
["SINAPI-I_SP 38035","SINAPI-I_SP",38035,"TUBO PVC CORRUGADO, PAREDE DUPLA, JE, DN 300 MM/ DE 315 MM, REDE COLETORA ESGOTO","M",248.9,248.9]
["SINAPI-I_SP 36376","SINAPI-I_SP",36376,"TUBO PVC PBA JEI, CLASSE 15, DN 75 MM, PARA REDE DE AGUA (NBR 5647)","M",43.6,43.6]
["SINAPI-I_SP 9859","SINAPI-I_SP",9859,"TUBO PVC ROSCAVEL, 3/4\", AGUA FRIA PREDIAL","M",10.62,10.62]
["SINAPI-I_SP 20067","SINAPI-I_SP",20067,"TUBO PVC, SERIE R, DN 40 MM, PARA ESGOTO OU AGUAS PLUVIAIS PREDIAL (NBR 5688)","M",9.82,9.82]
["SINAPI-I_SP 12439","SINAPI-I_SP",12439,"UNIAO COM ASSENTO CONICO DE FERRO LONGO (MACHO-FEMEA), DIAMETRO 3/4\"","UN",83.56,83.56]
["SINAPI-I_SP 9887","SINAPI-I_SP",9887,"UNIAO DE FERRO GALVANIZADO, COM ROSCA BSP, COM ASSENTO PLANO, DE 2\"","UN",113.7,113.7]
["SINAPI-I_SP 9895","SINAPI-I_SP",9895,"UNIAO PVC, SOLDAVEL, 32 MM, PARA AGUA FRIA PREDIAL","UN",14.06,14.06]
[{"$f":"CONCATENATE($B20547,\" \",$C20547)","v":"SINAPI-I_SP 9907"},"SINAPI-I_SP",9907,"UNIAO PVC, SOLDAVEL, 85 MM, PARA AGUA FRIA PREDIAL","UN",180.67,180.67]
["SINAPI-I_SP 13894","SINAPI-I_SP",13894,"USINA DE CONCRETO FIXA, CAPACIDADE NOMINAL DE 40 M3/H, SEM SILO","UN",399604.75,399604.75]
["SINAPI-I_SP 11747","SINAPI-I_SP",11747,"VALVULA DE ESFERA BRUTA EM BRONZE, BITOLA 2\"","UN",155.62,155.62]
["SINAPI-I_SP 10404","SINAPI-I_SP",10404,"VALVULA DE RETENCAO HORIZONTAL, DE BRONZE (PN-25), 1/2\", 400 PSI, TAMPA DE PORCA DE UNIAO, EXTREMIDADES COM ROSCA","UN",112.41,112.41]
["SINAPI-I_SP 43595","SINAPI-I_SP",43595,"VARA FINA PARA CREMONA, EM FERRO ZINCADO BRANCO, COM DIAMETRO DE APROX 10 MM E COMPRIMENTO DE 1,20 M","UN",16.98,16.98]
["SINAPI-I_SP 10481","SINAPI-I_SP",10481,"VERNIZ MARITIMO PREMIUM PARA MADEIRA, COM FILTRO SOLAR, BRILHANTE, USO INTERNO E EXTERNO","L",38.54,38.54]
["SINAPI-I_SP 39400","SINAPI-I_SP",39400,"VIBRADOR DE IMERSAO, COM PONTEIRA DE *45* MM, MANGOTE DE 5 M, SEM MOTOR.","UN",1566.29,1566.29]
["SINAPI-I_SP 34390","SINAPI-I_SP",34390,"VIDRO CRISTAL COLORIDO, 10 MM, PINTADO NA COR BRANCA","M2",671.99,671.99]
["SINAPI-I_SP 5031","SINAPI-I_SP",5031,"VIDRO TEMPERADO INCOLOR PARA PORTA DE ABRIR, E = 10 MM (SEM FERRAGENS E SEM COLOCACAO)","M2",482.5,482.5]
[{"$f":"CONCATENATE($B20683,\" \",$C20683)","v":"SICRO 0307731"},"SICRO","0307731","Aparelho de apoio de neoprene fretado para estruturas moldadas no local - fornecimento e instalação","dm³",null,145.56,"SICRO -  "]
["SICRO 0308327","SICRO","0308327","Aparelho de apoio metálico elastomérico multidirecional com capacidade de 10.000 kN - fornecimento e instalação","un",null,29398.240000000002]
["SICRO 0308319","SICRO","0308319","Aparelho de apoio metálico elastomérico unidirecional com capacidade de 7.500 kN - fornecimento e instalação","un",null,25214.400000000001]
["SICRO 0308262","SICRO","0308262","Aparelho de apoio metálico esférico fixo com capacidade de 7.000 kN - fornecimento e instalação","un",null,52292.47]
["SICRO 0308299","SICRO","0308299","Aparelho de apoio metálico esférico multidirecional com capacidade de 6.500 kN - fornecimento e instalação","un",null,44984.46]
["SICRO 0308278","SICRO","0308278","Aparelho de apoio metálico esférico unidirecional com capacidade de 5.500 kN - fornecimento e instalação","un",null,41933.19]
["SICRO 0307084","SICRO","0307084","Lábios poliméricos em junta de pavimento de concreto - L = 20 mm e H = 30 mm - confecção e assentamento","m",null,37.31]
["SICRO 0408035","SICRO","0408035","Luva de emenda prensada para aço CA-50 - D = 25 mm - fornecimento e instalação","un",null,68.650000000000006]
["SICRO 0607140","SICRO","0607140","Arco metálico galvanizado tipo MP 152S - arco alto - vão = 10,36 m e altura = 5,38 m - aterro rodoviário mínimo = 1,20 m e máximo = 3,60 m - areia e brita comerciais","m",null,56186.7]
["SICRO 0606795","SICRO","0606795","Arco metálico galvanizado tipo MP 152S - arco alto - vão = 11,58 m e altura = 7,16 m - aterro rodoviário mínimo = 1,20 m e máximo = 6,40 m - areia extraída e brita produzida","m",null,90503.24]
["SICRO 0607121","SICRO","0607121","Arco metálico galvanizado tipo MP 152S - arco alto - vão = 7,47 m e altura = 4,19 m - aterro rodoviário mínimo = 0,90 m e máximo = 4,30 m - areia e brita comerciais","m",null,40912.44]
["SICRO 0607128","SICRO","0607128","Arco metálico galvanizado tipo MP 152S - arco alto - vão = 8,97 m e altura = 5,00 m - aterro rodoviário mínimo = 0,90 m e máximo = 5,80 m - areia e brita comerciais","m",null,49574.39]
["SICRO 0606832","SICRO","0606832","Arco metálico galvanizado tipo MP 152S - ovoide - vão = 7,21 m e altura = 7,82 m - aterro rodoviário mínimo = 0,75 m e máximo = 6,70 m - areia extraída e brita produzida","m",null,67485.350000000006]
["SICRO 0606850","SICRO","0606850","Arco metálico galvanizado tipo MP 152S - ovoide - vão = 9,15 m e altura = 9,04 m - aterro rodoviário mínimo = 0,90 m e máximo = 4,70 m - areia e brita comerciais","m",null,84205.17]
["SICRO 0605609","SICRO","0605609","Bueiro metálico com chapas múltiplas MP 100 com revestimento em epóxi - D = 0,80 m - brita produzida","m",null,2067.48]
["SICRO 0605703","SICRO","0605703","Bueiro metálico com chapas múltiplas MP 100 com revestimento em epóxi - D = 1,40 m - brita comercial","m",null,3537.47]
["SICRO 0605622","SICRO","0605622","Bueiro metálico com chapas múltiplas MP 100 com revestimento em epóxi - D = 2,10 m - brita produzida","m",null,6162.82]
["SICRO 0605461","SICRO","0605461","Bueiro metálico com chapas múltiplas MP 100 galvanizadas - D = 0,70 m - brita produzida","m",null,1723.21]
["SICRO 0605661","SICRO","0605661","Bueiro metálico com chapas múltiplas MP 100 galvanizadas - D = 1,60 m - brita comercial","m",null,3811.96]
["SICRO 0605477","SICRO","0605477","Bueiro metálico com chapas múltiplas MP 100 galvanizadas - D = 2,30 m - brita produzida","m",null,6357.6]
["SICRO 0605719","SICRO","0605719","Bueiro metálico com chapas múltiplas MP 152 com revestimento em epóxi - D = 1,80 m - brita comercial","m",null,9335.89]
["SICRO 0605723","SICRO","0605723","Bueiro metálico com chapas múltiplas MP 152 com revestimento em epóxi - D = 2,65 m - brita comercial","m",null,13543.56]
["SICRO 0605642","SICRO","0605642","Bueiro metálico com chapas múltiplas MP 152 com revestimento em epóxi - D = 4,60 m - brita produzida","m",null,23067.95]
["SICRO 0605675","SICRO","0605675","Bueiro metálico com chapas múltiplas MP 152 galvanizadas - D = 1,80 m - brita comercial","m",null,9027.8700000000008]
["SICRO 0605683","SICRO","0605683","Bueiro metálico com chapas múltiplas MP 152 galvanizadas - D = 3,65 m - brita comercial","m",null,18005.41]
["SICRO 0605494","SICRO","0605494","Bueiro metálico com chapas múltiplas MP 152 galvanizadas - D = 4,20 m - brita produzida","m",null,20410.87]
["SICRO 0605693","SICRO","0605693","Bueiro metálico com chapas múltiplas MP 152 galvanizadas - D = 6,85 m - brita comercial","m",null,55898.74]
["SICRO 0606443","SICRO","0606443","Bueiro metálico com chapas múltiplas MP 152 galvanizadas - lenticular - vão = 3,70 m e altura = 2,35 m - aterro rodoviário mínimo = 0,60 m e máximo = 4,90 m - brita comercial","m",null,16032.28]
["SICRO 0606358","SICRO","0606358","Bueiro metálico com chapas múltiplas MP 152 galvanizadas - lenticular - vão = 4,60 m e altura = 3,00 m - aterro rodoviário mínimo = 0,60 m e máximo = 6,10 m - brita produzida","m",null,19551.009999999998]
["SICRO 0606456","SICRO","0606456","Bueiro metálico com chapas múltiplas MP 152 galvanizadas - lenticular - vão = 6,10 m e altura = 3,65 m - aterro rodoviário mínimo = 0,90 m e máximo = 4,50 m - brita comercial","m",null,37941.22]
["SICRO 0606367","SICRO","0606367","Bueiro metálico com chapas múltiplas MP 152 galvanizadas - lenticular - vão = 6,25 m e altura = 3,65 m - aterro rodoviário mínimo = 0,90 m e máximo = 4,30 m - brita produzida","m",null,38387.4]
["SICRO 0606466","SICRO","0606466","Bueiro metálico com chapas múltiplas MP 152 galvanizadas - passagem inferior - vão = 4,25 m e altura = 4,10 m - aterro rodoviário mínimo = 0,60 m e máximo = 8,90 m - brita produzida","m",null,21409.88]
["SICRO 0606493","SICRO","0606493","Bueiro metálico com chapas múltiplas MP 152 galvanizadas - passagem inferior - vão = 5,30 m e altura = 5,30 m - aterro rodoviário mínimo = 0,90 m e máximo = 9,60 m - brita comercial","m",null,34447.75]
["SICRO 0605850","SICRO","0605850","Bueiro metálico sem interrupção de tráfego - D = 1,20 m - chapa com epóxi - escavado em material de 2ª categoria - aterro ferroviário máximo = 12,90 m","m",null,8066.22]
["SICRO 0605573","SICRO","0605573","Bueiro metálico sem interrupção de tráfego - D = 1,60 m - chapa com epóxi - escavado em material de 1ª categoria - aterro rodoviário máximo = 6,70 m","m",null,9288.85]
["SICRO 0605892","SICRO","0605892","Bueiro metálico sem interrupção de tráfego - D = 1,80 m - chapa com epóxi - escavado em material de 3ª categoria - aterro ferroviário máximo = 8,00 m","m",null,14473.44]
["SICRO 0605818","SICRO","0605818","Bueiro metálico sem interrupção de tráfego - D = 1,80 m - chapa galvanizada - escavado em material de 3ª categoria - aterro ferroviário máximo = 8,00 m","m",null,14093.45]
["SICRO 0605576","SICRO","0605576","Bueiro metálico sem interrupção de tráfego - D = 2,20 m - chapa com epóxi - escavado em material de 1ª categoria - aterro rodoviário máximo = 4,90 m","m",null,13616.81]
["SICRO 0605899","SICRO","0605899","Bueiro metálico sem interrupção de tráfego - D = 2,40 m - chapa com epóxi - escavado em material de 3ª categoria - aterro ferroviário máximo = 7,00 m","m",null,23396.99]
["SICRO 0605551","SICRO","0605551","Bueiro metálico sem interrupção de tráfego - D = 2,60 m - chapa galvanizada - escavado em material de 3ª categoria - aterro rodoviário máximo = 4,10 m","m",null,21469.13]
["SICRO 0605790","SICRO","0605790","Bueiro metálico sem interrupção de tráfego - D = 2,80 m - chapa galvanizada - escavado em material de 2ª categoria - aterro ferroviário máximo = 5,50 m","m",null,23656.7]
["SICRO 0605804","SICRO","0605804","Bueiro metálico sem interrupção de tráfego - D = 3,00 m - chapa galvanizada - escavado em material de 2ª categoria - aterro ferroviário máximo = 4,70 m","m",null,26028.3]
["SICRO 0605554","SICRO","0605554","Bueiro metálico sem interrupção de tráfego - D = 3,20 m - chapa galvanizada - escavado em material de 3ª categoria - aterro rodoviário máximo = 4,80 m","m",null,31045.11]
["SICRO 0605828","SICRO","0605828","Bueiro metálico sem interrupção de tráfego - D = 3,80 m - chapa galvanizada - escavado em material de 3ª categoria - aterro ferroviário máximo = 6,20 m","m",null,45029.39]
["SICRO 0605831","SICRO","0605831","Bueiro metálico sem interrupção de tráfego - D = 4,40 m - chapa galvanizada - escavado em material de 3ª categoria - aterro ferroviário máximo = 4,20 m","m",null,55671.9]
["SICRO 0605523","SICRO","0605523","Bueiro metálico sem interrupção de tráfego - D = 5,00 m - chapa galvanizada - escavado em material de 1ª categoria - aterro rodoviário máximo = 5,30 m","m",null,48120.97]
["SICRO 0705320","SICRO","0705320","Boca de BDCC 1,50 x 1,50 m - esconsidade 45° - areia e brita comerciais","un",null,20820.52]
["SICRO 0705327","SICRO","0705327","Boca de BDCC 2,00 x 2,00 m - esconsidade 45° - areia extraída e brita produzida","un",null,30251.35]
["SICRO 0705344","SICRO","0705344","Boca de BDCC 3,00 x 3,00 m - esconsidade 45° - areia e brita comerciais","un",null,68231.039999999994]
["SICRO 0705243","SICRO","0705243","Boca de BSCC 2,50 x 2,50 m - esconsidade 15° - areia e brita comerciais","un",null,26971.1]
["SICRO 0705402","SICRO","0705402","Boca de BTCC 1,50 x 1,50 m - esconsidade 0° - areia extraída e brita produzida","un",null,16333.78]
["SICRO 0705419","SICRO","0705419","Boca de BTCC 2,50 x 2,50 m - esconsidade 0° - areia e brita comerciais","un",null,37779.74]
["SICRO 0705422","SICRO","0705422","Boca de BTCC 2,50 x 2,50 m - esconsidade 30° - areia extraída e brita produzida","un",null,42938.32]
["SICRO 0705265","SICRO","0705265","Corpo de BDCC 1,50 x 1,50 m - moldado no local - altura do aterro 7,50 a 10,00 m - areia e brita comerciais","m",null,4780.74]
["SICRO 0705277","SICRO","0705277","Corpo de BDCC 2,00 x 2,00 m - moldado no local - altura do aterro 5,00 a 7,50 m - areia e brita comerciais","m",null,6670.28]
["SICRO 0705290","SICRO","0705290","Corpo de BDCC 2,50 x 2,50 m - moldado no local - altura do aterro 5,00 a 7,50 m - areia extraída e brita produzida","m",null,8422.59]
["SICRO 0705169","SICRO","0705169","Corpo de BSCC 1,50 x 1,50 m - moldado no local - altura do aterro 0,00 a 1,00 m - areia e brita comerciais","m",null,2495.4]
["SICRO 0705193","SICRO","0705193","Corpo de BSCC 2,00 x 2,00 m - moldado no local - altura do aterro 10,00 a 12,50 m - areia e brita comerciais","m",null,4749.2]
["SICRO 0705192","SICRO","0705192","Corpo de BSCC 2,00 x 2,00 m - moldado no local - altura do aterro 10,00 a 12,50 m - areia extraída e brita produzida","m",null,4430.22]
["SICRO 0705212","SICRO","0705212","Corpo de BSCC 3,00 x 3,00 m - moldado no local - altura do aterro 1,00 a 2,50 m - areia extraída e brita produzida","m",null,5503.27]
["SICRO 0705219","SICRO","0705219","Corpo de BSCC 3,00 x 3,00 m - moldado no local - altura do aterro 7,50 a 10,00 m - areia e brita comerciais","m",null,8486.56]
["SICRO 0705353","SICRO","0705353","Corpo de BTCC 1,50 x 1,50 m - moldado no local - altura do aterro 7,50 a 10,00 m - areia extraída e brita produzida","m",null,6213.43]
["SICRO 0705383","SICRO","0705383","Corpo de BTCC 2,50 x 2,50 m - moldado no local - altura do aterro 10,00 a 12,50 m - areia extraída e brita produzida","m",null,13684.04]
["SICRO 0705401","SICRO","0705401","Corpo de BTCC 3,00 x 3,00 m - moldado no local - altura do aterro 12,50 a 15,00 m - areia e brita comerciais","m",null,21201.43]
["SICRO 0705400","SICRO","0705400","Corpo de BTCC 3,00 x 3,00 m - moldado no local - altura do aterro 12,50 a 15,00 m - areia extraída e brita produzida","m",null,19760.2]
["SICRO 0804233","SICRO","0804233","Boca de BDTC D = 1,00 m - esconsidade 0° - areia e brita comerciais - alas retas","un",null,2366.29]
["SICRO 0804418","SICRO","0804418","Boca de BDTC D = 1,00 m - esconsidade 15° - areia extraída e brita produzida - alas esconsas","un",null,3680.52]
["SICRO 0804234","SICRO","0804234","Boca de BDTC D = 1,00 m - esconsidade 5° - areia extraída e brita produzida - alas retas","un",null,2006.66]
["SICRO 0804429","SICRO","0804429","Boca de BDTC D = 1,20 m - esconsidade 30° - areia e brita comerciais - alas esconsas","un",null,6969.35]
["SICRO 0804428","SICRO","0804428","Boca de BDTC D = 1,20 m - esconsidade 30° - areia extraída e brita produzida - alas esconsas","un",null,5859.79]
["SICRO 0804279","SICRO","0804279","Boca de BDTC D = 1,50 m - esconsidade 15° - areia e brita comerciais - alas retas","un",null,5677.51]
["SICRO 0804439","SICRO","0804439","Boca de BDTC D = 1,50 m - esconsidade 45° - areia e brita comerciais - alas esconsas","un",null,15292.98]
["SICRO 0804067","SICRO","0804067","Boca de BSTC D = 0,40 m - esconsidade 15° - areia e brita comerciais - alas retas","un",null,393.4]
["SICRO 0804086","SICRO","0804086","Boca de BSTC D = 0,60 m - esconsidade 15° - areia extraída e brita produzida - alas retas","un",null,677.27]
["SICRO 0804382","SICRO","0804382","Boca de BSTC D = 0,60 m - esconsidade 45° - areia extraída e brita produzida - alas esconsas","un",null,1500.63]
["SICRO 0804101","SICRO","0804101","Boca de BSTC D = 0,80 m - esconsidade 0° - areia e brita comerciais - alas retas","un",null,1322.4]
["SICRO 0804112","SICRO","0804112","Boca de BSTC D = 0,80 m - esconsidade 30° - areia extraída e brita produzida - alas retas","un",null,1180.71]
["SICRO 0804125","SICRO","0804125","Boca de BSTC D = 1,00 m - esconsidade 10° - areia e brita comerciais - alas retas","un",null,1978.75]
["SICRO 0804132","SICRO","0804132","Boca de BSTC D = 1,00 m - esconsidade 30° - areia extraída e brita produzida - alas retas","un",null,1745.34]
["SICRO 0804148","SICRO","0804148","Boca de BSTC D = 1,20 m - esconsidade 20° - areia extraída e brita produzida - alas retas","un",null,2338.1999999999998]
["SICRO 0804404","SICRO","0804404","Boca de BSTC D = 1,20 m - esconsidade 30° - areia extraída e brita produzida - alas esconsas","un",null,4243.82]
["SICRO 0804160","SICRO","0804160","Boca de BSTC D = 1,50 m - esconsidade 0° - areia extraída e brita produzida - alas retas","un",null,3910.84]
["SICRO 0804174","SICRO","0804174","Boca de BSTC D = 1,50 m - esconsidade 35° - areia extraída e brita produzida - alas retas","un",null,4121.96]
["SICRO 0804325","SICRO","0804325","Boca de BTTC D = 1,00 m - esconsidade 20° - areia e brita comerciais - alas retas","un",null,2962.84]
["SICRO 0804334","SICRO","0804334","Boca de BTTC D = 1,00 m - esconsidade 45° - areia extraída e brita produzida - alas retas","un",null,3013.54]
["SICRO 0804343","SICRO","0804343","Boca de BTTC D = 1,20 m - esconsidade 15° - areia e brita comerciais - alas retas","un",null,3989]
["SICRO 0804351","SICRO","0804351","Boca de BTTC D = 1,20 m - esconsidade 35° - areia e brita comerciais - alas retas","un",null,4377.04]
["SICRO 0804360","SICRO","0804360","Boca de BTTC D = 1,50 m - esconsidade 10° - areia extraída e brita produzida - alas retas","un",null,5458.93]
["SICRO 0804374","SICRO","0804374","Boca de BTTC D = 1,50 m - esconsidade 45° - areia extraída e brita produzida - alas retas","un",null,6637.35]
["SICRO 0804487","SICRO","0804487","Confecção de tubos de concreto armado D = 0,80 m PA3 - areia e brita comerciais","m",null,360.06]
["SICRO 0804480","SICRO","0804480","Confecção de tubos de concreto armado D = 1,20 m PA2 - areia extraída e brita produzida","m",null,544.78]
["SICRO 0804180","SICRO","0804180","Corpo de BDTC D = 0,80 m PA1 - areia extraída e brita e pedra de mão produzidas","m",null,1195.93]
["SICRO 0804188","SICRO","0804188","Corpo de BDTC D = 1,00 m PA1 - areia extraída e brita e pedra de mão produzidas","m",null,1547.8]
["SICRO 0804203","SICRO","0804203","Corpo de BDTC D = 1,20 m PA4 - areia, brita e pedra de mão comerciais","m",null,2867.79]
["SICRO 0804024","SICRO","0804024","Corpo de BSTC D = 0,60 m PA3 - areia extraída e brita e pedra de mão produzidas","m",null,441.49]
["SICRO 0804038","SICRO","0804038","Corpo de BSTC D = 1,00 m PA2 - areia extraída e brita e pedra de mão produzidas","m",null,816.61]
["SICRO 0804043","SICRO","0804043","Corpo de BSTC D = 1,00 m PA4 - areia, brita e pedra de mão comerciais","m",null,947.3]
["SICRO 0804058","SICRO","0804058","Corpo de BSTC D = 1,50 m PA4 - areia extraída e brita e pedra de mão produzidas","m",null,1890.36]
["SICRO 0804314","SICRO","0804314","Corpo de BTTC D = 1,50 m PA4 - areia extraída e brita e pedra de mão produzidas","m",null,5522.54]
["SICRO 0805435","SICRO","0805435","Dentes para bueiros simples D = 0,40 m - areia, brita e pedra de mão comerciais","un",null,17.55]
["SICRO 0805458","SICRO","0805458","Dentes para bueiros triplos D = 1,50 m - areia extraída e brita e pedra de mão produzidas","un",null,102.78]
["SICRO 0903845","SICRO","0903845","Lastro de brita comercial - espalhamento mecânico","m³",null,120.58]
["SICRO 0919007","SICRO","0919007","Montagem e desmontagem da central de concreto com capacidade de 150 m³/h - inclusive construção e demolição de bases, rampas e depósitos de agregados","un",null,128317.96]
["SICRO 0903860","SICRO","0903860","Selador acrílico - camada de fundo com aplicação manual","m²",null,3.07]
["SICRO 1109674","SICRO","1109674","Argamassa de cimento, cal hidratada e areia 1:2:7 - confecção em betoneira e lançamento manual - areia comercial","m³",null,413.54]
["SICRO 1110000","SICRO","1110000","Concreto","m³",null,0]
["SICRO 1108112","SICRO","1108112","Concreto com 8% de microssílica fck = 30 MPa - confecção em central dosadora de 30 m³/h - areia e brita comerciais","m³",null,432.03]
["SICRO 1107889","SICRO","1107889","Concreto fck = 15 MPa - confecção em betoneira e lançamento manual - areia extraída e brita produzida","m³",null,307.41000000000003]
["SICRO 1107900","SICRO","1107900","Concreto fck = 30 MPa - confecção em betoneira e lançamento manual - areia e brita comerciais","m³",null,487.85]
["SICRO 1106289","SICRO","1106289","Concreto para bombeamento fck = 30 MPa - confecção em central dosadora de 30 m³/h - areia extraída e brita produzida","m³",null,314.14]
["SICRO 1106284","SICRO","1106284","Concreto submerso fck = 20 MPa - confecção em central dosadora de 30 m³/h - areia e brita comerciais","m³",null,423.2]
["SICRO 1107860","SICRO","1107860","Lançamento mecânico de concreto com bomba lança sobre chassi com capacidade de 50 m³/h - confecção em central dosadora de 40 m³/h","m³",null,55.52]
["SICRO 1208329","SICRO","1208329","Concreto projetado via úmida fck = 30 MPa aplicado em túneis classe I com seção superior a 90 m²","m³",null,754.96]
["SICRO 1207661","SICRO","1207661","Concreto projetado via úmida fck = 30 MPa aplicado em túneis classe V com seção de 60 a 90 m²","m³",null,1072.1199999999999]
["SICRO 1207667","SICRO","1207667","Concreto projetado via úmida fck = 30 MPa aplicado em túneis classe VI com seção de 60 a 90 m²","m³",null,1164.78]
["SICRO 1208357","SICRO","1208357","Concreto projetado via úmida fck = 40 MPa aplicado em túneis classe IV com seção superior a 90 m²","m³",null,951.65]
["SICRO 1400975","SICRO","1400975","Corte de chapa de aço com guilhotina hidráulica","m",null,4.32]
["SICRO 1407065","SICRO","1407065","Corte de trilho TR68 com utilização de equipamento leve","un",null,8.4499999999999993]
["SICRO 1516204","SICRO","1516204","Fabricação de blocos segmentais de face pré-moldados - C = 40 cm, L = 40 cm e H = 20 cm - massa de 25 kg","un",null,5.87]
["SICRO 1516300","SICRO","1516300","Geogrelha unidirecional com resistência à tração de 200 kN/m - fornecimento e instalação","m²",null,43.04]
["SICRO 1505848","SICRO","1505848","Muro em blocos segmentais de face pré-moldados - C = 40 cm, L = 40 cm, e H = 20 cm com altura de 6 a 8 m - confecção e assentamento","m²",null,182.3]
["SICRO 1600897","SICRO","1600897","Demolição manual de construções provisórias de madeira, sem fechamento lateral e sem pavimentação","m²",null,4.9800000000000004]
["SICRO 1600966","SICRO","1600966","Remoção de cerca com mourões de concreto","m",null,0.99]
["SICRO 1716607","SICRO","1716607","Derrocagem subaquática de material de 3ª categoria - carga e limpeza - plataforma com clamshell - flutuante e batelão rebocado de 100 t montado na obra - DMT de 400 a 600 m","m³",null,115.37]
["SICRO 1716632","SICRO","1716632","Derrocagem subaquática de material de 3ª categoria - carga e limpeza - plataforma flutuante com clamshell e batelão rebocado de 100 t - DMT de 1.600 a 1.800 m","m³",null,117.81]
["SICRO 1716647","SICRO","1716647","Derrocagem subaquática de material de 3ª categoria - carga e limpeza com draga backhoe de 7 m³ - transporte com batelão autopropelido de 300 m³ - DMT de 1.200 a 1.400 m","m³",null,52.09]
["SICRO 1716619","SICRO","1716619","Derrocagem subaquática de material de 3ª categoria - malha de 1,5 m² - perfuração e detonação - plataforma flutuante com uma torre de perfuração","m³",null,205.33]
["SICRO 1917528","SICRO","1917528","Dragagem de areia fina com draga de sucção e recalque - bomba de 1.350 kW e cortador de 170 kW - distância de recalque de 10.100 a 10.300 m","m³",null,32.479999999999997]
["SICRO 1917496","SICRO","1917496","Dragagem de areia fina com draga de sucção e recalque - bomba de 1.350 kW e cortador de 170 kW - distância de recalque de 3.700 a 3.900 m","m³",null,9.48]
["SICRO 1917510","SICRO","1917510","Dragagem de areia fina com draga de sucção e recalque - bomba de 1.350 kW e cortador de 170 kW - distância de recalque de 6.500 a 6.700 m","m³",null,15.51]
["SICRO 1917521","SICRO","1917521","Dragagem de areia fina com draga de sucção e recalque - bomba de 1.350 kW e cortador de 170 kW - distância de recalque de 8.700 a 8.900 m","m³",null,23.89]
["SICRO 1917220","SICRO","1917220","Dragagem de areia fina com draga de sucção e recalque - bomba de 294 kW e cortador de 30 kW - distância de recalque de 1.100 a 1.300 m","m³",null,6.96]
["SICRO 1917217","SICRO","1917217","Dragagem de areia fina com draga de sucção e recalque - bomba de 294 kW e cortador de 30 kW - distância de recalque de 500 a 700 m","m³",null,5.67]
["SICRO 1917290","SICRO","1917290","Dragagem de areia fina com draga de sucção e recalque - bomba de 483 kW e cortador de 55 kW - distância de recalque de 4.300 a 4.500 m","m³",null,12.64]
[{"$f":"CONCATENATE($B22603,\" \",$C22603)","v":"SICRO 1917304"},"SICRO","1917304","Dragagem de areia fina com draga de sucção e recalque - bomba de 483 kW e cortador de 55 kW - distância de recalque de 7.100 a 7.300 m","m³",null,30.75]
["SICRO 1917273","SICRO","1917273","Dragagem de areia fina com draga de sucção e recalque - bomba de 483 kW e cortador de 55 kW - distância de recalque de 900 a 1.100 m","m³",null,4.82]
["SICRO 1917389","SICRO","1917389","Dragagem de areia fina com draga de sucção e recalque - bomba de 746 kW e cortador de 110 kW - distância de recalque de 5.500 a 5.700 m","m³",null,14.32]
["SICRO 1917395","SICRO","1917395","Dragagem de areia fina com draga de sucção e recalque - bomba de 746 kW e cortador de 110 kW - distância de recalque de 6.700 a 6.900 m","m³",null,20.6]
["SICRO 1917732","SICRO","1917732","Dragagem de areia fina com draga de sucção e recalque - bomba de 746 kW e cortador de 110 kW - distância de recalque de até 500 m","m³",null,3.69]
["SICRO 1901525","SICRO","1901525","Dragagem de areia fina com draga hopper - capacidade da cisterna de 15.000 m³ - DMT de 2.100 a 2.400 m","m³",null,14.85]
["SICRO 1917116","SICRO","1917116","Dragagem de areia fina com draga hopper - capacidade da cisterna de 3.000 m³ - DMT de 1.800 a 2.100 m","m³",null,11.67]
["SICRO 1917120","SICRO","1917120","Dragagem de areia fina com draga hopper - capacidade da cisterna de 3.000 m³ - DMT de 3.000 m","m³",null,12.25]
["SICRO 1917009","SICRO","1917009","Dragagem de areia fina com draga hopper - capacidade da cisterna de 750 m³ - DMT de 2.100 a 2.400 m","m³",null,25.67]
["SICRO 1917600","SICRO","1917600","Dragagem de areia grossa com draga de sucção e recalque - bomba de 1.350 kW e cortador de 170 kW - distância de recalque de 5.500 a 5.700 m","m³",null,54.76]
["SICRO 1917256","SICRO","1917256","Dragagem de areia grossa com draga de sucção e recalque - bomba de 294 kW e cortador de 30 kW - distância de recalque de 1.700 a 1.900 m","m³",null,10.47]
["SICRO 1917342","SICRO","1917342","Dragagem de areia grossa com draga de sucção e recalque - bomba de 483 kW e cortador de 55 kW - distância de recalque de 2.500 a 2.700 m","m³",null,17.399999999999999]
["SICRO 1917347","SICRO","1917347","Dragagem de areia grossa com draga de sucção e recalque - bomba de 483 kW e cortador de 55 kW - distância de recalque de 3.500 a 3.700 m","m³",null,51.4]
["SICRO 1917454","SICRO","1917454","Dragagem de areia grossa com draga de sucção e recalque - bomba de 746 kW e cortador de 110 kW - distância de recalque de 3.300 a 3.500 m","m³",null,25.6]
[{"$f":"CONCATENATE($B22795,\" \",$C22795)","v":"SICRO 1917060"},"SICRO","1917060","Dragagem de areia grossa com draga hopper - capacidade da cisterna de 1.000 m³ - DMT de 3.000 m","m³",null,17.850000000000001]
["SICRO 1917091","SICRO","1917091","Dragagem de areia grossa com draga hopper - capacidade da cisterna de 2.000 m³ - DMT de 1.500 a 1.800 m","m³",null,11.17]
["SICRO 1917167","SICRO","1917167","Dragagem de areia grossa com draga hopper - capacidade da cisterna de 4.000 m³ - DMT de 2.700 a 3.000 m","m³",null,10.36]
["SICRO 1917546","SICRO","1917546","Dragagem de areia média com draga de sucção e recalque - bomba de 1.350 kW e cortador de 170 kW - distância de recalque de 2.100 a 2.300 m","m³",null,7.95]
["SICRO 1917547","SICRO","1917547","Dragagem de areia média com draga de sucção e recalque - bomba de 1.350 kW e cortador de 170 kW - distância de recalque de 2.300 a 2.500 m","m³",null,8.68]
["SICRO 1917563","SICRO","1917563","Dragagem de areia média com draga de sucção e recalque - bomba de 1.350 kW e cortador de 170 kW - distância de recalque de 5.500 a 5.700 m","m³",null,25.42]
["SICRO 1917241","SICRO","1917241","Dragagem de areia média com draga de sucção e recalque - bomba de 294 kW e cortador de 30 kW - distância de recalque de 1.700 a 1.900 m","m³",null,9.2100000000000009]
["SICRO 1917313","SICRO","1917313","Dragagem de areia média com draga de sucção e recalque - bomba de 483 kW e cortador de 55 kW - distância de recalque de 1.500 a 1.700 m","m³",null,7.09]
["SICRO 1917324","SICRO","1917324","Dragagem de areia média com draga de sucção e recalque - bomba de 483 kW e cortador de 55 kW - distância de recalque de 3.700 a 3.900 m","m³",null,22.95]
["SICRO 1917428","SICRO","1917428","Dragagem de areia média com draga de sucção e recalque - bomba de 746 kW e cortador de 110 kW - distância de recalque de 3.700 a 3.900 m","m³",null,16.04]
["SICRO 1917429","SICRO","1917429","Dragagem de areia média com draga de sucção e recalque - bomba de 746 kW e cortador de 110 kW - distância de recalque de 3.900 a 4.100 m","m³",null,18.190000000000001]
["SICRO 1917053","SICRO","1917053","Dragagem de areia média com draga hopper - capacidade da cisterna de 1.000 m³ - DMT de 2.700 a 3.000 m","m³",null,18.22]
["SICRO 1917087","SICRO","1917087","Dragagem de areia média com draga hopper - capacidade da cisterna de 2.000 m³ - DMT de 2.100 a 2.400 m","m³",null,11.93]
["SICRO 1917126","SICRO","1917126","Dragagem de areia média com draga hopper - capacidade da cisterna de 3.000 m³ - DMT de 3.000 m","m³",null,11.52]
["SICRO 1917013","SICRO","1917013","Dragagem de areia média com draga hopper - capacidade da cisterna de 750 m³ - DMT de 1.500 a 1.800 m","m³",null,23.27]
["SICRO 1917358","SICRO","1917358","Dragagem de cascalho com draga de sucção e recalque - bomba de 483 kW e cortador de 55 kW - distância de recalque até 500 m","m³",null,7.47]
["SICRO 1917361","SICRO","1917361","Dragagem de cascalho com draga de sucção e recalque - bomba de 483 kW e cortador de 55 kW - distância de recalque de 900 a 1.100 m","m³",null,25.82]
["SICRO 1901574","SICRO","1901574","Dragagem de cascalho com draga hopper - capacidade da cisterna de 10.000 m³ - DMT de 2.100 a 2.400 m","m³",null,9.66]
["SICRO 1917107","SICRO","1917107","Dragagem de cascalho com draga hopper - capacidade da cisterna de 2.000 m³ - DMT de 2.700 a 3.000 m","m³",null,11.57]
["SICRO 1917180","SICRO","1917180","Dragagem de cascalho com draga hopper - capacidade da cisterna de 4.000 m³ - DMT de 3.000 m","m³",null,10.050000000000001]
["SICRO 1917607","SICRO","1917607","Dragagem de cascalho fino com draga de sucção e recalque - bomba de 1.350 kW e cortador de 170 kW - distância de recalque de 1.500 a 1.700 m","m³",null,10.28]
["SICRO 1917618","SICRO","1917618","Dragagem de cascalho fino com draga de sucção e recalque - bomba de 1.350 kW e cortador de 170 kW - distância de recalque de 3.700 a 3.900 m","m³",null,49.79]
["SICRO 1917261","SICRO","1917261","Dragagem de cascalho fino com draga de sucção e recalque - bomba de 294 kW e cortador de 30 kW - distância de recalque de 700 a 900 m","m³",null,7.58]
["SICRO 1917464","SICRO","1917464","Dragagem de cascalho fino com draga de sucção e recalque - bomba de 746 kW e cortador de 110 kW - distância de recalque de 1.300 a 1.500 m","m³",null,11.66]
["SICRO 1901590","SICRO","1901590","Dragagem de cascalho fino com draga hopper - capacidade da cisterna de 10.000 m³ - DMT de 1.500 a 1.800 m","m³",null,9.66]
["SICRO 1917101","SICRO","1917101","Dragagem de cascalho fino com draga hopper - capacidade da cisterna de 2.000 m³ - DMT de 2.700 a 3.000 m","m³",null,11.69]
["SICRO 1917170","SICRO","1917170","Dragagem de cascalho fino com draga hopper - capacidade da cisterna de 4.000 m³ - DMT de 1.800 a 2.100 m","m³",null,9.68]
["SICRO 1917027","SICRO","1917027","Dragagem de cascalho fino com draga hopper - capacidade da cisterna de 750 m³ - DMT de 2.100 a 2.400 m","m³",null,22.85]
["SICRO 1917636","SICRO","1917636","Dragagem de material de 1ª categoria com clamshell sobre pontão flutuante - capacidade da caçamba de 4,6 m³ - transporte com batelão sem propulsão com capacidade de 100 t - DMT 2.100 a 2.400 m","m³",null,18.11]
["SICRO 1917653","SICRO","1917653","Dragagem de material de 1ª categoria com dragline - caçamba de 2,1 m³ - caminho de serviço em leito natural - DMT de 3.000 m - com caminhão de 14 m³ e carregadeira","m³",null,23.98]
["SICRO 1917675","SICRO","1917675","Dragagem de material de 1ª categoria com dragline - caçamba de 2,1 m³ - caminho de serviço pavimentado - DMT 1.600 a 1.800 m - com caminhão de 14 m³ e carregadeira","m³",null,19.350000000000001]
["SICRO 1917689","SICRO","1917689","Dragagem de material de 1ª categoria com escavadeira hidráulica - capacidade de caçamba de 1,56 m³ - caminho de serviço em leito natural - DMT 1.600 a 1.800 m","m³",null,12.23]
["SICRO 1917693","SICRO","1917693","Dragagem de material de 1ª categoria com escavadeira hidráulica - capacidade de caçamba de 1,56 m³ - caminho de serviço em leito natural - DMT 3.000 m","m³",null,14.93]
["SICRO 1917694","SICRO","1917694","Dragagem de material de 1ª categoria com escavadeira hidráulica - capacidade de caçamba de 1,56 m³ - caminho de serviço em revestimento primário - DMT 50 a 200 m","m³",null,7.76]
["SICRO 1901608","SICRO","1901608","Dragagem de material de 1ª categoria com escavadeira hidráulica sobre pontão flutuante - capacidade da caçamba de 1,56 m³ - transporte com batelão sem propulsão com capacidade de 100 t - DMT 300 a 600 m","m³",null,14.61]
["SICRO 1901620","SICRO","1901620","Dragagem de silte com draga hopper - capacidade da cisterna de 10.000 m³ - DMT de 1.800 a 2.100 m","m³",null,13.6]
["SICRO 1917077","SICRO","1917077","Dragagem de silte com draga hopper - capacidade da cisterna de 2.000 m³ - DMT de 2.700 a 3.000 m","m³",null,20.09]
["SICRO 1901633","SICRO","1901633","Dragagem de silte com draga hopper - capacidade da cisterna de 20.000 m³ - DMT de 2.100 a 2.400 m","m³",null,19.22]
["SICRO 1917182","SICRO","1917182","Dragagem de silte com draga hopper - capacidade da cisterna de 5.000 m³ - DMT de 1.800 a 2.100 m","m³",null,15.42]
["SICRO 2003622","SICRO","2003622","Boca de lobo combinada - chapéu e grelha simples - BLC 01 - areia e brita comerciais","un",null,2631.11]
["SICRO 2003618","SICRO","2003618","Boca de lobo simples - BLS 01 - areia e brita comerciais","un",null,1119.29]
["SICRO 2003926","SICRO","2003926","Boca de saída para dreno sub-horizontal em material de 2ª categoria - BSD 04 - areia extraída e brita produzida","un",null,22.67]
["SICRO 2003517","SICRO","2003517","Caixa coletora de sarjeta - CCS 200-60 B - com grelha de aço - areia e brita comerciais","un",null,5107.22]
["SICRO 2003525","SICRO","2003525","Caixa coletora de sarjeta - CCS 250-60 B - com grelha de aço - areia e brita comerciais","un",null,6230.93]
["SICRO 2003492","SICRO","2003492","Caixa coletora de sarjeta - CCS 300-60 A - com grelha de concreto - areia extraída e brita produzida","un",null,6679.69]
["SICRO 2003503","SICRO","2003503","Caixa coletora de sarjeta - CCS 350-80 A - com grelha de concreto - areia e brita comerciais","un",null,8121.13]
["SICRO 2003555","SICRO","2003555","Caixa coletora de sarjeta - CCS 400-120 B - com grelha de aço - areia e brita comerciais","un",null,10584.58]
["SICRO 2003737","SICRO","2003737","Caixa coletora de talvegue - CCT 06 - areia extraída e brita produzida","un",null,5058.2700000000004]
["SICRO 2003744","SICRO","2003744","Caixa coletora de talvegue - CCT 09 - areia e brita comerciais","un",null,6531.6]
["SICRO 2003757","SICRO","2003757","Caixa coletora de talvegue - CCT 16 - areia extraída e brita produzida","un",null,7363.93]
["SICRO 2003649","SICRO","2003649","Caixa de ligação e passagem - CLP 05 - areia extraída e brita produzida","un",null,3245.51]
["SICRO 2003668","SICRO","2003668","Caixa de ligação e passagem - CLP 14 - areia e brita comerciais","un",null,2390.9499999999998]
["SICRO 2019783","SICRO","2019783","Canal em polietileno e polipropileno com efeito autolimpante e abertura de captação em ferro fundido dúctil - carga de controle de 900 kN - 100,0 x 25,2 x 66,5 cm - fornecimento e instalação em pavimento de asfalto","m",null,1825.45]
["SICRO 2019755","SICRO","2019755","Canal monobloco com corpo e grelha em concreto polímero com efeito autolimpante - carga de controle de 400 kN - 100,0 x 15,0 x 23,0 cm - fornecimento e instalação em pavimento de asfalto","m",null,421.98]
["SICRO 2019768","SICRO","2019768","Canal monobloco com corpo e grelha em concreto polímero com efeito autolimpante - carga de controle de 900 kN - 100,0 x 21,0 x 38,0 cm - fornecimento e instalação em pavimento de concreto","m",null,1012.92]
["SICRO 2003800","SICRO","2003800","Canaleta meia cana D = 0,40 m assente sobre lastro de areia - areia extraída e brita produzida - fornecimento e instalação","m",null,76.48]
["SICRO 2003861","SICRO","2003861","Coluna drenante D = 20 cm - areia comercial","m",null,31.98]
["SICRO 2003434","SICRO","2003434","Descida d'água de aterros em degraus - DAD 370-45 - areia extraída e brita produzida","m",null,1779.08]
["SICRO 2003403","SICRO","2003403","Descida d'água de cortes em degraus - DCD 80-40 - areia e brita comerciais","m",null,784.12]
["SICRO 2003468","SICRO","2003468","Dissipador de energia - DEB 300-666 - areia extraída e brita e pedra de mão produzidas","un",null,2488.14]
["SICRO 2003471","SICRO","2003471","Dissipador de energia - DEB 360-754 - areia, brita e pedra de mão comerciais","un",null,3893.63]
["SICRO 2003182","SICRO","2003182","Dissipador de energia - DED 04 A - areia extraída e brita e pedra de mão produzidas","un",null,773.11]
["SICRO 2003214","SICRO","2003214","Dissipador de energia - DED 07 B - areia extraída e brita produzida","un",null,4932.66]
["SICRO 2003197","SICRO","2003197","Dissipador de energia - DED 12 A - areia, brita e pedra de mão comerciais","un",null,3604.29]
["SICRO 2003228","SICRO","2003228","Dissipador de energia - DES 160-480 - areia extraída e brita e pedra de mão produzidas","un",null,1448.08]
["SICRO 2008091","SICRO","2008091","Dreno de PVC D = 150 mm para OAE - fornecimento e instalação","m",null,94.83]
["SICRO 2003588","SICRO","2003588","Dreno longitudinal profundo para corte em rocha - DPR 01 - tubo PEAD e brita produzida","m",null,117.64]
["SICRO 2003597","SICRO","2003597","Dreno longitudinal profundo para corte em rocha - DPR 05 - tubo de concreto poroso e areia comercial","m",null,122.52]
["SICRO 2003564","SICRO","2003564","Dreno longitudinal profundo para corte em solo - DPS 05 - dreno cego - brita produzida","m",null,89.94]
["SICRO 2003606","SICRO","2003606","Dreno subsuperficial - DSS 02 - brita produzida","m",null,29.02]
["SICRO 2003106","SICRO","2003106","Entrada para descida d'água - EDA 02 A - areia extraída e brita produzida","un",null,198.36]
["SICRO 2003119","SICRO","2003119","Entrada para descida d'água - EDA 03 B - areia e brita comerciais","un",null,282.61]
["SICRO 2003151","SICRO","2003151","Entrada para descida d'água - EDA 09 B - areia e brita comerciais","un",null,1221.6199999999999]
["SICRO 2003136","SICRO","2003136","Entrada para descida d'água - EDA 11 A - areia extraída e brita produzida","un",null,785.8]
["SICRO 2003145","SICRO","2003145","Entrada para descida d'água - EDA 16 A - areia e brita comerciais","un",null,1205.8800000000001]
["SICRO 2003317","SICRO","2003317","Grelha de concreto 54 x 100 cm para boca-de-lobo - areia extraída e brita produzida - sobrecarga do trem tipo TB 45","un",null,103.49]
["SICRO 2003576","SICRO","2003576","Lastro de areia extraída - espalhamento manual","m³",null,16.61]
["SICRO 2003374","SICRO","2003374","Meio-fio de concreto - MFC 04 - areia extraída e brita produzida - fôrma de madeira","m",null,40.799999999999997]
["SICRO 2003383","SICRO","2003383","Meio-fio de concreto - MFC 08 - areia e brita comerciais - fôrma de madeira","m",null,97.12]
["SICRO 2003679","SICRO","2003679","Poço de visita - PVI 02 - areia extraída e brita produzida","un",null,2100.89]
["SICRO 2003703","SICRO","2003703","Poço de visita - PVI 14 - areia extraída e brita produzida","un",null,2798.52]
["SICRO 2003354","SICRO","2003354","Sarjeta trapezoidal de canteiro central de concreto - SZCC 140-35 - areia extraída e brita produzida","m",null,66.31]
["SICRO 2003973","SICRO","2003973","Sarjeta trapezoidal de concreto - SZC 60-20 moldada no local com extrusora e concreto usinado - escavação mecânica - areia e brita comerciais","m",null,63.49]
["SICRO 2003977","SICRO","2003977","Sarjeta triangular de canteiro central de concreto - STCC 140-35 moldada no local com extrusora e concreto usinado - areia e brita comerciais","m",null,77.83]
["SICRO 2003318","SICRO","2003318","Sarjeta triangular de concreto - STC 125-25 - escavação mecânica - areia extraída e brita produzida","m",null,55.99]
["SICRO 2003255","SICRO","2003255","Sarjeta triangular de concreto - STC 150-30 moldada no local com extrusora e concreto usinado - escavação mecânica - areia e brita comerciais","m",null,92.25]
["SICRO 2003289","SICRO","2003289","Sarjeta triangular de grama - STG 100-20 - escavação mecânica","m",null,22.92]
["SICRO 2003301","SICRO","2003301","Sarjeta triangular sem revestimento - STT 80-15 - escavação mecânica","m",null,8.4700000000000006]
["SICRO 2003830","SICRO","2003830","Tubo de concreto PA1 comercial para drenagem - D = 1,00 m - fornecimento e instalação","m",null,589.02]
["SICRO 2003823","SICRO","2003823","Tubo de concreto PA2 comercial para drenagem - D = 0,60 m - fornecimento e instalação","m",null,298.83]
["SICRO 2003836","SICRO","2003836","Tubo de concreto PA3 comercial para drenagem - D = 1,20 m - fornecimento e instalação","m",null,1028.3699999999999]
["SICRO 2003833","SICRO","2003833","Tubo de concreto PA4 comercial para drenagem - D = 1,00 m - fornecimento e instalação","m",null,685.6]
["SICRO 2003787","SICRO","2003787","Tubo de concreto PA4 produzido na obra para drenagem - D = 1,50 m - areia e brita comerciais - fornecimento e instalação","m",null,1651.07]
["SICRO 2003984","SICRO","2003984","Tubo PEAD para drenagem - D = 450 mm - fornecimento e instalação","m",null,286.38]
["SICRO 2003295","SICRO","2003295","Valeta de proteção de corte sem revestimento - VPCT 160-30 - escavação mecânica","m",null,19.46]
["SICRO 2106292","SICRO","2106292","Escoramento contínuo de valas com tábuas de 2,5 x 30 cm e longarinas de 6 x 16 cm - estroncas a cada metro não incluídas - profundidade de até 4 m - madeira com utilização de 3 vezes - confecção, instalação e retirada","m²",null,172.08]
["SICRO 2306726","SICRO","2306726","Apoio náutico para a execução da cravação de camisa metálica D = 600 a 1.800 mm","m",null,245.04]
["SICRO 2306658","SICRO","2306658","Camisa metálica com espessura de 16 mm D = 1.700 mm - cravada com martelo vibratório - sem escavação - cravação","m",null,9392.26]
[{"$f":"CONCATENATE($B24203,\" \",$C24203)","v":"SICRO 2306735"},"SICRO","2306735","Camisa metálica com espessura de 6,3 mm D = 500 mm - para passagem de lâmina d'água - posicionamento","m",null,914.33]
["SICRO 2306663","SICRO","2306663","Camisa metálica com espessura de 6,3 mm D = 900 mm - para passagem de lâmina d'água - posicionamento","m",null,1525.8]
["SICRO 2306648","SICRO","2306648","Camisa metálica com espessura de 9,5 mm D = 1.300 mm - cravada com martelo vibratório - sem escavação - cravação","m",null,4737.09]
["SICRO 2306625","SICRO","2306625","Confecção de camisa metálica em aço ASTM A36 com espessura de 12,5 mm - D = 1.500 mm","m",null,6185.66]
["SICRO 2306609","SICRO","2306609","Confecção de camisa metálica em aço ASTM A36 com espessura de 6,3 mm - D = 900 mm","m",null,1500.1]
["SICRO 2306712","SICRO","2306712","Escavação com perfuratriz tipo Wirth em rocha com média dureza e média abrasão - resistência à compressão menor que 80 MPa - D = 1.400 mm","m",null,2755.08]
["SICRO 2306715","SICRO","2306715","Escavação com perfuratriz tipo Wirth em rocha com média dureza e média abrasão - resistência à compressão menor que 80 MPa - D = 1.500 mm","m",null,2881.85]
["SICRO 2306711","SICRO","2306711","Escavação com perfuratriz tipo Wirth em solo - D = 1.400 mm","m",null,401.3]
["SICRO 2306090","SICRO","2306090","Estaca broca manual D = 25 cm - confecção","m",null,55.79]
[{"$f":"CONCATENATE($B24331,\" \",$C24331)","v":"SICRO 2306074"},"SICRO","2306074","Estaca hélice contínua - confecção","m³",null,240.56]
["SICRO 2306106","SICRO","2306106","Estaca pré-moldada de concreto protendido 25 x 25 cm - produzida - sem emenda - cravação","m",null,107.87]
["SICRO 2306069","SICRO","2306069","Estaca raiz perfurada na rocha com D = 25 cm - confecção","m",null,882.7]
["SICRO 2306063","SICRO","2306063","Estaca raiz perfurada no solo com D = 20 cm - confecção","m",null,112.43]
["SICRO 2306304","SICRO","2306304","Fabricação de estaca pré-moldada de concreto protendida seção 23 x 23 cm","m",null,50.94]
["SICRO 2306312","SICRO","2306312","Fabricação de estaca pré-moldada de concreto protendida seção 42 x 42 cm","m",null,116.66]
["SICRO 2407979","SICRO","2407979","Pintura de acabamento com tinta de poliuretano acrílico de dois componentes com pistola airless, uma demão, espessura de 70 µm","m²",null,14.14]
["SICRO 2607148","SICRO","2607148","Assentamento dos materiais metálicos do AMV 1:10, TR 57, bitola larga","un",null,594818.52]
["SICRO 2607166","SICRO","2607166","Assentamento dos materiais metálicos do AMV 1:12, TR 57, bitola mista","un",null,786807.6]
["SICRO 2607222","SICRO","2607222","Assentamento dos materiais metálicos do AMV 1:12, UIC 60, bitola métrica","un",null,598086.49]
["SICRO 2607171","SICRO","2607171","Assentamento dos materiais metálicos do AMV 1:14, TR 68, bitola mista","un",null,1032355.58]
["SICRO 2607340","SICRO","2607340","Nivelamento de AMV com socaria com grupo vibrador e levante de até 10 cm, abertura 1:12, bitola métrica, dormente de madeira ou concreto","un",null,213.19]
["SICRO 2607325","SICRO","2607325","Nivelamento de AMV com socaria manual e levante de até 10 cm, abertura 1:12, bitola métrica, dormente de madeira ou concreto","un",null,496.44]
["SICRO 2607103","SICRO","2607103","Posicionamento de jogo de dormentes de concreto para AMV 1:12, bitola métrica","jg",null,53317.21]
["SICRO 2607263","SICRO","2607263","Posicionamento de jogo de dormentes de concreto para AMV 1:14, bitola mista","jg",null,126734.77]
["SICRO 2607087","SICRO","2607087","Posicionamento de jogo de dormentes de madeira para AMV 1:8, bitola métrica","jg",null,12368.78]
["SICRO 2809197","SICRO","2809197","Demolição de AMV 1:12 TR 45, em bitola mista, dormente de madeira, com separação e empilhamento","un",null,3517.44]
["SICRO 2809202","SICRO","2809202","Demolição de AMV 1:14 TR 57, em bitola mista, dormente de madeira, com separação e empilhamento","un",null,4231.68]
["SICRO 2809218","SICRO","2809218","Demolição de via, bitola métrica, 1.667 dormentes de madeira/km, trilho TR 57, barra com 12 m de comprimento, com separação e empilhamento","km",null,25443.49]
["SICRO 2809223","SICRO","2809223","Demolição de via, bitola mista, 1.667 dormentes de madeira/km, trilho TR 57, barra com 12 m de comprimento, com separação e empilhamento","km",null,29265.95]
["SICRO 2909387","SICRO","2909387","Nivelamento de via com grupo gerador/vibrador e levante de até 10 cm - bitola mista com dormente de madeira ou concreto e taxa de dormentação de 1.850 un/km","km",null,11379.32]
["SICRO 3009340","SICRO","3009340","Alívio de tensão, com martelo de bronze, em TLS com 120 de comprimento de TR57, taxa de dormentação de 1.667 un/km, para qualquer bitola e fixação elástica","un",null,218.46]
["SICRO 3009087","SICRO","3009087","Colocação mecanizada de grampo elástico Pandrol","un",null,0.1]
["SICRO 3009280","SICRO","3009280","Dormente de concreto monobloco, bitola larga, taxa de dormentação de 1.667 un/km, fixação elástica Pandrol - posicionamento mecanizado com carregadeira","km",null,721364.29]
["SICRO 3009064","SICRO","3009064","Dormente de concreto monobloco, bitola mista, taxa de dormentação de 1.750 un/km, fixação elástica Pandrol - posicionamento mecanizado com pórtico","km",null,1015240.59]
["SICRO 3009133","SICRO","3009133","Pré-alinhamento mecanizado da grade","km",null,1887.55]
["SICRO 3009225","SICRO","3009225","Trilho TR45, comprimento de 12 m, sobre dormente de madeira, bitola mista, taxa de dormentação de 1.750 un/km, tala de junção de 6 furos e fixação rígida - posicionamento e assentamento manual","km",null,2102168.96]
["SICRO 3009038","SICRO","3009038","Trilho TR45, comprimento de 240 m (TLS), sobre dormente de madeira, bitola métrica ou larga, taxa de dormentação de 1.750 un/km, tala de junção de 6 furos e fixação elástica Pandrol - posicionamento e assentamento mecanizado","km",null,1487899.56]
["SICRO 3009255","SICRO","3009255","Trilho TR57, comprimento de 120 m (TLS), sobre dormente de madeira, bitola métrica ou larga, taxa de dormentação de 1.667 un/km, tala de junção de 6 furos e fixação elástica Pandrol - posicionamento e assentamento mecanizado","km",null,1843096.5]
["SICRO 3009275","SICRO","3009275","Trilho TR57, comprimento de 240 m (TLS), sobre dormente de madeira, bitola mista, taxa de dormentação de 1.667 un/km, tala de junção de 6 furos e fixação elástica Pandrol - posicionamento e assentamento mecanizado","km",null,2756157.71]
["SICRO 3009028","SICRO","3009028","Trilho TR68, comprimento de 120 m (TLS), sobre dormente de concreto, bitola métrica ou larga, taxa de dormentação de 1.750 un/km, tala de junção de 6 furos e fixação elástica Pandrol - posicionamento e assentamento mecanizado","km",null,1590638.9]
["SICRO 3009105","SICRO","3009105","Trilho TR68, comprimento de 240 m (TLS), formado por trilhos curtos de 12 m soldados por caldeamento - confecção em estaleiro","un",null,171414.22]
["SICRO 3009106","SICRO","3009106","Trilho UIC60, comprimento de 120 m (TLS), formado por trilhos curtos de 12 m soldados por caldeamento - confecção em estaleiro","un",null,76689.740000000005]
["SICRO 3009261","SICRO","3009261","Trilho UIC60, comprimento de 240 m (TLS), sobre dormente de madeira, bitola métrica ou larga, taxa de dormentação de 1.667 un/km, tala de junção de 6 furos e fixação elástica Pandrol - posicionamento e assentamento mecanizado","km",null,2023594.36]
["SICRO 3117749","SICRO","3117749","Fôrma metálica para guarda-corpo de concreto - utilização de 50 vezes - confecção","m²",null,13.79]
["SICRO 3107969","SICRO","3107969","Fôrmas curvas de compensado plastificado 10 mm - uso geral - utilização de 2 vezes - confecção, instalação e retirada","m²",null,133.22]
["SICRO 3103303","SICRO","3103303","Fôrmas de tábuas de pinho para drenos - utilização de 5 vezes - confecção, instalação e retirada","m²",null,46.83]
["SICRO 3205868","SICRO","3205868","Gabião caixa 2 x 1 x 0,50 m Zn/Al - D = 2,7 mm - pedra de mão comercial - fornecimento e assentamento","m³",null,796.65]
["SICRO 3606587","SICRO","3606587","Carga, transporte e descarga de material pétreo para molhes com o uso de batelões e escavadeira hidráulica - DMT de 2.400 a 2.700 m","m³",null,23.52]
["SICRO 3606539","SICRO","3606539","Escavação, carga e transporte de material pétreo para a subcarapaça - caminho de serviço em revestimento primário - DMT de 1.800 a 2.000 m - com caminhão basculante de 8 m³","m³",null,51.33]
["SICRO 3606505","SICRO","3606505","Escavação, carga e transporte de material pétreo para o núcleo - caminho de serviço em leito natural - DMT de 2.000 a 2.500 m - com caminhão basculante de 8 m³","m³",null,53.87]
["SICRO 3606506","SICRO","3606506","Escavação, carga e transporte de material pétreo para o núcleo - caminho de serviço em leito natural - DMT de 2.500 a 3.000 m - com caminhão basculante de 8 m³","m³",null,57.9]
["SICRO 3606523","SICRO","3606523","Escavação, carga e transporte de material pétreo para o núcleo - caminho de serviço pavimentado - DMT de 2.000 a 2.500 m - com caminhão basculante de 8 m³","m³",null,46.84]
["SICRO 3606575","SICRO","3606575","Seleção de material pétreo para a carapaça e subcarapaça","m³",null,2.2799999999999998]
["SICRO 3713619","SICRO","3713619","Barreira dupla de concreto, não armada, moldada no local (perfil New Jersey) - H = 810 + 100 mm","m",null,70.06]
["SICRO 3713602","SICRO","3713602","Defensa maleável dupla - fornecimento e implantação","m",null,948.16]
["SICRO 3713702","SICRO","3713702","Fornecimento e implantação de amortecedor retrátil (v <= 100 km/h) tipo TAU II afunilado - fixado em barreira de concreto, com largura de âncora traseira de 2.440 mm","un",null,340554.45]
["SICRO 3713693","SICRO","3713693","Fornecimento e implantação de amortecedor retrátil (v <= 100 km/h) tipo TAU II combinado - fixado em barreira de concreto, com largura de âncora traseira de 1.060 mm","un",null,269006.42]
["SICRO 3713896","SICRO","3713896","Terminal de ancoragem para barreira simples de concreto, moldada no local, com extrusora (perfil F) - H = 810 + 250 mm","m",null,293.04000000000002]
["SICRO 3807752","SICRO","3807752","Corte linear em superfície de concreto para fixação de barras de aço de 10 mm - L = 12 mm e H = 12 mm","m",null,11.03]
["SICRO 3806421","SICRO","3806421","Lançamento de viga pré-moldada de 500 a 750 kN com utilização de guindaste","un",null,5723.45]
["SICRO 3806410","SICRO","3806410","Plataforma de trabalho suspensa sob tabuleiro de pontes com treliças metálicas e tábuas - utilização de 100 vezes - confecção, instalação e retirada","m²",null,64.84]
["SICRO 3815643","SICRO","3815643","Recomposição de dreno em tubo de aço galvanizado D = 80 mm em OAE - fornecimento e instalação","un",null,99.61]
["SICRO 4011451","SICRO","4011451","Areia asfalto a quente com asfalto polímero - faixa C - areia extraída","t",null,129.03]
["SICRO 4011282","SICRO","4011282","Base ou sub-base de macadame hidráulico com brita comercial - 100% Proctor modificado","m³",null,179.43]
["SICRO 4011453","SICRO","4011453","Concreto asfáltico - faixa A-25 - areia extraída e brita produzida","t",null,130.26]
["SICRO 4011457","SICRO","4011457","Concreto asfáltico com asfalto polímero - faixa A - areia e brita comerciais","t",null,186.24]
["SICRO 4011352","SICRO","4011352","Imprimação com emulsão asfáltica","m²",null,0.42]
["SICRO 4011406","SICRO","4011406","Lama asfáltica - faixa III - areia e brita comerciais","m²",null,1.1000000000000001]
["SICRO 4011416","SICRO","4011416","Micro pré-misturado a quente com asfalto polímero - brita produzida","t",null,140.16999999999999]
["SICRO 4011354","SICRO","4011354","Pintura de ligação - emulsão com polímero","m²",null,0.28999999999999998]
["SICRO 4011436","SICRO","4011436","Pré-misturado a quente com asfalto polímero - faixa II - camada porosa de atrito - areia e brita comerciais","t",null,174.27]
["SICRO 4011486","SICRO","4011486","Reciclagem com incorporação do revestimento asfáltico à base e adição de 3% de cimento e de brita comercial - 100% Proctor modificado","m³",null,112.34]
["SICRO 4011213","SICRO","4011213","Sub-base de concreto compactado com rolo - brita produzida","m³",null,178.09]
["SICRO 4011228","SICRO","4011228","Sub-base estabilizada granulometricamente com mistura de solos na pista com material de jazida - 100% Proctor intermediário","m³",null,15.37]
["SICRO 4011365","SICRO","4011365","Tratamento superficial simples com banho diluído com emulsão com polímero - brita produzida","m²",null,1.57]
["SICRO 4011381","SICRO","4011381","Tratamento superficial triplo com emulsão - brita produzida","m²",null,4.1100000000000003]
["SICRO 4208201","SICRO","4208201","Ancoragem regulável para estais de 12 cordoalhas D = 15,7 mm - inclusive protensão, injeção de cera e regulagem final","un",null,24277.81]
["SICRO 4208210","SICRO","4208210","Grua fixa - montagem e desmontagem até a altura de 60 m - exceto fundações","un",null,26858.49]
["SICRO 4208213","SICRO","4208213","Tubo antivandalismo em aço galvanizado para estais de 73 cordoalhas D = 15,7 mm - fornecimento e instalação","m",null,3758.05]
["SICRO 4208223","SICRO","4208223","Tubo fôrma lado fixo em aço galvanizado para estais de 61 cordoalhas D = 15,7 mm - fornecimento e instalação","m",null,7939.68]
["SICRO 4208128","SICRO","4208128","Tubo PEAD para estais - D = 110 mm - fornecimento e instalação","m",null,274.58999999999997]
["SICRO 4413905","SICRO","4413905","Hidrossemeadura","m²",null,6.44]
["SICRO 4413016","SICRO","4413016","Recuperação ambiental de pedreiras ou áreas degradadas com biomanta vegetal de fibras de palha em áreas com inclinação máxima de 1:1,5","m²",null,10.85]
["SICRO 4415673","SICRO","4415673","Revestimento vegetal com grama em mudas em superfícies inclinadas","m²",null,10.220000000000001]
["SICRO 4507772","SICRO","4507772","Ancoragem ativa com 8 cordoalhas aderentes D = 12,7 mm - fornecimento e instalação","un",null,787.5]
["SICRO 4507777","SICRO","4507777","Ancoragem ativa para lajes com 2 cordoalhas aderentes D = 12,7 mm - fornecimento e instalação","un",null,190.68]
["SICRO 4508190","SICRO","4508190","Ancoragem passiva com 31 cordoalhas aderentes D = 15,2 mm - fornecimento e instalação","un",null,440.88]
["SICRO 4507810","SICRO","4507810","Ancoragem passiva para lajes com 3 cordoalhas aderentes D = 12,7 mm - fornecimento e instalação","un",null,50.54]
["SICRO 4507851","SICRO","4507851","Bainha metálica ovalizada seção 19 x 36 mm para 1 cordoalha D = 12,7 mm - fornecimento, instalação e injeção de nata de cimento","m",null,24.93]
["SICRO 4507825","SICRO","4507825","Bainha metálica redonda D = 110 mm para 37 cordoalhas D = 12,7 mm - fornecimento, instalação e injeção de nata de cimento","m",null,64.31]
["SICRO 4508175","SICRO","4508175","Bainha metálica redonda D = 75 mm para 11 cordoalhas D = 15,2 mm - fornecimento, instalação e injeção de nata de cimento","m",null,42.99]
["SICRO 4507846","SICRO","4507846","Bainha metálica redonda D = 85 mm para 25 cordoalhas D = 12,7 mm - fornecimento, instalação e injeção de nata de cimento","m",null,48.04]
["SICRO 4816019","SICRO","4816019","Areia extraída com escavadeira hidráulica de longo alcance","m³",null,7.79]
["SICRO 4816124","SICRO","4816124","Confecção de tubos de concreto D = 0,40 m - areia extraída e brita produzida","m",null,55.45]
["SICRO 4816001","SICRO","4816001","Escavação manual de tunnel liner em material de 2ª categoria","m³",null,955.65]
["SICRO 4805751","SICRO","4805751","Escavação manual em material de 1ª categoria na profundidade de 1 a 2 m","m³",null,73.2]
["SICRO 4800412","SICRO","4800412","Raspagem e limpeza de terreno plano","m²",null,5.86]
["SICRO 4816004","SICRO","4816004","Ventilação provisória para tunnel liner","m",null,51.3]
["SICRO 4915659","SICRO","4915659","Fresagem contínua de revestimento asfáltico - espessura de 7 cm","m³",null,44.56]
["SICRO 4915709","SICRO","4915709","Limpeza de valeta de corte","m",null,1.42]
["SICRO 4915687","SICRO","4915687","Limpeza e desobstrução de drenos de obras de contenção","un",null,3.55]
["SICRO 4915777","SICRO","4915777","Reassentamento manual de meio-fio com material arrancado da pista","m",null,18.5]
["SICRO 4915593","SICRO","4915593","Recomposição total de cerca com mourão de concreto seção quadrada - areia extraída e brita produzida","m",null,31.18]
["SICRO 4915630","SICRO","4915630","Remendo profundo com imprimação com emulsão asfáltica - demolição manual","m³",null,463.53]
["SICRO 4915669","SICRO","4915669","Remoção mecanizada de camada granular do pavimento","m³",null,7.8]
["SICRO 4915592","SICRO","4915592","Substituição de balizador - areia extraída e brita produzida","un",null,33.01]
["SICRO 4913703","SICRO","4913703","Substituição de cartucho de absorção de energia tipo A - fornecimento e instalação, e reposicionamento do amortecedor retrátil","un",null,5571.08]
["SICRO 5213346","SICRO","5213346","Barreira de sinalização tipo III de direcionamento ou bloqueio - utilização de 150 ciclos - fornecimento, 01 implantação e 01 retirada diária","un.dia",null,8.42]
["SICRO 5216115","SICRO","5216115","Fabricação de balizador de concreto - seção circular de 10 cm - areia extraída e brita produzida","un",null,16.7]
["SICRO 5214004","SICRO","5214004","Pintura de faixa com termoplástico em alto relevo tipo II por extrusão - relevo simples ranhurado com base","m²",null,173.94]
["SICRO 5214001","SICRO","5214001","Pintura de faixa com tinta acrílica emulsionada em água - espessura de 0,3 mm","m²",null,12.63]
["SICRO 5213475","SICRO","5213475","Placa de marco quilométrico em fibra - 0,70 x 1,00 m - película retrorrefletiva tipo I + III - fornecimento e implantação","un",null,377.13]
["SICRO 5213444","SICRO","5213444","Placa de regulamentação em aço, R1 lado 0,248 m - película retrorrefletiva tipo I + SI - fornecimento e implantação","un",null,266.11]
["SICRO 5213460","SICRO","5213460","Placa de regulamentação em fibra, R2 lado 0,60 m - película retrorrefletiva tipo I + SI - fornecimento e implantação","un",null,178.55]
["SICRO 5213372","SICRO","5213372","Placa em aço - 2,00 x 1,00 m - película retrorrefletiva tipo III + X - fornecimento e implantação","un",null,1360.52]
["SICRO 5213512","SICRO","5213512","Placa em aço - 4,00 x 3,00 m - película retrorrefletiva tipo III + III - fornecimento e implantação","un",null,6943.04]
["SICRO 5212554","SICRO","5212554","Placa em aço nº 16 galvanizado com película retrorrefletiva tipo I + III - chapa recuperada - confecção","m²",null,315.11]
["SICRO 5213561","SICRO","5213561","Placa em aço, modulada - 2,00 x 1,00 m - película retrorrefletiva tipo III + III - fornecimento e implantação","un",null,1467.68]
["SICRO 5213578","SICRO","5213578","Placa em aço, modulada - acima de 2 m² - película III + III - fornecimento e implantação","m²",null,748.84]
["SICRO 5213428","SICRO","5213428","Placa em chapa de poliéster reforçada com fibra de vidro com película retrorrefletiva tipo I + SI - confecção","m²",null,543.39]
["SICRO 5213539","SICRO","5213539","Placa em fibra - 4,00 x 3,00 m - película retrorrefletiva tipo III + III - fornecimento e implantação","un",null,6593.96]
["SICRO 5213591","SICRO","5213591","Pórtico metálico com vão de 15,9 m, vento de 35 m/s e área de exposição de até 23,85 m² - fornecimento e implantação - areia extraída e brita produzida","un",null,100917.91]
["SICRO 5213363","SICRO","5213363","Recuperação de chapa em aço para placa de sinalização","m²",null,41.21]
["SICRO 5213869","SICRO","5213869","Suporte duplo metálico galvanizado para placas - 3,00 x 1,50 m - fornecimento e implantação","un",null,2433.02]
["SICRO 5213855","SICRO","5213855","Suporte metálico galvanizado para placa de regulamentação - R1 - lado de 0,248 m - fornecimento e implantação","un",null,411.76]
["SICRO 5219608","SICRO","5219608","Tacha refletiva em plástico injetado - bidirecional tipo III - com um pino - fornecimento e colocação","un",null,39.25]
["SICRO 5219623","SICRO","5219623","Tacha refletiva em resina sintética - bidirecional tipo III - com um pino - fornecimento e colocação","un",null,53.95]
["SICRO 5219636","SICRO","5219636","Tacha refletiva metálica - bidirecional tipo III - com um pino - fornecimento e colocação","un",null,32.29]
["SICRO 5219639","SICRO","5219639","Tacha refletiva metálica - monodirecional tipo III - com dois pinos - fornecimento e colocação","un",null,33.9]
["SICRO 5301048","SICRO","5301048","Fornecimento e implantação de suporte duplo em madeira com travessa para placa de sinalização náutica em margem - altura total de 5,5 m - com embarcação","un",null,2356.7399999999998]
["SICRO 5301071","SICRO","5301071","Fornecimento e implantação de suporte duplo polimérico ecológico maciço quadrado de 8 cm para placa de sinalização náutica em margem - altura total de 5,0 m","un",null,3100.45]
["SICRO 5301051","SICRO","5301051","Fornecimento e implantação de suporte simples polimérico ecológico maciço quadrado de 10 cm para placa de sinalização náutica em margem - altura total de 5,5 m - com embarcação","un",null,2719.63]
["SICRO 5301026","SICRO","5301026","Fornecimento e instalação de suporte e lanterna de sinalização náutica com alcance luminoso de 5 MN em boia","un",null,8771.6200000000008]
["SICRO 5301082","SICRO","5301082","Fornecimento e substituição de lanterna de sinalização náutica com alcance luminoso de 2 MN em obra de arte especial - com embarcação","un",null,5104.21]
["SICRO 5300994","SICRO","5300994","Pintura com esmalte poliuretano de dois componentes em chapa metálica com pistola a ar comprimido, uma demão, espessura de 35 µm","m²",null,14.08]
["SICRO 5301017","SICRO","5301017","Substituição de boia de sinalização náutica sem sistema de fundeio - equipamentos e mão de obra","un",null,1287.5899999999999]
["SICRO 5405982","SICRO","5405982","Aterro compactado em solo reforçado com fita metálica galvanizada - taxa 4,13 kg/m³ - material de jazida","m³",null,76.47]
["SICRO 5406027","SICRO","5406027","Muro de escama de concreto armado em solo reforçado com fita metálica com altura de 6,0 a 8 m - tipo 1 - areia e brita comerciais","m²",null,347.95]
["SICRO 5406039","SICRO","5406039","Muro de escama de concreto armado em solo reforçado com fita metálica com altura de 8,0 a 10 m - tipo 1 - areia extraída e brita produzida","m²",null,329.93]
["SICRO 5501701","SICRO","5501701","Destocamento de árvores com diâmetro de 0,15 a 0,30 m","un",null,39.590000000000003]
["SICRO 5502114","SICRO","5502114","Escavação, carga e transporte de material de 1ª categoria - DMT de 1.000 a 1.200 m - caminho de serviço em leito natural - com escavadeira e caminhão basculante de 14 m³","m³",null,8.14]
["SICRO 5501909","SICRO","5501909","Escavação, carga e transporte de material de 1ª categoria - DMT de 1.600 a 1.800 m - caminho de serviço em revestimento primário - com carregadeira e caminhão basculante de 14 m³","m³",null,11.47]
["SICRO 5502170","SICRO","5502170","Escavação, carga e transporte de material de 1ª categoria - DMT de 1.800 a 2.000 m - caminho de serviço pavimentado - com escavadeira e caminhão basculante de 14 m³","m³",null,7.9]
["SICRO 5502109","SICRO","5502109","Escavação, carga e transporte de material de 1ª categoria - DMT de 50 a 200 m - caminho de serviço em leito natural - com escavadeira e caminhão basculante de 14 m³","m³",null,6.03]
["SICRO 5501901","SICRO","5501901","Escavação, carga e transporte de material de 1ª categoria - DMT de 50 a 200 m - caminho de serviço em revestimento primário - com carregadeira e caminhão basculante de 14 m³","m³",null,9.0299999999999994]
["SICRO 5502834","SICRO","5502834","Escavação, carga e transporte de material de 1ª categoria na distância de 3.000 m - caminho de serviço em leito natural - com escavadeira e caminhão basculante de 14 m³","m³",null,12.18]
["SICRO 5502592","SICRO","5502592","Escavação, carga e transporte de material de 2ª categoria - DMT de 1.400 a 1.600 m - caminho de serviço em leito natural - com escavadeira e caminhão basculante de 14 m³","m³",null,11.5]
["SICRO 5502412","SICRO","5502412","Escavação, carga e transporte de material de 2ª categoria - DMT de 1.800 a 2.000 m - caminho de serviço pavimentado - com carregadeira e caminhão basculante de 14 m³","m³",null,18.260000000000002]
["SICRO 5502622","SICRO","5502622","Escavação, carga e transporte de material de 2ª categoria - DMT de 2.500 a 3.000 m - caminho de serviço em revestimento primário - com escavadeira e caminhão basculante de 14 m³","m³",null,11.63]
["SICRO 5502380","SICRO","5502380","Escavação, carga e transporte de material de 2ª categoria - DMT de 600 a 800 m - caminho de serviço em revestimento primário - com carregadeira e caminhão basculante de 14 m³","m³",null,16.63]
["SICRO 5502614","SICRO","5502614","Escavação, carga e transporte de material de 2ª categoria - DMT de 600 a 800 m - caminho de serviço em revestimento primário - com escavadeira e caminhão basculante de 14 m³","m³",null,8.84]
["SICRO 5502774","SICRO","5502774","Escavação, carga e transporte de material de 3ª categoria - DMT de 1.200 a 1.400 m - caminho de serviço em revestimento primário - com caminhão basculante de 12 m³","m³",null,47.32]
["SICRO 5502779","SICRO","5502779","Escavação, carga e transporte de material de 3ª categoria - DMT de 2.500 a 3.000 m - caminho de serviço em revestimento primário - com caminhão basculante de 12 m³","m³",null,51.27]
["SICRO 5502798","SICRO","5502798","Escavação, carga e transporte de material de 3ª categoria - DMT de 800 a 1.000 m - caminho de serviço pavimentado - com caminhão basculante de 12 m³","m³",null,44.69]
["SICRO 5502960","SICRO","5502960","Escavação, carga e transporte de solos moles - DMT de 1.800 a 2.000 m - caminho de serviço pavimentado - com caminhão basculante de 14 m³","m³",null,19.78]
["SICRO 5502952","SICRO","5502952","Escavação, carga e transporte de solos moles - DMT de 200 a 400 m - caminho de serviço pavimentado - com caminhão basculante de 14 m³","m³",null,18.23]
["SICRO 5502955","SICRO","5502955","Escavação, carga e transporte de solos moles - DMT de 800 a 1.000 m - caminho de serviço pavimentado - com caminhão basculante de 14 m³","m³",null,18.91]
["SICRO 5503018","SICRO","5503018","Manutenção de caminho de serviço","km",null,65.34]
["SICRO 5605955","SICRO","5605955","Protensão de tirante com 10 cordoalhas D = 12,7 mm aço CP 190 RB, com capacidade de 860 kN - inclusive ancoragem e grauteamento da cabeça","un",null,717.74]
["SICRO 5605952","SICRO","5605952","Protensão de tirante permanente protendido de aço D = 69 mm, tensão de escoamento = 600 MPa e tensão de ruptura = 720 MPa - inclusive ancoragem e grauteamento da cabeça","un",null,2485.15]
["SICRO 5605884","SICRO","5605884","Tirante permanente protendido com 8 cordoalhas D = 12,7 mm, aço CP 190 RB, com capacidade de 690 kN - exceto perfuração","m",null,193.82]
["SICRO 5909130","SICRO","5909130","Carga e manobra de aduelas de concreto pré-moldadas em cavalo mecânico com semirreboque 22 t - carga com caminhão guindauto de 45 t.m","t",null,25.97]
["SICRO 5914651","SICRO","5914651","Carga, manobra e descarga de agregados ou solos em caminhão basculante de 10 m³ - carga com carregadeira de 3,40 m³ (exclusa) e descarga em distribuidor autopropelido","t",null,2.62]
["SICRO 5915456","SICRO","5915456","Carga, manobra e descarga de agregados ou solos em caminhão basculante de 6 m³ - carga com carregadeira de 1,72 m³ e descarga em distribuidor autopropelido","t",null,3.8]
["SICRO 5919534","SICRO","5919534","Carga, manobra e descarga de concreto com caminhão betoneira - carga em central de concreto de 30 m³/h e descarga em extrusora de sarjeta","t",null,58.95]
["SICRO 5915015","SICRO","5915015","Carga, manobra e descarga de materiais diversos em caminhão carroceria com capacidade de 11 t e com guindauto de 45 t.m","t",null,21.25]
["SICRO 5914304","SICRO","5914304","Carga, manobra e descarga de material fresado em caminhão basculante de 10 m³ - fresagem contínua em espessura de 3 cm - carga com fresadora e descarga livre","t",null,3.69]
["SICRO 5914308","SICRO","5914308","Carga, manobra e descarga de material fresado em caminhão basculante de 10 m³ - fresagem contínua em espessura de 8 cm - carga com fresadora e descarga livre","t",null,2.77]
["SICRO 5914696","SICRO","5914696","Carga, manobra e descarga de TLS de TR57 de 240 m com locomotiva diesel-elétrica em vagão plataforma com capacidade de 82 t - carga e descarga com manipulador de TLS - bitola métrica","t",null,35.340000000000003]
["SICRO 5914700","SICRO","5914700","Carga, manobra e descarga de TLS de UIC60 de 240 m com locomotiva diesel-elétrica em vagão plataforma com capacidade de 82 t - carga e descarga com manipulador de TLS - bitola métrica","t",null,33.4]
["SICRO 5915013","SICRO","5915013","Transporte com caminhão carroceria com capacidade de 11 t e com guindauto de 45 t.m - rodovia em revestimento primário","tkm",null,1.67]
["SICRO 5914635","SICRO","5914635","Transporte com cavalo mecânico com semirreboque com capacidade de 22 t - rodovia em leito natural","tkm",null,1.1000000000000001]
["SICRO 5914639","SICRO","5914639","Transporte com cavalo mecânico com semirreboque com capacidade de 30 t - rodovia em revestimento primário","tkm",null,0.7]
["SICRO 5901642","SICRO","5901642","Transporte de areia fina com draga hopper - capacidade da cisterna de 10.000 m³","m³km",null,0.35]
[{"$f":"CONCATENATE($B26699,\" \",$C26699)","v":"SICRO 5901667"},"SICRO","5901667","Transporte de areia média com draga hopper - capacidade da cisterna de 750 m³","m³km",null,1.83]
["SICRO 5901669","SICRO","5901669","Transporte de cascalho com draga hopper - capacidade da cisterna de 10.000 m³","m³km",null,0.35]
["SICRO 5901684","SICRO","5901684","Transporte de cascalho fino com draga hopper - capacidade da cisterna de 5.000 m³","m³km",null,0.47]
["SICRO 5914364","SICRO","5914364","Transporte de cimento ou cal hidratada a granel com caminhão silo de 30 m³ - rodovia em leito natural","tkm",null,0.9]
["SICRO 5914487","SICRO","5914487","Transporte de dormentes de madeira de bitola larga com locomotiva diesel-elétrica em vagão plataforma com capacidade de 98 t - bitola larga","tkm",null,0.25]
["SICRO 5901698","SICRO","5901698","Transporte de material de 1ª categoria com batelão rebocado montado na obra com capacidade de 66 m³","m³km",null,2.2799999999999998]
["SICRO 5901692","SICRO","5901692","Transporte de silte com draga hopper - capacidade da cisterna de 4.000 m³","m³km",null,1.55]
["SICRO 5914498","SICRO","5914498","Transporte de TLS TR57 de 120 m com locomotiva diesel-elétrica em vagão plataforma com capacidade de 98 t - bitola larga","tkm",null,0.91]
["SICRO 5915328","SICRO","5915328","Transporte em cavalo mecânico com dollys de 3 e 4 eixos com capacidade de 77 t - rodovia em leito natural","km",null,80.38]
["SICRO 5915333","SICRO","5915333","Transporte em cavalo mecânico com dollys de 5 e 4 eixos com capacidade de 111 t - rodovia pavimentada","km",null,101.69]
["SICRO 6106221","SICRO","6106221","Escavação manual de fuste de tubulão a céu aberto em material de 1ª categoria na profundidade de até 10 m","m³",null,336.83]
["SICRO 6219452","SICRO","6219452","Coluna de jet grouting vertical em solo - D = 120 cm - perfuração e injeção","m",null,1137.42]
["SICRO 6219413","SICRO","6219413","Escavação subterrânea e carregamento do material da calota em túnel classe II - DMT de 0 a 200 m - seção de 40 a 60 m²","m³",null,253.24]
["SICRO 6219518","SICRO","6219518","Escavação subterrânea e carregamento do material do rebaixo em túnel classe I a IV - DMT de 0 a 200 m","m³",null,56.55]
["SICRO 6205801","SICRO","6205801","Pregagem da frente em tubo de PVC D = 50 mm com perfuração em D = 100 mm e injeção de argamassa de cimento e areia 1:1","m",null,78.66]
["SICRO 6416235","SICRO","6416235","Usinagem de areia-asfalto a quente com asfalto polímero - faixa C - areia extraída","t",null,109.76]
["SICRO 6416214","SICRO","6416214","Usinagem de concreto asfáltico com borracha (Gap Graded) - brita comercial","t",null,200.04]
["SICRO 6416220","SICRO","6416220","Usinagem de pré-misturado a frio - faixa B - areia e brita comerciais","m³",null,237.2]
["SICRO 6416085","SICRO","6416085","Usinagem de pré-misturado a quente com asfalto polímero - faixa I - camada porosa de atrito - areia extraída e brita produzida","t",null,119.04]
["SICRO 6416089","SICRO","6416089","Usinagem para pavimento de concreto com fôrmas deslizantes - areia extraída e brita produzida","m³",null,277.67]
["SICRO 6817812","SICRO","6817812","Confecção de BSCC - seção canal de 2,0 x 1,5 m - areia extraída e brita produzida","m",null,995.17]
["SICRO 6817821","SICRO","6817821","Confecção de BSCC - seção canal de 2,5 x 2,0 m - tipo II - areia e brita comerciais","m",null,1535.75]
["SICRO 6817760","SICRO","6817760","Confecção de BSCC - seção fechada de 1,5 x 1,5 m - altura do aterro de 5,00 a 7,50 m - areia extraída e brita produzida","m",null,1318.42]
["SICRO 6817776","SICRO","6817776","Confecção de BSCC - seção fechada de 2,0 x 2,0 m - altura do aterro de 7,50 a 10,00 m - areia extraída e brita produzida","m",null,2394.48]
["SICRO 6817805","SICRO","6817805","Confecção de BSCC - seção fechada de 3,0 x 3,0 m - altura do aterro de 10,00 a 12,50 m - areia e brita comerciais","m",null,5886.16]
["SICRO 6817890","SICRO","6817890","Corpo de BSCC - seção canal de 2,0 x 2,0 m - pré-moldado - tipo I - areia extraída e brita produzida","m",null,1880.62]
["SICRO 6817900","SICRO","6817900","Corpo de BSCC - seção canal de 3,0 x 1,5 m - pré-moldado - areia extraída e brita produzida","m",null,1544.34]
["SICRO 6817841","SICRO","6817841","Corpo de BSCC - seção fechada de 1,5 x 1,5 m - pré-moldado - altura do aterro de 12,50 a 15,00 m - areia e brita comerciais","m",null,2287.06]
["SICRO 6817856","SICRO","6817856","Corpo de BSCC - seção fechada de 2,0 x 2,0 m - pré-moldado - altura do aterro de 12,50 a 15,00 m - areia extraída e brita produzida","m",null,3465.94]
["SICRO 6817864","SICRO","6817864","Corpo de BSCC - seção fechada de 2,5 x 2,5 m - pré-moldado - altura do aterro de 5,00 a 7,50 m - areia extraída e brita produzida","m",null,3553.87]
["SICRO 7119788","SICRO","7119788","Administração local do Estaleiro Padrão","mês",null,326324.17]
["SICRO 7119693","SICRO","7119693","Confecção de poita de concreto com garras metálicas de 58,3 t (peso submerso = 35 t)","un",null,34810.879999999997]
[{"$f":"CONCATENATE($B27147,\" \",$C27147)","v":"SICRO 7119684"},"SICRO","7119684","Confecção de poita de concreto de 41,7 t (peso submerso = 25 t)","un",null,28850.95]
["SICRO 7119646","SICRO","7119646","Transporte interno em estaleiro para movimentação de peças","t",null,1190.94]
["SICRO_CHP E9007","SICRO_CHP","E9007","Bomba de pistão triplex com capacidade de 7,80 m³/h (130 l/min) - 8,20 kW","h",34.8733,34.8733]
["SICRO_CHP E9031","SICRO_CHP","E9031","Elevador de cremalheira com cabine simples, com capacidade de 1.500 kg e altura de até 100 m - 15 kW","h",84.045900000000003,86.739099999999993]
["SICRO_CHP E9049","SICRO_CHP","E9049","Bomba de alta pressão para hidrojateamento com capacidade de 250 MPa - 72 kW","h",218.14189999999999,220.83510000000001]
["SICRO_CHP E9054","SICRO_CHP","E9054","Equipamento sobre forma-trilho para execução e acabamento de pavimento de concreto - 13,40 kW","h",278.00920000000002,280.70240000000001]
["SICRO_CHP E9069","SICRO_CHP","E9069","Vibrador de imersão para concreto - 4,10 kW","h",8.6744000000000003,8.6744000000000003]
["SICRO_CHP E9103","SICRO_CHP","E9103","Extrusora para meio-fio de concreto - 10,44 kW","h",47.3474,50.040599999999998]
["SICRO_CHP E9118","SICRO_CHP","E9118","Cortadora de pavimento com disco diamantado de 450 a 1.500 mm - 55,40 kW","h",158.77889999999999,161.47210000000001]
["SICRO_CHP E9154","SICRO_CHP","E9154","Equipamento para selagem com material asfáltico rebocável com capacidade de 370 l - 35 kW","h",104.3441,107.0373]
["SICRO_CHP E9157","SICRO_CHP","E9157","Locomotiva diesel-elétrica CC - bitola métrica - 2.237 kW","h",1903.9762000000001,1907.4285]
["SICRO_CHP E9231","SICRO_CHP","E9231","Maçarico lança-chamas a gás liquefeito de petróleo (GLP)","h",1.5599999999999999E-2,1.5599999999999999E-2]
["SICRO_CHP E9259","SICRO_CHP","E9259","Ventilador centrífugo média pressão com capacidade de 38 m³/min - 2,21 kW","h",2.8677000000000001,2.8677000000000001]
["SICRO_CHP E9507","SICRO_CHP","E9507","Plotadora de recorte com computador e programa computacional","h",25.491499999999998,25.491499999999998]
["SICRO_CHP E9538","SICRO_CHP","E9538","Conjunto vibratório para meio tubo de concreto com encaixe PB e 3 jogos de fôrmas - D = 0,30 m - 2,20 kW","h",4.0926999999999998,4.0926999999999998]
["SICRO_CHP E9560","SICRO_CHP","E9560","Ônibus com capacidade para 80 passageiros - 175 kW","h",336.81880000000001,340.10750000000002]
["SICRO_CHP E9566","SICRO_CHP","E9566","Guindaste móvel sobre esteiras com clamshell de 1,9 m³ - 220 kW","h",529.04690000000005,533.60299999999995]
["SICRO_CHP E9587","SICRO_CHP","E9587","Serra para corte de concreto - 4 kW","h",9.5259,9.5259]
["SICRO_CHP E9609","SICRO_CHP","E9609","Draga de sucção para extração de areia com tubo de descarga de 150 mm - 100 kW","h",130.7089,134.43709999999999]
["SICRO_CHP E9629","SICRO_CHP","E9629","Compressor de ar portátil de 185,95 l/s (394 PCM) - 81,50 kW","h",123.5192,123.5192]
["SICRO_CHP E9638","SICRO_CHP","E9638","Draga de sucção e recalque com potência da bomba de 1.350 kW e cortador de 170 kW","h",2043.7407000000001,2052.9852999999998]
["SICRO_CHP E9653","SICRO_CHP","E9653","Guindaste móvel sobre esteiras com trado para escavação em solos - 186 kW","h",664.78359999999998,669.33969999999999]
["SICRO_CHP E9678","SICRO_CHP","E9678","Fresadora a frio - 455 kW","h",1392.0989999999999,1396.6550999999999]
["SICRO_CHP E9706","SICRO_CHP","E9706","Martelete perfurador/rompedor a ar comprimido de 28 kg para concreto com capacidade de 1.230 gpm","h",32.877299999999998,35.570500000000003]
["SICRO_CHP E9728","SICRO_CHP","E9728","Tirefonadora/parafusadora portátil - 3,10 kW","h",13.6843,13.6843]
["SICRO_CHP E9748","SICRO_CHP","E9748","Rosqueadeira para rosca cônica - 0,75 kW","h",28.872,31.565200000000001]
["SICRO_CHP E9764","SICRO_CHP","E9764","Grupo gerador - 7,2 kVA","h",10.453099999999999,10.453099999999999]
["SICRO_CHP E9773","SICRO_CHP","E9773","Retroescavadeira de pneus com caçamba de escavação trapezoidal ou triangular com seção de corte de 0,20 a 0,30 m² - 58 kW","h",143.00700000000001,146.3143]
["SICRO_CHP E9791","SICRO_CHP","E9791","Bomba pneumática para injeção de resina com capacidade de 0,18 m³/h","h",8.8272999999999993,8.8272999999999993]
["SICRO_CHP A9313","SICRO_CHP","A9313","Caminhão plataforma 6 x 2, PBT 23.000 kg e distância entre eixos 5,4 m - 188 kW - motorista de veículo especial","h",296.81599999999997,300.22280000000001]
["SICRO_CHP A9320","SICRO_CHP","A9320","Caminhão plataforma 6 x 2, PBT 23.000 kg e distância entre eixos 4,8 m - 240 kW - motorista de veículo especial","h",385.73200000000003,389.1388]
["SICRO_CHP A9385","SICRO_CHP","A9385","Conjunto de duas mesas de giro para quinta roda ou reboque com capacidade de 100 t cada","h",57.604300000000002,57.604300000000002]
["SICRO_CHP A9387","SICRO_CHP","A9387","Dolly pneumático com capacidade de 28,5 t e 3 eixos","h",64.580600000000004,64.580600000000004]
["SICRO_CHP A9323","SICRO_CHP","A9323","Caminhão plataforma 4 x 2, PBT 14.300 kg e distância entre eixos 4,8 m - 136 kW - condição de trabalho severa - motorista de caminhão","h",232.26439999999999,235.5531]
["SICRO_CHP A9316","SICRO_CHP","A9316","Caminhão plataforma 8 x 4, PBT 29.000 kg e distância entre eixos 4,6 m - 210 kW - motorista de caminhão","h",289.71080000000001,292.99950000000001]
["SICRO_CHP A9302","SICRO_CHP","A9302","Caminhão plataforma 4 x 2, PBT 8.300 kg e distância entre eixos 4,4 m - 115 kW - motorista de veículo especial","h",196.2826,199.68940000000001]
["SICRO_CHP A9344","SICRO_CHP","A9344","Caçamba basculante com capacidade de 14 m³","h",16.1431,16.1431]
["SICRO_CHP E9686","SICRO_CHP","E9686","Caminhão carroceria com guindauto com capacidade de 20 t.m - 136 kW","h",305.2525,311.35250000000002]
["SICRO_CHP A9308","SICRO_CHP","A9308","Caminhão plataforma 4 x 2, PBT 16.000 kg e distância entre eixos 4,8 m - 136 kW - motorista de veículo especial","h",238.2893,241.6961]
["SICRO_CHI E9004","SICRO_CHI","E9004","Conjunto vibratório para tubos de concreto com encaixe PB e 3 jogos de fôrmas - D = 1,20 m - 2,20 kW","h",18.356999999999999,18.356999999999999]
["SICRO_CHI E9015","SICRO_CHI","E9015","Elevador de obra com capacidade de 1.000 kg - 9 kW","h",34.650399999999998,37.343600000000002]
["SICRO_CHI E9033","SICRO_CHI","E9033","Equipamento para regulagem final de estais de 38 a 55 cordoalhas - D = 15,7 mm - 30 kW","h",49.922899999999998,54.478999999999999]
["SICRO_CHI E9055","SICRO_CHI","E9055","Guincho pneumático com capacidade de 2,5 t","h",56.827300000000001,56.827300000000001]
["SICRO_CHI E9070","SICRO_CHI","E9070","Ponte rolante com capacidade de 5 t e vão de até 15 m - 10 kW","h",50.1145,52.807699999999997]
["SICRO_CHI E9071","SICRO_CHI","E9071","Transportador manual carrinho de mão com capacidade de 80 l","h",0.46550000000000002,0.46550000000000002]
["SICRO_CHI E9096","SICRO_CHI","E9096","Minicarregadeira de pneus - 45,50 kW","h",68.194999999999993,71.502300000000005]
["SICRO_CHI E9144","SICRO_CHI","E9144","Pórtico metálico rolante com talha com capacidade de 5 t - 10 kW","h",44.975499999999997,47.668700000000001]
["SICRO_CHI E9160","SICRO_CHI","E9160","Vagão plataforma PNT com capacidade de 98 t - bitola larga","h",30.5016,30.5016]
["SICRO_CHI E9231","SICRO_CHI","E9231","Maçarico lança-chamas a gás liquefeito de petróleo (GLP)","h",8.6E-3,8.6E-3]
["SICRO_CHI E9243","SICRO_CHI","E9243","Câmara hiperbárica com filtro, serpentina e reservatório de ar para mergulho raso - D = 1,80 m e H = 2,22 m","h",67.898300000000006,73.547799999999995]
["SICRO_CHI E9265","SICRO_CHI","E9265","Respirador de adução de ar tipo linha de ar comprimido para jateamento","h",1.7766999999999999,1.7766999999999999]
["SICRO_CHI E9519","SICRO_CHI","E9519","Betoneira com motor a gasolina com capacidade de 600 l - 10 kW","h",31.730399999999999,34.4236]
["SICRO_CHI E9530","SICRO_CHI","E9530","Rolo compactador liso vibratório autopropelido por pneus de 11 t - 97 kW","h",109.94670000000001,113.254]
["SICRO_CHI E9567","SICRO_CHI","E9567","Fresadora de piso de concreto - 6,7 kW","h",1.7381,1.7381]
["SICRO_CHI E9588","SICRO_CHI","E9588","Vibroacabadora de concreto sobre esteiras com fôrmas deslizantes - 205 kW","h",481.19830000000002,485.75439999999998]
["SICRO_CHI E9594","SICRO_CHI","E9594","Draga hopper com capacidade de 1.000 m³","h",2842.9047,2863.1251000000002]
["SICRO_CHI E9615","SICRO_CHI","E9615","Usina misturadora de solos com capacidade de 300 t/h - 44 kW","h",145.44130000000001,148.74860000000001]
["SICRO_CHI E9631","SICRO_CHI","E9631","Bomba para concreto projetado via seca com capacidade de 6 m³/h - 7,5 kW","h",67.780299999999997,72.336399999999998]
["SICRO_CHI E9653","SICRO_CHI","E9653","Guindaste móvel sobre esteiras com trado para escavação em solos - 186 kW","h",334.12310000000002,338.67919999999998]
["SICRO_CHI E9668","SICRO_CHI","E9668","Mesa vibratória - 2,20 kW","h",2.1311,2.1311]
["SICRO_CHI E9689","SICRO_CHI","E9689","Usina de asfalto a quente gravimétrica com capacidade de 100/140 t/h - 260 kW","h",652.85289999999998,657.40899999999999]
["SICRO_CHI E9712","SICRO_CHI","E9712","Reguladora e distribuidora de lastro - 300 kW","h",954.96119999999996,964.07339999999999]
["SICRO_CHI E9730","SICRO_CHI","E9730","Grupo vibrador com gerador - 2,80 kW","h",5.7130999999999998,5.7130999999999998]
["SICRO_CHI E9756","SICRO_CHI","E9756","Calandra para chapas de aço até 25 mm - 22 kW","h",88.174599999999998,90.867800000000003]
["SICRO_CHI E9773","SICRO_CHI","E9773","Retroescavadeira de pneus com caçamba de escavação trapezoidal ou triangular com seção de corte de 0,20 a 0,30 m² - 58 kW","h",71.959199999999996,75.266499999999994]
["SICRO_CHI E9784","SICRO_CHI","E9784","Plataforma autopropelida com alcance de 12 m com capacidade de 700 kg - 24 kW","h",79.338999999999999,82.032200000000003]
["SICRO_CHI A9335","SICRO_CHI","A9335","Cavalo mecânico estradeiro 6 x 2, PBT 23.000 kg - 265 kW - condição de trabalho severa - motorista de caminhão","h",88.978200000000001,92.266900000000007]
["SICRO_CHI A9373","SICRO_CHI","A9373","Guindaste articulado montado sobre chassi com capacidade de 45 t.m","h",52.908499999999997,55.601700000000001]
["SICRO_CHI E9115","SICRO_CHI","E9115","Amortecedor retrátil (AMC) para montagem em caminhão","h",46.535800000000002,46.535800000000002]
["SICRO_CHI A9389","SICRO_CHI","A9389","Dolly pneumático com capacidade de 48 t e 4 eixos","h",48.089300000000001,48.089300000000001]
["SICRO_CHI E9506","SICRO_CHI","E9506","Caminhão basculante com capacidade de 6 m³ - 136 kW","h",73.008099999999999,76.296800000000005]
["SICRO_CHI A9350","SICRO_CHI","A9350","Carroceria de madeira com capacidade de 9 t","h",3.1432000000000002,3.1432000000000002]
["SICRO_CHI E9604","SICRO_CHI","E9604","Caminhão basculante para rocha com capacidade de 8 m³ - 210 kW","h",86.135999999999996,89.424700000000001]
["SICRO_CHI E9645","SICRO_CHI","E9645","Caminhão demarcador de faixas com sistema de pintura a quente - 5 kW/30,10 kW/136 kW","h",251.24959999999999,257.34960000000001]
["SICRO_CHI E9670","SICRO_CHI","E9670","Usina móvel de lama asfáltica ou microrrevestimento com cavalo mecânico com capacidade de 12 m³ - 95,6 kW/240 kW","h",262.09899999999999,270.06189999999998]
["SICRO_CHI A9349","SICRO_CHI","A9349","Carroceria de madeira com capacidade de 7 t","h",2.4883000000000002,2.4883000000000002]
["SICRO_CHI E9690","SICRO_CHI","E9690","Caminhão carroceria com guindauto e cesto aéreo com capacidade de 10 t.m - 136 kW","h",142.15219999999999,150.94540000000001]
["SICRO_CHI A9323","SICRO_CHI","A9323","Caminhão plataforma 4 x 2, PBT 14.300 kg e distância entre eixos 4,8 m - 136 kW - condição de trabalho severa - motorista de caminhão","h",64.653300000000002,67.941999999999993]
["SICRO-I M0029","SICRO-I","M0029","Sílica ativa para concreto e argamassa (microssílica)","kg",null,1.8562000000000001]
["SICRO-I M0047","SICRO-I","M0047","Cone de sinalização em polietileno - H = 75 cm e base quadrada de 40 x 40 cm","un",null,109.20310000000001]
["SICRO-I M0066","SICRO-I","M0066","Contêiner com revestimento térmico, janela e banheiro - L = 2,44 m e C = 12,90 m (2 TEU)","un",null,100330.71709999999]
["SICRO-I M0089","SICRO-I","M0089","Ancoragem ativa para 9 cordoalhas - D = 12,7 mm","un",null,739.50329999999997]
["SICRO-I M0092","SICRO-I","M0092","Ancoragem ativa para 12 cordoalhas - D = 12,7 mm","un",null,1024.8074999999999]
["SICRO-I M0110","SICRO-I","M0110","Ancoragem ativa para 10 cordoalhas - D = 15,2 mm","un",null,1093.8842999999999]
["SICRO-I M0137","SICRO-I","M0137","Tubo PEAD corrugado com paredes estruturadas para drenagem - D = 900 mm","m",null,937.75649999999996]
["SICRO-I M0146","SICRO-I","M0146","Ancoragem ativa para 27 cordoalhas - D = 15,2 mm","un",null,3875.7993999999999]
["SICRO-I M0169","SICRO-I","M0169","Roda em aço e pneu com câmara de ar 83/203 mm (3,25\"/8\") para carrinho de mão","un",null,76.789699999999996]
["SICRO-I M0225","SICRO-I","M0225","Adubo orgânico composto","kg",null,0.17449999999999999]
["SICRO-I M0229","SICRO-I","M0229","Gabião tipo colchão em liga de zinco e alumínio revestido com polímero de malha hexagonal - E = 0,17 m","m²",null,180.35769999999999]
["SICRO-I M0284","SICRO-I","M0284","Caibro de pinho - L = 7,5 cm e E = 7,5 cm","m",null,13.8742]
["SICRO-I M0312","SICRO-I","M0312","Filtro de purificação de ar comprimido com capacidade de 35 MPa para compressor de ar respirável ","un",null,268.87220000000002]
["SICRO-I M0364","SICRO-I","M0364","Perfil cartola em aço carbono SAE 1010/1020 galvanizado - 50 x 70 x 3 mm - aba 20 mm","m",null,131.65770000000001]
["SICRO-I M0452","SICRO-I","M0452","Concreto usinado - fck = 25 MPa (comercial)","m³",null,"-"]
["SICRO-I M0512","SICRO-I","M0512","Bico venturi longo - D = 7,9 mm (5/16\")","un",null,584.59609999999998]
["SICRO-I M0534","SICRO-I","M0534","Escora tubular galvanizada regulável - L = 2,00 a 3,10 m e capacidade de 3.200 a 1.500 kg","un",null,183.47980000000001]
["SICRO-I M0562","SICRO-I","M0562","Abraçadeira giratória em aço galvanizado para escada multidirecional - D = 48 mm","un",null,57.627000000000002]
["SICRO-I M0601","SICRO-I","M0601","Ponteiro para martelete - D = 32 mm e C = 1,00 m","un",null,753.25019999999995]
["SICRO-I M0646","SICRO-I","M0646","Estaca pré-moldada de concreto protendido com compressão admissível de 100 t","m",null,223.09]
["SICRO-I M0734","SICRO-I","M0734","Estaca pré-moldada de concreto armado centrifugado com compressão admissível de 170 t","m",null,475.64659999999998]
["SICRO-I M0804","SICRO-I","M0804","Cabo de aço - D = 12,70 mm (1/2\")","m",null,30.276700000000002]
["SICRO-I M0812","SICRO-I","M0812","Sapatilha em aço inox - D = 6,35 mm (1/4\")","un",null,3.7486000000000002]
["SICRO-I M0945","SICRO-I","M0945","Parafuso de cabeça sextavada em aço galvanizado com porca e arruela de pressão - D = 6,35 mm (1/4\")","cj",null,0.62670000000000003]
["SICRO-I M0965","SICRO-I","M0965","Pino conector de cisalhamento para laje steel deck - D = 19 mm e C = 80 mm","un",null,6.9320000000000004]
["SICRO-I M1066","SICRO-I","M1066","Cera de proteção para ancoragem de estais","kg",null,30.3398]
["SICRO-I M1132","SICRO-I","M1132","Junta de dilatação em elastômero e perfil VV - L = 20 mm e H = 40 mm","m",null,164.535]
["SICRO-I M1242","SICRO-I","M1242","Coroa diamantada - D = 15,87 mm (5/8\")","un",null,266.32690000000002]
["SICRO-I M1311","SICRO-I","M1311","Roller bit - Tooth cutter - série 13 - D = 1.800 mm","un",null,696093.2156]
["SICRO-I M1341","SICRO-I","M1341","Parafuso de cabeça sextavada em aço galvanizado - D = 15,875 mm (5/8\") e C = 101,600 mm (4\")","un",null,4.6927000000000003]
["SICRO-I M1379","SICRO-I","M1379","Argamassa polimérica monocomponente para reparos estruturais","kg",null,5.4558999999999997]
["SICRO-I M1404","SICRO-I","M1404","Aplicador manual de adesivo estrutural","un",null,2942.85]
["SICRO-I M1449","SICRO-I","M1449","Geogrelha unidirecional em poliéster - resistência à tração longitudinal de 100 kN/m","m²",null,28.457000000000001]
["SICRO-I M1458","SICRO-I","M1458","Geocélula em PEAD - H = 75 mm e célula de 460 cm²","m²",null,32.976300000000002]
["SICRO-I M1526","SICRO-I","M1526","Coroa diamantada - D = 101,60 mm (4\")","un",null,790.94169999999997]
["SICRO-I M1636","SICRO-I","M1636","Suporte polimérico ecológico maciço colapsível para placa de sinalização - seção de 7 x 15 cm","m",null,523.33529999999996]
["SICRO-I M1656","SICRO-I","M1656","Tubo de PVC ponta e bolsa para esgoto - D = 75 mm (3\")","m",null,12.202]
["SICRO-I M1673","SICRO-I","M1673","Tubo de PVC rosqueável para água fria - D = 100 mm (4\")","m",null,74.516900000000007]
["SICRO-I M1740","SICRO-I","M1740","Punho linha T45 para perfuratriz sobre esteiras - D = 45 mm (1 3/4\")","un",null,2603.3868000000002]
["SICRO-I M1782","SICRO-I","M1782","Ancoragem fixa para estais de 37 cordoalhas - D = 15,7 mm","un",null,33606.123699999996]
["SICRO-I M1811","SICRO-I","M1811","Longarina de madeira de primeira - L = 16 cm e E = 6 cm","m",null,31.542899999999999]
["SICRO-I M1880","SICRO-I","M1880","Tubo PEAD PE 80 PN 16 - D = 20 mm","m",null,4.3305999999999996]
["SICRO-I M1931","SICRO-I","M1931","Espaçador plástico tipo disco separador para tirante com 12 cordoalhas - D = 12,7 mm","un",null,1.1583000000000001]
["SICRO-I M1941","SICRO-I","M1941","Óleo tipo A1","l",null,5.45]
["SICRO-I M1958","SICRO-I","M1958","Emulsão asfáltica com polímero - RM-1C-E","t",null,"-"]
["SICRO-I M1991","SICRO-I","M1991","Placa de ancoragem para tirante de barra de aço - E = 16,0 mm e seção de 200 x 200 mm","un",null,158.57]
["SICRO-I M2003","SICRO-I","M2003","Amortecedor retrátil tipo TAU II afunilado PCB ou similar para velocidade de projeto de 100 km/h e âncora traseira de 1.680 mm","un",null,265213.30729999999]
["SICRO-I M2020","SICRO-I","M2020","Porca em aço para ancoragem de tirantes - D = 48 mm e C = 65 mm","un",null,48.06]
["SICRO-I M2027","SICRO-I","M2027","Tinta à base de resina acrílica estirenada para demarcação viária","l",null,35.205199999999998]
["SICRO-I M2045","SICRO-I","M2045","Microesferas refletivas de vidro tipo II-C","kg",null,10.3218]
["SICRO-I M2064","SICRO-I","M2064","Termoplástico pré-formado - E = 2,00 mm","m²",null,315.56229999999999]
["SICRO-I M2090","SICRO-I","M2090","Porca em aço para ancoragem de tirantes - D = 73 mm e C = 60 mm","un",null,88.18]
["SICRO-I M2100","SICRO-I","M2100","Placa de ancoragem para tirante de barra de aço - E = 16,0 mm e seção de 140 x 140 mm","un",null,99.254099999999994]
["SICRO-I M2152","SICRO-I","M2152","Aditivo de cura para concreto","kg",null,11.828200000000001]
["SICRO-I M2153","SICRO-I","M2153","Coroa de diamante linha HWG","un",null,1782.8312000000001]
["SICRO-I M2174","SICRO-I","M2174","Tubo de concreto armado PA4 - D = 0,80 m","m",null,487.90539999999999]
["SICRO-I M2197","SICRO-I","M2197","Haste de paredes paralelas com niple linha NW","m",null,727.74530000000004]
["SICRO-I M2217","SICRO-I","M2217","Placa de apoio em aço laminado para TR68 com fixação elástica","un",null,124.7963]
["SICRO-I M2236","SICRO-I","M2236","AMV tipo TR45, abertura 1:8, bitola métrica","un",null,369620.04149999999]
["SICRO-I M2260","SICRO-I","M2260","AMV tipo TR68, abertura 1:12, bitola larga","un",null,776193.67]
["SICRO-I M2261","SICRO-I","M2261","AMV tipo TR68, abertura 1:14, bitola larga","un",null,854827.37060000002]
["SICRO-I M2284","SICRO-I","M2284","Revestimento com conector linha HW","m",null,739.80740000000003]
["SICRO-I M2318","SICRO-I","M2318","Tubo de revestimento em aço-carbono schedule 40 para estaca raiz - ponteira schedule 80, D = 168,3 mm, peso 31 kg/m","m",null,629.45060000000001]
["SICRO-I M2352","SICRO-I","M2352","Conjunto para solda aluminotérmica de TR45 - porção, fôrmas, acendedor, pasta de vedação e cadinho descartável","un",null,1390.42]
["SICRO-I M2389","SICRO-I","M2389","Broca de widia - D = 19 mm e C = 160 mm","un",null,77.964100000000002]
["SICRO-I M2441","SICRO-I","M2441","Ancoragem passiva aderente para 22 cordoalhas - D = 15,2 mm","un",null,284.42680000000001]
[{"$f":"CONCATENATE($B29208,\" \",$C29208)","v":"SICRO-I M2446"},"SICRO-I","M2446","Ancoragem passiva aderente para 4 cordoalhas - D = 15,2 mm","un",null,55.185400000000001]
["SICRO-I M2461","SICRO-I","M2461","Ancoragem passiva aderente para lajes para 4 cordoalhas - D = 15,2 mm","un",null,55.130200000000002]
["SICRO-I M2479","SICRO-I","M2479","Bainha metálica para protensão - D = 120 mm","m",null,41.859499999999997]
["SICRO-I M2507","SICRO-I","M2507","Chapa metálica corrugada galvanizada para tunnel liner - E = 2,2 mm e D = 2,6 m","m",null,9274.6411000000007]
["SICRO-I M2522","SICRO-I","M2522","Chapa metálica corrugada galvanizada revestida com epóxi para tunnel liner - E = 2,2 mm e D = 1,6 m","m",null,6098.1997000000001]
["SICRO-I M2533","SICRO-I","M2533","Chapa múltipla metálica corrugada galvanizada tipo MP 100 ou similar - E = 1,60 mm e D = 0,80 m","m",null,1869.2831000000001]
["SICRO-I M2543","SICRO-I","M2543","Chapa múltipla metálica corrugada galvanizada tipo MP 100 ou similar - E = 1,60 mm e D = 1,80 m","m",null,4005.6062999999999]
["SICRO-I M2558","SICRO-I","M2558","Chapa múltipla metálica corrugada galvanizada tipo MP 152 ou similar - E = 2,70 mm e D = 2,30 m","m",null,10609.4347]
["SICRO-I M2586","SICRO-I","M2586","Tirante de barra de aço - tensão de escoamento = 700 MPa, tensão de ruptura = 800 MPa e D = 19 mm","m",null,26.66]
["SICRO-I M2608","SICRO-I","M2608","Aparelho de apoio metálico esférico fixo com 4 chumbadores e capacidade de 4.000 kN","un",null,28341.289400000001]
["SICRO-I M2623","SICRO-I","M2623","Grelha metálica para boca de lobo com capacidade de até 300 kN - C = 0,90 m e L = 0,30 m","un",null,537.0059]
["SICRO-I M2637","SICRO-I","M2637","Aparelho de apoio metálico esférico fixo com 4 chumbadores e capacidade de 8.500 kN","un",null,56477.084799999997]
["SICRO-I M2645","SICRO-I","M2645","Aparelho de apoio metálico esférico unidirecional com 4 chumbadores e capacidade de 6.500 kN","un",null,49783.072399999997]
["SICRO-I M2664","SICRO-I","M2664","Chapa múltipla metálica corrugada revestida em epóxi tipo MP 100 ou similar - E = 2,00 mm e D = 1,90 m","m",null,5003.5788000000002]
["SICRO-I M2679","SICRO-I","M2679","Chapa múltipla metálica corrugada revestida em epóxi tipo MP 152 ou similar - E = 2,70 mm e D = 2,65 m","m",null,12862.6659]
["SICRO-I M2695","SICRO-I","M2695","Aparelho de apoio metálico esférico unidirecional com 4 chumbadores e capacidade de 9.000 kN","un",null,69582.350000000006]
["SICRO-I M2701","SICRO-I","M2701","Corpo de BSCC pré-moldado comercial - seção de 1,5 m x 1,5 m - tipo II","m",null,2618.4828000000002]
["SICRO-I M2716","SICRO-I","M2716","Corpo de BSCC pré-moldado comercial - seção de 2,5 m x 2,5 m - tipo III","m",null,4978.3888999999999]
["SICRO-I M2740","SICRO-I","M2740","Aparelho de apoio metálico esférico multidirecional com 4 chumbadores e capacidade de 2.000 kN","un",null,14081.083500000001]
["SICRO-I M2751","SICRO-I","M2751","Aparelho de apoio metálico esférico multidirecional com 4 chumbadores e capacidade de 7.500 kN","un",null,51790.077700000002]
["SICRO-I M2766","SICRO-I","M2766","Aparelho de apoio metálico elastomérico unidirecional com 4 chumbadores e capacidade de 2.500 kN","un",null,8614.2731999999996]
["SICRO-I M2770","SICRO-I","M2770","Aparelho de apoio metálico elastomérico unidirecional com 4 chumbadores e capacidade de 10.000 kN","un",null,42802.058700000001]
["SICRO-I M2789","SICRO-I","M2789","Chapa metálica corrugada galvanizada para tunnel liner - E = 3,4 mm e D = 3,0 m","m",null,14921.078799999999]
["SICRO-I M2804","SICRO-I","M2804","Chapa metálica corrugada galvanizada revestida com epóxi para tunnel liner - E = 2,7 mm e D = 2,0 m","m",null,8840.1245999999992]
["SICRO-I M2816","SICRO-I","M2816","Chapa múltipla metálica corrugada galvanizada tipo MP 152 lenticular ou similar - E = 2,70 mm, H = 1,90 m e vão = 2,75 m","m",null,11833.4864]
["SICRO-I M2839","SICRO-I","M2839","Chapa múltipla metálica corrugada galvanizada tipo MP 152 ou similar para passagem de gado - E = 2,70 mm, H = 3,10 m e vão = 2,90 m","m",null,15167.6209]
["SICRO-I M2844","SICRO-I","M2844","Chapa múltipla metálica corrugada galvanizada tipo MP 152 ou similar para passagem inferior - E = 2,70 mm, H = 4,10 m e vão = 4,25 m","m",null,20348.8069]
["SICRO-I M2859","SICRO-I","M2859","Chapa múltipla metálica corrugada galvanizada de arco alto tipo MP 152S ou similar - E = 4,70 mm, H = 3,56 m e vão = 6,55 m","m",null,30827.7605]
["SICRO-I M2874","SICRO-I","M2874","Chapa múltipla metálica corrugada galvanizada de arco alto tipo MP 152S ou similar - E = 4,70 mm, H = 4,39 m e vão = 8,59 m","m",null,39538.0242]
["SICRO-I M2894","SICRO-I","M2894","Chapa múltipla metálica corrugada galvanizada tipo MP 152S ovoide ou similar - E = 4,70 mm, H = 7,87 m e vão = 7,31 m","m",null,64617.945599999999]
["SICRO-I M3094","SICRO-I","M3094","Tirante de barra de aço - tensão de escoamento = 520 MPa, tensão de ruptura = 690 MPa e D = 32 mm","m",null,118.0599]
["SICRO-I M3133","SICRO-I","M3133","Luva para bainha metálica - D = 60 mm","un",null,5.7215999999999996]
["SICRO-I M3145","SICRO-I","M3145","Luva para bainha metálica ovalizada de 19 x 36 mm","un",null,7.6014999999999997]
["SICRO-I M3180","SICRO-I","M3180","Tubo PEAD PE 100 PN 5 para estais - D = 160 mm","m",null,271.32150000000001]
["SICRO-I M3198","SICRO-I","M3198","Tubo fôrma lado fixo em aço galvanizado para estais de 12 cordoalhas - D = 15,7 mm","m",null,2304.1253000000002]
["SICRO-I M3215","SICRO-I","M3215","Tubo fôrma lado regulável em aço galvanizado para estais de 55 cordoalhas - D = 15,7 mm","m",null,5106.3499000000002]
["SICRO-I M3236","SICRO-I","M3236","Película retrorrefletiva tipo III + SI","m²",null,562.61839999999995]
["SICRO-I M3274","SICRO-I","M3274","Ancoragem regulável para estais de 12 cordoalhas - D = 15,7 mm","un",null,22647.329000000002]
["SICRO-I M3361","SICRO-I","M3361","Corrente de elo soldado em aço SAE 1010/1020 com acabamento polido - E = 25,00 mm (1\")","m",null,325.18950000000001]
["SICRO-I M3508","SICRO-I","M3508","Camada granular (base ou sub-base)","m³",null,"-"]
["SICRO-I M3525","SICRO-I","M3525","Molinete manual com capacidade de tração de 70 kN","un",null,281090.78950000001]
["SICRO-I M3730","SICRO-I","M3730","Material triturado - galhos e troncos","m³",null,"-"]
["SICRO-I M3790","SICRO-I","M3790","Canal em polietileno e polipropileno com efeito autolimpante e abertura de captação em ferro fundido dúctil - carga de controle de 900 kN - C = 100,0 cm, L = 21,0 cm e H = 57,9 cm","m",null,1003.5963]
["SICRO-I M3811","SICRO-I","M3811","Veículos de pequeno porte tombados em rodovia","un",null,"-"]
["SICRO-I M3828","SICRO-I","M3828","Tacha refletiva em plástico injetado bidirecional sem pino - tipo IV","un",null,27.0166]
["SICRO-I M3840","SICRO-I","M3840","Tacha refletiva em resina sintética bidirecional com um pino - tipo IV","un",null,41.144599999999997]
["SICRO-I M3857","SICRO-I","M3857","Tacha refletiva metálica bidirecional com dois pinos - tipo IV","un",null,55.7699]
["SICRO-I M3904","SICRO-I","M3904","Reservatório metálico tipo taça - capacidade de 30.000 l","un",null,64696.2572]
["SICRO-I M3921","SICRO-I","M3921","Tinta à base de resina epóxi óxido de ferro","l",null,133.79429999999999]
["SICRO-I M3939","SICRO-I","M3939","Barra redonda em aço SAE 1020 - D = 25,4 mm (1\")","m",null,37.428400000000003]
["SICRO-I P9809","SICRO-I","P9809","Encarregado administrativo","mês",7749.7473,8637.2870000000003]
["SICRO-I P9823","SICRO-I","P9823","Serralheiro","h",30.113700000000001,33.075000000000003]
[{"$f":"CONCATENATE($B29954,\" \",$C29954)","v":"SICRO-I P9849"},"SICRO-I","P9849","Condutor maquinista fluvial","mês",5079.9273000000003,5635.0414000000001]
["SICRO-I P9878","SICRO-I","P9878","Secretária","mês",6085.6486000000004,6732.1325999999999]
["SICRO-I P9908","SICRO-I","P9908","Imediato","mês",15088.3483,17085.929100000001]
["SICRO-I P9916","SICRO-I","P9916","Encarregado de conservação rodoviária","mês",8550.4796000000006,9516.1033000000007]
["SICRO-I P9942","SICRO-I","P9942","Marinheiro de convés com periculosidade","h",31.094200000000001,34.679900000000004]
["DER 400000","DER",400000,"Desmatamento e limpeza diam. até 30cm","m2",1.1200000000000001,1.1399999999999999]
["DER 414000","DER",414000,"Esc. carga e transp. 1a. cat.  3000-4000m","m3",15.86,16.13]
["DER 424000","DER",424000,"Esc. carga e transp. 2a. cat.  3000-4000m","m3",21.11,21.46]
["DER 428000","DER",428000,"Esc. carga e transp. 2a. cat.  6000-8000m","m3",32.4,32.869999999999997]
["DER 430010","DER",430010,"Extração de material 3a. cat.","m3",27.8,28.14]
["DER 531200","DER",531200,"Brita graduada - na usina","m3",80.040000000000006,80.209999999999994]
["DER 570160","DER",570160,"C.B.U.Q. - na usina exclusive fornecimento e transporte do CAP (acima de 10.000 t)","t",138.41999999999999,139.12]
["DER 510100","DER",510100,"Limpeza de jazida 1a. cat.","m3",8.2100000000000009,8.4499999999999993]
["DER 530060","DER",530060,"Pedra britada 4\" (produzida)","m3",43.82,44.45]
["DER 516100","DER",516100,"Preenchimento rebaixo c/ rachão","m3",102.86,103.06]
["DER 541100","DER",541100,"Solo arenoso fino (base) 100% PM","m3",29.92,30.78]
["DER 533000","DER",533000,"Solo estabilizado s/ mistura 100% PI (1a. cat.)","m3",25.82,26.54]
["DER 581053","DER",581053,"Transporte de cimento asfáltico CAP-50/70 c/polímero (usina)","t.km",0.94,0.95]
["DER 620100","DER",620100,"Boca de BSTC 0,60m","ud",912.58,968.2]
["DER 620600","DER",620600,"Boca de BSTC 2,00m","ud",7612.7,8016.05]
["DER 613600","DER",613600,"Bueiro metálico MP-152 circular e=6,3mm","kg",39.15,39.24]
["DER 611250","DER",611250,"Corpo de BDTC 1,20m sem berço","m",1653.69,1665.04]
["DER 612200","DER",612200,"Corpo de BTTC 1,00m com berço","m",2488.9299999999998,2533.2399999999998]
["DER 643500","DER",643500,"Dreno profundo em rocha - tipo 4","m",35.06,37.450000000000003]
["DER 641100","DER",641100,"Dreno profundo em solo - tipo 4A(GT)","m",158.29,166.7]
["DER 641700","DER",641700,"Dreno profundo em solo - tipo 6(GT)","m",130.51,134.41999999999999]
["DER 600600","DER",600600,"Escavação valas de drenagem 1a. cat.","m3",17.22,17.89]
["DER 603200","DER",603200,"Grelha ferro p/ cxa. coletora sarjeta","ud",621.77,636.96]
["DER 810550","DER",810550,"Meio fio de concreto tipo 6 (pré-moldado)","m",79.23,83.99]
["DER 653100","DER",653100,"Sarjeta trapezoidal concreto - tipo  1A","m",86.16,93.25]
["DER 650000","DER",650000,"Sarjeta triangular concreto - tipo  1","m",119.26,128.34]
["DER 650800","DER",650800,"Sarjeta triangular concreto - tipo  6","m",93.16,99.87]
["DER 655500","DER",655500,"Transp.segmento sarjeta tipo- 5 (ST-1/SZ-2) c/placas","m",523.03,556.54999999999995]
["DER 661100","DER",661100,"Valeta concreto proteção corte - tipo 5A","m",155.31,167.96]
["DER 507210","DER",507210,"Fornecimento e colocação de aço CA 50 para barras de ligação","kg",6.72,6.73]
["DER 713200","DER",713200,"Andaime suspenso de madeira, inclusive plataforma","m2",120.59,128.63999999999999]
["DER 707000","DER",707000,"Apicoamento em concreto","m2",43.86,48.9]
["DER 716000","DER",716000,"Ensecadeira dupla madeira h <= 2m","m2",352.27,374.22]
["DER 704200","DER",704200,"Escavação tubulão a céu aberto 2a. cat.","m3",1967.5,2155.83]
["DER 707100","DER",707100,"Limpeza c/ jato de água","m2",14.39,15.07]
["DER 512000","DER",512000,"Demolição manual de pavimento","m3",49.03,52.58]
["DER 801100","DER",801100,"Limpeza e pintura de abrigo de ônibus","m2",19.41,20.100000000000001]
["DER 531320","DER",531320,"Macadame seco britado preenchido c/brita graduada (manual) para remendo profundo","m3",146.86000000000001,152.18]
["DER 831000","DER",831000,"Cerca 4 fios c/ mourões de concreto","m",33.06,35.450000000000003]
["DER 800300","DER",800300,"Fornecimento e plantio de erva cidreira","ud",1.25,1.32]
["DER 813200","DER",813200,"Barreira dupla de concreto, armada, nível contenção TL4, executada c/ extrusora (NBR 14885/16)","m",90.63,94.62]
["DER 801926","DER",801926,"Fornecimento e colocação de dispositivo refletivo para barreira New Jersey","ud",34.409999999999997,34.96]
["DER 801925","DER",801925,"Fornecimento e colocação de dispositivo refletivo para defensa metálica","ud",25.63,26.18]
["DER 806375","DER",806375,"Fornecimento e instalação de Módulo de Transição defensa metálica dupla/ tripla onda-barreira de concreto","m",704.35,711.1]
["DER 807100","DER",807100,"Fornecimento e instalação de terminal absorvedor de energia p/ velocidade até 100 km/h de acordo com ABNT NBR-15486-2016","ud",9647.61,9735.1]
["DER 807080","DER",807080,"Fornecimento e instalação de terminal absorvedor de energia p/ velocidade de 80 km/h de acordo com ABNT NBR-15486-2016","ud",7574.16,7661.65]
["DER 806100","DER",806100,"Fornecimento e instalação de terminal amortecedor de impacto p/ velocidade até 100 km/h de acordo com ABNT NBR-15486-2016","ud",69057.149999999994,69187.17]
["DER 806080","DER",806080,"Fornecimento e instalação de terminal amortecedor de impacto p/ velocidade de 80 km/h de acordo com ABNT NBR-15486-2016","ud",50786.41,50916.43]
["DER 822330","DER",822330,"Pintura de setas e zebrados - termoplástico por extrusão - e=3mm","m2",55.25,56.23]
["DER 820000","DER",820000,"Placa sinalização c/ película refletiva","m2",532.99,540.88]
["DER 871500","DER",871500,"Pórtico simples 11,00 a 15,00m p/placa até 24m2(exclusive placa)","ud",79918.28,80631.17]
["DER 871600","DER",871600,"Pórtico simples 16,00m p/placa até 24m2(exclusive placa)","ud",81018.28,81731.17]
["DER 871700","DER",871700,"Pórtico simples 17,00m p/placa até 24m2(exclusive placa)","ud",84818.28,85531.17]
["DER 871800","DER",871800,"Pórtico simples 18,00m p/placa até 24m2(exclusive placa)","ud",86218.28,86931.17]
["DER 874950","DER",874950,"Semi-pórtico duplo 2x4,90m p/placa até 24m2(exclusive placa)","ud",51301.67,51697.16]
["DER 876050","DER",876050,"Semi-pórtico duplo 2x6,00m p/placa até 24m2(exclusive placa)","ud",53901.67,54297.16]
["DER 877250","DER",877250,"Semi-pórtico duplo 2x7,20m p/placa até 24m2(exclusive placa)","ud",60801.67,61197.16]
["DER 878350","DER",878350,"Semi-pórtico duplo 2x8,30m p/placa até 24m2(exclusive placa)","ud",70801.67,71197.16]
["DER 874900","DER",874900,"Semi-pórtico simples 4,90m p/placa até 12m2(exclusive placa)","ud",36051.18,36430.43]
["DER 876000","DER",876000,"Semi-pórtico simples 6,00m p/placa até 12m2(exclusive placa)","ud",37451.18,37830.43]
["DER 877200","DER",877200,"Semi-pórtico simples 7,20m p/placa até 12m2(exclusive placa)","ud",41851.18,42230.43]
["DER 878300","DER",878300,"Semi-pórtico simples 8,30m p/placa até 12m2(exclusive placa)","ud",44351.18,44730.43]
["DER 821000","DER",821000,"Suporte de madeira 3\"x3\" p/ placa sinalização, h=3,00m","ud",113.31,117.28]
["DER 821300","DER",821300,"Suporte metálico galv. fogo d=2,5\" c/tampa e aletas anti-giro, h=3,00m","ud",403.73,409.35]
["DER 821350","DER",821350,"Suporte metálico galv. fogo d=2,5\" c/tampa e aletas anti-giro, h=3,50m","ud",459.73,465.35]
["DER 821400","DER",821400,"Suporte metálico galv. fogo d=2,5\" c/tampa e aletas anti-giro, h=4,00m","ud",514.87,520.49]
["DER 822010","DER",822010,"Suporte metálico galv. fogo perfil \"C\" 110x70x25x2,00mm, h=3,00m","ud",506.23,511.85]
["DER 821110","DER",821110,"Suporte metálico galv. fogo perfil \"C\" 110x70x25x2,00mm, h=3,50m","ud",563.73,569.35]
["DER 821130","DER",821130,"Suporte metálico galv. fogo perfil \"C\" 110x70x25x2,00mm, h=4,00m","ud",623.73,629.35]
["DER 821020","DER",821020,"Suporte metálico galv. fogo perfil \"C\" 150x85x25x2,70mm, h=4,00m","ud",928.39,935.47]
["DER 822020","DER",822020,"Suporte metálico galv. fogo perfil \"C\" 150x85x25x3,40mm, h=4,50m","ud",1245.8900000000001,1252.97]
["DER 822030","DER",822030,"Suporte metálico galv. fogo perfil \"C\" 250x85x25x2,70mm, h=5,00m","ud",1426.59,1436.31]
["DER 822040","DER",822040,"Suporte metálico galv. fogo perfil \"C\" 250x85x25x2,70mm, h=6,00m","ud",1674.09,1683.81]
["DER 822050","DER",822050,"Suporte metálico galv. fogo perfil \"C\" 300x85x25x3,40mm, h=6,00m","ud",2314.09,2323.81]
["DER 820012","DER",820012,"Suporte polimérico ecológico maciço colapsível quadrado de 0,8cm para placa de sinalização h=3,50m","ud",500.73,502.97]
["DER 821200","DER",821200,"Suporte polimérico ecológico maciço colapsível quadrado de 10cm para placa de sinalização h=4,50m","ud",1144.82,1147.06]
["DER 871000","DER",871000,"Tacha refletiva bidirecional","ud",17.260000000000002,18.04]
["DER 870000","DER",870000,"Tacha refletiva monodirecional","ud",16.079999999999998,16.86]
["DER 873000","DER",873000,"Tachão refletivo bidirecional","ud",39.130000000000003,39.909999999999997]
["DER 872000","DER",872000,"Tachão refletivo monodirecional","ud",37.14,37.92]
["DER 801967","DER",801967,"Balde plástico translúcido de 8 a 10 l , inclusive soquetes e suportes para sinalização noturna","ud",39.25,41]
["DER 801943","DER",801943,"Bandeirinha","h",25.41,28.33]
["DER 801947","DER",801947,"Barreira contínua classe I","m",70.489999999999995,73.569999999999993]
["DER 801963","DER",801963,"Bastão vermelho sinalizador","ud",22.34,22.34]
[{"$f":"CONCATENATE($B30663,\" \",$C30663)","v":"DER 801964"},"DER",801964,"Boneco sinalizador de obra","ud",106.29,106.29]
["DER 801966","DER",801966,"Cabo elétrico 2 x 1,5 mm² para sinalização noturna","m",1.98,2.06]
["DER 801940","DER",801940,"Cone sinalizador tipo conão/bolo de noiva h=1,10m, base 50x50cm para sinalização provisória","ud",42.06,42.49]
["DER 822200","DER",822200,"Faixa de sinalização horizontal provisória","m2",18.350000000000001,18.850000000000001]
["DER 801946","DER",801946,"Fornecimento e instalação de barreira contínua classe I","m",213.61,222.94]
["DER 801945","DER",801945,"Fornecimento e instalação de cavalete de madeira","ud",217.7,227.02]
["DER 801941","DER",801941,"Fornecimento e instalação de cone de PVC flexível refletivo h=75 cm para sinalização provisória","ud",18.84,19.27]
["DER 801965","DER",801965,"Lâmpada fluorescente 11 W para sinalização noturna","ud",4.0999999999999996,4.16]
["DER 801961","DER",801961,"Luz intermitente (piscante)","ud",33.81,34.24]
["DER 802160","DER",802160,"Placa de sinalização provisória","m2",79.94,81.13]
["DER 801960","DER",801960,"Sinalizador de LED amarelo","ud",6.73,7.16]
["DER 802161","DER",802161,"Suporte de madeira 3\" x 3\" para sinalização provisória","ud",15.16,16.190000000000001]
["DER 972000","DER",972000,"Comercial - caminhão basculante","t","0,92x1 + 1,10x2","0,89x1 + 1,07x2"]
["DER 972200","DER",972200,"Comercial - caminhão carroceria","t","0,85x1 + 1,03x2","0,85x1 + 1,01x2"]
["DER 972400","DER",972400,"Comercial - caminhão silo","t","0,56x1 + 0,67x2","0,53x1 + 0,64x2"]
["DER 972080","DER",972080,"Comercial - massa concreto usinado - caminhão basculante","t","0,83x1 + 1,00x2","0,81x1 + 0,98x2"]
["DER 972100","DER",972100,"Local - caminhão basculante","t","0,92x1 + 1,10x2 + 2,30","0,89x1 + 1,07x2 + 2,23"]
["DER ","DER"]
["DER 972300","DER",972300,"Local - caminhão carroceria","t","0,85x1 + 1,03x2 + 8,69","0,85x1 + 1,01x2 + 8,50"]
["DER ","DER"]
["DER 972500","DER",972500,"Local - caminhão silo","t","0,56x1 + 0,67x2 + 1,39","0,53x1 + 0,64x2 + 1,35"]
["DER ","DER"]
["DER 973100","DER",973100,"Local - massa a frio - caminhão basculante","t","1,07x1 + 1,29x2 + 5,38","1,04x1 + 1,25x2 + 5,24"]
["DER ","DER"]
["DER 973000","DER",973000,"Local - massa a quente - caminhão basculante","t","1,07x1 + 1,29x2 + 6,47","1,04x1 + 1,25x2 + 6,29"]
["DER ","DER"]
["DER 972180","DER",972180,"Local - massa concreto usinado - caminhão basculante","t","0,83x1 + 1,00x2 + 2,10","0,81x1 + 0,98x2 + 2,04"]
["DER ","DER"]
["DER 974100","DER",974100,"Material asfáltico a frio","t","0,92x + 45,50","0,89x + 44,10"]
["DER 974000","DER",974000,"Material asfáltico a quente","t","1,03x + 50,55","1,00x + 49,00"]
["DER 970050","DER",970050,"Automóvel sedan potência mínima 75 HP (sem motorista)","mes",6030,6030]
["DER 970250","DER",970250,"Veículo utilitário potência mínima 114 HP (sem motorista)","mes",9405.24,9405.24]
["DER 603010","DER",603010,"Assentamento de tubo 0,40m sem berço","m",153.99,155.62]
["DER 603020","DER",603020,"Assentamento de tubo 0,60m sem berço","m",240.15,242.84]
["DER 603040","DER",603040,"Assentamento de tubo 0,80m sem berço","m",374.36,378.35]
["DER 421100","DER",421100,"Caixa de retenção","m3",7.07,7.25]
["DER 401110","DER",401110,"Carga e transp. 1a. cat.     0-200m","m3",5.88,5.97]
["DER 401120","DER",401120,"Carga e transp. 1a. cat.  200-400m","m3",6.48,6.58]
["DER 452010","DER",452010,"Cascalhamento","m3",11.88,12.29]
["DER 401020","DER",401020,"Desmatamento e limpeza diam. até 30cm","m2",1.1200000000000001,1.1399999999999999]
["DER 401010","DER",401010,"Destocamento árvores diam. > 30cm","ud",47.56,49.15]
["DER 401150","DER",401150,"Esc. carga e transp. 1a. cat.     0-50m","m3",4.32,4.42]
["DER 401030","DER",401030,"Esc. carga e transp. 1a. cat.    50-200m","m3",8.09,8.3000000000000007]
["DER 401040","DER",401040,"Esc. carga e transp. 1a. cat.   200-400m","m3",8.32,8.52]
["DER 401050","DER",401050,"Esc. carga e transp. 2a. cat.     0-50m","m3",6.58,6.76]
["DER 401140","DER",401140,"Esc. de vala lateral rasa c/motoniveladora","m",0.43,0.44]
["DER 511130","DER",511130,"Escarificação, conformação  e compactação do subleito (visual)","m2",1.2,1.22]
["DER 603030","DER",603030,"Escavação de bueiros e valas de drenagem 1a. cat.","m3",8.67,8.94]
["DER 520250","DER",520250,"Escavação e carga mat. jazida 2a. cat.","m3",4.47,4.62]
["DER 401130","DER",401130,"Escavação para saídas de água","m3",4.04,4.1399999999999997]
["DER 401080","DER",401080,"Lombada","m3",2.84,2.89]
["DER 511030","DER",511030,"Regularização, conformação e compactação de leito (visual)","m2",0.73,0.75]
["DER 401060","DER",401060,"Regularização de leito/patrolamento","m2",0.18,0.18]
["DER 603050","DER",603050,"Remoção de bueiros 0,40m","m",18.170000000000002,19.010000000000002]
["DER 603060","DER",603060,"Remoção de bueiros 0,60m","m",21.81,22.81]
["DER 401070","DER",401070,"Retaludamento","m2",0.49,0.5]
["DER 589100","DER",589100,"Fornecimento de asfalto diluído CM-30","t",6391.95,6391.95]
["DER 589050","DER",589050,"Fornecimento de asfalto modificado por borracha","t",6298.97,6298.97]
["DER 589070","DER",589070,"Fornecimento de CAP-30/45","t",5077.09,5077.09]
["DER 589000","DER",589000,"Fornecimento de CAP-50/70","t",5046.9799999999996,5046.9799999999996]
["DER 589030","DER",589030,"Fornecimento de CAP-50/70 com polímero elastomérico (55/75)","t",6024.82,6024.82]
["DER 589040","DER",589040,"Fornecimento de CAP-50/70 com polímero elastomérico (60/85)","t",6247.67,6247.67]
["DER 589060","DER",589060,"Fornecimento de CAP-50/70 com polímero elastomérico (65/90)","t",6465.86,6465.86]
["DER 589190","DER",589190,"Fornecimento de emulsão asfáltica EAI p/imprimação  ","t",3681.06,3681.06]
[{"$f":"CONCATENATE($B30727,\" \",$C30727)","v":"DER 589180"},"DER",589180,"Fornecimento de emulsão asfáltica RC-1C-E com polímero","t",4814.4799999999996,4814.4799999999996]
["DER 589170","DER",589170,"Fornecimento de emulsão asfáltica RL-1C","t",3998.04,3998.04]
["DER 589220","DER",589220,"Fornecimento de emulsão asfáltica RM-1C","t",3952.25,3952.25]
["DER 589320","DER",589320,"Fornecimento de emulsão asfáltica RM-2C","t",4938.8900000000003,4938.8900000000003]
["DER 589420","DER",589420,"Fornecimento de emulsão asfáltica RR-1C","t",3710.04,3710.04]
["DER 589430","DER",589430,"Fornecimento de emulsão asfáltica RR-1C-E com polímero","t",4396.82,4396.82]
["DER 589520","DER",589520,"Fornecimento de emulsão asfáltica RR-2C","t",3790.22,3790.22]
["DER 589530","DER",589530,"Fornecimento de emulsão asfáltica RR-2C-E com polímero  ","t",4799.41,4799.41]
[{"$f":"CONCATENATE($B30735,\" \",$C30735)","v":"DER-I 178110"},"DER-I",178110,"Aditivo controlador de ruptura emulsão","kg",61.5,61.5,"DER-I -  "]
["DER-I 178150","DER-I",178150,"Aditivo hiperplastificante","kg",64.099999999999994,64.099999999999994]
["DER-I 178170","DER-I",178170,"Aditivo plastificante","l",13.92,13.92]
["DER-I 178120","DER-I",178120,"Aditivo sólido com fibras p/microrevestimento","kg",14.5,14.5]
["DER-I 178130","DER-I",178130,"Aditivo superplastificante","kg",24.15,24.15]
["DER-I 141480","DER-I",141480,"Adubo NPK 4:14:8","kg",6.92,6.92]
["DER-I 143100","DER-I",143100,"Adubo NPK 4:30:10","kg",10.130000000000001,10.130000000000001]
["DER-I 178180","DER-I",178180,"Agente de cura química p/concreto","l",12.64,12.64]
["DER-I 150040","DER-I",150040,"Apoio elastomérico fretado","kg",128.79,128.79]
["DER-I 105000","DER-I",105000,"Arame farpado nº 16","m",0.69,0.69]
["DER-I 150180","DER-I",150180,"Arame recozido nº 18","kg",11.75,11.75]
["DER-I 139000","DER-I",139000,"Areia","m3",73.5,73.5]
["DER-I 170300","DER-I",170300,"Asfalto diluido CM-30","t",6391.95,6391.95]
["DER-I 170600","DER-I",170600,"Asfalto modificado por borracha","t",6298.97,6298.97]
["DER-I 180450","DER-I",180450,"Balde plástico trânslúcido 8/10 litros h=27/30cm","ud",18.899999999999999,18.899999999999999]
["DER-I 180000","DER-I",180000,"Balizador de plástico 947x120mm refletivo","ud",198,198]
["DER-I 106450","DER-I",106450,"Barra chata 1\" x 3/8\" (2,0 kg/m)","kg",7.94,7.94]
["DER-I 106480","DER-I",106480,"Barra chata 1.1/4\" x 1/8\" x 1,00m","ud",42.58,42.58]
["DER-I 106490","DER-I",106490,"Barra chata 1.1/4\" x 1/8\" x 1,35m","ud",46.72,46.72]
["DER-I 106460","DER-I",106460,"Barra chata 1.1/4\" x 3/16\" x 2,00m","ud",64.010000000000005,64.010000000000005]
["DER-I 106470","DER-I",106470,"Barra chata 1.1/4\" x 3/16\" x 3,00m","ud",80.64,80.64]
["DER-I 155500","DER-I",155500,"Barra Dywidag ø=32mm ST-95/105","m",153.37,153.37]
["DER-I 106400","DER-I",106400,"Barra roscada zincada 5/8\"","m",30.49,30.49]
["DER-I 180423","DER-I",180423,"Bastão vermelho sinalizador 54cm","ud",55.86,55.86]
["DER-I 186010","DER-I",186010,"Bits p/ carreta perfuração","ud",942.34,942.34]
["DER-I 145650","DER-I",145650,"Bloco articulado(Blokret) e=6cm (Fck=35 MPa)","m2",79.099999999999994,79.099999999999994]
["DER-I 145850","DER-I",145850,"Bloco articulado(Blokret) e=8cm (Fck=35 MPa)","m2",86.3,86.3]
["DER-I 191919","DER-I",191919,"Bloco concreto estrutural 19x19x19cm","ud",3.21,3.21]
["DER-I 191939","DER-I",191939,"Bloco concreto estrutural 19x19x39cm","ud",4.5999999999999996,4.5999999999999996]
["DER-I 145600","DER-I",145600,"Bloco intertravado(Paver) e=6cm (Fck=35 MPa)","m2",58.16,58.16]
["DER-I 145680","DER-I",145680,"Bloco intertravado(Paver) e=8cm (Fck=35 MPa)","m2",76.63,76.63]
["DER-I 180424","DER-I",180424,"Boneco sinalizador","ud",664.33,664.33]
["DER-I 130170","DER-I",130170,"Brita graduada (usinada) (comercial)","m3",87.52,87.52]
["DER-I 186050","DER-I",186050,"Broca 10,0mm x 8\" encaixe SDS plus  ","ud",24.11,24.11]
["DER-I 186060","DER-I",186060,"Broca 12,7mm x 21\" encaixe SDS plus ","ud",92.56,92.56]
["DER-I 186070","DER-I",186070,"Broca 16,0mm x 21\" encaixe SDS plus ","ud",76.78,76.78]
["DER-I 186080","DER-I",186080,"Broca 20,0mm x 21\" encaixe SDS max ","ud",204.17,204.17]
["DER-I 186090","DER-I",186090,"Broca 25,4mm x 21\" encaixe SDS max  ","ud",247.11,247.11]
["DER-I 186100","DER-I",186100,"Broca 40,0mm x 21\" encaixe SDS max","ud",703.21,703.21]
["DER-I 156250","DER-I",156250,"Cabo de aço 1/2\" alma fibra 6x25","m",18.239999999999998,18.239999999999998]
["DER-I 180130","DER-I",180130,"Cabo elétrico PP 1000V 3x1,5mm²","m",5.74,5.74]
["DER-I 180150","DER-I",180150,"Cabo elétrico 1,5mm2","m",1.4,1.4]
["DER-I 180070","DER-I",180070,"Cabo elétrico 2x1,5mm²","m",4.1399999999999997,4.1399999999999997]
["DER-I 180080","DER-I",180080,"Cabo elétrico 2x2,5mm²","m",5.69,5.69]
["DER-I 170010","DER-I",170010,"Cal hidratada CH-I","t",543.33000000000004,543.33000000000004]
["DER-I 170100","DER-I",170100,"Cal virgem em pó","kg",0.73,0.73]
["DER-I 106350","DER-I",106350,"Cantoneira 6,35 x 6,35 x 1 cm","kg",8.3800000000000008,8.3800000000000008]
["DER-I 150250","DER-I",150250,"Chapa ligação 280x80x10mm","ud",34.4,34.4]
["DER-I 150190","DER-I",150190,"Chapa nº 18 galvanizada (10 kg/m2) pré-pintada","m2",123.95,123.95]
["DER-I 150000","DER-I",150000,"Chapa preta (12,204 kg/m2)","kg",8.23,8.23]
["DER-I 150215","DER-I",150215,"Chapa zincada 0,40mm p/revest. formas","m2",76.209999999999994,76.209999999999994]
["DER-I 152100","DER-I",152100,"Chumbador 1\" ferro galvanizado p/pórtico sinaliz","ud",46.19,46.19]
["DER-I 180001","DER-I",180001,"Cilindro delimitador alta performance  (ABNT 16658)","ud",217.5,217.5]
["DER-I 170330","DER-I",170330,"Cimento asfáltico CAP-30/45","t",5077.09,5077.09]
["DER-I 170500","DER-I",170500,"Cimento asfáltico CAP-50/70","t",5046.9799999999996,5046.9799999999996]
["DER-I 170540","DER-I",170540,"Cimento asfáltico modif. por polímero SBS(55/75)","t",6024.82,6024.82]
["DER-I 170550","DER-I",170550,"Cimento asfáltico modif. por polímero SBS(60/85)","t",6247.67,6247.67]
["DER-I 170560","DER-I",170560,"Cimento asfáltico modif. por polímero SBS(65/90)","t",6465.86,6465.86]
["DER-I 173210","DER-I",173210,"Cimento Portland a granel","t",640.08000000000004,640.08000000000004]
["DER-I 173200","DER-I",173200,"Cimento Portland (saco de 50kg)","t",586.4,586.4]
["DER-I 100090","DER-I",100090,"Cola para tachas","kg",13.66,13.66]
["DER-I 100140","DER-I",100140,"Cola para tubo de PVC","g",0.11,0.11]
["DER-I 125140","DER-I",125140,"Compensado 14 mm plastificado","m2",36.43,36.43]
["DER-I 126140","DER-I",126140,"Compensado 14 mm resinado","m2",27.42,27.42]
[{"$f":"CONCATENATE($B30799,\" \",$C30799)","v":"DER-I 125170"},"DER-I",125170,"Compensado 17 mm plastificado","m2",44.26,44.26]
["DER-I 126170","DER-I",126170,"Compensado 17 mm resinado","m2",33.270000000000003,33.270000000000003]
["DER-I 160000","DER-I",160000,"Concreto magro usinado","m3",0,0]
["DER-I 160022","DER-I",160022,"Concreto usinado Fck = 22 MPa","m3",0,0]
["DER-I 160025","DER-I",160025,"Concreto usinado Fck = 25 MPa","m3",0,0]
["DER-I 160030","DER-I",160030,"Concreto usinado Fck = 30 MPa","m3",0,0]
["DER-I 100750","DER-I",100750,"Cone PVC flexível refletivo h=75cm NBR 15071","ud",140,140]
["DER-I 100755","DER-I",100755,"Cone PVC simples flexível refletivo h=75cm","ud",100.25,100.25]
["DER-I 100745","DER-I",100745,"Cone PVC simples semiflexível h=75cm","ud",73.739999999999995,73.739999999999995]
["DER-I 166760","DER-I",166760,"Cone sinalizador tipo conão/bolo de noiva h=1,10m, base 50x50cm","ud",255,255]
["DER-I 180230","DER-I",180230,"Conexão p/tubo polietileno (PEAD) p/dreno 0,10 m","ud",8.2200000000000006,8.2200000000000006]
["DER-I 180190","DER-I",180190,"Conexão p/tubo polietileno (PEAD) p/dreno 0,23 m","ud",24.38,24.38]
["DER-I 135200","DER-I",135200,"Contraporca sextavada","ud",45.59,45.59]
["DER-I 120750","DER-I",120750,"Corda de sisal 6mm","m",0.86,0.86]
["DER-I 120900","DER-I",120900,"Corda de sisal 8mm","m",1.1399999999999999,1.1399999999999999]
["DER-I 120600","DER-I",120600,"Cordão de polipropileno 6mm","m",1.0900000000000001,1.0900000000000001]
["DER-I 120800","DER-I",120800,"Cordão de polipropileno 8mm","m",1.96,1.96]
["DER-I 110000","DER-I",110000,"Cordel detonante","m",2.0299999999999998,2.0299999999999998]
["DER-I 155127","DER-I",155127,"Cordoalha nua CP 190 RB 12,7mm","kg",10.36,10.36]
["DER-I 155152","DER-I",155152,"Cordoalha nua CP 190 RB 15,2mm","kg",10.36,10.36]
["DER-I 101315","DER-I",101315,"Defensa de contenção simples mod. H1AW3 15° (ABNT-15486 / 2016)","m",221.69,221.69]
["DER-I 101415","DER-I",101415,"Defensa de contenção simples mod. H1AW4 15° (ABNT-15486 / 2016)","m",171.38,171.38]
["DER-I 110070","DER-I",110070,"Defensa simples completa","m",278.85000000000002,278.85000000000002]
["DER-I 115410","DER-I",115410,"Defensa simples sem poste","m",300,300]
["DER-I 180426","DER-I",180426,"Delineador refletivo para barreira New Jersey","ud",26.04,26.04]
["DER-I 180425","DER-I",180425,"Delineador refletivo para defensa metálica","ud",19.98,19.98]
["DER-I 141050","DER-I",141050,"Dente corte p/fresadora/valetadeira WS-24 e S-650","ud",195,195]
["DER-I 141500","DER-I",141500,"Dente de corte p/ fresadora PM-102","ud",247.25,247.25]
["DER-I 141000","DER-I",141000,"Dente de corte p/ fresadora W-100 ","ud",56.28,56.28]
["DER-I 142000","DER-I",142000,"Dente de corte p/ fresadora W-200F","ud",56.28,56.28]
["DER-I 142300","DER-I",142300,"Dente de corte p/ recicladora RM-300/500","ud",195.5,195.5]
["DER-I 160240","DER-I",160240,"Dente de corte p/ recicladora WR-240","ud",79.3,79.3]
["DER-I 148000","DER-I",148000,"Detergente","l",2.62,2.62]
["DER-I 172050","DER-I",172050,"Diesel","l",6.05,6.05]
["DER-I 150600","DER-I",150600,"Dinamite emulsão 2\"","kg",10.24,10.24]
["DER-I 141010","DER-I",141010,"Disco diamantado 110 mm e= 1,50/2,00mm","ud",9.91,9.91]
["DER-I 143550","DER-I",143550,"Disco diamantado 350 mm e= 3mm","ud",291.87,291.87]
["DER-I 143500","DER-I",143500,"Disco diamantado 350 mm e= 6mm","ud",334.42,334.42]
["DER-I 172000","DER-I",172000,"Dope","kg",68.930000000000007,68.930000000000007]
["DER-I 153250","DER-I",153250,"Eletrodo p/ solda 3,25 mm","kg",20.52,20.52]
["DER-I 173120","DER-I",173120,"Emulsão asfáltica p/imprimação EAI","t",3681.06,3681.06]
["DER-I 178090","DER-I",178090,"Emulsão asfáltica RC-1C-E c/polímero  ","t",4814.4799999999996,4814.4799999999996]
["DER-I 173010","DER-I",173010,"Emulsão asfáltica RL-1C  ","t",3998.04,3998.04]
["DER-I 173030","DER-I",173030,"Emulsão asfáltica RM-1C  ","t",3952.25,3952.25]
["DER-I 173060","DER-I",173060,"Emulsão asfáltica RM-1C-E c/polímero","t",5113.29,5113.29]
["DER-I 173020","DER-I",173020,"Emulsão asfáltica RM-2C ","t",4938.8900000000003,4938.8900000000003]
["DER-I 173070","DER-I",173070,"Emulsão asfáltica RM-2C-E c/polímero","t",5934.64,5934.64]
["DER-I 173040","DER-I",173040,"Emulsão asfáltica RR-1C ","t",3710.04,3710.04]
["DER-I 178060","DER-I",178060,"Emulsão asfáltica RR-1C-E c/polímero ","t",4396.82,4396.82]
["DER-I 173050","DER-I",173050,"Emulsão asfáltica RR-2C ","t",3790.22,3790.22]
["DER-I 178070","DER-I",178070,"Emulsão asfáltica RR-2C-E c/polímero ","t",4799.41,4799.41]
["DER-I 110050","DER-I",110050,"Erva cidreira","ud",0.13,0.13]
["DER-I 180040","DER-I",180040,"Espoleta simples","ud",8.5399999999999991,8.5399999999999991]
["DER-I 110060","DER-I",110060,"Estopim preto","m",12.98,12.98]
["DER-I 152121","DER-I",152121,"Ferro redondo CA 25 20mm","kg",5.69,5.69]
["DER-I 155158","DER-I",155158,"Ferro redondo CA 50 8mm","kg",6.78,6.78]
["DER-I 152120","DER-I",152120,"Ferro redondo CA-25 12,5mm","kg",5.69,5.69]
["DER-I 152125","DER-I",152125,"Ferro redondo CA25 25mm","kg",5.69,5.69]
["DER-I 152132","DER-I",152132,"Ferro redondo CA25 32mm","kg",5.97,5.97]
["DER-I 155140","DER-I",155140,"Ferro redondo CA-50  6,3mm","kg",6.86,6.86]
["DER-I 155380","DER-I",155380,"Ferro redondo CA-50 10,0mm","kg",6.15,6.15]
["DER-I 155120","DER-I",155120,"Ferro redondo CA-50 12,5mm","kg",6.02,6.02]
["DER-I 156420","DER-I",156420,"Ferro redondo CA-60 4,2 mm","kg",7.48,7.48]
["DER-I 178190","DER-I",178190,"Fibra polipropileno multifilamentos","kg",48.83,48.83]
[{"$f":"CONCATENATE($B30863,\" \",$C30863)","v":"DER-I 180170"},"DER-I",180170,"Fio de nylon 0,50 mm","m",0.17,0.17]
["DER-I 100130","DER-I",100130,"Fixador para cal","l",8.66,8.66]
["DER-I 150200","DER-I",150200,"Forma metálica p/fabricação barreira","ud",21898.92,21898.92]
["DER-I 150204","DER-I",150204,"Forma metálica 3/16\" p/placa de concreto","m2",296.55,296.55]
["DER-I 158250","DER-I",158250,"Gabião caixa # 8 x 10 ZN/AL + PVC h=0,50m (NBR 8964/2013)","m3",803.22,803.22]
["DER-I 158200","DER-I",158200,"Gabião caixa # 8 x 10 ZN/AL + PVC h=1,00m (NBR 8964/2013)","m3",559.29,559.29]
["DER-I 158150","DER-I",158150,"Gabião caixa # 8 x 10 ZN/AL h=0,50m (NBR 8964/2013)","m3",443.46,443.46]
["DER-I 158100","DER-I",158100,"Gabião caixa # 8 x 10 ZN/AL h=1,00m (NBR 8964/2013)","m3",331.26,331.26]
["DER-I 158017","DER-I",158017,"Gabião colchão ZN/AL + PVC e=0,17m","m2",175.8,175.8]
["DER-I 158023","DER-I",158023,"Gabião colchão ZN/AL + PVC e=0,23m","m2",190.58,190.58]
["DER-I 158030","DER-I",158030,"Gabião colchão ZN/AL + PVC e=0,30m","m2",206.67,206.67]
["DER-I 150055","DER-I",150055,"Geocomposto drenante Macdrain TD c/bolsa p/tubo","m2",30.25,30.25]
["DER-I 150070","DER-I",150070,"Geocomposto drenante Macdrain 2L sem bolsa","m2",26.54,26.54]
["DER-I 150050","DER-I",150050,"Geotextil n/tecido resist. tração  8kN/m","m2",3.89,3.89]
["DER-I 150010","DER-I",150010,"Geotextil n/tecido resist. tração 10kN/m","m2",4.82,4.82]
["DER-I 120040","DER-I",120040,"Geotextil tecido (Aterros)","m2",7.67,7.67]
["DER-I 140040","DER-I",140040,"Geotextil tecido (Drenos)","m2",7.28,7.28]
["DER-I 150060","DER-I",150060,"Geotextil tecido (Reforço) resist. tração 37 KN/m","m2",9.9,9.9]
["DER-I 150120","DER-I",150120,"Grampos p/ cabo de aço 1/2\"","ud",4.28,4.28]
["DER-I 150020","DER-I",150020,"Grampos p/ cerca","kg",16.96,16.96]
["DER-I 198150","DER-I",198150,"Graxa comum","kg",37.19,37.19]
["DER-I 100350","DER-I",100350,"Grout/Encekret 40","kg",1.71,1.71]
["DER-I 186020","DER-I",186020,"Haste p/ carreta perfuração","ud",2306.5,2306.5]
["DER-I 100380","DER-I",100380,"Impermeabilizante flexível Igolflex preto","kg",16.62,16.62]
["DER-I 100388","DER-I",100388,"Impermeabilizante flexível Igolflex preto ou equivalente","kg",16.62,16.62]
["DER-I 100674","DER-I",100674,"Isopor e=1cm","m2",6.73,6.73]
["DER-I 100673","DER-I",100673,"Isopor e=3cm","m2",18.2,18.2]
["DER-I 140120","DER-I",140120,"Jogo de brocas S-12","jg",10781.48,10781.48]
["DER-I 110120","DER-I",110120,"Junta dilatação O- 12 mm","m",24.64,24.64]
["DER-I 110240","DER-I",110240,"Junta dilatação O- 22 mm","m",56.32,56.32]
["DER-I 145450","DER-I",145450,"Lajota concreto 45 x 45 x 5 cm","ud",13.29,13.29]
["DER-I 180110","DER-I",180110,"Lâmpada de LED 11W","ud",8.9600000000000009,8.9600000000000009]
["DER-I 180090","DER-I",180090,"Lâmpada de LED 15W","ud",7.43,7.43]
["DER-I 120000","DER-I",120000,"Leivas","m2",2.92,2.92]
["DER-I 151000","DER-I",151000,"Lona plástica preta","m2",1.38,1.38]
["DER-I 155550","DER-I",155550,"Luva de emenda DW32 (63x180mm)","ud",131.29,131.29]
["DER-I 186030","DER-I",186030,"Luva p/ carreta perfuração","ud",279.3,279.3]
["DER-I 113160","DER-I",113160,"Madeira de lei  3 x 16 cm","m",19.420000000000002,19.420000000000002]
["DER-I 116160","DER-I",116160,"Madeira de lei  6 x 16 cm","m",38.840000000000003,38.840000000000003]
["DER-I 112200","DER-I",112200,"Madeira de lei 20 x 20 cm","m",161.83000000000001,161.83000000000001]
["DER-I 112250","DER-I",112250,"Madeira de lei 20 x 25 cm","m",202.29,202.29]
["DER-I 112300","DER-I",112300,"Madeira de lei 20 x 30 cm","m",242.75,242.75]
["DER-I 111110","DER-I",111110,"Madeira peroba 1\" x 12\"","m",56.18,56.18]
["DER-I 111010","DER-I",111010,"Madeira peroba 1\" x 2\"","m",9.48,9.48]
["DER-I 111070","DER-I",111070,"Madeira peroba 1\" x 3\"","m",13.86,13.86]
["DER-I 112120","DER-I",112120,"Madeira peroba 2\" x 12\"","m",112.36,112.36]
["DER-I 113010","DER-I",113010,"Madeira peroba 3\" x  3\"","m",42.31,42.31]
["DER-I 114120","DER-I",114120,"Madeira peroba 4\" x 12\"","m",225.45,225.45]
["DER-I 118030","DER-I",118030,"Madeira peroba 8\" x  3\"","m",112.36,112.36]
["DER-I 111020","DER-I",111020,"Madeira pinho  1\" x  2\"","m",3.08,3.08]
["DER-I 111030","DER-I",111030,"Madeira pinho  1\" x  3\"","m",4.51,4.51]
["DER-I 111040","DER-I",111040,"Madeira pinho  1\" x  4\"","m",6.17,6.17]
["DER-I 111060","DER-I",111060,"Madeira pinho  1\" x  6\"","m",9.26,9.26]
["DER-I 111120","DER-I",111120,"Madeira pinho  1\" x 12\"","m",18.28,18.28]
["DER-I 112540","DER-I",112540,"Madeira pinho  2,5 x 4 cm","m",2.37,2.37]
["DER-I 112560","DER-I",112560,"Madeira pinho  2,5 x 6 cm","m",3.56,3.56]
["DER-I 112580","DER-I",112580,"Madeira pinho  2,5 x 8 cm","m",4.75,4.75]
["DER-I 113030","DER-I",113030,"Madeira pinho  3\" x  3\"","m",13.77,13.77]
["DER-I 116120","DER-I",116120,"Madeira pinho  6 x 12 cm","m",17.100000000000001,17.100000000000001]
["DER-I 110150","DER-I",110150,"Madeira roliça d=10/15 cm","m",13.47,13.47]
["DER-I 110250","DER-I",110250,"Madeira roliça d=25 cm","m",37.04,37.04]
["DER-I 120850","DER-I",120850,"Mangueira cristal","m",2.69,2.69]
["DER-I 150080","DER-I",150080,"Manta geotextil de cura","m2",4.82,4.82]
["DER-I 150030","DER-I",150030,"Material p/ hidrossemeadura","kg",8.5299999999999994,8.5299999999999994]
[{"$f":"CONCATENATE($B30927,\" \",$C30927)","v":"DER-I 100170"},"DER-I",100170,"Material termoplástico p/aspersão","kg",6.33,6.33]
["DER-I 100180","DER-I",100180,"Material termoplástico p/extrusão","kg",5.79,5.79]
["DER-I 180725","DER-I",180725,"Meia cana concreto 0,20 m","m",34,34]
["DER-I 180300","DER-I",180300,"Meia cana concreto 0,30 m","m",37,37]
["DER-I 180400","DER-I",180400,"Meia cana concreto 0,40 m","m",46,46]
["DER-I 100200","DER-I",100200,"Micro-esferas Drop-on","kg",8.09,8.09]
["DER-I 100100","DER-I",100100,"Micro-esferas Premix","kg",8.24,8.24]
["DER-I 178250","DER-I",178250,"Microsílica","kg",3.67,3.67]
["DER-I 100075","DER-I",100075,"Módulo transição defensa metállica-barreira de concreto","m",592.5,592.5]
["DER-I 180160","DER-I",180160,"Mourão esticador de eucalipto tratado h=2,80m","ud",70.17,70.17]
["DER-I 180100","DER-I",180100,"Mourão suporte de eucalipto tratado h=2,20m","ud",32,32]
["DER-I 110100","DER-I",110100,"Muda de árvore (h=1,00m)","ud",24.96,24.96]
["DER-I 172100","DER-I",172100,"Óleo combustível OTE","l",6.28,6.28]
["DER-I 135780","DER-I",135780,"Parafuso francês g.f. c/porca 5/16\" x 1\"","ud",1.1599999999999999,1.1599999999999999]
["DER-I 135160","DER-I",135160,"Parafuso francês g.f. c/porca 5/16\" x 3.1/2\"","ud",1.79,1.79]
["DER-I 134020","DER-I",134020,"Parafuso francês g.f. c/porca 5/8\" x  2\"","ud",3.52,3.52]
["DER-I 134100","DER-I",134100,"Parafuso francês g.f. c/porca 5/8\" x 10\"","ud",12.12,12.12]
["DER-I 133120","DER-I",133120,"Parafuso francês g.f. c/porca 5/8\" x 3.1/2\"","ud",4.58,4.58]
["DER-I 130200","DER-I",130200,"Paralelepípedo","mil",2300,2300]
["DER-I 130000","DER-I",130000,"Pedra britada (comercial)","m3",71.78,71.78]
["DER-I 130100","DER-I",130100,"Pedra de mão (comercial)","m3",71.91,71.91]
["DER-I 126110","DER-I",126110,"Película não refletiva preto opaco - tipo IV","m2",106.55,106.55]
["DER-I 126120","DER-I",126120,"Película refletiva - tipo IA (prismática)","m2",134.87,134.87]
["DER-I 126090","DER-I",126090,"Película refletiva - tipo III (AI prismática)","m2",234.53,234.53]
["DER-I 126100","DER-I",126100,"Película refletiva - tipo X (grau diamante)","m2",335.7,335.7]
["DER-I 100500","DER-I",100500,"Perfuração p/ dreno sub-horizontal","m",180,180]
["DER-I 146090","DER-I",146090,"Perfuratriz p/ carreta  6 m","jg",8454.42,8454.42]
["DER-I 146120","DER-I",146120,"Perfuratriz p/ carreta 12 m","jg",13626.02,13626.02]
["DER-I 130110","DER-I",130110,"Peroba serrada","m3",7296.42,7296.42]
["DER-I 130120","DER-I",130120,"Pinho serrado (3a.)","m3",2375,2375]
["DER-I 134908","DER-I",134908,"Piso tátil alerta/direcional 20x20cm incolor","ud",3.2,3.2]
["DER-I 134909","DER-I",134909,"Piso tátil alerta/direcional 20x20cm vermelho","ud",3.42,3.42]
["DER-I 134906","DER-I",134906,"Piso tátil alerta/direcional 40x40cm incolor","ud",13.83,13.83]
["DER-I 134907","DER-I",134907,"Piso tátil alerta/direcional 40x40cm vermelho","ud",14.13,14.13]
["DER-I 130080","DER-I",130080,"Pó de pedra (comercial)","m3",76.84,76.84]
["DER-I 135250","DER-I",135250,"Porca 5/8\" zincada p/chapa ligação","ud",1.53,1.53]
["DER-I 142600","DER-I",142600,"Porta-dentes p/ fresadora PM-102","ud",1071.8,1071.8]
["DER-I 141100","DER-I",141100,"Porta-dentes p/ fresadora W-1000L ","ud",665.45,665.45]
["DER-I 142100","DER-I",142100,"Porta-dentes p/ fresadora W-200","ud",773.76,773.76]
["DER-I 142400","DER-I",142400,"Porta-dentes p/ recicladora RM-300/500","ud",874,874]
["DER-I 161240","DER-I",161240,"Porta-dentes p/ recicladora WR-240","ud",940.07,940.07]
["DER-I 191500","DER-I",191500,"Pórtico simples vão 11,00 a 15,00m(placa até 24m2)","ud",65600,65600]
["DER-I 191600","DER-I",191600,"Pórtico simples vão 16,00m(placa até 24m2)","ud",66700,66700]
["DER-I 191700","DER-I",191700,"Pórtico simples vão 17,00m(placa até 24m2)","ud",70500,70500]
["DER-I 191800","DER-I",191800,"Pórtico simples vão 18,10m(placa até 24m2)","ud",71900,71900]
["DER-I 157270","DER-I",157270,"Pregos 17 x 27 / 18 x 27","kg",17.38,17.38]
["DER-I 186040","DER-I",186040,"Punho p/ carreta perfuração","ud",2340.48,2340.48]
["DER-I 130180","DER-I",130180,"Rachão britado (comercial)","m3",70.8,70.8]
["DER-I 130185","DER-I",130185,"Rachão sem britagem (comercial)","m3",59.5,59.5]
["DER-I 170714","DER-I",170714,"Selante a base de silicone Dowsil ou equivalente","kg",172.47,172.47]
["DER-I 191050","DER-I",191050,"Semi-pórtico duplo 2x4,90m(placa até 24m2)","ud",42900,42900]
["DER-I 191150","DER-I",191150,"Semi-pórtico duplo 2x6,00m(placa até 24m2)","ud",45500,45500]
["DER-I 191250","DER-I",191250,"Semi-pórtico duplo 2x7,20m(placa até 24m2)","ud",52400,52400]
["DER-I 191350","DER-I",191350,"Semi-pórtico duplo 2x8,30m(placa até 24m2)","ud",62400,62400]
["DER-I 191000","DER-I",191000,"Semi-pórtico simples 4,90m(placa até 12m2)","ud",28000,28000]
["DER-I 191100","DER-I",191100,"Semi-pórtico simples 6,00m(placa até 12m2)","ud",29400,29400]
["DER-I 191200","DER-I",191200,"Semi-pórtico simples 7,20m(placa até 12m2)","ud",33800,33800]
["DER-I 191300","DER-I",191300,"Semi-pórtico simples 8,30m(placa até 12m2)","ud",36300,36300]
["DER-I 100310","DER-I",100310,"Sikadur 31","kg",106.6,106.6]
["DER-I 100320","DER-I",100320,"Sikadur 32","kg",114.26,114.26]
["DER-I 100330","DER-I",100330,"Sikadur 52","kg",209.3,209.3]
["DER-I 100680","DER-I",100680,"Sikaflex T-68","kg",321.95999999999998,321.95999999999998]
["DER-I 180421","DER-I",180421,"Sinalizador LED amarelo","ud",14.64,14.64]
["DER-I 180420","DER-I",180420,"Sinalizador noturno em LED (luz intermitente) ","ud",150,150]
[{"$f":"CONCATENATE($B30991,\" \",$C30991)","v":"DER-I 100110"},"DER-I",100110,"Solvente tolueno","l",15.46,15.46]
["DER-I 180120","DER-I",180120,"Soquete p/lâmpada fluorescente","ud",1.55,1.55]
["DER-I 160330","DER-I",160330,"Suporte madeira lei 3\"x3\" placa sinalização(3m)","ud",59.5,59.5]
["DER-I 160380","DER-I",160380,"Suporte metálico perfil C- 38 galv. p/placa sinal. inclusive acessórios","kg",40.299999999999997,40.299999999999997]
["DER-I 161100","DER-I",161100,"Suporte metálico perfil C-110 galv. p/placa sinal. inclusive acessórios","kg",25,25]
["DER-I 161150","DER-I",161150,"Suporte metálico 2 1/2\"x2,65mmx3,00m","ud",330,330]
["DER-I 161200","DER-I",161200,"Suporte metálico 2 1/2\"x2,65mmx3,50m","ud",386,386]
["DER-I 161250","DER-I",161250,"Suporte metálico 2 1/2\"x2,65mmx4,00m","ud",441.14,441.14]
["DER-I 160012","DER-I",160012,"Suporte polimérico ecológico maciço colapsível 100mmx100mm","m",246.63,246.63]
["DER-I 160001","DER-I",160001,"Suporte polimérico ecológico maciço colapsível 80mmx80mm","m",133.07,133.07]
["DER-I 100410","DER-I",100410,"Tacha refletiva bidirecional","ud",8.33,8.33]
["DER-I 100400","DER-I",100400,"Tacha refletiva monodirecional","ud",7.15,7.15]
["DER-I 100420","DER-I",100420,"Tachão refletivo bidirecional","ud",30.2,30.2]
["DER-I 100430","DER-I",100430,"Tachão refletivo monodirecional","ud",28.21,28.21]
["DER-I 160125","DER-I",160125,"Tampão ferro fundido ø=600mm articulado Classe 125","ud",585.69000000000005,585.69000000000005]
["DER-I 161400","DER-I",161400,"Tampão ferro fundido ø=600mm articulado Classe 400","ud",611.97,611.97]
["DER-I 160050","DER-I",160050,"Tampão ferro fundido ø=600mm c/aro Classe  50","ud",582.19000000000005,582.19000000000005]
["DER-I 161125","DER-I",161125,"Tampão ferro fundido ø=600mm c/aro Classe 125","ud",539.16999999999996,539.16999999999996]
["DER-I 162400","DER-I",162400,"Tampão ferro fundido ø=600mm c/aro Classe 400","ud",638.30999999999995,638.30999999999995]
["DER-I 171400","DER-I",171400,"Tampão ferro fundido ø=700mm R-3 articulado Classe 400","ud",646.27,646.27]
["DER-I 173400","DER-I",173400,"Tampão ferro fundido ø=730mm R-3 c/aro Classe 400","ud",827.27,827.27]
["DER-I 181400","DER-I",181400,"Tampão ferro fundido ø=800mm articulado Classe 400","ud",1408.75,1408.75]
["DER-I 150920","DER-I",150920,"Tela metálica Telcon Q- 92","kg",8.2899999999999991,8.2899999999999991]
["DER-I 151130","DER-I",151130,"Tela metálica Telcon Q-113","kg",9.1199999999999992,9.1199999999999992]
["DER-I 151380","DER-I",151380,"Tela metálica Telcon Q-138","kg",8.35,8.35]
["DER-I 152830","DER-I",152830,"Tela metálica Telcon Q-283","kg",7.86,7.86]
["DER-I 156260","DER-I",156260,"Tensor para formas","ud",14.35,14.35]
["DER-I 166100","DER-I",166100,"Terminal absorvedor de energia para velocidade até 100km/h + conjunto de ancoragem","ud",8578.2900000000009,8578.2900000000009]
["DER-I 166080","DER-I",166080,"Terminal absorvedor de energia para velocidade de 80km/h + conjunto de ancoragem","ud",6504.84,6504.84]
["DER-I 160100","DER-I",160100,"Terminal amortecedor de impacto para velocidade até 100 km/h + conjunto de ancoragem","ud",67682.58,67682.58]
["DER-I 160080","DER-I",160080,"Terminal amortecedorr de impacto para velocidade de 80km/h + conjunto de ancoragem","ud",49411.839999999997,49411.839999999997]
["DER-I 110190","DER-I",110190,"Terminal ancoragem metálica tipo \"A\" e \"D\"","ud",470,470]
["DER-I 180240","DER-I",180240,"Terminal p/tubo polietileno (PEAD) p/dreno 0,10m","m",8.76,8.76]
["DER-I 180180","DER-I",180180,"Terminal p/tubo polietileno (PEAD) p/dreno 0,23m","m",29.77,29.77]
["DER-I 180010","DER-I",180010,"Terminal/ponteira tipo \"C\" p/defensa simples","ud",470,470]
["DER-I 100010","DER-I",100010,"Tijolo maciço","mil",1800,1800]
["DER-I 100020","DER-I",100020,"Tijolo 6 furos","mil",545,545]
["DER-I 100150","DER-I",100150,"Tinta base resina acrílica emuls. água-2 anos","l",12.45,12.45]
["DER-I 100120","DER-I",100120,"Tinta base resina acrílica emuls. solvente-2 anos","l",20.78,20.78]
["DER-I 101030","DER-I",101030,"Tinta epóxi fosco preto","l",58.44,58.44]
["DER-I 101050","DER-I",101050,"Tinta latex branca","l",37.36,37.36]
["DER-I 106060","DER-I",106060,"Tinta latex verde","l",36.46,36.46]
["DER-I 100360","DER-I",100360,"Tinta mineral tipo Cimentol cinza","kg",11.55,11.55]
["DER-I 106040","DER-I",106040,"Tinta óleo (fundo)","l",42.4,42.4]
["DER-I 100190","DER-I",100190,"Tinta sinalização provisória -1 ano","l",14.66,14.66]
["DER-I 100370","DER-I",100370,"Trilho TR-37","kg",6.66,6.66]
["DER-I 100160","DER-I",100160,"Tubo aço corrugado MP-100 e=1,60mm c/epoxy","kg",41,41]
["DER-I 100210","DER-I",100210,"Tubo aço corrugado MP-100 e=2,00mm c/epoxy","kg",39.700000000000003,39.700000000000003]
["DER-I 100270","DER-I",100270,"Tubo aço corrugado MP-100 e=2,70mm c/epoxy","kg",38.200000000000003,38.200000000000003]
["DER-I 100340","DER-I",100340,"Tubo aço corrugado MP-100 e=3,40mm c/epoxy","kg",37,37]
["DER-I 101270","DER-I",101270,"Tubo aço corrugado MP-152 e=2,70mm c/epoxy","kg",41,41]
["DER-I 101340","DER-I",101340,"Tubo aço corrugado MP-152 e=3,40mm c/epoxy","kg",41,41]
["DER-I 101390","DER-I",101390,"Tubo aço corrugado MP-152 e=3,90mm c/epoxy","kg",40.1,40.1]
["DER-I 101470","DER-I",101470,"Tubo aço corrugado MP-152 e=4,70mm c/epoxy","kg",37.5,37.5]
["DER-I 101630","DER-I",101630,"Tubo aço corrugado MP-152 e=6,30mm c/epoxy","kg",38.200000000000003,38.200000000000003]
["DER-I 102200","DER-I",102200,"Tubo aço corrugado Tunnel Liner e=2,20mm c/epoxy","kg",41,41]
["DER-I 102270","DER-I",102270,"Tubo aço corrugado Tunnel Liner e=2,70mm c/epoxy","kg",39.5,39.5]
["DER-I 102340","DER-I",102340,"Tubo aço corrugado Tunnel Liner e=3,40mm c/epoxy","kg",39,39]
["DER-I 102390","DER-I",102390,"Tubo aço corrugado Tunnel Liner e=3,90mm c/epoxy","kg",37.700000000000003,37.700000000000003]
["DER-I 122470","DER-I",122470,"Tubo aço corrugado Tunnel Liner e=4,70mm c/epoxy","kg",37.4,37.4]
["DER-I 122630","DER-I",122630,"Tubo aço corrugado Tunnel Liner e=6,30mm c/epoxy","kg",36.299999999999997,36.299999999999997]
["DER-I 180200","DER-I",180200,"Tubo concreto d=0,20m MF PS-1","ud",41,41]
["DER-I 180210","DER-I",180210,"Tubo concreto d=0,30m MF PS-1","ud",47,47]
["DER-I 180310","DER-I",180310,"Tubo concreto d=0,40m MF PA-1","ud",125,125]
[{"$f":"CONCATENATE($B31055,\" \",$C31055)","v":"DER-I 180340"},"DER-I",180340,"Tubo concreto d=0,40m MF PA-2","ud",174,174]
["DER-I 180320","DER-I",180320,"Tubo concreto d=0,40m MF PS-1","ud",57,57]
["DER-I 180600","DER-I",180600,"Tubo concreto d=0,60m MF PA-1","ud",195,195]
["DER-I 180620","DER-I",180620,"Tubo concreto d=0,60m MF PA-2","ud",247.5,247.5]
["DER-I 180630","DER-I",180630,"Tubo concreto d=0,60m MF PA-3","ud",285,285]
["DER-I 180330","DER-I",180330,"Tubo concreto d=0,60m MF PS-1","ud",114,114]
["DER-I 180800","DER-I",180800,"Tubo concreto d=0,80m MF PA-1","ud",307.5,307.5]
["DER-I 180820","DER-I",180820,"Tubo concreto d=0,80m MF PA-2","ud",387.5,387.5]
["DER-I 180830","DER-I",180830,"Tubo concreto d=0,80m MF PA-3","ud",615,615]
["DER-I 180810","DER-I",180810,"Tubo concreto d=0,80m MF PS-1","ud",233,233]
["DER-I 181000","DER-I",181000,"Tubo concreto d=1,00m MF PA-1","ud",480,480]
["DER-I 181020","DER-I",181020,"Tubo concreto d=1,00m MF PA-2","ud",542.5,542.5]
["DER-I 181030","DER-I",181030,"Tubo concreto d=1,00m MF PA-3","ud",855,855]
["DER-I 181200","DER-I",181200,"Tubo concreto d=1,20m MF PA-1","ud",585,585]
["DER-I 181220","DER-I",181220,"Tubo concreto d=1,20m MF PA-2","ud",715,715]
["DER-I 181230","DER-I",181230,"Tubo concreto d=1,20m MF PA-3","ud",1164,1164]
["DER-I 181500","DER-I",181500,"Tubo concreto d=1,50m MF PA-1","ud",1202.5,1202.5]
["DER-I 181520","DER-I",181520,"Tubo concreto d=1,50m MF PA-2","ud",1375,1375]
["DER-I 181530","DER-I",181530,"Tubo concreto d=1,50m MF PA-3","ud",1650,1650]
["DER-I 182000","DER-I",182000,"Tubo concreto d=2,00m MF PA-1","ud",2530,2530]
["DER-I 182020","DER-I",182020,"Tubo concreto d=2,00m MF PA-2","ud",2545,2545]
["DER-I 182030","DER-I",182030,"Tubo concreto d=2,00m MF PA-3","ud",3135,3135]
["DER-I 110010","DER-I",110010,"Tubo ferro galvanizado 1\"","m",29.12,29.12]
["DER-I 110020","DER-I",110020,"Tubo ferro galvanizado 2\"","m",63.47,63.47]
["DER-I 110080","DER-I",110080,"Tubo ferro galvanizado 2,5\" e=3,35mm","m",89.24,89.24]
["DER-I 110030","DER-I",110030,"Tubo ferro galvanizado 3\"","m",104.61,104.61]
["DER-I 110040","DER-I",110040,"Tubo ferro galvanizado 4\"","m",143.66999999999999,143.66999999999999]
["DER-I 180250","DER-I",180250,"Tubo polietileno (PEAD) p/dreno 0,10m","m",8.76,8.76]
["DER-I 180220","DER-I",180220,"Tubo polietileno (PEAD) p/dreno 0,23m","m",29.77,29.77]
["DER-I 110510","DER-I",110510,"Tubo PVC 1\" - 32mm","m",7.54,7.54]
["DER-I 110550","DER-I",110550,"Tubo PVC 2\" - 50mm","m",11.87,11.87]
["DER-I 110520","DER-I",110520,"Tubo PVC 2\" - 50mm (esgoto)","m",13.04,13.04]
["DER-I 110540","DER-I",110540,"Tubo PVC 4\" - 100mm (esgoto)","m",13.21,13.21]
["DER-I 100080","DER-I",100080,"Zarcão","l",38.18,38.18]
[{"$f":"CONCATENATE($B31089,\" \",$C31089)","v":"DER-I 200230"},"DER-I",200230,"Armador","h",34.69,38.67,"DER-I -  "]
["DER-I 210040","DER-I",210040,"Blaster","h",28.68,31.97]
["DER-I 200110","DER-I",200110,"Calceteiro","h",28.68,31.97]
["DER-I 200210","DER-I",200210,"Cancheiro","h",26.1,29.1]
["DER-I 200240","DER-I",200240,"Carpinteiro","h",34.69,38.67]
["DER-I 200311","DER-I",200311,"Classificador de madeira","h",28.68,31.97]
["DER-I 210150","DER-I",210150,"Eletricista","h",34.69,38.67]
["DER-I 200150","DER-I",200150,"Equipe Carreta Perfuração","h",60.11,67.010000000000005]
["DER-I 200100","DER-I",200100,"Equipe Conjunto de Britagem","h",90.17,100.51]
["DER-I 200000","DER-I",200000,"Equipe Usina Asfalto","h",136.37,152.02000000000001]
["DER-I 200070","DER-I",200070,"Equipe Usina Solos B. Graduada","h",85.53,95.34]
["DER-I 200080","DER-I",200080,"Equipe Usina Solos c/dosador asfalto","h",85.53,95.34]
["DER-I 200090","DER-I",200090,"Equipe Usina Solos c/dosador cimento","h",85.53,95.34]
["DER-I 200200","DER-I",200200,"Marroeiro","h",28.68,31.97]
["DER-I 200060","DER-I",200060,"Marteleteiro","h",26.1,29.1]
["DER-I 200290","DER-I",200290,"Montador","h",28.68,31.97]
["DER-I 200170","DER-I",200170,"Motorista transp. asfalto","h",34.69,38.67]
["DER-I 200140","DER-I",200140,"Motorista veículo leve","h",26.1,29.1]
["DER-I 200180","DER-I",200180,"Motorista veículo médio","h",28.68,31.97]
["DER-I 210020","DER-I",210020,"Motorista veículo pesado","h",34.69,38.67]
["DER-I 200120","DER-I",200120,"Operador da leve","h",28.68,31.97]
["DER-I 210050","DER-I",210050,"Operador da pesada","h",34.69,38.67]
["DER-I 200160","DER-I",200160,"Operador de equipamentos manuais","h",26.1,29.1]
["DER-I 200260","DER-I",200260,"Pedreiro","h",34.69,38.67]
["DER-I 200270","DER-I",200270,"Pintor","h",34.69,38.67]
["DER-I 210070","DER-I",210070,"Pré-marcador (Sinalização)","h",34.69,38.67]
["DER-I 210090","DER-I",210090,"Serralheiro","h",34.69,38.67]
["DER-I 200130","DER-I",200130,"Servente","h",25.41,28.33]
["DER-I 200280","DER-I",200280,"Soldador","h",34.69,38.67]
["DER-I 210060","DER-I",210060,"Técnico de Campo I","h",44.99,50.16]
["DER-I 200250","DER-I",200250,"Técnico de Campo III","h",40.700000000000003,45.37]
["DER-I 210080","DER-I",210080,"Topógrafo","h",39.33,43.84]

{"sheet":"Composições","index":3,"n_rows":716,"n_cols":24,"rows_kept":716,"cut":false,"hidden":false,"merged":[[0,1,0,9],[714,8,714,9],[715,8,715,9],[714,4,714,7],[715,4,715,7],[713,1,713,2]]}
[null,"COMPOSIÇÕES",null,null,null,null,null,null,null,null,null,null,null,null,null,null,null,null,null,"Cores das células:",null,null,null,{"$f":"_xlfn.UNIQUE(_xlfn._xlws.FILTER(OFFSET(Banco!$B$5,1,0,1000000),OFFSET(Banco!$B$5,1,0,1000000)<>\"\"))","v":{"$error":"#NAME?"}}]
[null,null,null,null,null,null,null,null,null,null,null,null,null,null,null,null,null,null,null,null,null,"Fundo amarelo: células para preencher",null,{"$error":"#NAME?"}]
[null,null,null,null,null,null,null,null,null,null,null,null,null,null,null,null,null,null,null,null,null,null,null,{"$error":"#NAME?"}]
[null,"",null,null,null,null,null,null,"CUSTO UNIT","CUSTO UNIT",null,null,null,null,"%AS","%AS",null,null,null,null,null,"Fundo azul: células para seleção de opções",null,{"$error":"#NAME?"}]
[null,{"$f":"OFFSET(Composições!$A$1,MATCH(COUNTIF($H$1:$H5,\"Composições\"),Composições!$K:$K,0)-1,COLUMN(Banco!B$6)-1)","v":"Composição"},{"$f":"OFFSET(Composições!$A$1,MATCH(COUNTIF($H$1:$H5,\"Composições\"),Composições!$K:$K,0)-1,COLUMN(Banco!C$6)-1)","v":"SERP.0001.01"},{"$f":"IF(COUNTIF(OFFSET(Banco!$A$6,1,0,NCOMPOSICOES),$A5)>1,\"CÓDIGO REPETIDO\",OFFSET(Composições!$A$1,MATCH(COUNTIF($H$1:$H5,\"Composições\"),Composições!$K:$K,0)-1,COLUMN(Banco!D$6)-1))","v":"LOCAÇÃO CONVENCIONAL DE OBRA, ATRAVÉS DE GABARITO DE TÁBUAS CORRIDAS PONTALETADAS, COM REAPROVEITAMENTO DE 3 VEZES."},{"$f":"OFFSET(Composições!$A$1,MATCH(COUNTIF($H$1:$H5,\"Composições\"),Composições!$K:$K,0)-1,COLUMN(Banco!E$6)-1)","v":"M²"},{"$f":"OFFSET(Composições!$A$1,MATCH(COUNTIF($H$1:$H5,\"Composições\"),Composições!$K:$K,0)-1,COLUMN(Banco!F$6)-1)","v":8.43},{"$f":"OFFSET(Composições!$A$1,MATCH(COUNTIF($H$1:$H5,\"Composições\"),Composições!$K:$K,0)-1,COLUMN(Banco!G$6)-1)","v":8.92},"Composições",null,null,null,null,null,null,null,null,null,null,null,null,null,null,null,{"$error":"#NAME?"}]
[null,null,null,null,null,null,null,null,null,null,null,null,null,null,null,null,null,null,null,null,null,null,null,{"$error":"#NAME?"}]
[{"$f":"CONCATENATE($B7,\" \",$C7)","v":"Composição "},"Composição",null,null,null,{"$f":"IF($L7>0,SUM(OFFSET(F7,1,0,$L7),0))","v":0},{"$f":"IF($L7>0,SUM(OFFSET(G7,1,0,$L7),0))","v":0},null,{"$f":"IF(ISERROR(F7),0,F7)","v":0},{"$f":"IF(ISERROR(G7),0,G7)","v":0},{"$f":"COUNTA($A$1:$A7)-1","v":0},{"$f":"IF(MAX(K:K)=K7,MATCH(9999999,$K:$K)+1,MATCH(K7+1,K:K,0))-ROW(L7)-2","v":2},{"$f":"IF(AND(OR(I7<>0,J7<>0),N7=\"Sim\"),\"F\",\"\")","v":""},"Sim",null,null,null,null,null,null,null,null,null,{"$error":"#NAME?"}]
[null,null,null,{"$f":"IF(ISNUMBER($L8),OFFSET(Banco!$A$1,Composições!$L8-1,COLUMN(Composições!D8)-1),\"\")","v":""},{"$f":"IF(ISNUMBER($L8),OFFSET(Banco!$A$1,Composições!$L8-1,COLUMN(Composições!E8)-1),\"\")","v":""},{"$f":"ROUND($H8*ROUND(I8,2),2)","v":0},{"$f":"ROUND($H8*ROUND(J8,2),2)","v":0},null,{"$f":"IF(ISNUMBER($L8),VALUE(OFFSET(Banco!$A$1,Composições!$L8-1,COLUMN(Composições!I8)-4)),0)","v":0},{"$f":"IF(ISNUMBER($L8),VALUE(OFFSET(Banco!$A$1,Composições!$L8-1,COLUMN(Composições!J8)-4)),0)","v":0},{"$f":"COUNTA($A$1:$A8)-1","v":0},{"$f":"MATCH(CONCATENATE($B8,\" \",$C8),Banco!$A:$A,0)","v":{"$error":"#N/A"}},{"$f":"IF(OR(ISERROR($L8),$H8=\"\",$H8=0),\"\",OFFSET(M$1,MATCH($K8,$K$1:$K8,0)-1,0))","v":""},null,{"$f":"IF(ISNUMBER($L8),VALUE(OFFSET(Banco!$A$1,Composições!$L8-1,COLUMN(Composições!O8)-6)),0)","v":0},{"$f":"IF(ISNUMBER($L8),VALUE(OFFSET(Banco!$A$1,Composições!$L8-1,COLUMN(Composições!P8)-6)),0)","v":0},null,null,null,null,null,null,null,{"$error":"#NAME?"}]
[null,null,null,null,null,null,null,null,null,null,{"$f":"COUNTA($A$1:$A9)-1","v":0},null,{"$f":"IF(OFFSET($M$1,MATCH(OFFSET(K9,-1,0),$K$1:$K9,0)-1,0)=\"F\",\"F\",\"\")","v":""},null,null,null,null,null,null,null,null,null,null,{"$error":"#NAME?"}]
[null,"FONTE","CÓDIGO","DESCRIÇÃO","UNIDADE",null,null,"COEFIC.","DESONERADO","NÃO DESONER.",null,null,"FILTRO","IMPRIMIR","DESONERADO","NÃO DESONERADO",null,null,null,null,null,null,null,{"$error":"#NAME?"}]
[{"$f":"CONCATENATE($B11,\" \",$C11)","v":"Composição SERP.0001.01"},"Composição","SERP.0001.01","LOCAÇÃO CONVENCIONAL DE OBRA, ATRAVÉS DE GABARITO DE TÁBUAS CORRIDAS PONTALETADAS, COM REAPROVEITAMENTO DE 3 VEZES.","M²",{"$f":"IF($L11>0,SUM(OFFSET(F11,1,0,$L11),0))","v":8.43},{"$f":"IF($L11>0,SUM(OFFSET(G11,1,0,$L11),0))","v":8.92},null,{"$f":"IF(ISERROR(F11),0,F11)","v":8.43},{"$f":"IF(ISERROR(G11),0,G11)","v":8.92},{"$f":"COUNTA($A$1:$A11)-1","v":1},{"$f":"IF(MAX(K:K)=K11,MATCH(9999999,$K:$K)+1,MATCH(K11+1,K:K,0))-ROW(L11)-2","v":6},{"$f":"IF(AND(OR(I11<>0,J11<>0),N11=\"Sim\"),\"F\",\"\")","v":"F"},"Sim",null,null,null,null,null,null,null,null,null,{"$error":"#NAME?"}]
[null,"SINAPI",88262,{"$f":"IF(ISNUMBER($L12),OFFSET(Banco!$A$1,Composições!$L12-1,COLUMN(Composições!D12)-1),\"\")","v":"CARPINTEIRO DE FORMAS COM ENCARGOS COMPLEMENTARES"},{"$f":"IF(ISNUMBER($L12),OFFSET(Banco!$A$1,Composições!$L12-1,COLUMN(Composições!E12)-1),\"\")","v":"H"},{"$f":"ROUND($H12*ROUND(I12,2),2)","v":3.35},{"$f":"ROUND($H12*ROUND(J12,2),2)","v":3.64},0.1,{"$f":"IF(ISNUMBER($L12),VALUE(OFFSET(Banco!$A$1,Composições!$L12-1,COLUMN(Composições!I12)-4)),0)","v":33.53},{"$f":"IF(ISNUMBER($L12),VALUE(OFFSET(Banco!$A$1,Composições!$L12-1,COLUMN(Composições!J12)-4)),0)","v":36.43},{"$f":"COUNTA($A$1:$A12)-1","v":1},{"$f":"MATCH(CONCATENATE($B12,\" \",$C12),Banco!$A:$A,0)","v":12901},{"$f":"IF(OR(ISERROR($L12),$H12=\"\",$H12=0),\"\",OFFSET(M$1,MATCH($K12,$K$1:$K12,0)-1,0))","v":"F"},null,{"$f":"IF(ISNUMBER($L12),VALUE(OFFSET(Banco!$A$1,Composições!$L12-1,COLUMN(Composições!O12)-6)),0)","v":0},{"$f":"IF(ISNUMBER($L12),VALUE(OFFSET(Banco!$A$1,Composições!$L12-1,COLUMN(Composições!P12)-6)),0)","v":0},{"$f":"ROUND(F12*O12,2)","v":0},{"$f":"ROUND(G12*P12,2)","v":0}]
[null,"SINAPI",88316,{"$f":"IF(ISNUMBER($L13),OFFSET(Banco!$A$1,Composições!$L13-1,COLUMN(Composições!D13)-1),\"\")","v":"SERVENTE COM ENCARGOS COMPLEMENTARES"},{"$f":"IF(ISNUMBER($L13),OFFSET(Banco!$A$1,Composições!$L13-1,COLUMN(Composições!E13)-1),\"\")","v":"H"},2.67,2.87,0.1,{"$f":"IF(ISNUMBER($L13),VALUE(OFFSET(Banco!$A$1,Composições!$L13-1,COLUMN(Composições!I13)-4)),0)","v":26.65},{"$f":"IF(ISNUMBER($L13),VALUE(OFFSET(Banco!$A$1,Composições!$L13-1,COLUMN(Composições!J13)-4)),0)","v":28.71},{"$f":"COUNTA($A$1:$A13)-1","v":1},{"$f":"MATCH(CONCATENATE($B13,\" \",$C13),Banco!$A:$A,0)","v":13198},{"$f":"IF(OR(ISERROR($L13),$H13=\"\",$H13=0),\"\",OFFSET(M$1,MATCH($K13,$K$1:$K13,0)-1,0))","v":"F"},null,{"$f":"IF(ISNUMBER($L13),VALUE(OFFSET(Banco!$A$1,Composições!$L13-1,COLUMN(Composições!O13)-6)),0)","v":0},{"$f":"IF(ISNUMBER($L13),VALUE(OFFSET(Banco!$A$1,Composições!$L13-1,COLUMN(Composições!P13)-6)),0)","v":0},0,0]
[null,"SINAPI-I",4491,{"$f":"IF(ISNUMBER($L14),OFFSET(Banco!$A$1,Composições!$L14-1,COLUMN(Composições!D14)-1),\"\")","v":"PONTALETE *7,5 X 7,5* CM EM PINUS, MISTA OU EQUIVALENTE DA REGIAO - BRUTA"},{"$f":"IF(ISNUMBER($L14),OFFSET(Banco!$A$1,Composições!$L14-1,COLUMN(Composições!E14)-1),\"\")","v":"M"},0.86,0.86,0.12,{"$f":"IF(ISNUMBER($L14),VALUE(OFFSET(Banco!$A$1,Composições!$L14-1,COLUMN(Composições!I14)-4)),0)","v":7.16},{"$f":"IF(ISNUMBER($L14),VALUE(OFFSET(Banco!$A$1,Composições!$L14-1,COLUMN(Composições!J14)-4)),0)","v":7.16},{"$f":"COUNTA($A$1:$A14)-1","v":1},{"$f":"MATCH(CONCATENATE($B14,\" \",$C14),Banco!$A:$A,0)","v":3569},{"$f":"IF(OR(ISERROR($L14),$H14=\"\",$H14=0),\"\",OFFSET(M$1,MATCH($K14,$K$1:$K14,0)-1,0))","v":"F"},null,{"$f":"IF(ISNUMBER($L14),VALUE(OFFSET(Banco!$A$1,Composições!$L14-1,COLUMN(Composições!O14)-6)),0)","v":0},{"$f":"IF(ISNUMBER($L14),VALUE(OFFSET(Banco!$A$1,Composições!$L14-1,COLUMN(Composições!P14)-6)),0)","v":0},0,0]
[null,"SINAPI-I",5061,{"$f":"IF(ISNUMBER($L15),OFFSET(Banco!$A$1,Composições!$L15-1,COLUMN(Composições!D15)-1),\"\")","v":"PREGO DE ACO POLIDO COM CABECA 18 X 27 (2 1/2 X 10)"},{"$f":"IF(ISNUMBER($L15),OFFSET(Banco!$A$1,Composições!$L15-1,COLUMN(Composições!E15)-1),\"\")","v":"KG"},0.16,0.16,0.01,{"$f":"IF(ISNUMBER($L15),VALUE(OFFSET(Banco!$A$1,Composições!$L15-1,COLUMN(Composições!I15)-4)),0)","v":15.76},{"$f":"IF(ISNUMBER($L15),VALUE(OFFSET(Banco!$A$1,Composições!$L15-1,COLUMN(Composições!J15)-4)),0)","v":15.76},{"$f":"COUNTA($A$1:$A15)-1","v":1},{"$f":"MATCH(CONCATENATE($B15,\" \",$C15),Banco!$A:$A,0)","v":3720},{"$f":"IF(OR(ISERROR($L15),$H15=\"\",$H15=0),\"\",OFFSET(M$1,MATCH($K15,$K$1:$K15,0)-1,0))","v":"F"},null,{"$f":"IF(ISNUMBER($L15),VALUE(OFFSET(Banco!$A$1,Composições!$L15-1,COLUMN(Composições!O15)-6)),0)","v":0},{"$f":"IF(ISNUMBER($L15),VALUE(OFFSET(Banco!$A$1,Composições!$L15-1,COLUMN(Composições!P15)-6)),0)","v":0},0,0]
[null,"SINAPI-I",10567,{"$f":"IF(ISNUMBER($L16),OFFSET(Banco!$A$1,Composições!$L16-1,COLUMN(Composições!D16)-1),\"\")","v":"TABUA *2,5 X 23* CM EM PINUS, MISTA OU EQUIVALENTE DA REGIAO - BRUTA"},{"$f":"IF(ISNUMBER($L16),OFFSET(Banco!$A$1,Composições!$L16-1,COLUMN(Composições!E16)-1),\"\")","v":"M"},0.86,0.86,0.1067,{"$f":"IF(ISNUMBER($L16),VALUE(OFFSET(Banco!$A$1,Composições!$L16-1,COLUMN(Composições!I16)-4)),0)","v":8.09},{"$f":"IF(ISNUMBER($L16),VALUE(OFFSET(Banco!$A$1,Composições!$L16-1,COLUMN(Composições!J16)-4)),0)","v":8.09},{"$f":"COUNTA($A$1:$A16)-1","v":1},{"$f":"MATCH(CONCATENATE($B16,\" \",$C16),Banco!$A:$A,0)","v":4019},{"$f":"IF(OR(ISERROR($L16),$H16=\"\",$H16=0),\"\",OFFSET(M$1,MATCH($K16,$K$1:$K16,0)-1,0))","v":"F"},null,{"$f":"IF(ISNUMBER($L16),VALUE(OFFSET(Banco!$A$1,Composições!$L16-1,COLUMN(Composições!O16)-6)),0)","v":0},{"$f":"IF(ISNUMBER($L16),VALUE(OFFSET(Banco!$A$1,Composições!$L16-1,COLUMN(Composições!P16)-6)),0)","v":0},0,0]
[null,"SINAPI-I",43132,{"$f":"IF(ISNUMBER($L17),OFFSET(Banco!$A$1,Composições!$L17-1,COLUMN(Composições!D17)-1),\"\")","v":"ARAME RECOZIDO 16 BWG, D = 1,65 MM (0,016 KG/M) OU 18 BWG, D = 1,25 MM (0,01 KG/M)"},{"$f":"IF(ISNUMBER($L17),OFFSET(Banco!$A$1,Composições!$L17-1,COLUMN(Composições!E17)-1),\"\")","v":"KG"},0.53,0.53,0.02,{"$f":"IF(ISNUMBER($L17),VALUE(OFFSET(Banco!$A$1,Composições!$L17-1,COLUMN(Composições!I17)-4)),0)","v":26.45},{"$f":"IF(ISNUMBER($L17),VALUE(OFFSET(Banco!$A$1,Composições!$L17-1,COLUMN(Composições!J17)-4)),0)","v":26.45},{"$f":"COUNTA($A$1:$A17)-1","v":1},{"$f":"MATCH(CONCATENATE($B17,\" \",$C17),Banco!$A:$A,0)","v":435},{"$f":"IF(OR(ISERROR($L17),$H17=\"\",$H17=0),\"\",OFFSET(M$1,MATCH($K17,$K$1:$K17,0)-1,0))","v":"F"},null,{"$f":"IF(ISNUMBER($L17),VALUE(OFFSET(Banco!$A$1,Composições!$L17-1,COLUMN(Composições!O17)-6)),0)","v":0},{"$f":"IF(ISNUMBER($L17),VALUE(OFFSET(Banco!$A$1,Composições!$L17-1,COLUMN(Composições!P17)-6)),0)","v":0},0,0]
[null,null,null,null,null,null,null,null,null,null,{"$f":"COUNTA($A$1:$A18)-1","v":1},null,{"$f":"IF(OFFSET($M$1,MATCH(OFFSET(K18,-1,0),$K$1:$K18,0)-1,0)=\"F\",\"F\",\"\")","v":"F"}]
[{"$f":"CONCATENATE($B19,\" \",$C19)","v":"Composição FUES.0053.01"},"Composição","FUES.0053.01","ESTACA ESCAVADA MECANICAMENTE, SEM FLUIDO ESTABILIZANTE, COM 30CM DE DIÂMETRO, CONCRETO LANÇADO POR CAMINHÃO BETONEIRA (EXCLUSIVE ARMADURA).","M",{"$f":"IF($L19>0,SUM(OFFSET(F19,1,0,$L19),0))","v":65.41},66.239999999999995,null,{"$f":"IF(ISERROR(F19),0,F19)","v":65.41},66.239999999999995,{"$f":"COUNTA($A$1:$A19)-1","v":2},{"$f":"IF(MAX(K:K)=K19,MATCH(9999999,$K:$K)+1,MATCH(K19+1,K:K,0))-ROW(L19)-2","v":7},{"$f":"IF(AND(OR(I19<>0,J19<>0),N19=\"Sim\"),\"F\",\"\")","v":"F"},"Sim",{"$f":"IF(AND($L19>0,F19<>0),ROUND(SUM(OFFSET(Q19,1,0,$L19))/F19,4),0)","v":5.3800000000000001E-2},5.3100000000000001E-2]
[null,"SINAPI",88316,{"$f":"IF(ISNUMBER($L20),OFFSET(Banco!$A$1,Composições!$L20-1,COLUMN(Composições!D20)-1),\"\")","v":"SERVENTE COM ENCARGOS COMPLEMENTARES"},{"$f":"IF(ISNUMBER($L20),OFFSET(Banco!$A$1,Composições!$L20-1,COLUMN(Composições!E20)-1),\"\")","v":"H"},{"$f":"ROUND($H20*ROUND(I20,2),2)","v":6.5},7.01,0.24403330000000001,{"$f":"IF(ISNUMBER($L20),VALUE(OFFSET(Banco!$A$1,Composições!$L20-1,COLUMN(Composições!I20)-4)),0)","v":26.65},{"$f":"IF(ISNUMBER($L20),VALUE(OFFSET(Banco!$A$1,Composições!$L20-1,COLUMN(Composições!J20)-4)),0)","v":28.71},{"$f":"COUNTA($A$1:$A20)-1","v":2},{"$f":"MATCH(CONCATENATE($B20,\" \",$C20),Banco!$A:$A,0)","v":13198},{"$f":"IF(OR(ISERROR($L20),$H20=\"\",$H20=0),\"\",OFFSET(M$1,MATCH($K20,$K$1:$K20,0)-1,0))","v":"F"},null,{"$f":"IF(ISNUMBER($L20),VALUE(OFFSET(Banco!$A$1,Composições!$L20-1,COLUMN(Composições!O20)-6)),0)","v":0},{"$f":"IF(ISNUMBER($L20),VALUE(OFFSET(Banco!$A$1,Composições!$L20-1,COLUMN(Composições!P20)-6)),0)","v":0},{"$f":"ROUND(F20*O20,2)","v":0},0]
[null,"SINAPI",90680,{"$f":"IF(ISNUMBER($L21),OFFSET(Banco!$A$1,Composições!$L21-1,COLUMN(Composições!D21)-1),\"\")","v":"PERFURATRIZ HIDRÁULICA SOBRE CAMINHÃO COM TRADO CURTO ACOPLADO, PROFUNDIDADE MÁXIMA DE 20 M, DIÂMETRO MÁXIMO DE 1500 MM, POTÊNCIA INSTALADA DE 137 HP, MESA ROTATIVA COM TORQUE MÁXIMO DE 30 KNM - CHP DIURNO. AF_06/2015"},{"$f":"IF(ISNUMBER($L21),OFFSET(Banco!$A$1,Composições!$L21-1,COLUMN(Composições!E21)-1),\"\")","v":"CHP"},6.85,6.9,1.6466700000000001E-2,{"$f":"IF(ISNUMBER($L21),VALUE(OFFSET(Banco!$A$1,Composições!$L21-1,COLUMN(Composições!I21)-4)),0)","v":416.05},{"$f":"IF(ISNUMBER($L21),VALUE(OFFSET(Banco!$A$1,Composições!$L21-1,COLUMN(Composições!J21)-4)),0)","v":418.9},{"$f":"COUNTA($A$1:$A21)-1","v":2},{"$f":"MATCH(CONCATENATE($B21,\" \",$C21),Banco!$A:$A,0)","v":7790},{"$f":"IF(OR(ISERROR($L21),$H21=\"\",$H21=0),\"\",OFFSET(M$1,MATCH($K21,$K$1:$K21,0)-1,0))","v":"F"},null,{"$f":"IF(ISNUMBER($L21),VALUE(OFFSET(Banco!$A$1,Composições!$L21-1,COLUMN(Composições!O21)-6)),0)","v":0.19209999999999999},{"$f":"IF(ISNUMBER($L21),VALUE(OFFSET(Banco!$A$1,Composições!$L21-1,COLUMN(Composições!P21)-6)),0)","v":0.1908},1.32,1.32]
[null,"SINAPI",90681,{"$f":"IF(ISNUMBER($L22),OFFSET(Banco!$A$1,Composições!$L22-1,COLUMN(Composições!D22)-1),\"\")","v":"PERFURATRIZ HIDRÁULICA SOBRE CAMINHÃO COM TRADO CURTO ACOPLADO, PROFUNDIDADE MÁXIMA DE 20 M, DIÂMETRO MÁXIMO DE 1500 MM, POTÊNCIA INSTALADA DE 137 HP, MESA ROTATIVA COM TORQUE MÁXIMO DE 30 KNM - CHI DIURNO. AF_06/2015"},{"$f":"IF(ISNUMBER($L22),OFFSET(Banco!$A$1,Composições!$L22-1,COLUMN(Composições!E22)-1),\"\")","v":"CHI"},9.56,9.7100000000000009,5.3066700000000001E-2,{"$f":"IF(ISNUMBER($L22),VALUE(OFFSET(Banco!$A$1,Composições!$L22-1,COLUMN(Composições!I22)-4)),0)","v":180.12},{"$f":"IF(ISNUMBER($L22),VALUE(OFFSET(Banco!$A$1,Composições!$L22-1,COLUMN(Composições!J22)-4)),0)","v":182.97},{"$f":"COUNTA($A$1:$A22)-1","v":2},{"$f":"MATCH(CONCATENATE($B22,\" \",$C22),Banco!$A:$A,0)","v":7789},{"$f":"IF(OR(ISERROR($L22),$H22=\"\",$H22=0),\"\",OFFSET(M$1,MATCH($K22,$K$1:$K22,0)-1,0))","v":"F"},null,{"$f":"IF(ISNUMBER($L22),VALUE(OFFSET(Banco!$A$1,Composições!$L22-1,COLUMN(Composições!O22)-6)),0)","v":0.2026},{"$f":"IF(ISNUMBER($L22),VALUE(OFFSET(Banco!$A$1,Composições!$L22-1,COLUMN(Composições!P22)-6)),0)","v":0.19950000000000001},1.94,1.94]
[null,"SINAPI",90778,{"$f":"IF(ISNUMBER($L23),OFFSET(Banco!$A$1,Composições!$L23-1,COLUMN(Composições!D23)-1),\"\")","v":"ENGENHEIRO CIVIL DE OBRA PLENO COM ENCARGOS COMPLEMENTARES"},{"$f":"IF(ISNUMBER($L23),OFFSET(Banco!$A$1,Composições!$L23-1,COLUMN(Composições!E23)-1),\"\")","v":"H"},0.72,0.81,5.5332999999999997E-3,{"$f":"IF(ISNUMBER($L23),VALUE(OFFSET(Banco!$A$1,Composições!$L23-1,COLUMN(Composições!I23)-4)),0)","v":130.72},{"$f":"IF(ISNUMBER($L23),VALUE(OFFSET(Banco!$A$1,Composições!$L23-1,COLUMN(Composições!J23)-4)),0)","v":145.94},{"$f":"COUNTA($A$1:$A23)-1","v":2},{"$f":"MATCH(CONCATENATE($B23,\" \",$C23),Banco!$A:$A,0)","v":13105},{"$f":"IF(OR(ISERROR($L23),$H23=\"\",$H23=0),\"\",OFFSET(M$1,MATCH($K23,$K$1:$K23,0)-1,0))","v":"F"},null,{"$f":"IF(ISNUMBER($L23),VALUE(OFFSET(Banco!$A$1,Composições!$L23-1,COLUMN(Composições!O23)-6)),0)","v":0},{"$f":"IF(ISNUMBER($L23),VALUE(OFFSET(Banco!$A$1,Composições!$L23-1,COLUMN(Composições!P23)-6)),0)","v":0},0,0]
[null,"SINAPI",97913,{"$f":"IF(ISNUMBER($L24),OFFSET(Banco!$A$1,Composições!$L24-1,COLUMN(Composições!D24)-1),\"\")","v":"TRANSPORTE COM CAMINHÃO BASCULANTE DE 6 M³, EM VIA URBANA EM REVESTIMENTO PRIMÁRIO (UNIDADE: M3XKM). AF_07/2020"},{"$f":"IF(ISNUMBER($L24),OFFSET(Banco!$A$1,Composições!$L24-1,COLUMN(Composições!E24)-1),\"\")","v":"M3XKM"},0.1,0.11,3.1133299999999999E-2,{"$f":"IF(ISNUMBER($L24),VALUE(OFFSET(Banco!$A$1,Composições!$L24-1,COLUMN(Composições!I24)-4)),0)","v":3.34},{"$f":"IF(ISNUMBER($L24),VALUE(OFFSET(Banco!$A$1,Composições!$L24-1,COLUMN(Composições!J24)-4)),0)","v":3.4},{"$f":"COUNTA($A$1:$A24)-1","v":2},{"$f":"MATCH(CONCATENATE($B24,\" \",$C24),Banco!$A:$A,0)","v":15434},{"$f":"IF(OR(ISERROR($L24),$H24=\"\",$H24=0),\"\",OFFSET(M$1,MATCH($K24,$K$1:$K24,0)-1,0))","v":"F"},null,{"$f":"IF(ISNUMBER($L24),VALUE(OFFSET(Banco!$A$1,Composições!$L24-1,COLUMN(Composições!O24)-6)),0)","v":0.35930000000000001},{"$f":"IF(ISNUMBER($L24),VALUE(OFFSET(Banco!$A$1,Composições!$L24-1,COLUMN(Composições!P24)-6)),0)","v":0.35289999999999999},0.04,0.04]
[null,"SINAPI",100973,{"$f":"IF(ISNUMBER($L25),OFFSET(Banco!$A$1,Composições!$L25-1,COLUMN(Composições!D25)-1),\"\")","v":"CARGA, MANOBRA E DESCARGA DE SOLOS E MATERIAIS GRANULARES EM CAMINHÃO BASCULANTE 6 M³ - CARGA COM PÁ CARREGADEIRA (CAÇAMBA DE 1,7 A 2,8 M³ / 128 HP) E DESCARGA LIVRE (UNIDADE: M3). AF_07/2020"},{"$f":"IF(ISNUMBER($L25),OFFSET(Banco!$A$1,Composições!$L25-1,COLUMN(Composições!E25)-1),\"\")","v":"M3"},0.88,0.9,9.3299999999999994E-2,{"$f":"IF(ISNUMBER($L25),VALUE(OFFSET(Banco!$A$1,Composições!$L25-1,COLUMN(Composições!I25)-4)),0)","v":9.44},{"$f":"IF(ISNUMBER($L25),VALUE(OFFSET(Banco!$A$1,Composições!$L25-1,COLUMN(Composições!J25)-4)),0)","v":9.66},{"$f":"COUNTA($A$1:$A25)-1","v":2},{"$f":"MATCH(CONCATENATE($B25,\" \",$C25),Banco!$A:$A,0)","v":15362},{"$f":"IF(OR(ISERROR($L25),$H25=\"\",$H25=0),\"\",OFFSET(M$1,MATCH($K25,$K$1:$K25,0)-1,0))","v":"F"},null,{"$f":"IF(ISNUMBER($L25),VALUE(OFFSET(Banco!$A$1,Composições!$L25-1,COLUMN(Composições!O25)-6)),0)","v":0.25319999999999998},{"$f":"IF(ISNUMBER($L25),VALUE(OFFSET(Banco!$A$1,Composições!$L25-1,COLUMN(Composições!P25)-6)),0)","v":0.24740000000000001},0.22,0.22]
[null,"SINAPI-I",38405,{"$f":"IF(ISNUMBER($L26),OFFSET(Banco!$A$1,Composições!$L26-1,COLUMN(Composições!D26)-1),\"\")","v":"CONCRETO USINADO BOMBEAVEL, CLASSE DE RESISTENCIA C25, COM BRITA 0 E 1, SLUMP = 130 +/- 20 MM, EXCLUI SERVICO DE BOMBEAMENTO (NBR 8953)"},{"$f":"IF(ISNUMBER($L26),OFFSET(Banco!$A$1,Composições!$L26-1,COLUMN(Composições!E26)-1),\"\")","v":"M3"},40.799999999999997,40.799999999999997,8.4666699999999998E-2,{"$f":"IF(ISNUMBER($L26),VALUE(OFFSET(Banco!$A$1,Composições!$L26-1,COLUMN(Composições!I26)-4)),0)","v":481.91},{"$f":"IF(ISNUMBER($L26),VALUE(OFFSET(Banco!$A$1,Composições!$L26-1,COLUMN(Composições!J26)-4)),0)","v":481.91},{"$f":"COUNTA($A$1:$A26)-1","v":2},{"$f":"MATCH(CONCATENATE($B26,\" \",$C26),Banco!$A:$A,0)","v":1349},{"$f":"IF(OR(ISERROR($L26),$H26=\"\",$H26=0),\"\",OFFSET(M$1,MATCH($K26,$K$1:$K26,0)-1,0))","v":"F"},null,{"$f":"IF(ISNUMBER($L26),VALUE(OFFSET(Banco!$A$1,Composições!$L26-1,COLUMN(Composições!O26)-6)),0)","v":0},{"$f":"IF(ISNUMBER($L26),VALUE(OFFSET(Banco!$A$1,Composições!$L26-1,COLUMN(Composições!P26)-6)),0)","v":0},0,0]
[null,null,null,null,null,null,null,null,null,null,{"$f":"COUNTA($A$1:$A27)-1","v":2},null,{"$f":"IF(OFFSET($M$1,MATCH(OFFSET(K27,-1,0),$K$1:$K27,0)-1,0)=\"F\",\"F\",\"\")","v":"F"}]
[{"$f":"CONCATENATE($B28,\" \",$C28)","v":"Composição FUES.0008.01"},"Composição","FUES.0008.01","CONCRETAGEM DE BLOCOS DE COROAMENTO E VIGAS BALDRAME, FCK 25 MPA, COM USO DE BOMBA ? LANÇAMENTO, ADENSAMENTO E ACABAMENTO.","M³",{"$f":"IF($L28>0,SUM(OFFSET(F28,1,0,$L28),0))","v":604.91999999999996},607.08000000000004,null,{"$f":"IF(ISERROR(F28),0,F28)","v":604.91999999999996},607.08000000000004,{"$f":"COUNTA($A$1:$A28)-1","v":3},{"$f":"IF(MAX(K:K)=K28,MATCH(9999999,$K:$K)+1,MATCH(K28+1,K:K,0))-ROW(L28)-2","v":5},{"$f":"IF(AND(OR(I28<>0,J28<>0),N28=\"Sim\"),\"F\",\"\")","v":"F"},"Sim",{"$f":"IF(AND($L28>0,F28<>0),ROUND(SUM(OFFSET(Q28,1,0,$L28))/F28,4),0)","v":2.0000000000000001E-4},2.0000000000000001E-4]
[null,"SINAPI",88309,{"$f":"IF(ISNUMBER($L29),OFFSET(Banco!$A$1,Composições!$L29-1,COLUMN(Composições!D29)-1),\"\")","v":"PEDREIRO COM ENCARGOS COMPLEMENTARES"},{"$f":"IF(ISNUMBER($L29),OFFSET(Banco!$A$1,Composições!$L29-1,COLUMN(Composições!E29)-1),\"\")","v":"H"},{"$f":"ROUND($H29*ROUND(I29,2),2)","v":12.24},13.29,0.36,{"$f":"IF(ISNUMBER($L29),VALUE(OFFSET(Banco!$A$1,Composições!$L29-1,COLUMN(Composições!I29)-4)),0)","v":33.99},{"$f":"IF(ISNUMBER($L29),VALUE(OFFSET(Banco!$A$1,Composições!$L29-1,COLUMN(Composições!J29)-4)),0)","v":36.909999999999997},{"$f":"COUNTA($A$1:$A29)-1","v":3},{"$f":"MATCH(CONCATENATE($B29,\" \",$C29),Banco!$A:$A,0)","v":13185},{"$f":"IF(OR(ISERROR($L29),$H29=\"\",$H29=0),\"\",OFFSET(M$1,MATCH($K29,$K$1:$K29,0)-1,0))","v":"F"},null,{"$f":"IF(ISNUMBER($L29),VALUE(OFFSET(Banco!$A$1,Composições!$L29-1,COLUMN(Composições!O29)-6)),0)","v":0},{"$f":"IF(ISNUMBER($L29),VALUE(OFFSET(Banco!$A$1,Composições!$L29-1,COLUMN(Composições!P29)-6)),0)","v":0},{"$f":"ROUND(F29*O29,2)","v":0},0]
[null,"SINAPI",88316,{"$f":"IF(ISNUMBER($L30),OFFSET(Banco!$A$1,Composições!$L30-1,COLUMN(Composições!D30)-1),\"\")","v":"SERVENTE COM ENCARGOS COMPLEMENTARES"},{"$f":"IF(ISNUMBER($L30),OFFSET(Banco!$A$1,Composições!$L30-1,COLUMN(Composições!E30)-1),\"\")","v":"H"},14.39,15.5,0.54,{"$f":"IF(ISNUMBER($L30),VALUE(OFFSET(Banco!$A$1,Composições!$L30-1,COLUMN(Composições!I30)-4)),0)","v":26.65},{"$f":"IF(ISNUMBER($L30),VALUE(OFFSET(Banco!$A$1,Composições!$L30-1,COLUMN(Composições!J30)-4)),0)","v":28.71},{"$f":"COUNTA($A$1:$A30)-1","v":3},{"$f":"MATCH(CONCATENATE($B30,\" \",$C30),Banco!$A:$A,0)","v":13198},{"$f":"IF(OR(ISERROR($L30),$H30=\"\",$H30=0),\"\",OFFSET(M$1,MATCH($K30,$K$1:$K30,0)-1,0))","v":"F"},null,{"$f":"IF(ISNUMBER($L30),VALUE(OFFSET(Banco!$A$1,Composições!$L30-1,COLUMN(Composições!O30)-6)),0)","v":0},{"$f":"IF(ISNUMBER($L30),VALUE(OFFSET(Banco!$A$1,Composições!$L30-1,COLUMN(Composições!P30)-6)),0)","v":0},0,0]
[null,"SINAPI",90586,{"$f":"IF(ISNUMBER($L31),OFFSET(Banco!$A$1,Composições!$L31-1,COLUMN(Composições!D31)-1),\"\")","v":"VIBRADOR DE IMERSÃO, DIÂMETRO DE PONTEIRA 45MM, MOTOR ELÉTRICO TRIFÁSICO POTÊNCIA DE 2 CV - CHP DIURNO. AF_06/2015"},{"$f":"IF(ISNUMBER($L31),OFFSET(Banco!$A$1,Composições!$L31-1,COLUMN(Composições!E31)-1),\"\")","v":"CHP"},0.11,0.11,0.09,{"$f":"IF(ISNUMBER($L31),VALUE(OFFSET(Banco!$A$1,Composições!$L31-1,COLUMN(Composições!I31)-4)),0)","v":1.23},{"$f":"IF(ISNUMBER($L31),VALUE(OFFSET(Banco!$A$1,Composições!$L31-1,COLUMN(Composições!J31)-4)),0)","v":1.23},{"$f":"COUNTA($A$1:$A31)-1","v":3},{"$f":"MATCH(CONCATENATE($B31,\" \",$C31),Banco!$A:$A,0)","v":7926},{"$f":"IF(OR(ISERROR($L31),$H31=\"\",$H31=0),\"\",OFFSET(M$1,MATCH($K31,$K$1:$K31,0)-1,0))","v":"F"},null,{"$f":"IF(ISNUMBER($L31),VALUE(OFFSET(Banco!$A$1,Composições!$L31-1,COLUMN(Composições!O31)-6)),0)","v":0.69920000000000004},{"$f":"IF(ISNUMBER($L31),VALUE(OFFSET(Banco!$A$1,Composições!$L31-1,COLUMN(Composições!P31)-6)),0)","v":0.69920000000000004},0.08,0.08]
[null,"SINAPI",90587,{"$f":"IF(ISNUMBER($L32),OFFSET(Banco!$A$1,Composições!$L32-1,COLUMN(Composições!D32)-1),\"\")","v":"VIBRADOR DE IMERSÃO, DIÂMETRO DE PONTEIRA 45MM, MOTOR ELÉTRICO TRIFÁSICO POTÊNCIA DE 2 CV - CHI DIURNO. AF_06/2015"},{"$f":"IF(ISNUMBER($L32),OFFSET(Banco!$A$1,Composições!$L32-1,COLUMN(Composições!E32)-1),\"\")","v":"CHI"},0.05,0.05,0.09,{"$f":"IF(ISNUMBER($L32),VALUE(OFFSET(Banco!$A$1,Composições!$L32-1,COLUMN(Composições!I32)-4)),0)","v":0.53},{"$f":"IF(ISNUMBER($L32),VALUE(OFFSET(Banco!$A$1,Composições!$L32-1,COLUMN(Composições!J32)-4)),0)","v":0.53},{"$f":"COUNTA($A$1:$A32)-1","v":3},{"$f":"MATCH(CONCATENATE($B32,\" \",$C32),Banco!$A:$A,0)","v":7925},{"$f":"IF(OR(ISERROR($L32),$H32=\"\",$H32=0),\"\",OFFSET(M$1,MATCH($K32,$K$1:$K32,0)-1,0))","v":"F"},null,{"$f":"IF(ISNUMBER($L32),VALUE(OFFSET(Banco!$A$1,Composições!$L32-1,COLUMN(Composições!O32)-6)),0)","v":1},{"$f":"IF(ISNUMBER($L32),VALUE(OFFSET(Banco!$A$1,Composições!$L32-1,COLUMN(Composições!P32)-6)),0)","v":1},0.05,0.05]
[null,"SINAPI-I",1527,{"$f":"IF(ISNUMBER($L33),OFFSET(Banco!$A$1,Composições!$L33-1,COLUMN(Composições!D33)-1),\"\")","v":"CONCRETO USINADO BOMBEAVEL, CLASSE DE RESISTENCIA C25, BRITA 0 E 1, SLUMP = 100 +/- 20 MM, COM BOMBEAMENTO (DISPONIBILIZACAO DE BOMBA), SEM O LANCAMENTO (NBR 8953)"},{"$f":"IF(ISNUMBER($L33),OFFSET(Banco!$A$1,Composições!$L33-1,COLUMN(Composições!E33)-1),\"\")","v":"M3"},578.13,578.13,1.1499999999999999,{"$f":"IF(ISNUMBER($L33),VALUE(OFFSET(Banco!$A$1,Composições!$L33-1,COLUMN(Composições!I33)-4)),0)","v":502.72},{"$f":"IF(ISNUMBER($L33),VALUE(OFFSET(Banco!$A$1,Composições!$L33-1,COLUMN(Composições!J33)-4)),0)","v":502.72},{"$f":"COUNTA($A$1:$A33)-1","v":3},{"$f":"MATCH(CONCATENATE($B33,\" \",$C33),Banco!$A:$A,0)","v":1347},{"$f":"IF(OR(ISERROR($L33),$H33=\"\",$H33=0),\"\",OFFSET(M$1,MATCH($K33,$K$1:$K33,0)-1,0))","v":"F"},null,{"$f":"IF(ISNUMBER($L33),VALUE(OFFSET(Banco!$A$1,Composições!$L33-1,COLUMN(Composições!O33)-6)),0)","v":0},{"$f":"IF(ISNUMBER($L33),VALUE(OFFSET(Banco!$A$1,Composições!$L33-1,COLUMN(Composições!P33)-6)),0)","v":0},0,0]
[null,null,null,null,null,null,null,null,null,null,{"$f":"COUNTA($A$1:$A34)-1","v":3},null,{"$f":"IF(OFFSET($M$1,MATCH(OFFSET(K34,-1,0),$K$1:$K34,0)-1,0)=\"F\",\"F\",\"\")","v":"F"}]
[{"$f":"CONCATENATE($B35,\" \",$C35)","v":"Composição MOVT.0026.01"},"Composição","MOVT.0026.01","ESCAVAÇÃO MECANIZADA DE VALA COM MINI-ESCAVADEIRA","m³",{"$f":"IF($L35>0,SUM(OFFSET(F35,1,0,$L35),0))","v":51.089999999999996},52.84,null,{"$f":"IF(ISERROR(F35),0,F35)","v":51.089999999999996},52.84,{"$f":"COUNTA($A$1:$A35)-1","v":4},{"$f":"IF(MAX(K:K)=K35,MATCH(9999999,$K:$K)+1,MATCH(K35+1,K:K,0))-ROW(L35)-2","v":4},{"$f":"IF(AND(OR(I35<>0,J35<>0),N35=\"Sim\"),\"F\",\"\")","v":"F"},"Sim",{"$f":"IF(AND($L35>0,F35<>0),ROUND(SUM(OFFSET(Q35,1,0,$L35))/F35,4),0)","v":0.51029999999999998},0.49340000000000001]
[null,"SINAPI",88309,{"$f":"IF(ISNUMBER($L36),OFFSET(Banco!$A$1,Composições!$L36-1,COLUMN(Composições!D36)-1),\"\")","v":"PEDREIRO COM ENCARGOS COMPLEMENTARES"},{"$f":"IF(ISNUMBER($L36),OFFSET(Banco!$A$1,Composições!$L36-1,COLUMN(Composições!E36)-1),\"\")","v":"H"},{"$f":"ROUND($H36*ROUND(I36,2),2)","v":3.53},3.84,0.104,{"$f":"IF(ISNUMBER($L36),VALUE(OFFSET(Banco!$A$1,Composições!$L36-1,COLUMN(Composições!I36)-4)),0)","v":33.99},{"$f":"IF(ISNUMBER($L36),VALUE(OFFSET(Banco!$A$1,Composições!$L36-1,COLUMN(Composições!J36)-4)),0)","v":36.909999999999997},{"$f":"COUNTA($A$1:$A36)-1","v":4},{"$f":"MATCH(CONCATENATE($B36,\" \",$C36),Banco!$A:$A,0)","v":13185},{"$f":"IF(OR(ISERROR($L36),$H36=\"\",$H36=0),\"\",OFFSET(M$1,MATCH($K36,$K$1:$K36,0)-1,0))","v":"F"},null,{"$f":"IF(ISNUMBER($L36),VALUE(OFFSET(Banco!$A$1,Composições!$L36-1,COLUMN(Composições!O36)-6)),0)","v":0},{"$f":"IF(ISNUMBER($L36),VALUE(OFFSET(Banco!$A$1,Composições!$L36-1,COLUMN(Composições!P36)-6)),0)","v":0},{"$f":"ROUND(F36*O36,2)","v":0},0]
[null,"SINAPI",88316,{"$f":"IF(ISNUMBER($L37),OFFSET(Banco!$A$1,Composições!$L37-1,COLUMN(Composições!D37)-1),\"\")","v":"SERVENTE COM ENCARGOS COMPLEMENTARES"},{"$f":"IF(ISNUMBER($L37),OFFSET(Banco!$A$1,Composições!$L37-1,COLUMN(Composições!E37)-1),\"\")","v":"H"},1.97,2.12,7.3999999999999996E-2,{"$f":"IF(ISNUMBER($L37),VALUE(OFFSET(Banco!$A$1,Composições!$L37-1,COLUMN(Composições!I37)-4)),0)","v":26.65},{"$f":"IF(ISNUMBER($L37),VALUE(OFFSET(Banco!$A$1,Composições!$L37-1,COLUMN(Composições!J37)-4)),0)","v":28.71},{"$f":"COUNTA($A$1:$A37)-1","v":4},{"$f":"MATCH(CONCATENATE($B37,\" \",$C37),Banco!$A:$A,0)","v":13198},{"$f":"IF(OR(ISERROR($L37),$H37=\"\",$H37=0),\"\",OFFSET(M$1,MATCH($K37,$K$1:$K37,0)-1,0))","v":"F"},null,{"$f":"IF(ISNUMBER($L37),VALUE(OFFSET(Banco!$A$1,Composições!$L37-1,COLUMN(Composições!O37)-6)),0)","v":0},{"$f":"IF(ISNUMBER($L37),VALUE(OFFSET(Banco!$A$1,Composições!$L37-1,COLUMN(Composições!P37)-6)),0)","v":0},0,0]
[null,"SINAPI",96245,{"$f":"IF(ISNUMBER($L38),OFFSET(Banco!$A$1,Composições!$L38-1,COLUMN(Composições!D38)-1),\"\")","v":"MINIESCAVADEIRA SOBRE ESTEIRAS, POTÊNCIA LÍQUIDA DE *30* HP, PESO OPERACIONAL DE *3.500* KG - CHP DIURNO. AF_04/2017"},{"$f":"IF(ISNUMBER($L38),OFFSET(Banco!$A$1,Composições!$L38-1,COLUMN(Composições!E38)-1),\"\")","v":"CHP"},36.97,37.880000000000003,0.30399999999999999,{"$f":"IF(ISNUMBER($L38),VALUE(OFFSET(Banco!$A$1,Composições!$L38-1,COLUMN(Composições!I38)-4)),0)","v":121.61},{"$f":"IF(ISNUMBER($L38),VALUE(OFFSET(Banco!$A$1,Composições!$L38-1,COLUMN(Composições!J38)-4)),0)","v":124.6},{"$f":"COUNTA($A$1:$A38)-1","v":4},{"$f":"MATCH(CONCATENATE($B38,\" \",$C38),Banco!$A:$A,0)","v":7740},{"$f":"IF(OR(ISERROR($L38),$H38=\"\",$H38=0),\"\",OFFSET(M$1,MATCH($K38,$K$1:$K38,0)-1,0))","v":"F"},null,{"$f":"IF(ISNUMBER($L38),VALUE(OFFSET(Banco!$A$1,Composições!$L38-1,COLUMN(Composições!O38)-6)),0)","v":0.58430000000000004},{"$f":"IF(ISNUMBER($L38),VALUE(OFFSET(Banco!$A$1,Composições!$L38-1,COLUMN(Composições!P38)-6)),0)","v":0.57030000000000003},21.6,21.6]
[null,"SINAPI",96246,{"$f":"IF(ISNUMBER($L39),OFFSET(Banco!$A$1,Composições!$L39-1,COLUMN(Composições!D39)-1),\"\")","v":"MINIESCAVADEIRA SOBRE ESTEIRAS, POTÊNCIA LÍQUIDA DE *30* HP, PESO OPERACIONAL DE *3.500* KG - CHI DIURNO. AF_04/2017"},{"$f":"IF(ISNUMBER($L39),OFFSET(Banco!$A$1,Composições!$L39-1,COLUMN(Composições!E39)-1),\"\")","v":"CHI"},8.6199999999999992,9,0.125,{"$f":"IF(ISNUMBER($L39),VALUE(OFFSET(Banco!$A$1,Composições!$L39-1,COLUMN(Composições!I39)-4)),0)","v":68.97},{"$f":"IF(ISNUMBER($L39),VALUE(OFFSET(Banco!$A$1,Composições!$L39-1,COLUMN(Composições!J39)-4)),0)","v":71.959999999999994},{"$f":"COUNTA($A$1:$A39)-1","v":4},{"$f":"MATCH(CONCATENATE($B39,\" \",$C39),Banco!$A:$A,0)","v":7739},{"$f":"IF(OR(ISERROR($L39),$H39=\"\",$H39=0),\"\",OFFSET(M$1,MATCH($K39,$K$1:$K39,0)-1,0))","v":"F"},null,{"$f":"IF(ISNUMBER($L39),VALUE(OFFSET(Banco!$A$1,Composições!$L39-1,COLUMN(Composições!O39)-6)),0)","v":0.5181},{"$f":"IF(ISNUMBER($L39),VALUE(OFFSET(Banco!$A$1,Composições!$L39-1,COLUMN(Composições!P39)-6)),0)","v":0.4965},4.47,4.47]
[null,null,null,null,null,null,null,null,null,null,{"$f":"COUNTA($A$1:$A40)-1","v":4},null,{"$f":"IF(OFFSET($M$1,MATCH(OFFSET(K40,-1,0),$K$1:$K40,0)-1,0)=\"F\",\"F\",\"\")","v":"F"}]
[{"$f":"CONCATENATE($B41,\" \",$C41)","v":"Composição DROP.0002.01"},"Composição","DROP.0002.01","EXECUCAO DE DRENO VERTICAL COM BRITA, DIAMETRO 250MM - INCLUSO FORNECIMENTO DE MATERIAIS","M",{"$f":"IF($L41>0,SUM(OFFSET(F41,1,0,$L41),0))","v":56.96},59.670000000000009,null,{"$f":"IF(ISERROR(F41),0,F41)","v":56.96},59.670000000000009,{"$f":"COUNTA($A$1:$A41)-1","v":5},{"$f":"IF(MAX(K:K)=K41,MATCH(9999999,$K:$K)+1,MATCH(K41+1,K:K,0))-ROW(L41)-2","v":4},{"$f":"IF(AND(OR(I41<>0,J41<>0),N41=\"Sim\"),\"F\",\"\")","v":"F"},"Sim",{"$f":"IF(AND($L41>0,F41<>0),ROUND(SUM(OFFSET(Q41,1,0,$L41))/F41,4),0)","v":9.4799999999999995E-2},9.0499999999999997E-2]
[null,"SINAPI",5811,{"$f":"IF(ISNUMBER($L42),OFFSET(Banco!$A$1,Composições!$L42-1,COLUMN(Composições!D42)-1),\"\")","v":"CAMINHÃO BASCULANTE 6 M3, PESO BRUTO TOTAL 16.000 KG, CARGA ÚTIL MÁXIMA 13.071 KG, DISTÂNCIA ENTRE EIXOS 4,80 M, POTÊNCIA 230 CV INCLUSIVE CAÇAMBA METÁLICA - CHP DIURNO. AF_06/2014"},{"$f":"IF(ISNUMBER($L42),OFFSET(Banco!$A$1,Composições!$L42-1,COLUMN(Composições!E42)-1),\"\")","v":"CHP"},{"$f":"ROUND($H42*ROUND(I42,2),2)","v":10.4},10.56,0.05,{"$f":"IF(ISNUMBER($L42),VALUE(OFFSET(Banco!$A$1,Composições!$L42-1,COLUMN(Composições!I42)-4)),0)","v":208.09},{"$f":"IF(ISNUMBER($L42),VALUE(OFFSET(Banco!$A$1,Composições!$L42-1,COLUMN(Composições!J42)-4)),0)","v":211.16},{"$f":"COUNTA($A$1:$A42)-1","v":5},{"$f":"MATCH(CONCATENATE($B42,\" \",$C42),Banco!$A:$A,0)","v":7578},{"$f":"IF(OR(ISERROR($L42),$H42=\"\",$H42=0),\"\",OFFSET(M$1,MATCH($K42,$K$1:$K42,0)-1,0))","v":"F"},null,{"$f":"IF(ISNUMBER($L42),VALUE(OFFSET(Banco!$A$1,Composições!$L42-1,COLUMN(Composições!O42)-6)),0)","v":0.30880000000000002},{"$f":"IF(ISNUMBER($L42),VALUE(OFFSET(Banco!$A$1,Composições!$L42-1,COLUMN(Composições!P42)-6)),0)","v":0.30430000000000001},{"$f":"ROUND(F42*O42,2)","v":3.21},3.21]
[null,"SINAPI",88316,{"$f":"IF(ISNUMBER($L43),OFFSET(Banco!$A$1,Composições!$L43-1,COLUMN(Composições!D43)-1),\"\")","v":"SERVENTE COM ENCARGOS COMPLEMENTARES"},{"$f":"IF(ISNUMBER($L43),OFFSET(Banco!$A$1,Composições!$L43-1,COLUMN(Composições!E43)-1),\"\")","v":"H"},31.98,34.450000000000003,1.2,{"$f":"IF(ISNUMBER($L43),VALUE(OFFSET(Banco!$A$1,Composições!$L43-1,COLUMN(Composições!I43)-4)),0)","v":26.65},{"$f":"IF(ISNUMBER($L43),VALUE(OFFSET(Banco!$A$1,Composições!$L43-1,COLUMN(Composições!J43)-4)),0)","v":28.71},{"$f":"COUNTA($A$1:$A43)-1","v":5},{"$f":"MATCH(CONCATENATE($B43,\" \",$C43),Banco!$A:$A,0)","v":13198},{"$f":"IF(OR(ISERROR($L43),$H43=\"\",$H43=0),\"\",OFFSET(M$1,MATCH($K43,$K$1:$K43,0)-1,0))","v":"F"},null,{"$f":"IF(ISNUMBER($L43),VALUE(OFFSET(Banco!$A$1,Composições!$L43-1,COLUMN(Composições!O43)-6)),0)","v":0},{"$f":"IF(ISNUMBER($L43),VALUE(OFFSET(Banco!$A$1,Composições!$L43-1,COLUMN(Composições!P43)-6)),0)","v":0},0,0]
[null,"SINAPI",90680,{"$f":"IF(ISNUMBER($L44),OFFSET(Banco!$A$1,Composições!$L44-1,COLUMN(Composições!D44)-1),\"\")","v":"PERFURATRIZ HIDRÁULICA SOBRE CAMINHÃO COM TRADO CURTO ACOPLADO, PROFUNDIDADE MÁXIMA DE 20 M, DIÂMETRO MÁXIMO DE 1500 MM, POTÊNCIA INSTALADA DE 137 HP, MESA ROTATIVA COM TORQUE MÁXIMO DE 30 KNM - CHP DIURNO. AF_06/2015"},{"$f":"IF(ISNUMBER($L44),OFFSET(Banco!$A$1,Composições!$L44-1,COLUMN(Composições!E44)-1),\"\")","v":"CHP"},11.4,11.48,2.7400000000000001E-2,{"$f":"IF(ISNUMBER($L44),VALUE(OFFSET(Banco!$A$1,Composições!$L44-1,COLUMN(Composições!I44)-4)),0)","v":416.05},{"$f":"IF(ISNUMBER($L44),VALUE(OFFSET(Banco!$A$1,Composições!$L44-1,COLUMN(Composições!J44)-4)),0)","v":418.9},{"$f":"COUNTA($A$1:$A44)-1","v":5},{"$f":"MATCH(CONCATENATE($B44,\" \",$C44),Banco!$A:$A,0)","v":7790},{"$f":"IF(OR(ISERROR($L44),$H44=\"\",$H44=0),\"\",OFFSET(M$1,MATCH($K44,$K$1:$K44,0)-1,0))","v":"F"},null,{"$f":"IF(ISNUMBER($L44),VALUE(OFFSET(Banco!$A$1,Composições!$L44-1,COLUMN(Composições!O44)-6)),0)","v":0.19209999999999999},{"$f":"IF(ISNUMBER($L44),VALUE(OFFSET(Banco!$A$1,Composições!$L44-1,COLUMN(Composições!P44)-6)),0)","v":0.1908},2.19,2.19]
[null,"SINAPI-I",4721,{"$f":"IF(ISNUMBER($L45),OFFSET(Banco!$A$1,Composições!$L45-1,COLUMN(Composições!D45)-1),\"\")","v":"PEDRA BRITADA N. 1 (9,5 A 19 MM) POSTO PEDREIRA/FORNECEDOR, SEM FRETE"},{"$f":"IF(ISNUMBER($L45),OFFSET(Banco!$A$1,Composições!$L45-1,COLUMN(Composições!E45)-1),\"\")","v":"M3"},3.18,3.18,0.05,{"$f":"IF(ISNUMBER($L45),VALUE(OFFSET(Banco!$A$1,Composições!$L45-1,COLUMN(Composições!I45)-4)),0)","v":63.52},{"$f":"IF(ISNUMBER($L45),VALUE(OFFSET(Banco!$A$1,Composições!$L45-1,COLUMN(Composições!J45)-4)),0)","v":63.52},{"$f":"COUNTA($A$1:$A45)-1","v":5},{"$f":"MATCH(CONCATENATE($B45,\" \",$C45),Banco!$A:$A,0)","v":3387},{"$f":"IF(OR(ISERROR($L45),$H45=\"\",$H45=0),\"\",OFFSET(M$1,MATCH($K45,$K$1:$K45,0)-1,0))","v":"F"},null,{"$f":"IF(ISNUMBER($L45),VALUE(OFFSET(Banco!$A$1,Composições!$L45-1,COLUMN(Composições!O45)-6)),0)","v":0},{"$f":"IF(ISNUMBER($L45),VALUE(OFFSET(Banco!$A$1,Composições!$L45-1,COLUMN(Composições!P45)-6)),0)","v":0},0,0]
[null,null,null,null,null,null,null,null,null,null,{"$f":"COUNTA($A$1:$A46)-1","v":5},null,{"$f":"IF(OFFSET($M$1,MATCH(OFFSET(K46,-1,0),$K$1:$K46,0)-1,0)=\"F\",\"F\",\"\")","v":"F"}]
[{"$f":"CONCATENATE($B47,\" \",$C47)","v":"Composição FUES.0152.03"},"Composição","FUES.0152.03","ESTRUTURA TRELIÇADA DE COBERTURA, COM LIGAÇÕES SOLDADAS, INCLUSOS PERFIS METÁLICOS, CHAPAS METÁLICAS, INCLUSIVE BENEFICIAMENTO, JATEAMENTO, FUNDO, MÃO DE OBRA E TRANSPORTE COM GUINDASTE - FORNECIMENTO E INSTALAÇÃO","KG",{"$f":"IF($L47>0,SUM(OFFSET(F47,1,0,$L47),0))","v":15.159999999999998},15.35,null,{"$f":"IF(ISERROR(F47),0,F47)","v":15.159999999999998},15.35,{"$f":"COUNTA($A$1:$A47)-1","v":6},{"$f":"IF(MAX(K:K)=K47,MATCH(9999999,$K:$K)+1,MATCH(K47+1,K:K,0))-ROW(L47)-2","v":15},{"$f":"IF(AND(OR(I47<>0,J47<>0),N47=\"Sim\"),\"F\",\"\")","v":"F"},"Sim",{"$f":"IF(AND($L47>0,F47<>0),ROUND(SUM(OFFSET(Q47,1,0,$L47))/F47,4),0)","v":0.16159999999999999},0.15959999999999999]
[null,"SINAPI",88240,{"$f":"IF(ISNUMBER($L48),OFFSET(Banco!$A$1,Composições!$L48-1,COLUMN(Composições!D48)-1),\"\")","v":"AJUDANTE DE ESTRUTURA METÁLICA COM ENCARGOS COMPLEMENTARES"},{"$f":"IF(ISNUMBER($L48),OFFSET(Banco!$A$1,Composições!$L48-1,COLUMN(Composições!E48)-1),\"\")","v":"H"},{"$f":"ROUND($H48*ROUND(I48,2),2)","v":0.05},{"$f":"ROUND($H48*ROUND(J48,2),2)","v":0.05},1.8E-3,{"$f":"IF(ISNUMBER($L48),VALUE(OFFSET(Banco!$A$1,Composições!$L48-1,COLUMN(Composições!I48)-4)),0)","v":26.83},{"$f":"IF(ISNUMBER($L48),VALUE(OFFSET(Banco!$A$1,Composições!$L48-1,COLUMN(Composições!J48)-4)),0)","v":29.04},{"$f":"COUNTA($A$1:$A48)-1","v":6},{"$f":"MATCH(CONCATENATE($B48,\" \",$C48),Banco!$A:$A,0)","v":12849},{"$f":"IF(OR(ISERROR($L48),$H48=\"\",$H48=0),\"\",OFFSET(M$1,MATCH($K48,$K$1:$K48,0)-1,0))","v":"F"},null,{"$f":"IF(ISNUMBER($L48),VALUE(OFFSET(Banco!$A$1,Composições!$L48-1,COLUMN(Composições!O48)-6)),0)","v":0},{"$f":"IF(ISNUMBER($L48),VALUE(OFFSET(Banco!$A$1,Composições!$L48-1,COLUMN(Composições!P48)-6)),0)","v":0},{"$f":"ROUND(F48*O48,2)","v":0},{"$f":"ROUND(G48*P48,2)","v":0}]
[null,"SINAPI",88278,{"$f":"IF(ISNUMBER($L49),OFFSET(Banco!$A$1,Composições!$L49-1,COLUMN(Composições!D49)-1),\"\")","v":"MONTADOR DE ESTRUTURA METÁLICA COM ENCARGOS COMPLEMENTARES"},{"$f":"IF(ISNUMBER($L49),OFFSET(Banco!$A$1,Composições!$L49-1,COLUMN(Composições!E49)-1),\"\")","v":"H"},0.15,0.16,5.0000000000000001E-3,{"$f":"IF(ISNUMBER($L49),VALUE(OFFSET(Banco!$A$1,Composições!$L49-1,COLUMN(Composições!I49)-4)),0)","v":29.66},{"$f":"IF(ISNUMBER($L49),VALUE(OFFSET(Banco!$A$1,Composições!$L49-1,COLUMN(Composições!J49)-4)),0)","v":32.22},{"$f":"COUNTA($A$1:$A49)-1","v":6},{"$f":"MATCH(CONCATENATE($B49,\" \",$C49),Banco!$A:$A,0)","v":13132},{"$f":"IF(OR(ISERROR($L49),$H49=\"\",$H49=0),\"\",OFFSET(M$1,MATCH($K49,$K$1:$K49,0)-1,0))","v":"F"},null,{"$f":"IF(ISNUMBER($L49),VALUE(OFFSET(Banco!$A$1,Composições!$L49-1,COLUMN(Composições!O49)-6)),0)","v":0},{"$f":"IF(ISNUMBER($L49),VALUE(OFFSET(Banco!$A$1,Composições!$L49-1,COLUMN(Composições!P49)-6)),0)","v":0},0,0]
[null,"SINAPI",88317,{"$f":"IF(ISNUMBER($L50),OFFSET(Banco!$A$1,Composições!$L50-1,COLUMN(Composições!D50)-1),\"\")","v":"SOLDADOR COM ENCARGOS COMPLEMENTARES"},{"$f":"IF(ISNUMBER($L50),OFFSET(Banco!$A$1,Composições!$L50-1,COLUMN(Composições!E50)-1),\"\")","v":"H"},0.24,0.26,6.7999999999999996E-3,{"$f":"IF(ISNUMBER($L50),VALUE(OFFSET(Banco!$A$1,Composições!$L50-1,COLUMN(Composições!I50)-4)),0)","v":35.04},{"$f":"IF(ISNUMBER($L50),VALUE(OFFSET(Banco!$A$1,Composições!$L50-1,COLUMN(Composições!J50)-4)),0)","v":37.979999999999997},{"$f":"COUNTA($A$1:$A50)-1","v":6},{"$f":"MATCH(CONCATENATE($B50,\" \",$C50),Banco!$A:$A,0)","v":13202},{"$f":"IF(OR(ISERROR($L50),$H50=\"\",$H50=0),\"\",OFFSET(M$1,MATCH($K50,$K$1:$K50,0)-1,0))","v":"F"},null,{"$f":"IF(ISNUMBER($L50),VALUE(OFFSET(Banco!$A$1,Composições!$L50-1,COLUMN(Composições!O50)-6)),0)","v":0},{"$f":"IF(ISNUMBER($L50),VALUE(OFFSET(Banco!$A$1,Composições!$L50-1,COLUMN(Composições!P50)-6)),0)","v":0},0,0]
[null,"SINAPI",93287,{"$f":"IF(ISNUMBER($L51),OFFSET(Banco!$A$1,Composições!$L51-1,COLUMN(Composições!D51)-1),\"\")","v":"GUINDASTE HIDRÁULICO AUTOPROPELIDO, COM LANÇA TELESCÓPICA 40 M, CAPACIDADE MÁXIMA 60 T, POTÊNCIA 260 KW - CHP DIURNO. AF_03/2016"},{"$f":"IF(ISNUMBER($L51),OFFSET(Banco!$A$1,Composições!$L51-1,COLUMN(Composições!E51)-1),\"\")","v":"CHP"},0.5,0.51,1.4E-3,{"$f":"IF(ISNUMBER($L51),VALUE(OFFSET(Banco!$A$1,Composições!$L51-1,COLUMN(Composições!I51)-4)),0)","v":359.22},{"$f":"IF(ISNUMBER($L51),VALUE(OFFSET(Banco!$A$1,Composições!$L51-1,COLUMN(Composições!J51)-4)),0)","v":363.08},{"$f":"COUNTA($A$1:$A51)-1","v":6},{"$f":"MATCH(CONCATENATE($B51,\" \",$C51),Banco!$A:$A,0)","v":7694},{"$f":"IF(OR(ISERROR($L51),$H51=\"\",$H51=0),\"\",OFFSET(M$1,MATCH($K51,$K$1:$K51,0)-1,0))","v":"F"},null,{"$f":"IF(ISNUMBER($L51),VALUE(OFFSET(Banco!$A$1,Composições!$L51-1,COLUMN(Composições!O51)-6)),0)","v":0.86050000000000004},{"$f":"IF(ISNUMBER($L51),VALUE(OFFSET(Banco!$A$1,Composições!$L51-1,COLUMN(Composições!P51)-6)),0)","v":0.85140000000000005},0.43,0.43]
[null,"SINAPI",93288,{"$f":"IF(ISNUMBER($L52),OFFSET(Banco!$A$1,Composições!$L52-1,COLUMN(Composições!D52)-1),\"\")","v":"GUINDASTE HIDRÁULICO AUTOPROPELIDO, COM LANÇA TELESCÓPICA 40 M, CAPACIDADE MÁXIMA 60 T, POTÊNCIA 260 KW - CHI DIURNO. AF_03/2016"},{"$f":"IF(ISNUMBER($L52),OFFSET(Banco!$A$1,Composições!$L52-1,COLUMN(Composições!E52)-1),\"\")","v":"CHI"},0.23,0.23,1.1999999999999999E-3,{"$f":"IF(ISNUMBER($L52),VALUE(OFFSET(Banco!$A$1,Composições!$L52-1,COLUMN(Composições!I52)-4)),0)","v":189.69},{"$f":"IF(ISNUMBER($L52),VALUE(OFFSET(Banco!$A$1,Composições!$L52-1,COLUMN(Composições!J52)-4)),0)","v":193.55},{"$f":"COUNTA($A$1:$A52)-1","v":6},{"$f":"MATCH(CONCATENATE($B52,\" \",$C52),Banco!$A:$A,0)","v":7693},{"$f":"IF(OR(ISERROR($L52),$H52=\"\",$H52=0),\"\",OFFSET(M$1,MATCH($K52,$K$1:$K52,0)-1,0))","v":"F"},null,{"$f":"IF(ISNUMBER($L52),VALUE(OFFSET(Banco!$A$1,Composições!$L52-1,COLUMN(Composições!O52)-6)),0)","v":0.78520000000000001},{"$f":"IF(ISNUMBER($L52),VALUE(OFFSET(Banco!$A$1,Composições!$L52-1,COLUMN(Composições!P52)-6)),0)","v":0.76959999999999995},0.18,0.18]
[null,"SINAPI",100716,{"$f":"IF(ISNUMBER($L53),OFFSET(Banco!$A$1,Composições!$L53-1,COLUMN(Composições!D53)-1),\"\")","v":"JATEAMENTO ABRASIVO COM GRANALHA DE AÇO EM PERFIL METÁLICO EM FÁBRICA. AF_01/2020"},{"$f":"IF(ISNUMBER($L53),OFFSET(Banco!$A$1,Composições!$L53-1,COLUMN(Composições!E53)-1),\"\")","v":"M2"},2.34,2.37,9.2999999999999999E-2,{"$f":"IF(ISNUMBER($L53),VALUE(OFFSET(Banco!$A$1,Composições!$L53-1,COLUMN(Composições!I53)-4)),0)","v":25.15},{"$f":"IF(ISNUMBER($L53),VALUE(OFFSET(Banco!$A$1,Composições!$L53-1,COLUMN(Composições!J53)-4)),0)","v":25.53},{"$f":"COUNTA($A$1:$A53)-1","v":6},{"$f":"MATCH(CONCATENATE($B53,\" \",$C53),Banco!$A:$A,0)","v":13988},{"$f":"IF(OR(ISERROR($L53),$H53=\"\",$H53=0),\"\",OFFSET(M$1,MATCH($K53,$K$1:$K53,0)-1,0))","v":"F"},null,{"$f":"IF(ISNUMBER($L53),VALUE(OFFSET(Banco!$A$1,Composições!$L53-1,COLUMN(Composições!O53)-6)),0)","v":0.78690000000000004},{"$f":"IF(ISNUMBER($L53),VALUE(OFFSET(Banco!$A$1,Composições!$L53-1,COLUMN(Composições!P53)-6)),0)","v":0.7752},1.84,1.84]
[null,"SINAPI",100719,{"$f":"IF(ISNUMBER($L54),OFFSET(Banco!$A$1,Composições!$L54-1,COLUMN(Composições!D54)-1),\"\")","v":"PINTURA COM TINTA ALQUÍDICA DE FUNDO (TIPO ZARCÃO) PULVERIZADA SOBRE PERFIL METÁLICO EXECUTADO EM FÁBRICA (POR DEMÃO). AF_01/2020_PE"},{"$f":"IF(ISNUMBER($L54),OFFSET(Banco!$A$1,Composições!$L54-1,COLUMN(Composições!E54)-1),\"\")","v":"M2"},1.08,1.1000000000000001,9.2999999999999999E-2,{"$f":"IF(ISNUMBER($L54),VALUE(OFFSET(Banco!$A$1,Composições!$L54-1,COLUMN(Composições!I54)-4)),0)","v":11.64},{"$f":"IF(ISNUMBER($L54),VALUE(OFFSET(Banco!$A$1,Composições!$L54-1,COLUMN(Composições!J54)-4)),0)","v":11.82},{"$f":"COUNTA($A$1:$A54)-1","v":6},{"$f":"MATCH(CONCATENATE($B54,\" \",$C54),Banco!$A:$A,0)","v":14016},{"$f":"IF(OR(ISERROR($L54),$H54=\"\",$H54=0),\"\",OFFSET(M$1,MATCH($K54,$K$1:$K54,0)-1,0))","v":"F"},null,{"$f":"IF(ISNUMBER($L54),VALUE(OFFSET(Banco!$A$1,Composições!$L54-1,COLUMN(Composições!O54)-6)),0)","v":0},{"$f":"IF(ISNUMBER($L54),VALUE(OFFSET(Banco!$A$1,Composições!$L54-1,COLUMN(Composições!P54)-6)),0)","v":0},0,0]
[null,"COMPOSIÇÃO","FUES.0132.01",{"$f":"IF(ISNUMBER($L55),OFFSET(Banco!$A$1,Composições!$L55-1,COLUMN(Composições!D55)-1),\"\")","v":"BENEFICIAMENTO DE ESTRUTURA TRELIÇADA DE COBERTURA, COM LIGAÇÕES SOLDADAS, EXCLUSIVE SOLDA."},{"$f":"IF(ISNUMBER($L55),OFFSET(Banco!$A$1,Composições!$L55-1,COLUMN(Composições!E55)-1),\"\")","v":"M"},1.1399999999999999,1.24,0.13758200000000001,{"$f":"IF(ISNUMBER($L55),VALUE(OFFSET(Banco!$A$1,Composições!$L55-1,COLUMN(Composições!I55)-4)),0)","v":8.2900000000000009},{"$f":"IF(ISNUMBER($L55),VALUE(OFFSET(Banco!$A$1,Composições!$L55-1,COLUMN(Composições!J55)-4)),0)","v":8.9999999999999982},{"$f":"COUNTA($A$1:$A55)-1","v":6},{"$f":"MATCH(CONCATENATE($B55,\" \",$C55),Banco!$A:$A,0)","v":64},{"$f":"IF(OR(ISERROR($L55),$H55=\"\",$H55=0),\"\",OFFSET(M$1,MATCH($K55,$K$1:$K55,0)-1,0))","v":"F"},null,{"$f":"IF(ISNUMBER($L55),VALUE(OFFSET(Banco!$A$1,Composições!$L55-1,COLUMN(Composições!O55)-6)),0)","v":0},{"$f":"IF(ISNUMBER($L55),VALUE(OFFSET(Banco!$A$1,Composições!$L55-1,COLUMN(Composições!P55)-6)),0)","v":0},0,0]
[null,"SINAPI-I",10997,{"$f":"IF(ISNUMBER($L56),OFFSET(Banco!$A$1,Composições!$L56-1,COLUMN(Composições!D56)-1),\"\")","v":"ELETRODO REVESTIDO AWS - E7018, DIAMETRO IGUAL A 4,00 MM"},{"$f":"IF(ISNUMBER($L56),OFFSET(Banco!$A$1,Composições!$L56-1,COLUMN(Composições!E56)-1),\"\")","v":"KG"},0.03,0.03,8.0000000000000004E-4,{"$f":"IF(ISNUMBER($L56),VALUE(OFFSET(Banco!$A$1,Composições!$L56-1,COLUMN(Composições!I56)-4)),0)","v":38.75},{"$f":"IF(ISNUMBER($L56),VALUE(OFFSET(Banco!$A$1,Composições!$L56-1,COLUMN(Composições!J56)-4)),0)","v":38.75},{"$f":"COUNTA($A$1:$A56)-1","v":6},{"$f":"MATCH(CONCATENATE($B56,\" \",$C56),Banco!$A:$A,0)","v":1937},{"$f":"IF(OR(ISERROR($L56),$H56=\"\",$H56=0),\"\",OFFSET(M$1,MATCH($K56,$K$1:$K56,0)-1,0))","v":"F"},null,{"$f":"IF(ISNUMBER($L56),VALUE(OFFSET(Banco!$A$1,Composições!$L56-1,COLUMN(Composições!O56)-6)),0)","v":0},{"$f":"IF(ISNUMBER($L56),VALUE(OFFSET(Banco!$A$1,Composições!$L56-1,COLUMN(Composições!P56)-6)),0)","v":0},0,0]
[null,"COTAÇÃO",1319,{"$f":"IF(ISNUMBER($L57),OFFSET(Banco!$A$1,Composições!$L57-1,COLUMN(Composições!D57)-1),\"\")","v":"CHAPA DE ACO FINA A QUENTE BITOLA MSG 3/16\", E = 4,75 MM (38,00 KG/M2)"},{"$f":"IF(ISNUMBER($L57),OFFSET(Banco!$A$1,Composições!$L57-1,COLUMN(Composições!E57)-1),\"\")","v":"KG"},0.22,0.22,2.9000000000000001E-2,{"$f":"IF(ISNUMBER($L57),VALUE(OFFSET(Banco!$A$1,Composições!$L57-1,COLUMN(Composições!I57)-4)),0)","v":7.56},{"$f":"IF(ISNUMBER($L57),VALUE(OFFSET(Banco!$A$1,Composições!$L57-1,COLUMN(Composições!J57)-4)),0)","v":7.56},{"$f":"COUNTA($A$1:$A57)-1","v":6},{"$f":"MATCH(CONCATENATE($B57,\" \",$C57),Banco!$A:$A,0)","v":104},{"$f":"IF(OR(ISERROR($L57),$H57=\"\",$H57=0),\"\",OFFSET(M$1,MATCH($K57,$K$1:$K57,0)-1,0))","v":"F"},null,{"$f":"IF(ISNUMBER($L57),VALUE(OFFSET(Banco!$A$1,Composições!$L57-1,COLUMN(Composições!O57)-6)),0)","v":0},{"$f":"IF(ISNUMBER($L57),VALUE(OFFSET(Banco!$A$1,Composições!$L57-1,COLUMN(Composições!P57)-6)),0)","v":0},0,0]
[null,"COTAÇÃO",1332,{"$f":"IF(ISNUMBER($L58),OFFSET(Banco!$A$1,Composições!$L58-1,COLUMN(Composições!D58)-1),\"\")","v":"CHAPA DE ACO GROSSA, ASTM A36, E = 3/8\" (9,53 MM) 74,69 KG/M2"},{"$f":"IF(ISNUMBER($L58),OFFSET(Banco!$A$1,Composições!$L58-1,COLUMN(Composições!E58)-1),\"\")","v":"KG"},0.12,0.12,1.4500000000000001E-2,{"$f":"IF(ISNUMBER($L58),VALUE(OFFSET(Banco!$A$1,Composições!$L58-1,COLUMN(Composições!I58)-4)),0)","v":8.3699999999999992},{"$f":"IF(ISNUMBER($L58),VALUE(OFFSET(Banco!$A$1,Composições!$L58-1,COLUMN(Composições!J58)-4)),0)","v":8.3699999999999992},{"$f":"COUNTA($A$1:$A58)-1","v":6},{"$f":"MATCH(CONCATENATE($B58,\" \",$C58),Banco!$A:$A,0)","v":106},{"$f":"IF(OR(ISERROR($L58),$H58=\"\",$H58=0),\"\",OFFSET(M$1,MATCH($K58,$K$1:$K58,0)-1,0))","v":"F"},null,{"$f":"IF(ISNUMBER($L58),VALUE(OFFSET(Banco!$A$1,Composições!$L58-1,COLUMN(Composições!O58)-6)),0)","v":0},{"$f":"IF(ISNUMBER($L58),VALUE(OFFSET(Banco!$A$1,Composições!$L58-1,COLUMN(Composições!P58)-6)),0)","v":0},0,0]
[null,"COTAÇÃO",4777,{"$f":"IF(ISNUMBER($L59),OFFSET(Banco!$A$1,Composições!$L59-1,COLUMN(Composições!D59)-1),\"\")","v":"CANTONEIRA ACO ABAS IGUAIS (QUALQUER BITOLA), ESPESSURA ENTRE 1/8\" E 1/4\""},{"$f":"IF(ISNUMBER($L59),OFFSET(Banco!$A$1,Composições!$L59-1,COLUMN(Composições!E59)-1),\"\")","v":"KG"},0.83,0.83,0.10290000000000001,{"$f":"IF(ISNUMBER($L59),VALUE(OFFSET(Banco!$A$1,Composições!$L59-1,COLUMN(Composições!I59)-4)),0)","v":8.02},{"$f":"IF(ISNUMBER($L59),VALUE(OFFSET(Banco!$A$1,Composições!$L59-1,COLUMN(Composições!J59)-4)),0)","v":8.02},{"$f":"COUNTA($A$1:$A59)-1","v":6},{"$f":"MATCH(CONCATENATE($B59,\" \",$C59),Banco!$A:$A,0)","v":107},{"$f":"IF(OR(ISERROR($L59),$H59=\"\",$H59=0),\"\",OFFSET(M$1,MATCH($K59,$K$1:$K59,0)-1,0))","v":"F"},null,{"$f":"IF(ISNUMBER($L59),VALUE(OFFSET(Banco!$A$1,Composições!$L59-1,COLUMN(Composições!O59)-6)),0)","v":0},{"$f":"IF(ISNUMBER($L59),VALUE(OFFSET(Banco!$A$1,Composições!$L59-1,COLUMN(Composições!P59)-6)),0)","v":0},0,0]
[null,"COTAÇÃO",43692,{"$f":"IF(ISNUMBER($L60),OFFSET(Banco!$A$1,Composições!$L60-1,COLUMN(Composições!D60)-1),\"\")","v":"PERFIL \"U\" SIMPLES, EM CHAPA DOBRADA DE ACO LAMINADO, E = 3 MM, H = 200 MM, L = 50 MM (6,83 KG/M)"},{"$f":"IF(ISNUMBER($L60),OFFSET(Banco!$A$1,Composições!$L60-1,COLUMN(Composições!E60)-1),\"\")","v":"KG"},8.02,8.02,0.87980000000000003,{"$f":"IF(ISNUMBER($L60),VALUE(OFFSET(Banco!$A$1,Composições!$L60-1,COLUMN(Composições!I60)-4)),0)","v":9.1199999999999992},{"$f":"IF(ISNUMBER($L60),VALUE(OFFSET(Banco!$A$1,Composições!$L60-1,COLUMN(Composições!J60)-4)),0)","v":9.1199999999999992},{"$f":"COUNTA($A$1:$A60)-1","v":6},{"$f":"MATCH(CONCATENATE($B60,\" \",$C60),Banco!$A:$A,0)","v":126},{"$f":"IF(OR(ISERROR($L60),$H60=\"\",$H60=0),\"\",OFFSET(M$1,MATCH($K60,$K$1:$K60,0)-1,0))","v":"F"},null,{"$f":"IF(ISNUMBER($L60),VALUE(OFFSET(Banco!$A$1,Composições!$L60-1,COLUMN(Composições!O60)-6)),0)","v":0},{"$f":"IF(ISNUMBER($L60),VALUE(OFFSET(Banco!$A$1,Composições!$L60-1,COLUMN(Composições!P60)-6)),0)","v":0},0,0]
[null,"SINAPI-I",43053,{"$f":"IF(ISNUMBER($L61),OFFSET(Banco!$A$1,Composições!$L61-1,COLUMN(Composições!D61)-1),\"\")","v":"ACO CA-25, 6,3 MM OU 8,0 MM, VERGALHAO"},{"$f":"IF(ISNUMBER($L61),OFFSET(Banco!$A$1,Composições!$L61-1,COLUMN(Composições!E61)-1),\"\")","v":"KG"},0.01,0.01,1E-3,{"$f":"IF(ISNUMBER($L61),VALUE(OFFSET(Banco!$A$1,Composições!$L61-1,COLUMN(Composições!I61)-4)),0)","v":7.7},{"$f":"IF(ISNUMBER($L61),VALUE(OFFSET(Banco!$A$1,Composições!$L61-1,COLUMN(Composições!J61)-4)),0)","v":7.7},{"$f":"COUNTA($A$1:$A61)-1","v":6},{"$f":"MATCH(CONCATENATE($B61,\" \",$C61),Banco!$A:$A,0)","v":183},{"$f":"IF(OR(ISERROR($L61),$H61=\"\",$H61=0),\"\",OFFSET(M$1,MATCH($K61,$K$1:$K61,0)-1,0))","v":"F"},null,{"$f":"IF(ISNUMBER($L61),VALUE(OFFSET(Banco!$A$1,Composições!$L61-1,COLUMN(Composições!O61)-6)),0)","v":0},{"$f":"IF(ISNUMBER($L61),VALUE(OFFSET(Banco!$A$1,Composições!$L61-1,COLUMN(Composições!P61)-6)),0)","v":0},0,0]
[null,"SINAPI-I",43054,{"$f":"IF(ISNUMBER($L62),OFFSET(Banco!$A$1,Composições!$L62-1,COLUMN(Composições!D62)-1),\"\")","v":"ACO CA-25, 10,0 MM, OU 12,5 MM, OU 16,0 MM, OU 20,0 MM, OU 25,0 MM, VERGALHAO"},{"$f":"IF(ISNUMBER($L62),OFFSET(Banco!$A$1,Composições!$L62-1,COLUMN(Composições!E62)-1),\"\")","v":"KG"},0.2,0.2,2.3E-2,{"$f":"IF(ISNUMBER($L62),VALUE(OFFSET(Banco!$A$1,Composições!$L62-1,COLUMN(Composições!I62)-4)),0)","v":8.6199999999999992},{"$f":"IF(ISNUMBER($L62),VALUE(OFFSET(Banco!$A$1,Composições!$L62-1,COLUMN(Composições!J62)-4)),0)","v":8.6199999999999992},{"$f":"COUNTA($A$1:$A62)-1","v":6},{"$f":"MATCH(CONCATENATE($B62,\" \",$C62),Banco!$A:$A,0)","v":177},{"$f":"IF(OR(ISERROR($L62),$H62=\"\",$H62=0),\"\",OFFSET(M$1,MATCH($K62,$K$1:$K62,0)-1,0))","v":"F"},null,{"$f":"IF(ISNUMBER($L62),VALUE(OFFSET(Banco!$A$1,Composições!$L62-1,COLUMN(Composições!O62)-6)),0)","v":0},{"$f":"IF(ISNUMBER($L62),VALUE(OFFSET(Banco!$A$1,Composições!$L62-1,COLUMN(Composições!P62)-6)),0)","v":0},0,0]
[null,null,null,null,null,null,null,null,null,null,{"$f":"COUNTA($A$1:$A63)-1","v":6},null,{"$f":"IF(OFFSET($M$1,MATCH(OFFSET(K63,-1,0),$K$1:$K63,0)-1,0)=\"F\",\"F\",\"\")","v":"F"}]
[{"$f":"CONCATENATE($B64,\" \",$C64)","v":"Composição COBE.0084.02"},"Composição","COBE.0084.02","TELHAMENTO COM TELHA TERMOISOLANTE REVESTIDA EM ACO GALVANIZADO, FACE SUPERIOR EM TELHA TRAPEZOIDAL E FACE INFERIOR EM CHAPA PLANA, REVESTIMENTO COM ESPESSURA DE 0,50 MM NATURAL, NUCLEO EM POLIESTIRENO (EPS) DE 50 MM, INCLUINDO ACESSORIOS DE FIXACAO.","m²",{"$f":"IF($L64>0,SUM(OFFSET(F64,1,0,$L64),0))","v":144.20999999999998},144.5,null,{"$f":"IF(ISERROR(F64),0,F64)","v":144.20999999999998},144.5,{"$f":"COUNTA($A$1:$A64)-1","v":7},{"$f":"IF(MAX(K:K)=K64,MATCH(9999999,$K:$K)+1,MATCH(K64+1,K:K,0))-ROW(L64)-2","v":6},{"$f":"IF(AND(OR(I64<>0,J64<>0),N64=\"Sim\"),\"F\",\"\")","v":"F"},"Sim",{"$f":"IF(AND($L64>0,F64<>0),ROUND(SUM(OFFSET(Q64,1,0,$L64))/F64,4),0)","v":0},0]
[null,"SINAPI",88316,{"$f":"IF(ISNUMBER($L65),OFFSET(Banco!$A$1,Composições!$L65-1,COLUMN(Composições!D65)-1),\"\")","v":"SERVENTE COM ENCARGOS COMPLEMENTARES"},{"$f":"IF(ISNUMBER($L65),OFFSET(Banco!$A$1,Composições!$L65-1,COLUMN(Composições!E65)-1),\"\")","v":"H"},{"$f":"ROUND($H65*ROUND(I65,2),2)","v":1.65},1.78,6.2E-2,{"$f":"IF(ISNUMBER($L65),VALUE(OFFSET(Banco!$A$1,Composições!$L65-1,COLUMN(Composições!I65)-4)),0)","v":26.65},{"$f":"IF(ISNUMBER($L65),VALUE(OFFSET(Banco!$A$1,Composições!$L65-1,COLUMN(Composições!J65)-4)),0)","v":28.71},{"$f":"COUNTA($A$1:$A65)-1","v":7},{"$f":"MATCH(CONCATENATE($B65,\" \",$C65),Banco!$A:$A,0)","v":13198},{"$f":"IF(OR(ISERROR($L65),$H65=\"\",$H65=0),\"\",OFFSET(M$1,MATCH($K65,$K$1:$K65,0)-1,0))","v":"F"},null,{"$f":"IF(ISNUMBER($L65),VALUE(OFFSET(Banco!$A$1,Composições!$L65-1,COLUMN(Composições!O65)-6)),0)","v":0},{"$f":"IF(ISNUMBER($L65),VALUE(OFFSET(Banco!$A$1,Composições!$L65-1,COLUMN(Composições!P65)-6)),0)","v":0},{"$f":"ROUND(F65*O65,2)","v":0},0]
[null,"SINAPI",88323,{"$f":"IF(ISNUMBER($L66),OFFSET(Banco!$A$1,Composições!$L66-1,COLUMN(Composições!D66)-1),\"\")","v":"TELHADISTA COM ENCARGOS COMPLEMENTARES"},{"$f":"IF(ISNUMBER($L66),OFFSET(Banco!$A$1,Composições!$L66-1,COLUMN(Composições!E66)-1),\"\")","v":"H"},1.86,2.02,5.6000000000000001E-2,{"$f":"IF(ISNUMBER($L66),VALUE(OFFSET(Banco!$A$1,Composições!$L66-1,COLUMN(Composições!I66)-4)),0)","v":33.24},{"$f":"IF(ISNUMBER($L66),VALUE(OFFSET(Banco!$A$1,Composições!$L66-1,COLUMN(Composições!J66)-4)),0)","v":36.1},{"$f":"COUNTA($A$1:$A66)-1","v":7},{"$f":"MATCH(CONCATENATE($B66,\" \",$C66),Banco!$A:$A,0)","v":13207},{"$f":"IF(OR(ISERROR($L66),$H66=\"\",$H66=0),\"\",OFFSET(M$1,MATCH($K66,$K$1:$K66,0)-1,0))","v":"F"},null,{"$f":"IF(ISNUMBER($L66),VALUE(OFFSET(Banco!$A$1,Composições!$L66-1,COLUMN(Composições!O66)-6)),0)","v":0},{"$f":"IF(ISNUMBER($L66),VALUE(OFFSET(Banco!$A$1,Composições!$L66-1,COLUMN(Composições!P66)-6)),0)","v":0},0,0]
[null,"SINAPI",93281,{"$f":"IF(ISNUMBER($L67),OFFSET(Banco!$A$1,Composições!$L67-1,COLUMN(Composições!D67)-1),\"\")","v":"GUINCHO ELÉTRICO DE COLUNA, CAPACIDADE 400 KG, COM MOTO FREIO, MOTOR TRIFÁSICO DE 1,25 CV - CHP DIURNO. AF_03/2016"},{"$f":"IF(ISNUMBER($L67),OFFSET(Banco!$A$1,Composições!$L67-1,COLUMN(Composições!E67)-1),\"\")","v":"CHP"},0.03,0.03,8.9999999999999998E-4,{"$f":"IF(ISNUMBER($L67),VALUE(OFFSET(Banco!$A$1,Composições!$L67-1,COLUMN(Composições!I67)-4)),0)","v":32.68},{"$f":"IF(ISNUMBER($L67),VALUE(OFFSET(Banco!$A$1,Composições!$L67-1,COLUMN(Composições!J67)-4)),0)","v":35.47},{"$f":"COUNTA($A$1:$A67)-1","v":7},{"$f":"MATCH(CONCATENATE($B67,\" \",$C67),Banco!$A:$A,0)","v":7686},{"$f":"IF(OR(ISERROR($L67),$H67=\"\",$H67=0),\"\",OFFSET(M$1,MATCH($K67,$K$1:$K67,0)-1,0))","v":"F"},null,{"$f":"IF(ISNUMBER($L67),VALUE(OFFSET(Banco!$A$1,Composições!$L67-1,COLUMN(Composições!O67)-6)),0)","v":0},{"$f":"IF(ISNUMBER($L67),VALUE(OFFSET(Banco!$A$1,Composições!$L67-1,COLUMN(Composições!P67)-6)),0)","v":0},0,0]
[null,"SINAPI",93282,{"$f":"IF(ISNUMBER($L68),OFFSET(Banco!$A$1,Composições!$L68-1,COLUMN(Composições!D68)-1),\"\")","v":"GUINCHO ELÉTRICO DE COLUNA, CAPACIDADE 400 KG, COM MOTO FREIO, MOTOR TRIFÁSICO DE 1,25 CV - CHI DIURNO. AF_03/2016"},{"$f":"IF(ISNUMBER($L68),OFFSET(Banco!$A$1,Composições!$L68-1,COLUMN(Composições!E68)-1),\"\")","v":"CHI"},0.04,0.04,1.1999999999999999E-3,{"$f":"IF(ISNUMBER($L68),VALUE(OFFSET(Banco!$A$1,Composições!$L68-1,COLUMN(Composições!I68)-4)),0)","v":31.89},{"$f":"IF(ISNUMBER($L68),VALUE(OFFSET(Banco!$A$1,Composições!$L68-1,COLUMN(Composições!J68)-4)),0)","v":34.68},{"$f":"COUNTA($A$1:$A68)-1","v":7},{"$f":"MATCH(CONCATENATE($B68,\" \",$C68),Banco!$A:$A,0)","v":7685},{"$f":"IF(OR(ISERROR($L68),$H68=\"\",$H68=0),\"\",OFFSET(M$1,MATCH($K68,$K$1:$K68,0)-1,0))","v":"F"},null,{"$f":"IF(ISNUMBER($L68),VALUE(OFFSET(Banco!$A$1,Composições!$L68-1,COLUMN(Composições!O68)-6)),0)","v":0},{"$f":"IF(ISNUMBER($L68),VALUE(OFFSET(Banco!$A$1,Composições!$L68-1,COLUMN(Composições!P68)-6)),0)","v":0},0,0]
[null,"SINAPI-I",11029,{"$f":"IF(ISNUMBER($L69),OFFSET(Banco!$A$1,Composições!$L69-1,COLUMN(Composições!D69)-1),\"\")","v":"HASTE RETA PARA GANCHO DE FERRO GALVANIZADO, COM ROSCA 1/4\" X 30 CM PARA FIXACAO DE TELHA METALICA, INCLUI PORCA E ARRUELAS DE VEDACAO"},{"$f":"IF(ISNUMBER($L69),OFFSET(Banco!$A$1,Composições!$L69-1,COLUMN(Composições!E69)-1),\"\")","v":"CJ"},5.56,5.56,4.1500000000000004,{"$f":"IF(ISNUMBER($L69),VALUE(OFFSET(Banco!$A$1,Composições!$L69-1,COLUMN(Composições!I69)-4)),0)","v":1.34},{"$f":"IF(ISNUMBER($L69),VALUE(OFFSET(Banco!$A$1,Composições!$L69-1,COLUMN(Composições!J69)-4)),0)","v":1.34},{"$f":"COUNTA($A$1:$A69)-1","v":7},{"$f":"MATCH(CONCATENATE($B69,\" \",$C69),Banco!$A:$A,0)","v":2379},{"$f":"IF(OR(ISERROR($L69),$H69=\"\",$H69=0),\"\",OFFSET(M$1,MATCH($K69,$K$1:$K69,0)-1,0))","v":"F"},null,{"$f":"IF(ISNUMBER($L69),VALUE(OFFSET(Banco!$A$1,Composições!$L69-1,COLUMN(Composições!O69)-6)),0)","v":0},{"$f":"IF(ISNUMBER($L69),VALUE(OFFSET(Banco!$A$1,Composições!$L69-1,COLUMN(Composições!P69)-6)),0)","v":0},0,0]
[null,"COTAÇÃO","I.COBE.0008.01",{"$f":"IF(ISNUMBER($L70),OFFSET(Banco!$A$1,Composições!$L70-1,COLUMN(Composições!D70)-1),\"\")","v":"TELHA TERMOISOLANTE REVESTIDA EM ACO GALVANIZADO, FACE SUPERIOR EM TELHA TRAPEZOIDAL E FACE INFERIOR EM CHAPA PLANA, REVESTIMENTO COM ESPESSURA DE 0,50 MM NATURAL, NUCLEO EM POLIESTIRENO (EPS) DE 50 MM"},{"$f":"IF(ISNUMBER($L70),OFFSET(Banco!$A$1,Composições!$L70-1,COLUMN(Composições!E70)-1),\"\")","v":"m2"},135.07,135.07,1.1459999999999999,{"$f":"IF(ISNUMBER($L70),VALUE(OFFSET(Banco!$A$1,Composições!$L70-1,COLUMN(Composições!I70)-4)),0)","v":117.85760000000002},{"$f":"IF(ISNUMBER($L70),VALUE(OFFSET(Banco!$A$1,Composições!$L70-1,COLUMN(Composições!J70)-4)),0)","v":117.85760000000002},{"$f":"COUNTA($A$1:$A70)-1","v":7},{"$f":"MATCH(CONCATENATE($B70,\" \",$C70),Banco!$A:$A,0)","v":96},{"$f":"IF(OR(ISERROR($L70),$H70=\"\",$H70=0),\"\",OFFSET(M$1,MATCH($K70,$K$1:$K70,0)-1,0))","v":"F"},null,{"$f":"IF(ISNUMBER($L70),VALUE(OFFSET(Banco!$A$1,Composições!$L70-1,COLUMN(Composições!O70)-6)),0)","v":0},{"$f":"IF(ISNUMBER($L70),VALUE(OFFSET(Banco!$A$1,Composições!$L70-1,COLUMN(Composições!P70)-6)),0)","v":0},0,0]
[null,null,null,null,null,null,null,null,null,null,{"$f":"COUNTA($A$1:$A71)-1","v":7},null,{"$f":"IF(OFFSET($M$1,MATCH(OFFSET(K71,-1,0),$K$1:$K71,0)-1,0)=\"F\",\"F\",\"\")","v":"F"}]
[{"$f":"CONCATENATE($B72,\" \",$C72)","v":"Composição COBE.0086.01"},"Composição","COBE.0086.01","TELHAMENTO COM TELHA METÁLICA MULTIDOBRA,  E = 0,5 MM, INCLUSO IÇAMENTO E ACESSÓRIOS - FORNECIMENTO E INSTALAÇÃO","m²",{"$f":"IF($L72>0,SUM(OFFSET(F72,1,0,$L72),0))","v":84.89},85.88,null,{"$f":"IF(ISERROR(F72),0,F72)","v":84.89},85.88,{"$f":"COUNTA($A$1:$A72)-1","v":8},{"$f":"IF(MAX(K:K)=K72,MATCH(9999999,$K:$K)+1,MATCH(K72+1,K:K,0))-ROW(L72)-2","v":6},{"$f":"IF(AND(OR(I72<>0,J72<>0),N72=\"Sim\"),\"F\",\"\")","v":"F"},"Sim",{"$f":"IF(AND($L72>0,F72<>0),ROUND(SUM(OFFSET(Q72,1,0,$L72))/F72,4),0)","v":0},0]
[null,"SINAPI",88316,{"$f":"IF(ISNUMBER($L73),OFFSET(Banco!$A$1,Composições!$L73-1,COLUMN(Composições!D73)-1),\"\")","v":"SERVENTE COM ENCARGOS COMPLEMENTARES"},{"$f":"IF(ISNUMBER($L73),OFFSET(Banco!$A$1,Composições!$L73-1,COLUMN(Composições!E73)-1),\"\")","v":"H"},{"$f":"ROUND($H73*ROUND(I73,2),2)","v":5.33},5.74,0.2,{"$f":"IF(ISNUMBER($L73),VALUE(OFFSET(Banco!$A$1,Composições!$L73-1,COLUMN(Composições!I73)-4)),0)","v":26.65},{"$f":"IF(ISNUMBER($L73),VALUE(OFFSET(Banco!$A$1,Composições!$L73-1,COLUMN(Composições!J73)-4)),0)","v":28.71},{"$f":"COUNTA($A$1:$A73)-1","v":8},{"$f":"MATCH(CONCATENATE($B73,\" \",$C73),Banco!$A:$A,0)","v":13198},{"$f":"IF(OR(ISERROR($L73),$H73=\"\",$H73=0),\"\",OFFSET(M$1,MATCH($K73,$K$1:$K73,0)-1,0))","v":"F"},null,{"$f":"IF(ISNUMBER($L73),VALUE(OFFSET(Banco!$A$1,Composições!$L73-1,COLUMN(Composições!O73)-6)),0)","v":0},{"$f":"IF(ISNUMBER($L73),VALUE(OFFSET(Banco!$A$1,Composições!$L73-1,COLUMN(Composições!P73)-6)),0)","v":0},{"$f":"ROUND(F73*O73,2)","v":0},0]
[null,"SINAPI",88323,{"$f":"IF(ISNUMBER($L74),OFFSET(Banco!$A$1,Composições!$L74-1,COLUMN(Composições!D74)-1),\"\")","v":"TELHADISTA COM ENCARGOS COMPLEMENTARES"},{"$f":"IF(ISNUMBER($L74),OFFSET(Banco!$A$1,Composições!$L74-1,COLUMN(Composições!E74)-1),\"\")","v":"H"},6.65,7.22,0.2,{"$f":"IF(ISNUMBER($L74),VALUE(OFFSET(Banco!$A$1,Composições!$L74-1,COLUMN(Composições!I74)-4)),0)","v":33.24},{"$f":"IF(ISNUMBER($L74),VALUE(OFFSET(Banco!$A$1,Composições!$L74-1,COLUMN(Composições!J74)-4)),0)","v":36.1},{"$f":"COUNTA($A$1:$A74)-1","v":8},{"$f":"MATCH(CONCATENATE($B74,\" \",$C74),Banco!$A:$A,0)","v":13207},{"$f":"IF(OR(ISERROR($L74),$H74=\"\",$H74=0),\"\",OFFSET(M$1,MATCH($K74,$K$1:$K74,0)-1,0))","v":"F"},null,{"$f":"IF(ISNUMBER($L74),VALUE(OFFSET(Banco!$A$1,Composições!$L74-1,COLUMN(Composições!O74)-6)),0)","v":0},{"$f":"IF(ISNUMBER($L74),VALUE(OFFSET(Banco!$A$1,Composições!$L74-1,COLUMN(Composições!P74)-6)),0)","v":0},0,0]
[null,"SINAPI",93281,{"$f":"IF(ISNUMBER($L75),OFFSET(Banco!$A$1,Composições!$L75-1,COLUMN(Composições!D75)-1),\"\")","v":"GUINCHO ELÉTRICO DE COLUNA, CAPACIDADE 400 KG, COM MOTO FREIO, MOTOR TRIFÁSICO DE 1,25 CV - CHP DIURNO. AF_03/2016"},{"$f":"IF(ISNUMBER($L75),OFFSET(Banco!$A$1,Composições!$L75-1,COLUMN(Composições!E75)-1),\"\")","v":"CHP"},0.03,0.03,8.9999999999999998E-4,{"$f":"IF(ISNUMBER($L75),VALUE(OFFSET(Banco!$A$1,Composições!$L75-1,COLUMN(Composições!I75)-4)),0)","v":32.68},{"$f":"IF(ISNUMBER($L75),VALUE(OFFSET(Banco!$A$1,Composições!$L75-1,COLUMN(Composições!J75)-4)),0)","v":35.47},{"$f":"COUNTA($A$1:$A75)-1","v":8},{"$f":"MATCH(CONCATENATE($B75,\" \",$C75),Banco!$A:$A,0)","v":7686},{"$f":"IF(OR(ISERROR($L75),$H75=\"\",$H75=0),\"\",OFFSET(M$1,MATCH($K75,$K$1:$K75,0)-1,0))","v":"F"},null,{"$f":"IF(ISNUMBER($L75),VALUE(OFFSET(Banco!$A$1,Composições!$L75-1,COLUMN(Composições!O75)-6)),0)","v":0},{"$f":"IF(ISNUMBER($L75),VALUE(OFFSET(Banco!$A$1,Composições!$L75-1,COLUMN(Composições!P75)-6)),0)","v":0},0,0]
[null,"SINAPI",93282,{"$f":"IF(ISNUMBER($L76),OFFSET(Banco!$A$1,Composições!$L76-1,COLUMN(Composições!D76)-1),\"\")","v":"GUINCHO ELÉTRICO DE COLUNA, CAPACIDADE 400 KG, COM MOTO FREIO, MOTOR TRIFÁSICO DE 1,25 CV - CHI DIURNO. AF_03/2016"},{"$f":"IF(ISNUMBER($L76),OFFSET(Banco!$A$1,Composições!$L76-1,COLUMN(Composições!E76)-1),\"\")","v":"CHI"},0.04,0.05,1.2999999999999999E-3,{"$f":"IF(ISNUMBER($L76),VALUE(OFFSET(Banco!$A$1,Composições!$L76-1,COLUMN(Composições!I76)-4)),0)","v":31.89},{"$f":"IF(ISNUMBER($L76),VALUE(OFFSET(Banco!$A$1,Composições!$L76-1,COLUMN(Composições!J76)-4)),0)","v":34.68},{"$f":"COUNTA($A$1:$A76)-1","v":8},{"$f":"MATCH(CONCATENATE($B76,\" \",$C76),Banco!$A:$A,0)","v":7685},{"$f":"IF(OR(ISERROR($L76),$H76=\"\",$H76=0),\"\",OFFSET(M$1,MATCH($K76,$K$1:$K76,0)-1,0))","v":"F"},null,{"$f":"IF(ISNUMBER($L76),VALUE(OFFSET(Banco!$A$1,Composições!$L76-1,COLUMN(Composições!O76)-6)),0)","v":0},{"$f":"IF(ISNUMBER($L76),VALUE(OFFSET(Banco!$A$1,Composições!$L76-1,COLUMN(Composições!P76)-6)),0)","v":0},0,0]
[null,"SINAPI-I",11029,{"$f":"IF(ISNUMBER($L77),OFFSET(Banco!$A$1,Composições!$L77-1,COLUMN(Composições!D77)-1),\"\")","v":"HASTE RETA PARA GANCHO DE FERRO GALVANIZADO, COM ROSCA 1/4\" X 30 CM PARA FIXACAO DE TELHA METALICA, INCLUI PORCA E ARRUELAS DE VEDACAO"},{"$f":"IF(ISNUMBER($L77),OFFSET(Banco!$A$1,Composições!$L77-1,COLUMN(Composições!E77)-1),\"\")","v":"CJ"},5.56,5.56,4.1500000000000004,{"$f":"IF(ISNUMBER($L77),VALUE(OFFSET(Banco!$A$1,Composições!$L77-1,COLUMN(Composições!I77)-4)),0)","v":1.34},{"$f":"IF(ISNUMBER($L77),VALUE(OFFSET(Banco!$A$1,Composições!$L77-1,COLUMN(Composições!J77)-4)),0)","v":1.34},{"$f":"COUNTA($A$1:$A77)-1","v":8},{"$f":"MATCH(CONCATENATE($B77,\" \",$C77),Banco!$A:$A,0)","v":2379},{"$f":"IF(OR(ISERROR($L77),$H77=\"\",$H77=0),\"\",OFFSET(M$1,MATCH($K77,$K$1:$K77,0)-1,0))","v":"F"},null,{"$f":"IF(ISNUMBER($L77),VALUE(OFFSET(Banco!$A$1,Composições!$L77-1,COLUMN(Composições!O77)-6)),0)","v":0},{"$f":"IF(ISNUMBER($L77),VALUE(OFFSET(Banco!$A$1,Composições!$L77-1,COLUMN(Composições!P77)-6)),0)","v":0},0,0]
[null,"COTAÇÃO",7243,{"$f":"IF(ISNUMBER($L78),OFFSET(Banco!$A$1,Composições!$L78-1,COLUMN(Composições!D78)-1),\"\")","v":"TELHA TRAPEZOIDAL EM ACO ZINCADO, SEM PINTURA, ALTURA DE APROXIMADAMENTE 40 MM, ESPESSURA DE 0,50 MM E LARGURA UTIL DE 980 MM"},{"$f":"IF(ISNUMBER($L78),OFFSET(Banco!$A$1,Composições!$L78-1,COLUMN(Composições!E78)-1),\"\")","v":"M2"},67.28,67.28,1.35,{"$f":"IF(ISNUMBER($L78),VALUE(OFFSET(Banco!$A$1,Composições!$L78-1,COLUMN(Composições!I78)-4)),0)","v":49.84},{"$f":"IF(ISNUMBER($L78),VALUE(OFFSET(Banco!$A$1,Composições!$L78-1,COLUMN(Composições!J78)-4)),0)","v":49.84},{"$f":"COUNTA($A$1:$A78)-1","v":8},{"$f":"MATCH(CONCATENATE($B78,\" \",$C78),Banco!$A:$A,0)","v":109},{"$f":"IF(OR(ISERROR($L78),$H78=\"\",$H78=0),\"\",OFFSET(M$1,MATCH($K78,$K$1:$K78,0)-1,0))","v":"F"},null,{"$f":"IF(ISNUMBER($L78),VALUE(OFFSET(Banco!$A$1,Composições!$L78-1,COLUMN(Composições!O78)-6)),0)","v":0},{"$f":"IF(ISNUMBER($L78),VALUE(OFFSET(Banco!$A$1,Composições!$L78-1,COLUMN(Composições!P78)-6)),0)","v":0},0,0]
[null,null,null,null,null,null,null,null,null,null,{"$f":"COUNTA($A$1:$A79)-1","v":8},null,{"$f":"IF(OFFSET($M$1,MATCH(OFFSET(K79,-1,0),$K$1:$K79,0)-1,0)=\"F\",\"F\",\"\")","v":"F"}]
[{"$f":"CONCATENATE($B80,\" \",$C80)","v":"Composição COBE.0037.01"},"Composição","COBE.0037.01","FECHAMENTO COM TELHA METÁLICA TRAPEZOIDAL, UMA FACE PRÉ-PINTADA DE FÁBRICA, E = 0,5 MM, INCLUSO IÇAMENTO - FORNECIMENTO E INSTALAÇÃO","m²",{"$f":"IF($L80>0,SUM(OFFSET(F80,1,0,$L80),0))","v":89.45},90.11,null,{"$f":"IF(ISERROR(F80),0,F80)","v":89.45},90.11,{"$f":"COUNTA($A$1:$A80)-1","v":9},{"$f":"IF(MAX(K:K)=K80,MATCH(9999999,$K:$K)+1,MATCH(K80+1,K:K,0))-ROW(L80)-2","v":7},{"$f":"IF(AND(OR(I80<>0,J80<>0),N80=\"Sim\"),\"F\",\"\")","v":"F"},"Sim",{"$f":"IF(AND($L80>0,F80<>0),ROUND(SUM(OFFSET(Q80,1,0,$L80))/F80,4),0)","v":0},0]
[null,"SINAPI",88316,{"$f":"IF(ISNUMBER($L81),OFFSET(Banco!$A$1,Composições!$L81-1,COLUMN(Composições!D81)-1),\"\")","v":"SERVENTE COM ENCARGOS COMPLEMENTARES"},{"$f":"IF(ISNUMBER($L81),OFFSET(Banco!$A$1,Composições!$L81-1,COLUMN(Composições!E81)-1),\"\")","v":"H"},{"$f":"ROUND($H81*ROUND(I81,2),2)","v":2.59},2.78,9.7000000000000003E-2,{"$f":"IF(ISNUMBER($L81),VALUE(OFFSET(Banco!$A$1,Composições!$L81-1,COLUMN(Composições!I81)-4)),0)","v":26.65},{"$f":"IF(ISNUMBER($L81),VALUE(OFFSET(Banco!$A$1,Composições!$L81-1,COLUMN(Composições!J81)-4)),0)","v":28.71},{"$f":"COUNTA($A$1:$A81)-1","v":9},{"$f":"MATCH(CONCATENATE($B81,\" \",$C81),Banco!$A:$A,0)","v":13198},{"$f":"IF(OR(ISERROR($L81),$H81=\"\",$H81=0),\"\",OFFSET(M$1,MATCH($K81,$K$1:$K81,0)-1,0))","v":"F"},null,{"$f":"IF(ISNUMBER($L81),VALUE(OFFSET(Banco!$A$1,Composições!$L81-1,COLUMN(Composições!O81)-6)),0)","v":0},{"$f":"IF(ISNUMBER($L81),VALUE(OFFSET(Banco!$A$1,Composições!$L81-1,COLUMN(Composições!P81)-6)),0)","v":0},{"$f":"ROUND(F81*O81,2)","v":0},0]
[null,"SINAPI",88323,{"$f":"IF(ISNUMBER($L82),OFFSET(Banco!$A$1,Composições!$L82-1,COLUMN(Composições!D82)-1),\"\")","v":"TELHADISTA COM ENCARGOS COMPLEMENTARES"},{"$f":"IF(ISNUMBER($L82),OFFSET(Banco!$A$1,Composições!$L82-1,COLUMN(Composições!E82)-1),\"\")","v":"H"},3.02,3.29,9.0999999999999998E-2,{"$f":"IF(ISNUMBER($L82),VALUE(OFFSET(Banco!$A$1,Composições!$L82-1,COLUMN(Composições!I82)-4)),0)","v":33.24},{"$f":"IF(ISNUMBER($L82),VALUE(OFFSET(Banco!$A$1,Composições!$L82-1,COLUMN(Composições!J82)-4)),0)","v":36.1},{"$f":"COUNTA($A$1:$A82)-1","v":9},{"$f":"MATCH(CONCATENATE($B82,\" \",$C82),Banco!$A:$A,0)","v":13207},{"$f":"IF(OR(ISERROR($L82),$H82=\"\",$H82=0),\"\",OFFSET(M$1,MATCH($K82,$K$1:$K82,0)-1,0))","v":"F"},null,{"$f":"IF(ISNUMBER($L82),VALUE(OFFSET(Banco!$A$1,Composições!$L82-1,COLUMN(Composições!O82)-6)),0)","v":0},{"$f":"IF(ISNUMBER($L82),VALUE(OFFSET(Banco!$A$1,Composições!$L82-1,COLUMN(Composições!P82)-6)),0)","v":0},0,0]
[null,"SINAPI",93281,{"$f":"IF(ISNUMBER($L83),OFFSET(Banco!$A$1,Composições!$L83-1,COLUMN(Composições!D83)-1),\"\")","v":"GUINCHO ELÉTRICO DE COLUNA, CAPACIDADE 400 KG, COM MOTO FREIO, MOTOR TRIFÁSICO DE 1,25 CV - CHP DIURNO. AF_03/2016"},{"$f":"IF(ISNUMBER($L83),OFFSET(Banco!$A$1,Composições!$L83-1,COLUMN(Composições!E83)-1),\"\")","v":"CHP"},0.03,0.04,1E-3,{"$f":"IF(ISNUMBER($L83),VALUE(OFFSET(Banco!$A$1,Composições!$L83-1,COLUMN(Composições!I83)-4)),0)","v":32.68},{"$f":"IF(ISNUMBER($L83),VALUE(OFFSET(Banco!$A$1,Composições!$L83-1,COLUMN(Composições!J83)-4)),0)","v":35.47},{"$f":"COUNTA($A$1:$A83)-1","v":9},{"$f":"MATCH(CONCATENATE($B83,\" \",$C83),Banco!$A:$A,0)","v":7686},{"$f":"IF(OR(ISERROR($L83),$H83=\"\",$H83=0),\"\",OFFSET(M$1,MATCH($K83,$K$1:$K83,0)-1,0))","v":"F"},null,{"$f":"IF(ISNUMBER($L83),VALUE(OFFSET(Banco!$A$1,Composições!$L83-1,COLUMN(Composições!O83)-6)),0)","v":0},{"$f":"IF(ISNUMBER($L83),VALUE(OFFSET(Banco!$A$1,Composições!$L83-1,COLUMN(Composições!P83)-6)),0)","v":0},0,0]
[null,"SINAPI",93282,{"$f":"IF(ISNUMBER($L84),OFFSET(Banco!$A$1,Composições!$L84-1,COLUMN(Composições!D84)-1),\"\")","v":"GUINCHO ELÉTRICO DE COLUNA, CAPACIDADE 400 KG, COM MOTO FREIO, MOTOR TRIFÁSICO DE 1,25 CV - CHI DIURNO. AF_03/2016"},{"$f":"IF(ISNUMBER($L84),OFFSET(Banco!$A$1,Composições!$L84-1,COLUMN(Composições!E84)-1),\"\")","v":"CHI"},0.05,0.05,1.5E-3,{"$f":"IF(ISNUMBER($L84),VALUE(OFFSET(Banco!$A$1,Composições!$L84-1,COLUMN(Composições!I84)-4)),0)","v":31.89},{"$f":"IF(ISNUMBER($L84),VALUE(OFFSET(Banco!$A$1,Composições!$L84-1,COLUMN(Composições!J84)-4)),0)","v":34.68},{"$f":"COUNTA($A$1:$A84)-1","v":9},{"$f":"MATCH(CONCATENATE($B84,\" \",$C84),Banco!$A:$A,0)","v":7685},{"$f":"IF(OR(ISERROR($L84),$H84=\"\",$H84=0),\"\",OFFSET(M$1,MATCH($K84,$K$1:$K84,0)-1,0))","v":"F"},null,{"$f":"IF(ISNUMBER($L84),VALUE(OFFSET(Banco!$A$1,Composições!$L84-1,COLUMN(Composições!O84)-6)),0)","v":0},{"$f":"IF(ISNUMBER($L84),VALUE(OFFSET(Banco!$A$1,Composições!$L84-1,COLUMN(Composições!P84)-6)),0)","v":0},0,0]
[null,"SINAPI",100729,{"$f":"IF(ISNUMBER($L85),OFFSET(Banco!$A$1,Composições!$L85-1,COLUMN(Composições!D85)-1),\"\")","v":"PINTURA COM TINTA EPOXÍDICA DE ACABAMENTO PULVERIZADA SOBRE PERFIL METÁLICO EXECUTADO EM FÁBRICA (POR DEMÃO). AF_01/2020_PE"},{"$f":"IF(ISNUMBER($L85),OFFSET(Banco!$A$1,Composições!$L85-1,COLUMN(Composições!E85)-1),\"\")","v":"M2"},23.38,23.57,1.1000000000000001,{"$f":"IF(ISNUMBER($L85),VALUE(OFFSET(Banco!$A$1,Composições!$L85-1,COLUMN(Composições!I85)-4)),0)","v":21.25},{"$f":"IF(ISNUMBER($L85),VALUE(OFFSET(Banco!$A$1,Composições!$L85-1,COLUMN(Composições!J85)-4)),0)","v":21.43},{"$f":"COUNTA($A$1:$A85)-1","v":9},{"$f":"MATCH(CONCATENATE($B85,\" \",$C85),Banco!$A:$A,0)","v":14025},{"$f":"IF(OR(ISERROR($L85),$H85=\"\",$H85=0),\"\",OFFSET(M$1,MATCH($K85,$K$1:$K85,0)-1,0))","v":"F"},null,{"$f":"IF(ISNUMBER($L85),VALUE(OFFSET(Banco!$A$1,Composições!$L85-1,COLUMN(Composições!O85)-6)),0)","v":0},{"$f":"IF(ISNUMBER($L85),VALUE(OFFSET(Banco!$A$1,Composições!$L85-1,COLUMN(Composições!P85)-6)),0)","v":0},0,0]
[null,"SINAPI-I",11029,{"$f":"IF(ISNUMBER($L86),OFFSET(Banco!$A$1,Composições!$L86-1,COLUMN(Composições!D86)-1),\"\")","v":"HASTE RETA PARA GANCHO DE FERRO GALVANIZADO, COM ROSCA 1/4\" X 30 CM PARA FIXACAO DE TELHA METALICA, INCLUI PORCA E ARRUELAS DE VEDACAO"},{"$f":"IF(ISNUMBER($L86),OFFSET(Banco!$A$1,Composições!$L86-1,COLUMN(Composições!E86)-1),\"\")","v":"CJ"},5.56,5.56,4.1500000000000004,{"$f":"IF(ISNUMBER($L86),VALUE(OFFSET(Banco!$A$1,Composições!$L86-1,COLUMN(Composições!I86)-4)),0)","v":1.34},{"$f":"IF(ISNUMBER($L86),VALUE(OFFSET(Banco!$A$1,Composições!$L86-1,COLUMN(Composições!J86)-4)),0)","v":1.34},{"$f":"COUNTA($A$1:$A86)-1","v":9},{"$f":"MATCH(CONCATENATE($B86,\" \",$C86),Banco!$A:$A,0)","v":2379},{"$f":"IF(OR(ISERROR($L86),$H86=\"\",$H86=0),\"\",OFFSET(M$1,MATCH($K86,$K$1:$K86,0)-1,0))","v":"F"},null,{"$f":"IF(ISNUMBER($L86),VALUE(OFFSET(Banco!$A$1,Composições!$L86-1,COLUMN(Composições!O86)-6)),0)","v":0},{"$f":"IF(ISNUMBER($L86),VALUE(OFFSET(Banco!$A$1,Composições!$L86-1,COLUMN(Composições!P86)-6)),0)","v":0},0,0]
[null,"COTAÇÃO",7243,{"$f":"IF(ISNUMBER($L87),OFFSET(Banco!$A$1,Composições!$L87-1,COLUMN(Composições!D87)-1),\"\")","v":"TELHA TRAPEZOIDAL EM ACO ZINCADO, SEM PINTURA, ALTURA DE APROXIMADAMENTE 40 MM, ESPESSURA DE 0,50 MM E LARGURA UTIL DE 980 MM"},{"$f":"IF(ISNUMBER($L87),OFFSET(Banco!$A$1,Composições!$L87-1,COLUMN(Composições!E87)-1),\"\")","v":"M2"},54.82,54.82,1.1000000000000001,{"$f":"IF(ISNUMBER($L87),VALUE(OFFSET(Banco!$A$1,Composições!$L87-1,COLUMN(Composições!I87)-4)),0)","v":49.84},{"$f":"IF(ISNUMBER($L87),VALUE(OFFSET(Banco!$A$1,Composições!$L87-1,COLUMN(Composições!J87)-4)),0)","v":49.84},{"$f":"COUNTA($A$1:$A87)-1","v":9},{"$f":"MATCH(CONCATENATE($B87,\" \",$C87),Banco!$A:$A,0)","v":109},{"$f":"IF(OR(ISERROR($L87),$H87=\"\",$H87=0),\"\",OFFSET(M$1,MATCH($K87,$K$1:$K87,0)-1,0))","v":"F"},null,{"$f":"IF(ISNUMBER($L87),VALUE(OFFSET(Banco!$A$1,Composições!$L87-1,COLUMN(Composições!O87)-6)),0)","v":0},{"$f":"IF(ISNUMBER($L87),VALUE(OFFSET(Banco!$A$1,Composições!$L87-1,COLUMN(Composições!P87)-6)),0)","v":0},0,0]
[null,null,null,null,null,null,null,null,null,null,{"$f":"COUNTA($A$1:$A88)-1","v":9},null,{"$f":"IF(OFFSET($M$1,MATCH(OFFSET(K88,-1,0),$K$1:$K88,0)-1,0)=\"F\",\"F\",\"\")","v":"F"}]
[{"$f":"CONCATENATE($B89,\" \",$C89)","v":"Composição COBE.0050.01"},"Composição","COBE.0050.01","FECHAMENTO COM TELHA TRANSLÚCIDA ONDULADA, INCLUSO IÇAMENTO - FORNECIMENTO E INSTALAÇÃO","m²",{"$f":"IF($L89>0,SUM(OFFSET(F89,1,0,$L89),0))","v":89.52000000000001},90.18,null,{"$f":"IF(ISERROR(F89),0,F89)","v":89.52000000000001},90.18,{"$f":"COUNTA($A$1:$A89)-1","v":10},{"$f":"IF(MAX(K:K)=K89,MATCH(9999999,$K:$K)+1,MATCH(K89+1,K:K,0))-ROW(L89)-2","v":7},{"$f":"IF(AND(OR(I89<>0,J89<>0),N89=\"Sim\"),\"F\",\"\")","v":"F"},"Sim",{"$f":"IF(AND($L89>0,F89<>0),ROUND(SUM(OFFSET(Q89,1,0,$L89))/F89,4),0)","v":0},0]
[null,"SINAPI",88316,{"$f":"IF(ISNUMBER($L90),OFFSET(Banco!$A$1,Composições!$L90-1,COLUMN(Composições!D90)-1),\"\")","v":"SERVENTE COM ENCARGOS COMPLEMENTARES"},{"$f":"IF(ISNUMBER($L90),OFFSET(Banco!$A$1,Composições!$L90-1,COLUMN(Composições!E90)-1),\"\")","v":"H"},{"$f":"ROUND($H90*ROUND(I90,2),2)","v":2.59},2.78,9.7000000000000003E-2,{"$f":"IF(ISNUMBER($L90),VALUE(OFFSET(Banco!$A$1,Composições!$L90-1,COLUMN(Composições!I90)-4)),0)","v":26.65},{"$f":"IF(ISNUMBER($L90),VALUE(OFFSET(Banco!$A$1,Composições!$L90-1,COLUMN(Composições!J90)-4)),0)","v":28.71},{"$f":"COUNTA($A$1:$A90)-1","v":10},{"$f":"MATCH(CONCATENATE($B90,\" \",$C90),Banco!$A:$A,0)","v":13198},{"$f":"IF(OR(ISERROR($L90),$H90=\"\",$H90=0),\"\",OFFSET(M$1,MATCH($K90,$K$1:$K90,0)-1,0))","v":"F"},null,{"$f":"IF(ISNUMBER($L90),VALUE(OFFSET(Banco!$A$1,Composições!$L90-1,COLUMN(Composições!O90)-6)),0)","v":0},{"$f":"IF(ISNUMBER($L90),VALUE(OFFSET(Banco!$A$1,Composições!$L90-1,COLUMN(Composições!P90)-6)),0)","v":0},{"$f":"ROUND(F90*O90,2)","v":0},0]
[null,"SINAPI",88323,{"$f":"IF(ISNUMBER($L91),OFFSET(Banco!$A$1,Composições!$L91-1,COLUMN(Composições!D91)-1),\"\")","v":"TELHADISTA COM ENCARGOS COMPLEMENTARES"},{"$f":"IF(ISNUMBER($L91),OFFSET(Banco!$A$1,Composições!$L91-1,COLUMN(Composições!E91)-1),\"\")","v":"H"},3.02,3.29,9.0999999999999998E-2,{"$f":"IF(ISNUMBER($L91),VALUE(OFFSET(Banco!$A$1,Composições!$L91-1,COLUMN(Composições!I91)-4)),0)","v":33.24},{"$f":"IF(ISNUMBER($L91),VALUE(OFFSET(Banco!$A$1,Composições!$L91-1,COLUMN(Composições!J91)-4)),0)","v":36.1},{"$f":"COUNTA($A$1:$A91)-1","v":10},{"$f":"MATCH(CONCATENATE($B91,\" \",$C91),Banco!$A:$A,0)","v":13207},{"$f":"IF(OR(ISERROR($L91),$H91=\"\",$H91=0),\"\",OFFSET(M$1,MATCH($K91,$K$1:$K91,0)-1,0))","v":"F"},null,{"$f":"IF(ISNUMBER($L91),VALUE(OFFSET(Banco!$A$1,Composições!$L91-1,COLUMN(Composições!O91)-6)),0)","v":0},{"$f":"IF(ISNUMBER($L91),VALUE(OFFSET(Banco!$A$1,Composições!$L91-1,COLUMN(Composições!P91)-6)),0)","v":0},0,0]
[null,"SINAPI",93281,{"$f":"IF(ISNUMBER($L92),OFFSET(Banco!$A$1,Composições!$L92-1,COLUMN(Composições!D92)-1),\"\")","v":"GUINCHO ELÉTRICO DE COLUNA, CAPACIDADE 400 KG, COM MOTO FREIO, MOTOR TRIFÁSICO DE 1,25 CV - CHP DIURNO. AF_03/2016"},{"$f":"IF(ISNUMBER($L92),OFFSET(Banco!$A$1,Composições!$L92-1,COLUMN(Composições!E92)-1),\"\")","v":"CHP"},0.03,0.04,1E-3,{"$f":"IF(ISNUMBER($L92),VALUE(OFFSET(Banco!$A$1,Composições!$L92-1,COLUMN(Composições!I92)-4)),0)","v":32.68},{"$f":"IF(ISNUMBER($L92),VALUE(OFFSET(Banco!$A$1,Composições!$L92-1,COLUMN(Composições!J92)-4)),0)","v":35.47},{"$f":"COUNTA($A$1:$A92)-1","v":10},{"$f":"MATCH(CONCATENATE($B92,\" \",$C92),Banco!$A:$A,0)","v":7686},{"$f":"IF(OR(ISERROR($L92),$H92=\"\",$H92=0),\"\",OFFSET(M$1,MATCH($K92,$K$1:$K92,0)-1,0))","v":"F"},null,{"$f":"IF(ISNUMBER($L92),VALUE(OFFSET(Banco!$A$1,Composições!$L92-1,COLUMN(Composições!O92)-6)),0)","v":0},{"$f":"IF(ISNUMBER($L92),VALUE(OFFSET(Banco!$A$1,Composições!$L92-1,COLUMN(Composições!P92)-6)),0)","v":0},0,0]
[null,"SINAPI",93282,{"$f":"IF(ISNUMBER($L93),OFFSET(Banco!$A$1,Composições!$L93-1,COLUMN(Composições!D93)-1),\"\")","v":"GUINCHO ELÉTRICO DE COLUNA, CAPACIDADE 400 KG, COM MOTO FREIO, MOTOR TRIFÁSICO DE 1,25 CV - CHI DIURNO. AF_03/2016"},{"$f":"IF(ISNUMBER($L93),OFFSET(Banco!$A$1,Composições!$L93-1,COLUMN(Composições!E93)-1),\"\")","v":"CHI"},0.05,0.05,1.5E-3,{"$f":"IF(ISNUMBER($L93),VALUE(OFFSET(Banco!$A$1,Composições!$L93-1,COLUMN(Composições!I93)-4)),0)","v":31.89},{"$f":"IF(ISNUMBER($L93),VALUE(OFFSET(Banco!$A$1,Composições!$L93-1,COLUMN(Composições!J93)-4)),0)","v":34.68},{"$f":"COUNTA($A$1:$A93)-1","v":10},{"$f":"MATCH(CONCATENATE($B93,\" \",$C93),Banco!$A:$A,0)","v":7685},{"$f":"IF(OR(ISERROR($L93),$H93=\"\",$H93=0),\"\",OFFSET(M$1,MATCH($K93,$K$1:$K93,0)-1,0))","v":"F"},null,{"$f":"IF(ISNUMBER($L93),VALUE(OFFSET(Banco!$A$1,Composições!$L93-1,COLUMN(Composições!O93)-6)),0)","v":0},{"$f":"IF(ISNUMBER($L93),VALUE(OFFSET(Banco!$A$1,Composições!$L93-1,COLUMN(Composições!P93)-6)),0)","v":0},0,0]
[null,"SINAPI",100729,{"$f":"IF(ISNUMBER($L94),OFFSET(Banco!$A$1,Composições!$L94-1,COLUMN(Composições!D94)-1),\"\")","v":"PINTURA COM TINTA EPOXÍDICA DE ACABAMENTO PULVERIZADA SOBRE PERFIL METÁLICO EXECUTADO EM FÁBRICA (POR DEMÃO). AF_01/2020_PE"},{"$f":"IF(ISNUMBER($L94),OFFSET(Banco!$A$1,Composições!$L94-1,COLUMN(Composições!E94)-1),\"\")","v":"M2"},23.38,23.57,1.1000000000000001,{"$f":"IF(ISNUMBER($L94),VALUE(OFFSET(Banco!$A$1,Composições!$L94-1,COLUMN(Composições!I94)-4)),0)","v":21.25},{"$f":"IF(ISNUMBER($L94),VALUE(OFFSET(Banco!$A$1,Composições!$L94-1,COLUMN(Composições!J94)-4)),0)","v":21.43},{"$f":"COUNTA($A$1:$A94)-1","v":10},{"$f":"MATCH(CONCATENATE($B94,\" \",$C94),Banco!$A:$A,0)","v":14025},{"$f":"IF(OR(ISERROR($L94),$H94=\"\",$H94=0),\"\",OFFSET(M$1,MATCH($K94,$K$1:$K94,0)-1,0))","v":"F"},null,{"$f":"IF(ISNUMBER($L94),VALUE(OFFSET(Banco!$A$1,Composições!$L94-1,COLUMN(Composições!O94)-6)),0)","v":0},{"$f":"IF(ISNUMBER($L94),VALUE(OFFSET(Banco!$A$1,Composições!$L94-1,COLUMN(Composições!P94)-6)),0)","v":0},0,0]
[null,"SINAPI-I",11029,{"$f":"IF(ISNUMBER($L95),OFFSET(Banco!$A$1,Composições!$L95-1,COLUMN(Composições!D95)-1),\"\")","v":"HASTE RETA PARA GANCHO DE FERRO GALVANIZADO, COM ROSCA 1/4\" X 30 CM PARA FIXACAO DE TELHA METALICA, INCLUI PORCA E ARRUELAS DE VEDACAO"},{"$f":"IF(ISNUMBER($L95),OFFSET(Banco!$A$1,Composições!$L95-1,COLUMN(Composições!E95)-1),\"\")","v":"CJ"},5.56,5.56,4.1500000000000004,{"$f":"IF(ISNUMBER($L95),VALUE(OFFSET(Banco!$A$1,Composições!$L95-1,COLUMN(Composições!I95)-4)),0)","v":1.34},{"$f":"IF(ISNUMBER($L95),VALUE(OFFSET(Banco!$A$1,Composições!$L95-1,COLUMN(Composições!J95)-4)),0)","v":1.34},{"$f":"COUNTA($A$1:$A95)-1","v":10},{"$f":"MATCH(CONCATENATE($B95,\" \",$C95),Banco!$A:$A,0)","v":2379},{"$f":"IF(OR(ISERROR($L95),$H95=\"\",$H95=0),\"\",OFFSET(M$1,MATCH($K95,$K$1:$K95,0)-1,0))","v":"F"},null,{"$f":"IF(ISNUMBER($L95),VALUE(OFFSET(Banco!$A$1,Composições!$L95-1,COLUMN(Composições!O95)-6)),0)","v":0},{"$f":"IF(ISNUMBER($L95),VALUE(OFFSET(Banco!$A$1,Composições!$L95-1,COLUMN(Composições!P95)-6)),0)","v":0},0,0]
[null,"SINAPI-I",7184,{"$f":"IF(ISNUMBER($L96),OFFSET(Banco!$A$1,Composições!$L96-1,COLUMN(Composições!D96)-1),\"\")","v":"TELHA DE FIBRA DE VIDRO ONDULADA, TRANSLUCIDA / INCOLOR, E = *0,6* MM, DE *0,50 X 2,44* M (L X C)"},{"$f":"IF(ISNUMBER($L96),OFFSET(Banco!$A$1,Composições!$L96-1,COLUMN(Composições!E96)-1),\"\")","v":"M2"},54.89,54.89,1.1000000000000001,{"$f":"IF(ISNUMBER($L96),VALUE(OFFSET(Banco!$A$1,Composições!$L96-1,COLUMN(Composições!I96)-4)),0)","v":49.9},{"$f":"IF(ISNUMBER($L96),VALUE(OFFSET(Banco!$A$1,Composições!$L96-1,COLUMN(Composições!J96)-4)),0)","v":49.9},{"$f":"COUNTA($A$1:$A96)-1","v":10},{"$f":"MATCH(CONCATENATE($B96,\" \",$C96),Banco!$A:$A,0)","v":4313},{"$f":"IF(OR(ISERROR($L96),$H96=\"\",$H96=0),\"\",OFFSET(M$1,MATCH($K96,$K$1:$K96,0)-1,0))","v":"F"},null,{"$f":"IF(ISNUMBER($L96),VALUE(OFFSET(Banco!$A$1,Composições!$L96-1,COLUMN(Composições!O96)-6)),0)","v":0},{"$f":"IF(ISNUMBER($L96),VALUE(OFFSET(Banco!$A$1,Composições!$L96-1,COLUMN(Composições!P96)-6)),0)","v":0},0,0]
[null,null,null,null,null,null,null,null,null,null,{"$f":"COUNTA($A$1:$A97)-1","v":10},null,{"$f":"IF(OFFSET($M$1,MATCH(OFFSET(K97,-1,0),$K$1:$K97,0)-1,0)=\"F\",\"F\",\"\")","v":"F"}]
[{"$f":"CONCATENATE($B98,\" \",$C98)","v":"Composição COBE.0054.01"},"Composição","COBE.0054.01","PERFIL DE ACABAMENTO, EM CHAPA PRÉ-PINTADA DE FÁBRICA, E = 0,5 MM, CORTE 15 CM, INCLUSO IÇAMENTO - FORNECIMENTO E INSTALAÇÃO","M",{"$f":"IF($L98>0,SUM(OFFSET(F98,1,0,$L98),0))","v":28.57},29.589999999999996,null,{"$f":"IF(ISERROR(F98),0,F98)","v":28.57},29.589999999999996,{"$f":"COUNTA($A$1:$A98)-1","v":11},{"$f":"IF(MAX(K:K)=K98,MATCH(9999999,$K:$K)+1,MATCH(K98+1,K:K,0))-ROW(L98)-2","v":7},{"$f":"IF(AND(OR(I98<>0,J98<>0),N98=\"Sim\"),\"F\",\"\")","v":"F"},"Sim",{"$f":"IF(AND($L98>0,F98<>0),ROUND(SUM(OFFSET(Q98,1,0,$L98))/F98,4),0)","v":0},0]
[null,"SINAPI",88316,{"$f":"IF(ISNUMBER($L99),OFFSET(Banco!$A$1,Composições!$L99-1,COLUMN(Composições!D99)-1),\"\")","v":"SERVENTE COM ENCARGOS COMPLEMENTARES"},{"$f":"IF(ISNUMBER($L99),OFFSET(Banco!$A$1,Composições!$L99-1,COLUMN(Composições!E99)-1),\"\")","v":"H"},{"$f":"ROUND($H99*ROUND(I99,2),2)","v":5.33},5.74,0.2,{"$f":"IF(ISNUMBER($L99),VALUE(OFFSET(Banco!$A$1,Composições!$L99-1,COLUMN(Composições!I99)-4)),0)","v":26.65},{"$f":"IF(ISNUMBER($L99),VALUE(OFFSET(Banco!$A$1,Composições!$L99-1,COLUMN(Composições!J99)-4)),0)","v":28.71},{"$f":"COUNTA($A$1:$A99)-1","v":11},{"$f":"MATCH(CONCATENATE($B99,\" \",$C99),Banco!$A:$A,0)","v":13198},{"$f":"IF(OR(ISERROR($L99),$H99=\"\",$H99=0),\"\",OFFSET(M$1,MATCH($K99,$K$1:$K99,0)-1,0))","v":"F"},null,{"$f":"IF(ISNUMBER($L99),VALUE(OFFSET(Banco!$A$1,Composições!$L99-1,COLUMN(Composições!O99)-6)),0)","v":0},{"$f":"IF(ISNUMBER($L99),VALUE(OFFSET(Banco!$A$1,Composições!$L99-1,COLUMN(Composições!P99)-6)),0)","v":0},{"$f":"ROUND(F99*O99,2)","v":0},0]
[null,"SINAPI",88323,{"$f":"IF(ISNUMBER($L100),OFFSET(Banco!$A$1,Composições!$L100-1,COLUMN(Composições!D100)-1),\"\")","v":"TELHADISTA COM ENCARGOS COMPLEMENTARES"},{"$f":"IF(ISNUMBER($L100),OFFSET(Banco!$A$1,Composições!$L100-1,COLUMN(Composições!E100)-1),\"\")","v":"H"},3.32,3.61,0.1,{"$f":"IF(ISNUMBER($L100),VALUE(OFFSET(Banco!$A$1,Composições!$L100-1,COLUMN(Composições!I100)-4)),0)","v":33.24},{"$f":"IF(ISNUMBER($L100),VALUE(OFFSET(Banco!$A$1,Composições!$L100-1,COLUMN(Composições!J100)-4)),0)","v":36.1},{"$f":"COUNTA($A$1:$A100)-1","v":11},{"$f":"MATCH(CONCATENATE($B100,\" \",$C100),Banco!$A:$A,0)","v":13207},{"$f":"IF(OR(ISERROR($L100),$H100=\"\",$H100=0),\"\",OFFSET(M$1,MATCH($K100,$K$1:$K100,0)-1,0))","v":"F"},null,{"$f":"IF(ISNUMBER($L100),VALUE(OFFSET(Banco!$A$1,Composições!$L100-1,COLUMN(Composições!O100)-6)),0)","v":0},{"$f":"IF(ISNUMBER($L100),VALUE(OFFSET(Banco!$A$1,Composições!$L100-1,COLUMN(Composições!P100)-6)),0)","v":0},0,0]
[null,"SINAPI",88315,{"$f":"IF(ISNUMBER($L101),OFFSET(Banco!$A$1,Composições!$L101-1,COLUMN(Composições!D101)-1),\"\")","v":"SERRALHEIRO COM ENCARGOS COMPLEMENTARES"},{"$f":"IF(ISNUMBER($L101),OFFSET(Banco!$A$1,Composições!$L101-1,COLUMN(Composições!E101)-1),\"\")","v":"H"},3.38,3.67,0.1,{"$f":"IF(ISNUMBER($L101),VALUE(OFFSET(Banco!$A$1,Composições!$L101-1,COLUMN(Composições!I101)-4)),0)","v":33.75},{"$f":"IF(ISNUMBER($L101),VALUE(OFFSET(Banco!$A$1,Composições!$L101-1,COLUMN(Composições!J101)-4)),0)","v":36.65},{"$f":"COUNTA($A$1:$A101)-1","v":11},{"$f":"MATCH(CONCATENATE($B101,\" \",$C101),Banco!$A:$A,0)","v":13196},{"$f":"IF(OR(ISERROR($L101),$H101=\"\",$H101=0),\"\",OFFSET(M$1,MATCH($K101,$K$1:$K101,0)-1,0))","v":"F"},null,{"$f":"IF(ISNUMBER($L101),VALUE(OFFSET(Banco!$A$1,Composições!$L101-1,COLUMN(Composições!O101)-6)),0)","v":0},{"$f":"IF(ISNUMBER($L101),VALUE(OFFSET(Banco!$A$1,Composições!$L101-1,COLUMN(Composições!P101)-6)),0)","v":0},0,0]
[null,"SINAPI",100729,{"$f":"IF(ISNUMBER($L102),OFFSET(Banco!$A$1,Composições!$L102-1,COLUMN(Composições!D102)-1),\"\")","v":"PINTURA COM TINTA EPOXÍDICA DE ACABAMENTO PULVERIZADA SOBRE PERFIL METÁLICO EXECUTADO EM FÁBRICA (POR DEMÃO). AF_01/2020_PE"},{"$f":"IF(ISNUMBER($L102),OFFSET(Banco!$A$1,Composições!$L102-1,COLUMN(Composições!E102)-1),\"\")","v":"M2"},3.51,3.54,0.16500000000000001,{"$f":"IF(ISNUMBER($L102),VALUE(OFFSET(Banco!$A$1,Composições!$L102-1,COLUMN(Composições!I102)-4)),0)","v":21.25},{"$f":"IF(ISNUMBER($L102),VALUE(OFFSET(Banco!$A$1,Composições!$L102-1,COLUMN(Composições!J102)-4)),0)","v":21.43},{"$f":"COUNTA($A$1:$A102)-1","v":11},{"$f":"MATCH(CONCATENATE($B102,\" \",$C102),Banco!$A:$A,0)","v":14025},{"$f":"IF(OR(ISERROR($L102),$H102=\"\",$H102=0),\"\",OFFSET(M$1,MATCH($K102,$K$1:$K102,0)-1,0))","v":"F"},null,{"$f":"IF(ISNUMBER($L102),VALUE(OFFSET(Banco!$A$1,Composições!$L102-1,COLUMN(Composições!O102)-6)),0)","v":0},{"$f":"IF(ISNUMBER($L102),VALUE(OFFSET(Banco!$A$1,Composições!$L102-1,COLUMN(Composições!P102)-6)),0)","v":0},0,0]
[null,"SINAPI-I",5061,{"$f":"IF(ISNUMBER($L103),OFFSET(Banco!$A$1,Composições!$L103-1,COLUMN(Composições!D103)-1),\"\")","v":"PREGO DE ACO POLIDO COM CABECA 18 X 27 (2 1/2 X 10)"},{"$f":"IF(ISNUMBER($L103),OFFSET(Banco!$A$1,Composições!$L103-1,COLUMN(Composições!E103)-1),\"\")","v":"KG"},0.95,0.95,0.06,{"$f":"IF(ISNUMBER($L103),VALUE(OFFSET(Banco!$A$1,Composições!$L103-1,COLUMN(Composições!I103)-4)),0)","v":15.76},{"$f":"IF(ISNUMBER($L103),VALUE(OFFSET(Banco!$A$1,Composições!$L103-1,COLUMN(Composições!J103)-4)),0)","v":15.76},{"$f":"COUNTA($A$1:$A103)-1","v":11},{"$f":"MATCH(CONCATENATE($B103,\" \",$C103),Banco!$A:$A,0)","v":3720},{"$f":"IF(OR(ISERROR($L103),$H103=\"\",$H103=0),\"\",OFFSET(M$1,MATCH($K103,$K$1:$K103,0)-1,0))","v":"F"},null,{"$f":"IF(ISNUMBER($L103),VALUE(OFFSET(Banco!$A$1,Composições!$L103-1,COLUMN(Composições!O103)-6)),0)","v":0},{"$f":"IF(ISNUMBER($L103),VALUE(OFFSET(Banco!$A$1,Composições!$L103-1,COLUMN(Composições!P103)-6)),0)","v":0},0,0]
[null,"SINAPI-I",5104,{"$f":"IF(ISNUMBER($L104),OFFSET(Banco!$A$1,Composições!$L104-1,COLUMN(Composições!D104)-1),\"\")","v":"REBITE DE REPUXO EM ALUMINIO VAZADO, DIAMETRO 3,2 X 8 MM DE COMPRIMENTO (1KG = 1025 UNIDADES)"},{"$f":"IF(ISNUMBER($L104),OFFSET(Banco!$A$1,Composições!$L104-1,COLUMN(Composições!E104)-1),\"\")","v":"KG"},4.59,4.59,0.05,{"$f":"IF(ISNUMBER($L104),VALUE(OFFSET(Banco!$A$1,Composições!$L104-1,COLUMN(Composições!I104)-4)),0)","v":91.71},{"$f":"IF(ISNUMBER($L104),VALUE(OFFSET(Banco!$A$1,Composições!$L104-1,COLUMN(Composições!J104)-4)),0)","v":91.71},{"$f":"COUNTA($A$1:$A104)-1","v":11},{"$f":"MATCH(CONCATENATE($B104,\" \",$C104),Banco!$A:$A,0)","v":3803},{"$f":"IF(OR(ISERROR($L104),$H104=\"\",$H104=0),\"\",OFFSET(M$1,MATCH($K104,$K$1:$K104,0)-1,0))","v":"F"},null,{"$f":"IF(ISNUMBER($L104),VALUE(OFFSET(Banco!$A$1,Composições!$L104-1,COLUMN(Composições!O104)-6)),0)","v":0},{"$f":"IF(ISNUMBER($L104),VALUE(OFFSET(Banco!$A$1,Composições!$L104-1,COLUMN(Composições!P104)-6)),0)","v":0},0,0]
[null,"COTAÇÃO",11051,{"$f":"IF(ISNUMBER($L105),OFFSET(Banco!$A$1,Composições!$L105-1,COLUMN(Composições!D105)-1),\"\")","v":"CHAPA DE ACO GALVANIZADA BITOLA GSG 26, E = 0,50 MM (4,00 KG/M2)"},{"$f":"IF(ISNUMBER($L105),OFFSET(Banco!$A$1,Composições!$L105-1,COLUMN(Composições!E105)-1),\"\")","v":"KG"},7.49,7.49,0.66,{"$f":"IF(ISNUMBER($L105),VALUE(OFFSET(Banco!$A$1,Composições!$L105-1,COLUMN(Composições!I105)-4)),0)","v":11.35},{"$f":"IF(ISNUMBER($L105),VALUE(OFFSET(Banco!$A$1,Composições!$L105-1,COLUMN(Composições!J105)-4)),0)","v":11.35},{"$f":"COUNTA($A$1:$A105)-1","v":11},{"$f":"MATCH(CONCATENATE($B105,\" \",$C105),Banco!$A:$A,0)","v":117},{"$f":"IF(OR(ISERROR($L105),$H105=\"\",$H105=0),\"\",OFFSET(M$1,MATCH($K105,$K$1:$K105,0)-1,0))","v":"F"},null,{"$f":"IF(ISNUMBER($L105),VALUE(OFFSET(Banco!$A$1,Composições!$L105-1,COLUMN(Composições!O105)-6)),0)","v":0},{"$f":"IF(ISNUMBER($L105),VALUE(OFFSET(Banco!$A$1,Composições!$L105-1,COLUMN(Composições!P105)-6)),0)","v":0},0,0]
[null,null,null,null,null,null,null,null,null,null,{"$f":"COUNTA($A$1:$A106)-1","v":11},null,{"$f":"IF(OFFSET($M$1,MATCH(OFFSET(K106,-1,0),$K$1:$K106,0)-1,0)=\"F\",\"F\",\"\")","v":"F"}]
[{"$f":"CONCATENATE($B107,\" \",$C107)","v":"Composição COBE.0038.01"},"Composição","COBE.0038.01","RUFO DE ACABAMENTO, EM CHAPA PRÉ-PINTADA DE FÁBRICA, E = 0,5 MM, CORTE 20 CM, INCLUSO IÇAMENTO - FORNECIMENTO E INSTALAÇÃO","m",{"$f":"IF($L107>0,SUM(OFFSET(F107,1,0,$L107),0))","v":32.33},33.36,null,{"$f":"IF(ISERROR(F107),0,F107)","v":32.33},33.36,{"$f":"COUNTA($A$1:$A107)-1","v":12},{"$f":"IF(MAX(K:K)=K107,MATCH(9999999,$K:$K)+1,MATCH(K107+1,K:K,0))-ROW(L107)-2","v":9},{"$f":"IF(AND(OR(I107<>0,J107<>0),N107=\"Sim\"),\"F\",\"\")","v":"F"},"Sim",{"$f":"IF(AND($L107>0,F107<>0),ROUND(SUM(OFFSET(Q107,1,0,$L107))/F107,4),0)","v":0},0]
[null,"SINAPI",88316,{"$f":"IF(ISNUMBER($L108),OFFSET(Banco!$A$1,Composições!$L108-1,COLUMN(Composições!D108)-1),\"\")","v":"SERVENTE COM ENCARGOS COMPLEMENTARES"},{"$f":"IF(ISNUMBER($L108),OFFSET(Banco!$A$1,Composições!$L108-1,COLUMN(Composições!E108)-1),\"\")","v":"H"},{"$f":"ROUND($H108*ROUND(I108,2),2)","v":5.33},{"$f":"ROUND($H108*ROUND(J108,2),2)","v":5.74},0.2,{"$f":"IF(ISNUMBER($L108),VALUE(OFFSET(Banco!$A$1,Composições!$L108-1,COLUMN(Composições!I108)-4)),0)","v":26.65},{"$f":"IF(ISNUMBER($L108),VALUE(OFFSET(Banco!$A$1,Composições!$L108-1,COLUMN(Composições!J108)-4)),0)","v":28.71},{"$f":"COUNTA($A$1:$A108)-1","v":12},{"$f":"MATCH(CONCATENATE($B108,\" \",$C108),Banco!$A:$A,0)","v":13198},{"$f":"IF(OR(ISERROR($L108),$H108=\"\",$H108=0),\"\",OFFSET(M$1,MATCH($K108,$K$1:$K108,0)-1,0))","v":"F"},null,{"$f":"IF(ISNUMBER($L108),VALUE(OFFSET(Banco!$A$1,Composições!$L108-1,COLUMN(Composições!O108)-6)),0)","v":0},{"$f":"IF(ISNUMBER($L108),VALUE(OFFSET(Banco!$A$1,Composições!$L108-1,COLUMN(Composições!P108)-6)),0)","v":0},{"$f":"ROUND(F108*O108,2)","v":0},{"$f":"ROUND(G108*P108,2)","v":0}]
[null,"SINAPI",88323,{"$f":"IF(ISNUMBER($L109),OFFSET(Banco!$A$1,Composições!$L109-1,COLUMN(Composições!D109)-1),\"\")","v":"TELHADISTA COM ENCARGOS COMPLEMENTARES"},{"$f":"IF(ISNUMBER($L109),OFFSET(Banco!$A$1,Composições!$L109-1,COLUMN(Composições!E109)-1),\"\")","v":"H"},3.32,3.61,0.1,{"$f":"IF(ISNUMBER($L109),VALUE(OFFSET(Banco!$A$1,Composições!$L109-1,COLUMN(Composições!I109)-4)),0)","v":33.24},{"$f":"IF(ISNUMBER($L109),VALUE(OFFSET(Banco!$A$1,Composições!$L109-1,COLUMN(Composições!J109)-4)),0)","v":36.1},{"$f":"COUNTA($A$1:$A109)-1","v":12},{"$f":"MATCH(CONCATENATE($B109,\" \",$C109),Banco!$A:$A,0)","v":13207},{"$f":"IF(OR(ISERROR($L109),$H109=\"\",$H109=0),\"\",OFFSET(M$1,MATCH($K109,$K$1:$K109,0)-1,0))","v":"F"},null,{"$f":"IF(ISNUMBER($L109),VALUE(OFFSET(Banco!$A$1,Composições!$L109-1,COLUMN(Composições!O109)-6)),0)","v":0},{"$f":"IF(ISNUMBER($L109),VALUE(OFFSET(Banco!$A$1,Composições!$L109-1,COLUMN(Composições!P109)-6)),0)","v":0},0,0]
[null,"SINAPI",93281,{"$f":"IF(ISNUMBER($L110),OFFSET(Banco!$A$1,Composições!$L110-1,COLUMN(Composições!D110)-1),\"\")","v":"GUINCHO ELÉTRICO DE COLUNA, CAPACIDADE 400 KG, COM MOTO FREIO, MOTOR TRIFÁSICO DE 1,25 CV - CHP DIURNO. AF_03/2016"},{"$f":"IF(ISNUMBER($L110),OFFSET(Banco!$A$1,Composições!$L110-1,COLUMN(Composições!E110)-1),\"\")","v":"CHP"},0.04,0.05,1.2999999999999999E-3,{"$f":"IF(ISNUMBER($L110),VALUE(OFFSET(Banco!$A$1,Composições!$L110-1,COLUMN(Composições!I110)-4)),0)","v":32.68},{"$f":"IF(ISNUMBER($L110),VALUE(OFFSET(Banco!$A$1,Composições!$L110-1,COLUMN(Composições!J110)-4)),0)","v":35.47},{"$f":"COUNTA($A$1:$A110)-1","v":12},{"$f":"MATCH(CONCATENATE($B110,\" \",$C110),Banco!$A:$A,0)","v":7686},{"$f":"IF(OR(ISERROR($L110),$H110=\"\",$H110=0),\"\",OFFSET(M$1,MATCH($K110,$K$1:$K110,0)-1,0))","v":"F"},null,{"$f":"IF(ISNUMBER($L110),VALUE(OFFSET(Banco!$A$1,Composições!$L110-1,COLUMN(Composições!O110)-6)),0)","v":0},{"$f":"IF(ISNUMBER($L110),VALUE(OFFSET(Banco!$A$1,Composições!$L110-1,COLUMN(Composições!P110)-6)),0)","v":0},0,0]
[null,"SINAPI",93282,{"$f":"IF(ISNUMBER($L111),OFFSET(Banco!$A$1,Composições!$L111-1,COLUMN(Composições!D111)-1),\"\")","v":"GUINCHO ELÉTRICO DE COLUNA, CAPACIDADE 400 KG, COM MOTO FREIO, MOTOR TRIFÁSICO DE 1,25 CV - CHI DIURNO. AF_03/2016"},{"$f":"IF(ISNUMBER($L111),OFFSET(Banco!$A$1,Composições!$L111-1,COLUMN(Composições!E111)-1),\"\")","v":"CHI"},0.05,0.05,1.5E-3,{"$f":"IF(ISNUMBER($L111),VALUE(OFFSET(Banco!$A$1,Composições!$L111-1,COLUMN(Composições!I111)-4)),0)","v":31.89},{"$f":"IF(ISNUMBER($L111),VALUE(OFFSET(Banco!$A$1,Composições!$L111-1,COLUMN(Composições!J111)-4)),0)","v":34.68},{"$f":"COUNTA($A$1:$A111)-1","v":12},{"$f":"MATCH(CONCATENATE($B111,\" \",$C111),Banco!$A:$A,0)","v":7685},{"$f":"IF(OR(ISERROR($L111),$H111=\"\",$H111=0),\"\",OFFSET(M$1,MATCH($K111,$K$1:$K111,0)-1,0))","v":"F"},null,{"$f":"IF(ISNUMBER($L111),VALUE(OFFSET(Banco!$A$1,Composições!$L111-1,COLUMN(Composições!O111)-6)),0)","v":0},{"$f":"IF(ISNUMBER($L111),VALUE(OFFSET(Banco!$A$1,Composições!$L111-1,COLUMN(Composições!P111)-6)),0)","v":0},0,0]
[null,"SINAPI",88315,{"$f":"IF(ISNUMBER($L112),OFFSET(Banco!$A$1,Composições!$L112-1,COLUMN(Composições!D112)-1),\"\")","v":"SERRALHEIRO COM ENCARGOS COMPLEMENTARES"},{"$f":"IF(ISNUMBER($L112),OFFSET(Banco!$A$1,Composições!$L112-1,COLUMN(Composições!E112)-1),\"\")","v":"H"},3.38,3.67,0.1,{"$f":"IF(ISNUMBER($L112),VALUE(OFFSET(Banco!$A$1,Composições!$L112-1,COLUMN(Composições!I112)-4)),0)","v":33.75},{"$f":"IF(ISNUMBER($L112),VALUE(OFFSET(Banco!$A$1,Composições!$L112-1,COLUMN(Composições!J112)-4)),0)","v":36.65},{"$f":"COUNTA($A$1:$A112)-1","v":12},{"$f":"MATCH(CONCATENATE($B112,\" \",$C112),Banco!$A:$A,0)","v":13196},{"$f":"IF(OR(ISERROR($L112),$H112=\"\",$H112=0),\"\",OFFSET(M$1,MATCH($K112,$K$1:$K112,0)-1,0))","v":"F"},null,{"$f":"IF(ISNUMBER($L112),VALUE(OFFSET(Banco!$A$1,Composições!$L112-1,COLUMN(Composições!O112)-6)),0)","v":0},{"$f":"IF(ISNUMBER($L112),VALUE(OFFSET(Banco!$A$1,Composições!$L112-1,COLUMN(Composições!P112)-6)),0)","v":0},0,0]
[null,"SINAPI",100729,{"$f":"IF(ISNUMBER($L113),OFFSET(Banco!$A$1,Composições!$L113-1,COLUMN(Composições!D113)-1),\"\")","v":"PINTURA COM TINTA EPOXÍDICA DE ACABAMENTO PULVERIZADA SOBRE PERFIL METÁLICO EXECUTADO EM FÁBRICA (POR DEMÃO). AF_01/2020_PE"},{"$f":"IF(ISNUMBER($L113),OFFSET(Banco!$A$1,Composições!$L113-1,COLUMN(Composições!E113)-1),\"\")","v":"M2"},4.68,4.71,0.22,{"$f":"IF(ISNUMBER($L113),VALUE(OFFSET(Banco!$A$1,Composições!$L113-1,COLUMN(Composições!I113)-4)),0)","v":21.25},{"$f":"IF(ISNUMBER($L113),VALUE(OFFSET(Banco!$A$1,Composições!$L113-1,COLUMN(Composições!J113)-4)),0)","v":21.43},{"$f":"COUNTA($A$1:$A113)-1","v":12},{"$f":"MATCH(CONCATENATE($B113,\" \",$C113),Banco!$A:$A,0)","v":14025},{"$f":"IF(OR(ISERROR($L113),$H113=\"\",$H113=0),\"\",OFFSET(M$1,MATCH($K113,$K$1:$K113,0)-1,0))","v":"F"},null,{"$f":"IF(ISNUMBER($L113),VALUE(OFFSET(Banco!$A$1,Composições!$L113-1,COLUMN(Composições!O113)-6)),0)","v":0},{"$f":"IF(ISNUMBER($L113),VALUE(OFFSET(Banco!$A$1,Composições!$L113-1,COLUMN(Composições!P113)-6)),0)","v":0},0,0]
[null,"SINAPI-I",5061,{"$f":"IF(ISNUMBER($L114),OFFSET(Banco!$A$1,Composições!$L114-1,COLUMN(Composições!D114)-1),\"\")","v":"PREGO DE ACO POLIDO COM CABECA 18 X 27 (2 1/2 X 10)"},{"$f":"IF(ISNUMBER($L114),OFFSET(Banco!$A$1,Composições!$L114-1,COLUMN(Composições!E114)-1),\"\")","v":"KG"},0.95,0.95,0.06,{"$f":"IF(ISNUMBER($L114),VALUE(OFFSET(Banco!$A$1,Composições!$L114-1,COLUMN(Composições!I114)-4)),0)","v":15.76},{"$f":"IF(ISNUMBER($L114),VALUE(OFFSET(Banco!$A$1,Composições!$L114-1,COLUMN(Composições!J114)-4)),0)","v":15.76},{"$f":"COUNTA($A$1:$A114)-1","v":12},{"$f":"MATCH(CONCATENATE($B114,\" \",$C114),Banco!$A:$A,0)","v":3720},{"$f":"IF(OR(ISERROR($L114),$H114=\"\",$H114=0),\"\",OFFSET(M$1,MATCH($K114,$K$1:$K114,0)-1,0))","v":"F"},null,{"$f":"IF(ISNUMBER($L114),VALUE(OFFSET(Banco!$A$1,Composições!$L114-1,COLUMN(Composições!O114)-6)),0)","v":0},{"$f":"IF(ISNUMBER($L114),VALUE(OFFSET(Banco!$A$1,Composições!$L114-1,COLUMN(Composições!P114)-6)),0)","v":0},0,0]
[null,"SINAPI-I",5104,{"$f":"IF(ISNUMBER($L115),OFFSET(Banco!$A$1,Composições!$L115-1,COLUMN(Composições!D115)-1),\"\")","v":"REBITE DE REPUXO EM ALUMINIO VAZADO, DIAMETRO 3,2 X 8 MM DE COMPRIMENTO (1KG = 1025 UNIDADES)"},{"$f":"IF(ISNUMBER($L115),OFFSET(Banco!$A$1,Composições!$L115-1,COLUMN(Composições!E115)-1),\"\")","v":"KG"},4.59,4.59,0.05,{"$f":"IF(ISNUMBER($L115),VALUE(OFFSET(Banco!$A$1,Composições!$L115-1,COLUMN(Composições!I115)-4)),0)","v":91.71},{"$f":"IF(ISNUMBER($L115),VALUE(OFFSET(Banco!$A$1,Composições!$L115-1,COLUMN(Composições!J115)-4)),0)","v":91.71},{"$f":"COUNTA($A$1:$A115)-1","v":12},{"$f":"MATCH(CONCATENATE($B115,\" \",$C115),Banco!$A:$A,0)","v":3803},{"$f":"IF(OR(ISERROR($L115),$H115=\"\",$H115=0),\"\",OFFSET(M$1,MATCH($K115,$K$1:$K115,0)-1,0))","v":"F"},null,{"$f":"IF(ISNUMBER($L115),VALUE(OFFSET(Banco!$A$1,Composições!$L115-1,COLUMN(Composições!O115)-6)),0)","v":0},{"$f":"IF(ISNUMBER($L115),VALUE(OFFSET(Banco!$A$1,Composições!$L115-1,COLUMN(Composições!P115)-6)),0)","v":0},0,0]
[null,"COTAÇÃO",11051,{"$f":"IF(ISNUMBER($L116),OFFSET(Banco!$A$1,Composições!$L116-1,COLUMN(Composições!D116)-1),\"\")","v":"CHAPA DE ACO GALVANIZADA BITOLA GSG 26, E = 0,50 MM (4,00 KG/M2)"},{"$f":"IF(ISNUMBER($L116),OFFSET(Banco!$A$1,Composições!$L116-1,COLUMN(Composições!E116)-1),\"\")","v":"KG"},9.99,9.99,0.88,{"$f":"IF(ISNUMBER($L116),VALUE(OFFSET(Banco!$A$1,Composições!$L116-1,COLUMN(Composições!I116)-4)),0)","v":11.35},{"$f":"IF(ISNUMBER($L116),VALUE(OFFSET(Banco!$A$1,Composições!$L116-1,COLUMN(Composições!J116)-4)),0)","v":11.35},{"$f":"COUNTA($A$1:$A116)-1","v":12},{"$f":"MATCH(CONCATENATE($B116,\" \",$C116),Banco!$A:$A,0)","v":117},{"$f":"IF(OR(ISERROR($L116),$H116=\"\",$H116=0),\"\",OFFSET(M$1,MATCH($K116,$K$1:$K116,0)-1,0))","v":"F"},null,{"$f":"IF(ISNUMBER($L116),VALUE(OFFSET(Banco!$A$1,Composições!$L116-1,COLUMN(Composições!O116)-6)),0)","v":0},{"$f":"IF(ISNUMBER($L116),VALUE(OFFSET(Banco!$A$1,Composições!$L116-1,COLUMN(Composições!P116)-6)),0)","v":0},0,0]
[null,null,null,null,null,null,null,null,null,null,{"$f":"COUNTA($A$1:$A117)-1","v":12},null,{"$f":"IF(OFFSET($M$1,MATCH(OFFSET(K117,-1,0),$K$1:$K117,0)-1,0)=\"F\",\"F\",\"\")","v":"F"}]
[{"$f":"CONCATENATE($B118,\" \",$C118)","v":"Composição ESQV.0187.01"},"Composição","ESQV.0187.01","TELA DE ARAME GALVANIZADA QUADRANGULAR / LOSANGULAR, FIO 18 BWG, MALHA 19MM, REVESTIDO EM PVC, PARA FECHAMENTO DE BEIRAL E LANTERNIM ESTRUTURADA POR TUBOS DE ACO 30X30MM, INCLUSIVE PINTURA DO PERFIL - FORNECIMENTO E INSTALAÇÃO","m²",{"$f":"IF($L118>0,SUM(OFFSET(F118,1,0,$L118),0))","v":230.21},232.64000000000001,null,{"$f":"IF(ISERROR(F118),0,F118)","v":230.21},232.64000000000001,{"$f":"COUNTA($A$1:$A118)-1","v":13},{"$f":"IF(MAX(K:K)=K118,MATCH(9999999,$K:$K)+1,MATCH(K118+1,K:K,0))-ROW(L118)-2","v":6},{"$f":"IF(AND(OR(I118<>0,J118<>0),N118=\"Sim\"),\"F\",\"\")","v":"F"},"Sim",{"$f":"IF(AND($L118>0,F118<>0),ROUND(SUM(OFFSET(Q118,1,0,$L118))/F118,4),0)","v":0},0]
[null,"SINAPI",88315,{"$f":"IF(ISNUMBER($L119),OFFSET(Banco!$A$1,Composições!$L119-1,COLUMN(Composições!D119)-1),\"\")","v":"SERRALHEIRO COM ENCARGOS COMPLEMENTARES"},{"$f":"IF(ISNUMBER($L119),OFFSET(Banco!$A$1,Composições!$L119-1,COLUMN(Composições!E119)-1),\"\")","v":"H"},{"$f":"ROUND($H119*ROUND(I119,2),2)","v":11.81},12.83,0.35,{"$f":"IF(ISNUMBER($L119),VALUE(OFFSET(Banco!$A$1,Composições!$L119-1,COLUMN(Composições!I119)-4)),0)","v":33.75},{"$f":"IF(ISNUMBER($L119),VALUE(OFFSET(Banco!$A$1,Composições!$L119-1,COLUMN(Composições!J119)-4)),0)","v":36.65},{"$f":"COUNTA($A$1:$A119)-1","v":13},{"$f":"MATCH(CONCATENATE($B119,\" \",$C119),Banco!$A:$A,0)","v":13196},{"$f":"IF(OR(ISERROR($L119),$H119=\"\",$H119=0),\"\",OFFSET(M$1,MATCH($K119,$K$1:$K119,0)-1,0))","v":"F"},null,{"$f":"IF(ISNUMBER($L119),VALUE(OFFSET(Banco!$A$1,Composições!$L119-1,COLUMN(Composições!O119)-6)),0)","v":0},{"$f":"IF(ISNUMBER($L119),VALUE(OFFSET(Banco!$A$1,Composições!$L119-1,COLUMN(Composições!P119)-6)),0)","v":0},{"$f":"ROUND(F119*O119,2)","v":0},0]
[null,"SINAPI",88316,{"$f":"IF(ISNUMBER($L120),OFFSET(Banco!$A$1,Composições!$L120-1,COLUMN(Composições!D120)-1),\"\")","v":"SERVENTE COM ENCARGOS COMPLEMENTARES"},{"$f":"IF(ISNUMBER($L120),OFFSET(Banco!$A$1,Composições!$L120-1,COLUMN(Composições!E120)-1),\"\")","v":"H"},9.33,10.050000000000001,0.35,{"$f":"IF(ISNUMBER($L120),VALUE(OFFSET(Banco!$A$1,Composições!$L120-1,COLUMN(Composições!I120)-4)),0)","v":26.65},{"$f":"IF(ISNUMBER($L120),VALUE(OFFSET(Banco!$A$1,Composições!$L120-1,COLUMN(Composições!J120)-4)),0)","v":28.71},{"$f":"COUNTA($A$1:$A120)-1","v":13},{"$f":"MATCH(CONCATENATE($B120,\" \",$C120),Banco!$A:$A,0)","v":13198},{"$f":"IF(OR(ISERROR($L120),$H120=\"\",$H120=0),\"\",OFFSET(M$1,MATCH($K120,$K$1:$K120,0)-1,0))","v":"F"},null,{"$f":"IF(ISNUMBER($L120),VALUE(OFFSET(Banco!$A$1,Composições!$L120-1,COLUMN(Composições!O120)-6)),0)","v":0},{"$f":"IF(ISNUMBER($L120),VALUE(OFFSET(Banco!$A$1,Composições!$L120-1,COLUMN(Composições!P120)-6)),0)","v":0},0,0]
[null,"SINAPI",100739,{"$f":"IF(ISNUMBER($L121),OFFSET(Banco!$A$1,Composições!$L121-1,COLUMN(Composições!D121)-1),\"\")","v":"PINTURA COM TINTA ALQUÍDICA DE ACABAMENTO (ESMALTE SINTÉTICO ACETINADO) PULVERIZADA SOBRE PERFIL METÁLICO EXECUTADO EM FÁBRICA (POR DEMÃO). AF_01/2020_PE"},{"$f":"IF(ISNUMBER($L121),OFFSET(Banco!$A$1,Composições!$L121-1,COLUMN(Composições!E121)-1),\"\")","v":"M2"},44.01,44.7,3.84,{"$f":"IF(ISNUMBER($L121),VALUE(OFFSET(Banco!$A$1,Composições!$L121-1,COLUMN(Composições!I121)-4)),0)","v":11.46},{"$f":"IF(ISNUMBER($L121),VALUE(OFFSET(Banco!$A$1,Composições!$L121-1,COLUMN(Composições!J121)-4)),0)","v":11.64},{"$f":"COUNTA($A$1:$A121)-1","v":13},{"$f":"MATCH(CONCATENATE($B121,\" \",$C121),Banco!$A:$A,0)","v":13999},{"$f":"IF(OR(ISERROR($L121),$H121=\"\",$H121=0),\"\",OFFSET(M$1,MATCH($K121,$K$1:$K121,0)-1,0))","v":"F"},null,{"$f":"IF(ISNUMBER($L121),VALUE(OFFSET(Banco!$A$1,Composições!$L121-1,COLUMN(Composições!O121)-6)),0)","v":0},{"$f":"IF(ISNUMBER($L121),VALUE(OFFSET(Banco!$A$1,Composições!$L121-1,COLUMN(Composições!P121)-6)),0)","v":0},0,0]
[null,"COTAÇÃO","I.URBA.0097.01",{"$f":"IF(ISNUMBER($L122),OFFSET(Banco!$A$1,Composições!$L122-1,COLUMN(Composições!D122)-1),\"\")","v":"TELA METÁLICA GALVANIZADA FIO 18, MALHA 19 MM REVESTIDO PVC"},{"$f":"IF(ISNUMBER($L122),OFFSET(Banco!$A$1,Composições!$L122-1,COLUMN(Composições!E122)-1),\"\")","v":"M2"},85.02,85.02,1.0203,{"$f":"IF(ISNUMBER($L122),VALUE(OFFSET(Banco!$A$1,Composições!$L122-1,COLUMN(Composições!I122)-4)),0)","v":83.33},{"$f":"IF(ISNUMBER($L122),VALUE(OFFSET(Banco!$A$1,Composições!$L122-1,COLUMN(Composições!J122)-4)),0)","v":83.33},{"$f":"COUNTA($A$1:$A122)-1","v":13},{"$f":"MATCH(CONCATENATE($B122,\" \",$C122),Banco!$A:$A,0)","v":128},{"$f":"IF(OR(ISERROR($L122),$H122=\"\",$H122=0),\"\",OFFSET(M$1,MATCH($K122,$K$1:$K122,0)-1,0))","v":"F"},null,{"$f":"IF(ISNUMBER($L122),VALUE(OFFSET(Banco!$A$1,Composições!$L122-1,COLUMN(Composições!O122)-6)),0)","v":0},{"$f":"IF(ISNUMBER($L122),VALUE(OFFSET(Banco!$A$1,Composições!$L122-1,COLUMN(Composições!P122)-6)),0)","v":0},0,0]
[null,"SINAPI-I",11002,{"$f":"IF(ISNUMBER($L123),OFFSET(Banco!$A$1,Composições!$L123-1,COLUMN(Composições!D123)-1),\"\")","v":"ELETRODO REVESTIDO AWS - E6013, DIAMETRO IGUAL A 2,50 MM"},{"$f":"IF(ISNUMBER($L123),OFFSET(Banco!$A$1,Composições!$L123-1,COLUMN(Composições!E123)-1),\"\")","v":"KG"},0.45,0.45,1.2E-2,{"$f":"IF(ISNUMBER($L123),VALUE(OFFSET(Banco!$A$1,Composições!$L123-1,COLUMN(Composições!I123)-4)),0)","v":37.21},{"$f":"IF(ISNUMBER($L123),VALUE(OFFSET(Banco!$A$1,Composições!$L123-1,COLUMN(Composições!J123)-4)),0)","v":37.21},{"$f":"COUNTA($A$1:$A123)-1","v":13},{"$f":"MATCH(CONCATENATE($B123,\" \",$C123),Banco!$A:$A,0)","v":1935},{"$f":"IF(OR(ISERROR($L123),$H123=\"\",$H123=0),\"\",OFFSET(M$1,MATCH($K123,$K$1:$K123,0)-1,0))","v":"F"},null,{"$f":"IF(ISNUMBER($L123),VALUE(OFFSET(Banco!$A$1,Composições!$L123-1,COLUMN(Composições!O123)-6)),0)","v":0},{"$f":"IF(ISNUMBER($L123),VALUE(OFFSET(Banco!$A$1,Composições!$L123-1,COLUMN(Composições!P123)-6)),0)","v":0},0,0]
[null,"COTAÇÃO",40535,{"$f":"IF(ISNUMBER($L124),OFFSET(Banco!$A$1,Composições!$L124-1,COLUMN(Composições!D124)-1),\"\")","v":"PERFIL \"U\" SIMPLES, EM CHAPA DOBRADA DE ACO LAMINADO, E = 2,65 MM, H = 75 MM, L = 40 MM (3,04 KG/M)"},{"$f":"IF(ISNUMBER($L124),OFFSET(Banco!$A$1,Composições!$L124-1,COLUMN(Composições!E124)-1),\"\")","v":"KG"},79.59,79.59,9.19,{"$f":"IF(ISNUMBER($L124),VALUE(OFFSET(Banco!$A$1,Composições!$L124-1,COLUMN(Composições!I124)-4)),0)","v":8.66},{"$f":"IF(ISNUMBER($L124),VALUE(OFFSET(Banco!$A$1,Composições!$L124-1,COLUMN(Composições!J124)-4)),0)","v":8.66},{"$f":"COUNTA($A$1:$A124)-1","v":13},{"$f":"MATCH(CONCATENATE($B124,\" \",$C124),Banco!$A:$A,0)","v":123},{"$f":"IF(OR(ISERROR($L124),$H124=\"\",$H124=0),\"\",OFFSET(M$1,MATCH($K124,$K$1:$K124,0)-1,0))","v":"F"},null,{"$f":"IF(ISNUMBER($L124),VALUE(OFFSET(Banco!$A$1,Composições!$L124-1,COLUMN(Composições!O124)-6)),0)","v":0},{"$f":"IF(ISNUMBER($L124),VALUE(OFFSET(Banco!$A$1,Composições!$L124-1,COLUMN(Composições!P124)-6)),0)","v":0},0,0]
[null,null,null,null,null,null,null,null,null,null,{"$f":"COUNTA($A$1:$A125)-1","v":13},null,{"$f":"IF(OFFSET($M$1,MATCH(OFFSET(K125,-1,0),$K$1:$K125,0)-1,0)=\"F\",\"F\",\"\")","v":"F"}]
[{"$f":"CONCATENATE($B126,\" \",$C126)","v":"Composição DROP.0064.01"},"Composição","DROP.0064.01","FABRICAÇÃO E INSTALAÇÃO DE GRELHA METÁLICA 30 X 100 CM EM CANTONEIRAS 1 1/4 X 3/16\", BARRAS CHATAS 1 1/4 X 3/16\", CONFORME PROJETO ESPECÍFICO","M",{"$f":"IF($L126>0,SUM(OFFSET(F126,1,0,$L126),0))","v":977.06},1022.3299999999999,null,{"$f":"IF(ISERROR(F126),0,F126)","v":977.06},1022.3299999999999,{"$f":"COUNTA($A$1:$A126)-1","v":14},{"$f":"IF(MAX(K:K)=K126,MATCH(9999999,$K:$K)+1,MATCH(K126+1,K:K,0))-ROW(L126)-2","v":8},{"$f":"IF(AND(OR(I126<>0,J126<>0),N126=\"Sim\"),\"F\",\"\")","v":"F"},"Sim",{"$f":"IF(AND($L126>0,F126<>0),ROUND(SUM(OFFSET(Q126,1,0,$L126))/F126,4),0)","v":0},0]
[null,"SINAPI",92802,{"$f":"IF(ISNUMBER($L127),OFFSET(Banco!$A$1,Composições!$L127-1,COLUMN(Composições!D127)-1),\"\")","v":"CORTE E DOBRA DE AÇO CA-50, DIÂMETRO DE 8,0 MM. AF_06/2022"},{"$f":"IF(ISNUMBER($L127),OFFSET(Banco!$A$1,Composições!$L127-1,COLUMN(Composições!E127)-1),\"\")","v":"KG"},{"$f":"ROUND($H127*ROUND(I127,2),2)","v":3.88},3.9,0.38600000000000001,{"$f":"IF(ISNUMBER($L127),VALUE(OFFSET(Banco!$A$1,Composições!$L127-1,COLUMN(Composições!I127)-4)),0)","v":10.050000000000001},{"$f":"IF(ISNUMBER($L127),VALUE(OFFSET(Banco!$A$1,Composições!$L127-1,COLUMN(Composições!J127)-4)),0)","v":10.1},{"$f":"COUNTA($A$1:$A127)-1","v":14},{"$f":"MATCH(CONCATENATE($B127,\" \",$C127),Banco!$A:$A,0)","v":6415},{"$f":"IF(OR(ISERROR($L127),$H127=\"\",$H127=0),\"\",OFFSET(M$1,MATCH($K127,$K$1:$K127,0)-1,0))","v":"F"},null,{"$f":"IF(ISNUMBER($L127),VALUE(OFFSET(Banco!$A$1,Composições!$L127-1,COLUMN(Composições!O127)-6)),0)","v":0},{"$f":"IF(ISNUMBER($L127),VALUE(OFFSET(Banco!$A$1,Composições!$L127-1,COLUMN(Composições!P127)-6)),0)","v":0},{"$f":"ROUND(F127*O127,2)","v":0},0]
[null,"SINAPI",98746,{"$f":"IF(ISNUMBER($L128),OFFSET(Banco!$A$1,Composições!$L128-1,COLUMN(Composições!D128)-1),\"\")","v":"SOLDA DE TOPO EM CHAPA/PERFIL/TUBO DE AÇO CHANFRADO, ESPESSURA=1/4''. AF_06/2018"},{"$f":"IF(ISNUMBER($L128),OFFSET(Banco!$A$1,Composições!$L128-1,COLUMN(Composições!E128)-1),\"\")","v":"M"},393.01,415.9,4.9988000000000001,{"$f":"IF(ISNUMBER($L128),VALUE(OFFSET(Banco!$A$1,Composições!$L128-1,COLUMN(Composições!I128)-4)),0)","v":78.62},{"$f":"IF(ISNUMBER($L128),VALUE(OFFSET(Banco!$A$1,Composições!$L128-1,COLUMN(Composições!J128)-4)),0)","v":83.2},{"$f":"COUNTA($A$1:$A128)-1","v":14},{"$f":"MATCH(CONCATENATE($B128,\" \",$C128),Banco!$A:$A,0)","v":15054},{"$f":"IF(OR(ISERROR($L128),$H128=\"\",$H128=0),\"\",OFFSET(M$1,MATCH($K128,$K$1:$K128,0)-1,0))","v":"F"},null,{"$f":"IF(ISNUMBER($L128),VALUE(OFFSET(Banco!$A$1,Composições!$L128-1,COLUMN(Composições!O128)-6)),0)","v":0},{"$f":"IF(ISNUMBER($L128),VALUE(OFFSET(Banco!$A$1,Composições!$L128-1,COLUMN(Composições!P128)-6)),0)","v":0},0,0]
[null,"SINAPI",100721,{"$f":"IF(ISNUMBER($L129),OFFSET(Banco!$A$1,Composições!$L129-1,COLUMN(Composições!D129)-1),\"\")","v":"PINTURA COM TINTA ALQUÍDICA DE FUNDO (TIPO ZARCÃO) PULVERIZADA SOBRE SUPERFÍCIES METÁLICAS (EXCETO PERFIL) EXECUTADO EM OBRA (POR DEMÃO). AF_01/2020_PE"},{"$f":"IF(ISNUMBER($L129),OFFSET(Banco!$A$1,Composições!$L129-1,COLUMN(Composições!E129)-1),\"\")","v":"M2"},50.87,53.56,1.7583,{"$f":"IF(ISNUMBER($L129),VALUE(OFFSET(Banco!$A$1,Composições!$L129-1,COLUMN(Composições!I129)-4)),0)","v":28.93},{"$f":"IF(ISNUMBER($L129),VALUE(OFFSET(Banco!$A$1,Composições!$L129-1,COLUMN(Composições!J129)-4)),0)","v":30.46},{"$f":"COUNTA($A$1:$A129)-1","v":14},{"$f":"MATCH(CONCATENATE($B129,\" \",$C129),Banco!$A:$A,0)","v":14017},{"$f":"IF(OR(ISERROR($L129),$H129=\"\",$H129=0),\"\",OFFSET(M$1,MATCH($K129,$K$1:$K129,0)-1,0))","v":"F"},null,{"$f":"IF(ISNUMBER($L129),VALUE(OFFSET(Banco!$A$1,Composições!$L129-1,COLUMN(Composições!O129)-6)),0)","v":0},{"$f":"IF(ISNUMBER($L129),VALUE(OFFSET(Banco!$A$1,Composições!$L129-1,COLUMN(Composições!P129)-6)),0)","v":0},0,0]
[null,"SINAPI",100741,{"$f":"IF(ISNUMBER($L130),OFFSET(Banco!$A$1,Composições!$L130-1,COLUMN(Composições!D130)-1),\"\")","v":"PINTURA COM TINTA ALQUÍDICA DE ACABAMENTO (ESMALTE SINTÉTICO ACETINADO) PULVERIZADA SOBRE SUPERFÍCIES METÁLICAS (EXCETO PERFIL) EXECUTADO EM OBRA (POR DEMÃO). AF_01/2020_PE"},{"$f":"IF(ISNUMBER($L130),OFFSET(Banco!$A$1,Composições!$L130-1,COLUMN(Composições!E130)-1),\"\")","v":"M2"},100.36,105.74,3.5165999999999999,{"$f":"IF(ISNUMBER($L130),VALUE(OFFSET(Banco!$A$1,Composições!$L130-1,COLUMN(Composições!I130)-4)),0)","v":28.54},{"$f":"IF(ISNUMBER($L130),VALUE(OFFSET(Banco!$A$1,Composições!$L130-1,COLUMN(Composições!J130)-4)),0)","v":30.07},{"$f":"COUNTA($A$1:$A130)-1","v":14},{"$f":"MATCH(CONCATENATE($B130,\" \",$C130),Banco!$A:$A,0)","v":14001},{"$f":"IF(OR(ISERROR($L130),$H130=\"\",$H130=0),\"\",OFFSET(M$1,MATCH($K130,$K$1:$K130,0)-1,0))","v":"F"},null,{"$f":"IF(ISNUMBER($L130),VALUE(OFFSET(Banco!$A$1,Composições!$L130-1,COLUMN(Composições!O130)-6)),0)","v":0},{"$f":"IF(ISNUMBER($L130),VALUE(OFFSET(Banco!$A$1,Composições!$L130-1,COLUMN(Composições!P130)-6)),0)","v":0},0,0]
[null,"COMPOSIÇÃO","FUES.0132.01",{"$f":"IF(ISNUMBER($L131),OFFSET(Banco!$A$1,Composições!$L131-1,COLUMN(Composições!D131)-1),\"\")","v":"BENEFICIAMENTO DE ESTRUTURA TRELIÇADA DE COBERTURA, COM LIGAÇÕES SOLDADAS, EXCLUSIVE SOLDA."},{"$f":"IF(ISNUMBER($L131),OFFSET(Banco!$A$1,Composições!$L131-1,COLUMN(Composições!E131)-1),\"\")","v":"M"},154.77000000000001,168.03,18.670000000000002,{"$f":"IF(ISNUMBER($L131),VALUE(OFFSET(Banco!$A$1,Composições!$L131-1,COLUMN(Composições!I131)-4)),0)","v":8.2900000000000009},{"$f":"IF(ISNUMBER($L131),VALUE(OFFSET(Banco!$A$1,Composições!$L131-1,COLUMN(Composições!J131)-4)),0)","v":8.9999999999999982},{"$f":"COUNTA($A$1:$A131)-1","v":14},{"$f":"MATCH(CONCATENATE($B131,\" \",$C131),Banco!$A:$A,0)","v":64},{"$f":"IF(OR(ISERROR($L131),$H131=\"\",$H131=0),\"\",OFFSET(M$1,MATCH($K131,$K$1:$K131,0)-1,0))","v":"F"},null,{"$f":"IF(ISNUMBER($L131),VALUE(OFFSET(Banco!$A$1,Composições!$L131-1,COLUMN(Composições!O131)-6)),0)","v":0},{"$f":"IF(ISNUMBER($L131),VALUE(OFFSET(Banco!$A$1,Composições!$L131-1,COLUMN(Composições!P131)-6)),0)","v":0},0,0]
[null,"SINAPI",88316,{"$f":"IF(ISNUMBER($L132),OFFSET(Banco!$A$1,Composições!$L132-1,COLUMN(Composições!D132)-1),\"\")","v":"SERVENTE COM ENCARGOS COMPLEMENTARES"},{"$f":"IF(ISNUMBER($L132),OFFSET(Banco!$A$1,Composições!$L132-1,COLUMN(Composições!E132)-1),\"\")","v":"H"},13.33,14.36,0.5,{"$f":"IF(ISNUMBER($L132),VALUE(OFFSET(Banco!$A$1,Composições!$L132-1,COLUMN(Composições!I132)-4)),0)","v":26.65},{"$f":"IF(ISNUMBER($L132),VALUE(OFFSET(Banco!$A$1,Composições!$L132-1,COLUMN(Composições!J132)-4)),0)","v":28.71},{"$f":"COUNTA($A$1:$A132)-1","v":14},{"$f":"MATCH(CONCATENATE($B132,\" \",$C132),Banco!$A:$A,0)","v":13198},{"$f":"IF(OR(ISERROR($L132),$H132=\"\",$H132=0),\"\",OFFSET(M$1,MATCH($K132,$K$1:$K132,0)-1,0))","v":"F"},null,{"$f":"IF(ISNUMBER($L132),VALUE(OFFSET(Banco!$A$1,Composições!$L132-1,COLUMN(Composições!O132)-6)),0)","v":0},{"$f":"IF(ISNUMBER($L132),VALUE(OFFSET(Banco!$A$1,Composições!$L132-1,COLUMN(Composições!P132)-6)),0)","v":0},0,0]
[null,"COTAÇÃO",4777,{"$f":"IF(ISNUMBER($L133),OFFSET(Banco!$A$1,Composições!$L133-1,COLUMN(Composições!D133)-1),\"\")","v":"CANTONEIRA ACO ABAS IGUAIS (QUALQUER BITOLA), ESPESSURA ENTRE 1/8\" E 1/4\""},{"$f":"IF(ISNUMBER($L133),OFFSET(Banco!$A$1,Composições!$L133-1,COLUMN(Composições!E133)-1),\"\")","v":"KG"},90.31,90.31,11.260999999999999,{"$f":"IF(ISNUMBER($L133),VALUE(OFFSET(Banco!$A$1,Composições!$L133-1,COLUMN(Composições!I133)-4)),0)","v":8.02},{"$f":"IF(ISNUMBER($L133),VALUE(OFFSET(Banco!$A$1,Composições!$L133-1,COLUMN(Composições!J133)-4)),0)","v":8.02},{"$f":"COUNTA($A$1:$A133)-1","v":14},{"$f":"MATCH(CONCATENATE($B133,\" \",$C133),Banco!$A:$A,0)","v":107},{"$f":"IF(OR(ISERROR($L133),$H133=\"\",$H133=0),\"\",OFFSET(M$1,MATCH($K133,$K$1:$K133,0)-1,0))","v":"F"},null,{"$f":"IF(ISNUMBER($L133),VALUE(OFFSET(Banco!$A$1,Composições!$L133-1,COLUMN(Composições!O133)-6)),0)","v":0},{"$f":"IF(ISNUMBER($L133),VALUE(OFFSET(Banco!$A$1,Composições!$L133-1,COLUMN(Composições!P133)-6)),0)","v":0},0,0]
[null,"SINAPI-I",546,{"$f":"IF(ISNUMBER($L134),OFFSET(Banco!$A$1,Composições!$L134-1,COLUMN(Composições!D134)-1),\"\")","v":"BARRA DE ACO CHATA, RETANGULAR (QUALQUER BITOLA)"},{"$f":"IF(ISNUMBER($L134),OFFSET(Banco!$A$1,Composições!$L134-1,COLUMN(Composições!E134)-1),\"\")","v":"KG"},170.53,170.53,17.526599999999998,{"$f":"IF(ISNUMBER($L134),VALUE(OFFSET(Banco!$A$1,Composições!$L134-1,COLUMN(Composições!I134)-4)),0)","v":9.73},{"$f":"IF(ISNUMBER($L134),VALUE(OFFSET(Banco!$A$1,Composições!$L134-1,COLUMN(Composições!J134)-4)),0)","v":9.73},{"$f":"COUNTA($A$1:$A134)-1","v":14},{"$f":"MATCH(CONCATENATE($B134,\" \",$C134),Banco!$A:$A,0)","v":549},{"$f":"IF(OR(ISERROR($L134),$H134=\"\",$H134=0),\"\",OFFSET(M$1,MATCH($K134,$K$1:$K134,0)-1,0))","v":"F"},null,{"$f":"IF(ISNUMBER($L134),VALUE(OFFSET(Banco!$A$1,Composições!$L134-1,COLUMN(Composições!O134)-6)),0)","v":0},{"$f":"IF(ISNUMBER($L134),VALUE(OFFSET(Banco!$A$1,Composições!$L134-1,COLUMN(Composições!P134)-6)),0)","v":0},0,0]
[null,null,null,null,null,null,null,null,null,null,{"$f":"COUNTA($A$1:$A135)-1","v":14},null,{"$f":"IF(OFFSET($M$1,MATCH(OFFSET(K135,-1,0),$K$1:$K135,0)-1,0)=\"F\",\"F\",\"\")","v":"F"}]
[{"$f":"CONCATENATE($B136,\" \",$C136)","v":"Composição INEL.0408.01"},"Composição","INEL.0408.01","ELETRODUTO DE AÇO GALVANIZADO, CLASSE LEVE, DN 20 MM (3/4\"), APARENTE, INSTALADO EM PAREDE - FORNECIMENTO E INSTALAÇÃO.","M",{"$f":"IF($L136>0,SUM(OFFSET(F136,1,0,$L136),0))","v":35.81},37.57,null,{"$f":"IF(ISERROR(F136),0,F136)","v":35.81},37.57,{"$f":"COUNTA($A$1:$A136)-1","v":15},{"$f":"IF(MAX(K:K)=K136,MATCH(9999999,$K:$K)+1,MATCH(K136+1,K:K,0))-ROW(L136)-2","v":5},{"$f":"IF(AND(OR(I136<>0,J136<>0),N136=\"Sim\"),\"F\",\"\")","v":"F"},"Sim",{"$f":"IF(AND($L136>0,F136<>0),ROUND(SUM(OFFSET(Q136,1,0,$L136))/F136,4),0)","v":0},0]
[null,"SINAPI",88247,{"$f":"IF(ISNUMBER($L137),OFFSET(Banco!$A$1,Composições!$L137-1,COLUMN(Composições!D137)-1),\"\")","v":"AUXILIAR DE ELETRICISTA COM ENCARGOS COMPLEMENTARES"},{"$f":"IF(ISNUMBER($L137),OFFSET(Banco!$A$1,Composições!$L137-1,COLUMN(Composições!E137)-1),\"\")","v":"H"},{"$f":"ROUND($H137*ROUND(I137,2),2)","v":5.55},5.99,0.19439999999999999,{"$f":"IF(ISNUMBER($L137),VALUE(OFFSET(Banco!$A$1,Composições!$L137-1,COLUMN(Composições!I137)-4)),0)","v":28.53},{"$f":"IF(ISNUMBER($L137),VALUE(OFFSET(Banco!$A$1,Composições!$L137-1,COLUMN(Composições!J137)-4)),0)","v":30.8},{"$f":"COUNTA($A$1:$A137)-1","v":15},{"$f":"MATCH(CONCATENATE($B137,\" \",$C137),Banco!$A:$A,0)","v":12875},{"$f":"IF(OR(ISERROR($L137),$H137=\"\",$H137=0),\"\",OFFSET(M$1,MATCH($K137,$K$1:$K137,0)-1,0))","v":"F"},null,{"$f":"IF(ISNUMBER($L137),VALUE(OFFSET(Banco!$A$1,Composições!$L137-1,COLUMN(Composições!O137)-6)),0)","v":0},{"$f":"IF(ISNUMBER($L137),VALUE(OFFSET(Banco!$A$1,Composições!$L137-1,COLUMN(Composições!P137)-6)),0)","v":0},{"$f":"ROUND(F137*O137,2)","v":0},0]
[null,"SINAPI",88264,{"$f":"IF(ISNUMBER($L138),OFFSET(Banco!$A$1,Composições!$L138-1,COLUMN(Composições!D138)-1),\"\")","v":"ELETRICISTA COM ENCARGOS COMPLEMENTARES"},{"$f":"IF(ISNUMBER($L138),OFFSET(Banco!$A$1,Composições!$L138-1,COLUMN(Composições!E138)-1),\"\")","v":"H"},6.69,7.26,0.19439999999999999,{"$f":"IF(ISNUMBER($L138),VALUE(OFFSET(Banco!$A$1,Composições!$L138-1,COLUMN(Composições!I138)-4)),0)","v":34.409999999999997},{"$f":"IF(ISNUMBER($L138),VALUE(OFFSET(Banco!$A$1,Composições!$L138-1,COLUMN(Composições!J138)-4)),0)","v":37.369999999999997},{"$f":"COUNTA($A$1:$A138)-1","v":15},{"$f":"MATCH(CONCATENATE($B138,\" \",$C138),Banco!$A:$A,0)","v":13095},{"$f":"IF(OR(ISERROR($L138),$H138=\"\",$H138=0),\"\",OFFSET(M$1,MATCH($K138,$K$1:$K138,0)-1,0))","v":"F"},null,{"$f":"IF(ISNUMBER($L138),VALUE(OFFSET(Banco!$A$1,Composições!$L138-1,COLUMN(Composições!O138)-6)),0)","v":0},{"$f":"IF(ISNUMBER($L138),VALUE(OFFSET(Banco!$A$1,Composições!$L138-1,COLUMN(Composições!P138)-6)),0)","v":0},0,0]
[null,"SINAPI",91173,{"$f":"IF(ISNUMBER($L139),OFFSET(Banco!$A$1,Composições!$L139-1,COLUMN(Composições!D139)-1),\"\")","v":"FIXAÇÃO DE TUBOS VERTICAIS DE PVC ÁGUA, PVC ESGOTO, PVC ÁGUA PLUVIAL, CPVC, PPR, COBRE OU AÇO, DIÂMETROS MENORES OU IGUAIS A 40 MM, COM ABRAÇADEIRA METÁLICA RÍGIDA TIPO U PERFIL 1 1/4\", FIXADA EM PERFILADO EM PAREDE. AF_09/2023_PS"},{"$f":"IF(ISNUMBER($L139),OFFSET(Banco!$A$1,Composições!$L139-1,COLUMN(Composições!E139)-1),\"\")","v":"M"},9.2200000000000006,9.76,2,{"$f":"IF(ISNUMBER($L139),VALUE(OFFSET(Banco!$A$1,Composições!$L139-1,COLUMN(Composições!I139)-4)),0)","v":4.6100000000000003},{"$f":"IF(ISNUMBER($L139),VALUE(OFFSET(Banco!$A$1,Composições!$L139-1,COLUMN(Composições!J139)-4)),0)","v":4.88},{"$f":"COUNTA($A$1:$A139)-1","v":15},{"$f":"MATCH(CONCATENATE($B139,\" \",$C139),Banco!$A:$A,0)","v":14506},{"$f":"IF(OR(ISERROR($L139),$H139=\"\",$H139=0),\"\",OFFSET(M$1,MATCH($K139,$K$1:$K139,0)-1,0))","v":"F"},null,{"$f":"IF(ISNUMBER($L139),VALUE(OFFSET(Banco!$A$1,Composições!$L139-1,COLUMN(Composições!O139)-6)),0)","v":0},{"$f":"IF(ISNUMBER($L139),VALUE(OFFSET(Banco!$A$1,Composições!$L139-1,COLUMN(Composições!P139)-6)),0)","v":0},0,0]
[null,"SINAPI",91874,{"$f":"IF(ISNUMBER($L140),OFFSET(Banco!$A$1,Composições!$L140-1,COLUMN(Composições!D140)-1),\"\")","v":"LUVA PARA ELETRODUTO, PVC, ROSCÁVEL, DN 20 MM (1/2\"), PARA CIRCUITOS TERMINAIS, INSTALADA EM FORRO - FORNECIMENTO E INSTALAÇÃO. AF_03/2023"},{"$f":"IF(ISNUMBER($L140),OFFSET(Banco!$A$1,Composições!$L140-1,COLUMN(Composições!E140)-1),\"\")","v":"UN"},3,3.21,0.33329999999999999,{"$f":"IF(ISNUMBER($L140),VALUE(OFFSET(Banco!$A$1,Composições!$L140-1,COLUMN(Composições!I140)-4)),0)","v":9.01},{"$f":"IF(ISNUMBER($L140),VALUE(OFFSET(Banco!$A$1,Composições!$L140-1,COLUMN(Composições!J140)-4)),0)","v":9.64},{"$f":"COUNTA($A$1:$A140)-1","v":15},{"$f":"MATCH(CONCATENATE($B140,\" \",$C140),Banco!$A:$A,0)","v":10591},{"$f":"IF(OR(ISERROR($L140),$H140=\"\",$H140=0),\"\",OFFSET(M$1,MATCH($K140,$K$1:$K140,0)-1,0))","v":"F"},null,{"$f":"IF(ISNUMBER($L140),VALUE(OFFSET(Banco!$A$1,Composições!$L140-1,COLUMN(Composições!O140)-6)),0)","v":0},{"$f":"IF(ISNUMBER($L140),VALUE(OFFSET(Banco!$A$1,Composições!$L140-1,COLUMN(Composições!P140)-6)),0)","v":0},0,0]
[null,"SINAPI-I",21128,{"$f":"IF(ISNUMBER($L141),OFFSET(Banco!$A$1,Composições!$L141-1,COLUMN(Composições!D141)-1),\"\")","v":"ELETRODUTO EM ACO GALVANIZADO ELETROLITICO, LEVE, DIAMETRO 3/4\", PAREDE DE 0,90 MM"},{"$f":"IF(ISNUMBER($L141),OFFSET(Banco!$A$1,Composições!$L141-1,COLUMN(Composições!E141)-1),\"\")","v":"M"},11.35,11.35,1.05,{"$f":"IF(ISNUMBER($L141),VALUE(OFFSET(Banco!$A$1,Composições!$L141-1,COLUMN(Composições!I141)-4)),0)","v":10.81},{"$f":"IF(ISNUMBER($L141),VALUE(OFFSET(Banco!$A$1,Composições!$L141-1,COLUMN(Composições!J141)-4)),0)","v":10.81},{"$f":"COUNTA($A$1:$A141)-1","v":15},{"$f":"MATCH(CONCATENATE($B141,\" \",$C141),Banco!$A:$A,0)","v":1953},{"$f":"IF(OR(ISERROR($L141),$H141=\"\",$H141=0),\"\",OFFSET(M$1,MATCH($K141,$K$1:$K141,0)-1,0))","v":"F"},null,{"$f":"IF(ISNUMBER($L141),VALUE(OFFSET(Banco!$A$1,Composições!$L141-1,COLUMN(Composições!O141)-6)),0)","v":0},{"$f":"IF(ISNUMBER($L141),VALUE(OFFSET(Banco!$A$1,Composições!$L141-1,COLUMN(Composições!P141)-6)),0)","v":0},0,0]
[null,null,null,null,null,null,null,null,null,null,{"$f":"COUNTA($A$1:$A142)-1","v":15},null,{"$f":"IF(OFFSET($M$1,MATCH(OFFSET(K142,-1,0),$K$1:$K142,0)-1,0)=\"F\",\"F\",\"\")","v":"F"}]
[{"$f":"CONCATENATE($B143,\" \",$C143)","v":"Composição INEL.0169.01"},"Composição","INEL.0169.01","REFLETOR LED COM POTÊNCIA NA FAIXA DE 100W, 220V, ÂNGULO DE ABERTURA DE 60º, FLUXO LUMINOSO MÍNIMO DE 11.000 LUMENS, TEMPERATURA DE COR DE 5.700K, EFEICIÊNCIA LUMINOSA  MÍNIMA DE 110LM/W ,  COM VIDA ÚTIL MÍNIMA DE 50.000H E GARANTIA MÍNIMA DE 5 ANOS GARANTIDA PELO FABRICANTE COM CERTIFICAÇÃO, INSTALADO SOBRE CRUZETA EM POSTE - FORNECIMENTO E INSTALAÇÃO.","UND.",{"$f":"IF($L143>0,SUM(OFFSET(F143,1,0,$L143),0))","v":682.59},688.06000000000006,null,{"$f":"IF(ISERROR(F143),0,F143)","v":682.59},688.06000000000006,{"$f":"COUNTA($A$1:$A143)-1","v":16},{"$f":"IF(MAX(K:K)=K143,MATCH(9999999,$K:$K)+1,MATCH(K143+1,K:K,0))-ROW(L143)-2","v":4},{"$f":"IF(AND(OR(I143<>0,J143<>0),N143=\"Sim\"),\"F\",\"\")","v":"F"},"Sim",{"$f":"IF(AND($L143>0,F143<>0),ROUND(SUM(OFFSET(Q143,1,0,$L143))/F143,4),0)","v":5.6099999999999997E-2},5.5599999999999997E-2]
[null,"SINAPI",88247,{"$f":"IF(ISNUMBER($L144),OFFSET(Banco!$A$1,Composições!$L144-1,COLUMN(Composições!D144)-1),\"\")","v":"AUXILIAR DE ELETRICISTA COM ENCARGOS COMPLEMENTARES"},{"$f":"IF(ISNUMBER($L144),OFFSET(Banco!$A$1,Composições!$L144-1,COLUMN(Composições!E144)-1),\"\")","v":"H"},{"$f":"ROUND($H144*ROUND(I144,2),2)","v":11.41},12.32,0.4,{"$f":"IF(ISNUMBER($L144),VALUE(OFFSET(Banco!$A$1,Composições!$L144-1,COLUMN(Composições!I144)-4)),0)","v":28.53},{"$f":"IF(ISNUMBER($L144),VALUE(OFFSET(Banco!$A$1,Composições!$L144-1,COLUMN(Composições!J144)-4)),0)","v":30.8},{"$f":"COUNTA($A$1:$A144)-1","v":16},{"$f":"MATCH(CONCATENATE($B144,\" \",$C144),Banco!$A:$A,0)","v":12875},{"$f":"IF(OR(ISERROR($L144),$H144=\"\",$H144=0),\"\",OFFSET(M$1,MATCH($K144,$K$1:$K144,0)-1,0))","v":"F"},null,{"$f":"IF(ISNUMBER($L144),VALUE(OFFSET(Banco!$A$1,Composições!$L144-1,COLUMN(Composições!O144)-6)),0)","v":0},{"$f":"IF(ISNUMBER($L144),VALUE(OFFSET(Banco!$A$1,Composições!$L144-1,COLUMN(Composições!P144)-6)),0)","v":0},{"$f":"ROUND(F144*O144,2)","v":0},0]
[null,"SINAPI",88264,{"$f":"IF(ISNUMBER($L145),OFFSET(Banco!$A$1,Composições!$L145-1,COLUMN(Composições!D145)-1),\"\")","v":"ELETRICISTA COM ENCARGOS COMPLEMENTARES"},{"$f":"IF(ISNUMBER($L145),OFFSET(Banco!$A$1,Composições!$L145-1,COLUMN(Composições!E145)-1),\"\")","v":"H"},13.76,14.95,0.4,{"$f":"IF(ISNUMBER($L145),VALUE(OFFSET(Banco!$A$1,Composições!$L145-1,COLUMN(Composições!I145)-4)),0)","v":34.409999999999997},{"$f":"IF(ISNUMBER($L145),VALUE(OFFSET(Banco!$A$1,Composições!$L145-1,COLUMN(Composições!J145)-4)),0)","v":37.369999999999997},{"$f":"COUNTA($A$1:$A145)-1","v":16},{"$f":"MATCH(CONCATENATE($B145,\" \",$C145),Banco!$A:$A,0)","v":13095},{"$f":"IF(OR(ISERROR($L145),$H145=\"\",$H145=0),\"\",OFFSET(M$1,MATCH($K145,$K$1:$K145,0)-1,0))","v":"F"},null,{"$f":"IF(ISNUMBER($L145),VALUE(OFFSET(Banco!$A$1,Composições!$L145-1,COLUMN(Composições!O145)-6)),0)","v":0},{"$f":"IF(ISNUMBER($L145),VALUE(OFFSET(Banco!$A$1,Composições!$L145-1,COLUMN(Composições!P145)-6)),0)","v":0},0,0]
[null,"SINAPI",93403,{"$f":"IF(ISNUMBER($L146),OFFSET(Banco!$A$1,Composições!$L146-1,COLUMN(Composições!D146)-1),\"\")","v":"GUINDAUTO HIDRÁULICO, CAPACIDADE MÁXIMA DE CARGA 3300 KG, MOMENTO MÁXIMO DE CARGA 5,8 TM, ALCANCE MÁXIMO HORIZONTAL 7,60 M, INCLUSIVE CAMINHÃO TOCO PBT 16.000 KG, POTÊNCIA DE 189 CV - CHI DIURNO. AF_03/2016"},{"$f":"IF(ISNUMBER($L146),OFFSET(Banco!$A$1,Composições!$L146-1,COLUMN(Composições!E146)-1),\"\")","v":"CHI"},74.709999999999994,78.08,1,{"$f":"IF(ISNUMBER($L146),VALUE(OFFSET(Banco!$A$1,Composições!$L146-1,COLUMN(Composições!I146)-4)),0)","v":74.709999999999994},{"$f":"IF(ISNUMBER($L146),VALUE(OFFSET(Banco!$A$1,Composições!$L146-1,COLUMN(Composições!J146)-4)),0)","v":78.08},{"$f":"COUNTA($A$1:$A146)-1","v":16},{"$f":"MATCH(CONCATENATE($B146,\" \",$C146),Banco!$A:$A,0)","v":7703},{"$f":"IF(OR(ISERROR($L146),$H146=\"\",$H146=0),\"\",OFFSET(M$1,MATCH($K146,$K$1:$K146,0)-1,0))","v":"F"},null,{"$f":"IF(ISNUMBER($L146),VALUE(OFFSET(Banco!$A$1,Composições!$L146-1,COLUMN(Composições!O146)-6)),0)","v":0.51239999999999997},{"$f":"IF(ISNUMBER($L146),VALUE(OFFSET(Banco!$A$1,Composições!$L146-1,COLUMN(Composições!P146)-6)),0)","v":0.49030000000000001},38.28,38.28]
[null,"COTAÇÃO","I.INEL.0145.01",{"$f":"IF(ISNUMBER($L147),OFFSET(Banco!$A$1,Composições!$L147-1,COLUMN(Composições!D147)-1),\"\")","v":"REFLETOR LED, COM POTÊNCIA NA FAIXA DE 100W, FLUXO LUMINOSO MÍNIMO DE 11.000 LUMENS, EFICIÊNCIA LUMINOSA MÍNIMA DE 110LM/W, INDICE DE PROTEÇÃO MÍNIMO IP66, BRANCO FRIO 5.700K, FATOR DE POTÊNCIA MÍNIMO DE 0,95, ÍNDICE DE REPRODUÇÃO DE CORES 70%, ÂNGULO DE ABERTURA DE 60º, VIDA ÚTIL MÍNIMA DE 50.000H GARANTIDA PELO FABRICANTE COM CERTIFICAÇÃO"},{"$f":"IF(ISNUMBER($L147),OFFSET(Banco!$A$1,Composições!$L147-1,COLUMN(Composições!E147)-1),\"\")","v":"PÇ"},582.71,582.71,1,{"$f":"IF(ISNUMBER($L147),VALUE(OFFSET(Banco!$A$1,Composições!$L147-1,COLUMN(Composições!I147)-4)),0)","v":582.71130000000005},{"$f":"IF(ISNUMBER($L147),VALUE(OFFSET(Banco!$A$1,Composições!$L147-1,COLUMN(Composições!J147)-4)),0)","v":582.71130000000005},{"$f":"COUNTA($A$1:$A147)-1","v":16},{"$f":"MATCH(CONCATENATE($B147,\" \",$C147),Banco!$A:$A,0)","v":92},{"$f":"IF(OR(ISERROR($L147),$H147=\"\",$H147=0),\"\",OFFSET(M$1,MATCH($K147,$K$1:$K147,0)-1,0))","v":"F"},null,{"$f":"IF(ISNUMBER($L147),VALUE(OFFSET(Banco!$A$1,Composições!$L147-1,COLUMN(Composições!O147)-6)),0)","v":0},{"$f":"IF(ISNUMBER($L147),VALUE(OFFSET(Banco!$A$1,Composições!$L147-1,COLUMN(Composições!P147)-6)),0)","v":0},0,0]
[null,null,null,null,null,null,null,null,null,null,{"$f":"COUNTA($A$1:$A148)-1","v":16},null,{"$f":"IF(OFFSET($M$1,MATCH(OFFSET(K148,-1,0),$K$1:$K148,0)-1,0)=\"F\",\"F\",\"\")","v":"F"}]
[{"$f":"CONCATENATE($B149,\" \",$C149)","v":"Composição INEL.0521.03"},"Composição","INEL.0521.03","ELETROCALHA PERFURADA EM AÇO GALVANIZADO, CHAPA GSG 18, LARGURA 100MM E ALTURA 50MM, INCLUSIVE EMENDA E FIXAÇÃO - FORNECIMENTO E INSTALAÇÃO","M",{"$f":"IF($L149>0,SUM(OFFSET(F149,1,0,$L149),0))","v":101.16},104.06,null,{"$f":"IF(ISERROR(F149),0,F149)","v":101.16},104.06,{"$f":"COUNTA($A$1:$A149)-1","v":17},{"$f":"IF(MAX(K:K)=K149,MATCH(9999999,$K:$K)+1,MATCH(K149+1,K:K,0))-ROW(L149)-2","v":5},{"$f":"IF(AND(OR(I149<>0,J149<>0),N149=\"Sim\"),\"F\",\"\")","v":"F"},"Sim",{"$f":"IF(AND($L149>0,F149<>0),ROUND(SUM(OFFSET(Q149,1,0,$L149))/F149,4),0)","v":0},0]
[null,"SINAPI",88264,{"$f":"IF(ISNUMBER($L150),OFFSET(Banco!$A$1,Composições!$L150-1,COLUMN(Composições!D150)-1),\"\")","v":"ELETRICISTA COM ENCARGOS COMPLEMENTARES"},{"$f":"IF(ISNUMBER($L150),OFFSET(Banco!$A$1,Composições!$L150-1,COLUMN(Composições!E150)-1),\"\")","v":"H"},{"$f":"ROUND($H150*ROUND(I150,2),2)","v":2.93},3.18,8.5199999999999998E-2,{"$f":"IF(ISNUMBER($L150),VALUE(OFFSET(Banco!$A$1,Composições!$L150-1,COLUMN(Composições!I150)-4)),0)","v":34.409999999999997},{"$f":"IF(ISNUMBER($L150),VALUE(OFFSET(Banco!$A$1,Composições!$L150-1,COLUMN(Composições!J150)-4)),0)","v":37.369999999999997},{"$f":"COUNTA($A$1:$A150)-1","v":17},{"$f":"MATCH(CONCATENATE($B150,\" \",$C150),Banco!$A:$A,0)","v":13095},{"$f":"IF(OR(ISERROR($L150),$H150=\"\",$H150=0),\"\",OFFSET(M$1,MATCH($K150,$K$1:$K150,0)-1,0))","v":"F"},null,{"$f":"IF(ISNUMBER($L150),VALUE(OFFSET(Banco!$A$1,Composições!$L150-1,COLUMN(Composições!O150)-6)),0)","v":0},{"$f":"IF(ISNUMBER($L150),VALUE(OFFSET(Banco!$A$1,Composições!$L150-1,COLUMN(Composições!P150)-6)),0)","v":0},{"$f":"ROUND(F150*O150,2)","v":0},0]
[null,"SINAPI",88247,{"$f":"IF(ISNUMBER($L151),OFFSET(Banco!$A$1,Composições!$L151-1,COLUMN(Composições!D151)-1),\"\")","v":"AUXILIAR DE ELETRICISTA COM ENCARGOS COMPLEMENTARES"},{"$f":"IF(ISNUMBER($L151),OFFSET(Banco!$A$1,Composições!$L151-1,COLUMN(Composições!E151)-1),\"\")","v":"H"},2.4300000000000002,2.62,8.5199999999999998E-2,{"$f":"IF(ISNUMBER($L151),VALUE(OFFSET(Banco!$A$1,Composições!$L151-1,COLUMN(Composições!I151)-4)),0)","v":28.53},{"$f":"IF(ISNUMBER($L151),VALUE(OFFSET(Banco!$A$1,Composições!$L151-1,COLUMN(Composições!J151)-4)),0)","v":30.8},{"$f":"COUNTA($A$1:$A151)-1","v":17},{"$f":"MATCH(CONCATENATE($B151,\" \",$C151),Banco!$A:$A,0)","v":12875},{"$f":"IF(OR(ISERROR($L151),$H151=\"\",$H151=0),\"\",OFFSET(M$1,MATCH($K151,$K$1:$K151,0)-1,0))","v":"F"},null,{"$f":"IF(ISNUMBER($L151),VALUE(OFFSET(Banco!$A$1,Composições!$L151-1,COLUMN(Composições!O151)-6)),0)","v":0},{"$f":"IF(ISNUMBER($L151),VALUE(OFFSET(Banco!$A$1,Composições!$L151-1,COLUMN(Composições!P151)-6)),0)","v":0},0,0]
[null,"COMPOSIÇÃO","INEL.0441.01",{"$f":"IF(ISNUMBER($L152),OFFSET(Banco!$A$1,Composições!$L152-1,COLUMN(Composições!D152)-1),\"\")","v":"SUPORTE PARA FIXAÇÃO DE ELETROCALHA LISA OU PERFURADA COM LARGURA DE ATÉ 200MM E ALTURA DE ATÉ 100MM, POR METRO DE ELETROCALHA FIXADA - FORNECIMENTO E INSTALAÇÃO"},{"$f":"IF(ISNUMBER($L152),OFFSET(Banco!$A$1,Composições!$L152-1,COLUMN(Composições!E152)-1),\"\")","v":"M"},36.880000000000003,38.840000000000003,1,{"$f":"IF(ISNUMBER($L152),VALUE(OFFSET(Banco!$A$1,Composições!$L152-1,COLUMN(Composições!I152)-4)),0)","v":36.880000000000003},{"$f":"IF(ISNUMBER($L152),VALUE(OFFSET(Banco!$A$1,Composições!$L152-1,COLUMN(Composições!J152)-4)),0)","v":38.840000000000003},{"$f":"COUNTA($A$1:$A152)-1","v":17},{"$f":"MATCH(CONCATENATE($B152,\" \",$C152),Banco!$A:$A,0)","v":74},{"$f":"IF(OR(ISERROR($L152),$H152=\"\",$H152=0),\"\",OFFSET(M$1,MATCH($K152,$K$1:$K152,0)-1,0))","v":"F"},null,{"$f":"IF(ISNUMBER($L152),VALUE(OFFSET(Banco!$A$1,Composições!$L152-1,COLUMN(Composições!O152)-6)),0)","v":0},{"$f":"IF(ISNUMBER($L152),VALUE(OFFSET(Banco!$A$1,Composições!$L152-1,COLUMN(Composições!P152)-6)),0)","v":0},0,0]
[null,"COMPOSIÇÃO","INEL.0471.03",{"$f":"IF(ISNUMBER($L153),OFFSET(Banco!$A$1,Composições!$L153-1,COLUMN(Composições!D153)-1),\"\")","v":"EMENDA PARA ELETROCALHA, LISA OU PERFURADA EM AÇO GALVANIZADO, LARGURA 100MM E ALTURA 50MM - FORNECIMENTO E INSTALAÇÃO."},{"$f":"IF(ISNUMBER($L153),OFFSET(Banco!$A$1,Composições!$L153-1,COLUMN(Composições!E153)-1),\"\")","v":"UN"},9.52,10.02,0.33300000000000002,{"$f":"IF(ISNUMBER($L153),VALUE(OFFSET(Banco!$A$1,Composições!$L153-1,COLUMN(Composições!I153)-4)),0)","v":28.59},{"$f":"IF(ISNUMBER($L153),VALUE(OFFSET(Banco!$A$1,Composições!$L153-1,COLUMN(Composições!J153)-4)),0)","v":30.1},{"$f":"COUNTA($A$1:$A153)-1","v":17},{"$f":"MATCH(CONCATENATE($B153,\" \",$C153),Banco!$A:$A,0)","v":68},{"$f":"IF(OR(ISERROR($L153),$H153=\"\",$H153=0),\"\",OFFSET(M$1,MATCH($K153,$K$1:$K153,0)-1,0))","v":"F"},null,{"$f":"IF(ISNUMBER($L153),VALUE(OFFSET(Banco!$A$1,Composições!$L153-1,COLUMN(Composições!O153)-6)),0)","v":0},{"$f":"IF(ISNUMBER($L153),VALUE(OFFSET(Banco!$A$1,Composições!$L153-1,COLUMN(Composições!P153)-6)),0)","v":0},0,0]
[null,"COMPOSIÇÃO","INEL.0516.03",{"$f":"IF(ISNUMBER($L154),OFFSET(Banco!$A$1,Composições!$L154-1,COLUMN(Composições!D154)-1),\"\")","v":"ELETROCALHA PERFURADA TIPO U, EM CHAPA DE ACO GALVANIZADO GSG 18, SEM TAMPA, DE 100 X 50 MM - APENAS INSUMO"},{"$f":"IF(ISNUMBER($L154),OFFSET(Banco!$A$1,Composições!$L154-1,COLUMN(Composições!E154)-1),\"\")","v":"M"},49.4,49.4,0.98199999999999998,{"$f":"IF(ISNUMBER($L154),VALUE(OFFSET(Banco!$A$1,Composições!$L154-1,COLUMN(Composições!I154)-4)),0)","v":50.31},{"$f":"IF(ISNUMBER($L154),VALUE(OFFSET(Banco!$A$1,Composições!$L154-1,COLUMN(Composições!J154)-4)),0)","v":50.31},{"$f":"COUNTA($A$1:$A154)-1","v":17},{"$f":"MATCH(CONCATENATE($B154,\" \",$C154),Banco!$A:$A,0)","v":66},{"$f":"IF(OR(ISERROR($L154),$H154=\"\",$H154=0),\"\",OFFSET(M$1,MATCH($K154,$K$1:$K154,0)-1,0))","v":"F"},null,{"$f":"IF(ISNUMBER($L154),VALUE(OFFSET(Banco!$A$1,Composições!$L154-1,COLUMN(Composições!O154)-6)),0)","v":0},{"$f":"IF(ISNUMBER($L154),VALUE(OFFSET(Banco!$A$1,Composições!$L154-1,COLUMN(Composições!P154)-6)),0)","v":0},0,0]
[null,null,null,null,null,null,null,null,null,null,{"$f":"COUNTA($A$1:$A155)-1","v":17},null,{"$f":"IF(OFFSET($M$1,MATCH(OFFSET(K155,-1,0),$K$1:$K155,0)-1,0)=\"F\",\"F\",\"\")","v":"F"}]
[{"$f":"CONCATENATE($B156,\" \",$C156)","v":"Composição ESQV.0045.02"},"Composição","ESQV.0045.02","PORTÃO DE CONTRA-PESO ESTRUTURADO EM TUBO 80X80 #2,0 MM, REVESTIDO COM TELHA GALVANIZADA TRAPÉZIO 40 PRÉ-PINTADA DE FÁBRICA, ESP. 0,50 MM, COM CHUMBAMENTO E PINTURA - FORNECIMENTO E INSTALAÇÃO","m²",{"$f":"IF($L156>0,SUM(OFFSET(F156,1,0,$L156),0))","v":393.65},396.14,null,{"$f":"IF(ISERROR(F156),0,F156)","v":393.65},396.14,{"$f":"COUNTA($A$1:$A156)-1","v":18},{"$f":"IF(MAX(K:K)=K156,MATCH(9999999,$K:$K)+1,MATCH(K156+1,K:K,0))-ROW(L156)-2","v":9},{"$f":"IF(AND(OR(I156<>0,J156<>0),N156=\"Sim\"),\"F\",\"\")","v":"F"},"Sim",{"$f":"IF(AND($L156>0,F156<>0),ROUND(SUM(OFFSET(Q156,1,0,$L156))/F156,4),0)","v":0},0]
[null,"SINAPI",88278,{"$f":"IF(ISNUMBER($L157),OFFSET(Banco!$A$1,Composições!$L157-1,COLUMN(Composições!D157)-1),\"\")","v":"MONTADOR DE ESTRUTURA METÁLICA COM ENCARGOS COMPLEMENTARES"},{"$f":"IF(ISNUMBER($L157),OFFSET(Banco!$A$1,Composições!$L157-1,COLUMN(Composições!E157)-1),\"\")","v":"H"},{"$f":"ROUND($H157*ROUND(I157,2),2)","v":7.98},{"$f":"ROUND($H157*ROUND(J157,2),2)","v":8.67},0.26900000000000002,{"$f":"IF(ISNUMBER($L157),VALUE(OFFSET(Banco!$A$1,Composições!$L157-1,COLUMN(Composições!I157)-4)),0)","v":29.66},{"$f":"IF(ISNUMBER($L157),VALUE(OFFSET(Banco!$A$1,Composições!$L157-1,COLUMN(Composições!J157)-4)),0)","v":32.22},{"$f":"COUNTA($A$1:$A157)-1","v":18},{"$f":"MATCH(CONCATENATE($B157,\" \",$C157),Banco!$A:$A,0)","v":13132},{"$f":"IF(OR(ISERROR($L157),$H157=\"\",$H157=0),\"\",OFFSET(M$1,MATCH($K157,$K$1:$K157,0)-1,0))","v":"F"},null,{"$f":"IF(ISNUMBER($L157),VALUE(OFFSET(Banco!$A$1,Composições!$L157-1,COLUMN(Composições!O157)-6)),0)","v":0},{"$f":"IF(ISNUMBER($L157),VALUE(OFFSET(Banco!$A$1,Composições!$L157-1,COLUMN(Composições!P157)-6)),0)","v":0},{"$f":"ROUND(F157*O157,2)","v":0},{"$f":"ROUND(G157*P157,2)","v":0}]
[null,"SINAPI",88316,{"$f":"IF(ISNUMBER($L158),OFFSET(Banco!$A$1,Composições!$L158-1,COLUMN(Composições!D158)-1),\"\")","v":"SERVENTE COM ENCARGOS COMPLEMENTARES"},{"$f":"IF(ISNUMBER($L158),OFFSET(Banco!$A$1,Composições!$L158-1,COLUMN(Composições!E158)-1),\"\")","v":"H"},7.17,7.72,0.26900000000000002,{"$f":"IF(ISNUMBER($L158),VALUE(OFFSET(Banco!$A$1,Composições!$L158-1,COLUMN(Composições!I158)-4)),0)","v":26.65},{"$f":"IF(ISNUMBER($L158),VALUE(OFFSET(Banco!$A$1,Composições!$L158-1,COLUMN(Composições!J158)-4)),0)","v":28.71},{"$f":"COUNTA($A$1:$A158)-1","v":18},{"$f":"MATCH(CONCATENATE($B158,\" \",$C158),Banco!$A:$A,0)","v":13198},{"$f":"IF(OR(ISERROR($L158),$H158=\"\",$H158=0),\"\",OFFSET(M$1,MATCH($K158,$K$1:$K158,0)-1,0))","v":"F"},null,{"$f":"IF(ISNUMBER($L158),VALUE(OFFSET(Banco!$A$1,Composições!$L158-1,COLUMN(Composições!O158)-6)),0)","v":0},{"$f":"IF(ISNUMBER($L158),VALUE(OFFSET(Banco!$A$1,Composições!$L158-1,COLUMN(Composições!P158)-6)),0)","v":0},0,0]
[null,"SINAPI",100719,{"$f":"IF(ISNUMBER($L159),OFFSET(Banco!$A$1,Composições!$L159-1,COLUMN(Composições!D159)-1),\"\")","v":"PINTURA COM TINTA ALQUÍDICA DE FUNDO (TIPO ZARCÃO) PULVERIZADA SOBRE PERFIL METÁLICO EXECUTADO EM FÁBRICA (POR DEMÃO). AF_01/2020_PE"},{"$f":"IF(ISNUMBER($L159),OFFSET(Banco!$A$1,Composições!$L159-1,COLUMN(Composições!E159)-1),\"\")","v":"M2"},40.340000000000003,40.97,3.4660000000000002,{"$f":"IF(ISNUMBER($L159),VALUE(OFFSET(Banco!$A$1,Composições!$L159-1,COLUMN(Composições!I159)-4)),0)","v":11.64},{"$f":"IF(ISNUMBER($L159),VALUE(OFFSET(Banco!$A$1,Composições!$L159-1,COLUMN(Composições!J159)-4)),0)","v":11.82},{"$f":"COUNTA($A$1:$A159)-1","v":18},{"$f":"MATCH(CONCATENATE($B159,\" \",$C159),Banco!$A:$A,0)","v":14016},{"$f":"IF(OR(ISERROR($L159),$H159=\"\",$H159=0),\"\",OFFSET(M$1,MATCH($K159,$K$1:$K159,0)-1,0))","v":"F"},null,{"$f":"IF(ISNUMBER($L159),VALUE(OFFSET(Banco!$A$1,Composições!$L159-1,COLUMN(Composições!O159)-6)),0)","v":0},{"$f":"IF(ISNUMBER($L159),VALUE(OFFSET(Banco!$A$1,Composições!$L159-1,COLUMN(Composições!P159)-6)),0)","v":0},0,0]
[null,"SINAPI",100739,{"$f":"IF(ISNUMBER($L160),OFFSET(Banco!$A$1,Composições!$L160-1,COLUMN(Composições!D160)-1),\"\")","v":"PINTURA COM TINTA ALQUÍDICA DE ACABAMENTO (ESMALTE SINTÉTICO ACETINADO) PULVERIZADA SOBRE PERFIL METÁLICO EXECUTADO EM FÁBRICA (POR DEMÃO). AF_01/2020_PE"},{"$f":"IF(ISNUMBER($L160),OFFSET(Banco!$A$1,Composições!$L160-1,COLUMN(Composições!E160)-1),\"\")","v":"M2"},39.72,40.340000000000003,3.4660000000000002,{"$f":"IF(ISNUMBER($L160),VALUE(OFFSET(Banco!$A$1,Composições!$L160-1,COLUMN(Composições!I160)-4)),0)","v":11.46},{"$f":"IF(ISNUMBER($L160),VALUE(OFFSET(Banco!$A$1,Composições!$L160-1,COLUMN(Composições!J160)-4)),0)","v":11.64},{"$f":"COUNTA($A$1:$A160)-1","v":18},{"$f":"MATCH(CONCATENATE($B160,\" \",$C160),Banco!$A:$A,0)","v":13999},{"$f":"IF(OR(ISERROR($L160),$H160=\"\",$H160=0),\"\",OFFSET(M$1,MATCH($K160,$K$1:$K160,0)-1,0))","v":"F"},null,{"$f":"IF(ISNUMBER($L160),VALUE(OFFSET(Banco!$A$1,Composições!$L160-1,COLUMN(Composições!O160)-6)),0)","v":0},{"$f":"IF(ISNUMBER($L160),VALUE(OFFSET(Banco!$A$1,Composições!$L160-1,COLUMN(Composições!P160)-6)),0)","v":0},0,0]
[null,"COTAÇÃO",10966,{"$f":"IF(ISNUMBER($L161),OFFSET(Banco!$A$1,Composições!$L161-1,COLUMN(Composições!D161)-1),\"\")","v":"PERFIL \"U\" SIMPLES, EM CHAPA DOBRADA DE ACO LAMINADO, E = 8 MM, H = 150 MM, L = 75 MM (16,97 KG/M)"},{"$f":"IF(ISNUMBER($L161),OFFSET(Banco!$A$1,Composições!$L161-1,COLUMN(Composições!E161)-1),\"\")","v":"KG"},165.35,165.35,18.13,{"$f":"IF(ISNUMBER($L161),VALUE(OFFSET(Banco!$A$1,Composições!$L161-1,COLUMN(Composições!I161)-4)),0)","v":9.1199999999999992},{"$f":"IF(ISNUMBER($L161),VALUE(OFFSET(Banco!$A$1,Composições!$L161-1,COLUMN(Composições!J161)-4)),0)","v":9.1199999999999992},{"$f":"COUNTA($A$1:$A161)-1","v":18},{"$f":"MATCH(CONCATENATE($B161,\" \",$C161),Banco!$A:$A,0)","v":113},{"$f":"IF(OR(ISERROR($L161),$H161=\"\",$H161=0),\"\",OFFSET(M$1,MATCH($K161,$K$1:$K161,0)-1,0))","v":"F"},null,{"$f":"IF(ISNUMBER($L161),VALUE(OFFSET(Banco!$A$1,Composições!$L161-1,COLUMN(Composições!O161)-6)),0)","v":0},{"$f":"IF(ISNUMBER($L161),VALUE(OFFSET(Banco!$A$1,Composições!$L161-1,COLUMN(Composições!P161)-6)),0)","v":0},0,0]
[null,"COTAÇÃO",1318,{"$f":"IF(ISNUMBER($L162),OFFSET(Banco!$A$1,Composições!$L162-1,COLUMN(Composições!D162)-1),\"\")","v":"CHAPA DE ACO FINA A QUENTE BITOLA MSG 14, E = 2,00 MM (16,0 KG/M2)"},{"$f":"IF(ISNUMBER($L162),OFFSET(Banco!$A$1,Composições!$L162-1,COLUMN(Composições!E162)-1),\"\")","v":"KG"},49.39,49.39,5.81,{"$f":"IF(ISNUMBER($L162),VALUE(OFFSET(Banco!$A$1,Composições!$L162-1,COLUMN(Composições!I162)-4)),0)","v":8.5},{"$f":"IF(ISNUMBER($L162),VALUE(OFFSET(Banco!$A$1,Composições!$L162-1,COLUMN(Composições!J162)-4)),0)","v":8.5},{"$f":"COUNTA($A$1:$A162)-1","v":18},{"$f":"MATCH(CONCATENATE($B162,\" \",$C162),Banco!$A:$A,0)","v":103},{"$f":"IF(OR(ISERROR($L162),$H162=\"\",$H162=0),\"\",OFFSET(M$1,MATCH($K162,$K$1:$K162,0)-1,0))","v":"F"},null,{"$f":"IF(ISNUMBER($L162),VALUE(OFFSET(Banco!$A$1,Composições!$L162-1,COLUMN(Composições!O162)-6)),0)","v":0},{"$f":"IF(ISNUMBER($L162),VALUE(OFFSET(Banco!$A$1,Composições!$L162-1,COLUMN(Composições!P162)-6)),0)","v":0},0,0]
[null,"COTAÇÃO",7243,{"$f":"IF(ISNUMBER($L163),OFFSET(Banco!$A$1,Composições!$L163-1,COLUMN(Composições!D163)-1),\"\")","v":"TELHA TRAPEZOIDAL EM ACO ZINCADO, SEM PINTURA, ALTURA DE APROXIMADAMENTE 40 MM, ESPESSURA DE 0,50 MM E LARGURA UTIL DE 980 MM"},{"$f":"IF(ISNUMBER($L163),OFFSET(Banco!$A$1,Composições!$L163-1,COLUMN(Composições!E163)-1),\"\")","v":"M2"},42.61,42.61,0.85499999999999998,{"$f":"IF(ISNUMBER($L163),VALUE(OFFSET(Banco!$A$1,Composições!$L163-1,COLUMN(Composições!I163)-4)),0)","v":49.84},{"$f":"IF(ISNUMBER($L163),VALUE(OFFSET(Banco!$A$1,Composições!$L163-1,COLUMN(Composições!J163)-4)),0)","v":49.84},{"$f":"COUNTA($A$1:$A163)-1","v":18},{"$f":"MATCH(CONCATENATE($B163,\" \",$C163),Banco!$A:$A,0)","v":109},{"$f":"IF(OR(ISERROR($L163),$H163=\"\",$H163=0),\"\",OFFSET(M$1,MATCH($K163,$K$1:$K163,0)-1,0))","v":"F"},null,{"$f":"IF(ISNUMBER($L163),VALUE(OFFSET(Banco!$A$1,Composições!$L163-1,COLUMN(Composições!O163)-6)),0)","v":0},{"$f":"IF(ISNUMBER($L163),VALUE(OFFSET(Banco!$A$1,Composições!$L163-1,COLUMN(Composições!P163)-6)),0)","v":0},0,0]
[null,"SINAPI-I",38179,{"$f":"IF(ISNUMBER($L164),OFFSET(Banco!$A$1,Composições!$L164-1,COLUMN(Composições!D164)-1),\"\")","v":"ROLDANA CONCAVA DUPLA, 4 RODAS, PARA PORTA DE CORRER, EM ZAMAC COM CHAPA DE ACO, ROLAMENTO INTERNO BLINDADO DE ACO REVESTIDO EM NYLON"},{"$f":"IF(ISNUMBER($L164),OFFSET(Banco!$A$1,Composições!$L164-1,COLUMN(Composições!E164)-1),\"\")","v":"UN"},7.37,7.37,0.16300000000000001,{"$f":"IF(ISNUMBER($L164),VALUE(OFFSET(Banco!$A$1,Composições!$L164-1,COLUMN(Composições!I164)-4)),0)","v":45.23},{"$f":"IF(ISNUMBER($L164),VALUE(OFFSET(Banco!$A$1,Composições!$L164-1,COLUMN(Composições!J164)-4)),0)","v":45.23},{"$f":"COUNTA($A$1:$A164)-1","v":18},{"$f":"MATCH(CONCATENATE($B164,\" \",$C164),Banco!$A:$A,0)","v":3896},{"$f":"IF(OR(ISERROR($L164),$H164=\"\",$H164=0),\"\",OFFSET(M$1,MATCH($K164,$K$1:$K164,0)-1,0))","v":"F"},null,{"$f":"IF(ISNUMBER($L164),VALUE(OFFSET(Banco!$A$1,Composições!$L164-1,COLUMN(Composições!O164)-6)),0)","v":0},{"$f":"IF(ISNUMBER($L164),VALUE(OFFSET(Banco!$A$1,Composições!$L164-1,COLUMN(Composições!P164)-6)),0)","v":0},0,0]
[null,"SINAPI-I",41954,{"$f":"IF(ISNUMBER($L165),OFFSET(Banco!$A$1,Composições!$L165-1,COLUMN(Composições!D165)-1),\"\")","v":"CABO DE ACO GALVANIZADO, DIAMETRO 9,53 MM (3/8\"), COM ALMA DE FIBRA 6 X 25 F"},{"$f":"IF(ISNUMBER($L165),OFFSET(Banco!$A$1,Composições!$L165-1,COLUMN(Composições!E165)-1),\"\")","v":"KG"},33.72,33.72,0.40300000000000002,{"$f":"IF(ISNUMBER($L165),VALUE(OFFSET(Banco!$A$1,Composições!$L165-1,COLUMN(Composições!I165)-4)),0)","v":83.68},{"$f":"IF(ISNUMBER($L165),VALUE(OFFSET(Banco!$A$1,Composições!$L165-1,COLUMN(Composições!J165)-4)),0)","v":83.68},{"$f":"COUNTA($A$1:$A165)-1","v":18},{"$f":"MATCH(CONCATENATE($B165,\" \",$C165),Banco!$A:$A,0)","v":840},{"$f":"IF(OR(ISERROR($L165),$H165=\"\",$H165=0),\"\",OFFSET(M$1,MATCH($K165,$K$1:$K165,0)-1,0))","v":"F"},null,{"$f":"IF(ISNUMBER($L165),VALUE(OFFSET(Banco!$A$1,Composições!$L165-1,COLUMN(Composições!O165)-6)),0)","v":0},{"$f":"IF(ISNUMBER($L165),VALUE(OFFSET(Banco!$A$1,Composições!$L165-1,COLUMN(Composições!P165)-6)),0)","v":0},0,0]
[null,null,null,null,null,null,null,null,null,null,{"$f":"COUNTA($A$1:$A166)-1","v":18},null,{"$f":"IF(OFFSET($M$1,MATCH(OFFSET(K166,-1,0),$K$1:$K166,0)-1,0)=\"F\",\"F\",\"\")","v":"F"}]
[{"$f":"CONCATENATE($B167,\" \",$C167)","v":"Composição INES.0001.01"},"Composição","INES.0001.01","PLACA DE SINALIZAÇÃO DE SEGURANÇA CONTRA INCÊNDIO, FOTOLUMINESCENTE, RETANGULAR, *13 X 26* CM, EM PVC *2* MM ANTI-CHAMAS (SÍMBOLOS, CORES E PICTOGRAMAS CONFORME NBR 13434) (TIPO S1 A S11) - FORNECIMENTO E INSTALAÇÃO","UN",{"$f":"IF($L167>0,SUM(OFFSET(F167,1,0,$L167),0))","v":20.329999999999998},20.740000000000002,null,{"$f":"IF(ISERROR(F167),0,F167)","v":20.329999999999998},20.740000000000002,{"$f":"COUNTA($A$1:$A167)-1","v":19},{"$f":"IF(MAX(K:K)=K167,MATCH(9999999,$K:$K)+1,MATCH(K167+1,K:K,0))-ROW(L167)-2","v":2},{"$f":"IF(AND(OR(I167<>0,J167<>0),N167=\"Sim\"),\"F\",\"\")","v":"F"},"Sim",{"$f":"IF(AND($L167>0,F167<>0),ROUND(SUM(OFFSET(Q167,1,0,$L167))/F167,4),0)","v":0},0]
[null,"SINAPI",88316,{"$f":"IF(ISNUMBER($L168),OFFSET(Banco!$A$1,Composições!$L168-1,COLUMN(Composições!D168)-1),\"\")","v":"SERVENTE COM ENCARGOS COMPLEMENTARES"},{"$f":"IF(ISNUMBER($L168),OFFSET(Banco!$A$1,Composições!$L168-1,COLUMN(Composições!E168)-1),\"\")","v":"H"},{"$f":"ROUND($H168*ROUND(I168,2),2)","v":5.33},5.74,0.2,{"$f":"IF(ISNUMBER($L168),VALUE(OFFSET(Banco!$A$1,Composições!$L168-1,COLUMN(Composições!I168)-4)),0)","v":26.65},{"$f":"IF(ISNUMBER($L168),VALUE(OFFSET(Banco!$A$1,Composições!$L168-1,COLUMN(Composições!J168)-4)),0)","v":28.71},{"$f":"COUNTA($A$1:$A168)-1","v":19},{"$f":"MATCH(CONCATENATE($B168,\" \",$C168),Banco!$A:$A,0)","v":13198},{"$f":"IF(OR(ISERROR($L168),$H168=\"\",$H168=0),\"\",OFFSET(M$1,MATCH($K168,$K$1:$K168,0)-1,0))","v":"F"},null,{"$f":"IF(ISNUMBER($L168),VALUE(OFFSET(Banco!$A$1,Composições!$L168-1,COLUMN(Composições!O168)-6)),0)","v":0},{"$f":"IF(ISNUMBER($L168),VALUE(OFFSET(Banco!$A$1,Composições!$L168-1,COLUMN(Composições!P168)-6)),0)","v":0},{"$f":"ROUND(F168*O168,2)","v":0},0]
[null,"SINAPI-I",37539,{"$f":"IF(ISNUMBER($L169),OFFSET(Banco!$A$1,Composições!$L169-1,COLUMN(Composições!D169)-1),\"\")","v":"PLACA DE SINALIZACAO DE SEGURANCA CONTRA INCENDIO, FOTOLUMINESCENTE, RETANGULAR, *13 X 26* CM, EM PVC *2* MM ANTI-CHAMAS (SIMBOLOS, CORES E PICTOGRAMAS CONFORME NBR 16820)"},{"$f":"IF(ISNUMBER($L169),OFFSET(Banco!$A$1,Composições!$L169-1,COLUMN(Composições!E169)-1),\"\")","v":"UN"},15,15,1,{"$f":"IF(ISNUMBER($L169),VALUE(OFFSET(Banco!$A$1,Composições!$L169-1,COLUMN(Composições!I169)-4)),0)","v":15},{"$f":"IF(ISNUMBER($L169),VALUE(OFFSET(Banco!$A$1,Composições!$L169-1,COLUMN(Composições!J169)-4)),0)","v":15},{"$f":"COUNTA($A$1:$A169)-1","v":19},{"$f":"MATCH(CONCATENATE($B169,\" \",$C169),Banco!$A:$A,0)","v":3536},{"$f":"IF(OR(ISERROR($L169),$H169=\"\",$H169=0),\"\",OFFSET(M$1,MATCH($K169,$K$1:$K169,0)-1,0))","v":"F"},null,{"$f":"IF(ISNUMBER($L169),VALUE(OFFSET(Banco!$A$1,Composições!$L169-1,COLUMN(Composições!O169)-6)),0)","v":0},{"$f":"IF(ISNUMBER($L169),VALUE(OFFSET(Banco!$A$1,Composições!$L169-1,COLUMN(Composições!P169)-6)),0)","v":0},0,0]
[null,null,null,null,null,null,null,null,null,null,{"$f":"COUNTA($A$1:$A170)-1","v":19},null,{"$f":"IF(OFFSET($M$1,MATCH(OFFSET(K170,-1,0),$K$1:$K170,0)-1,0)=\"F\",\"F\",\"\")","v":"F"}]
[{"$f":"CONCATENATE($B171,\" \",$C171)","v":"Composição INES.0003.01"},"Composição","INES.0003.01","PLACA DE SINALIZAÇÃO DE SEGURANÇA CONTRA INCÊNDIO, FOTOLUMINESCENTE, RETANGULAR, *12 X 40* CM, EM PVC *2* MM ANTI-CHAMAS (SÍMBOLOS, CORES E PICTOGRAMAS CONFORME NBR 13434) (TIPO S12) - FORNECIMENTO E INSTALAÇÃO","UN",{"$f":"IF($L171>0,SUM(OFFSET(F171,1,0,$L171),0))","v":26.61},27.020000000000003,null,{"$f":"IF(ISERROR(F171),0,F171)","v":26.61},27.020000000000003,{"$f":"COUNTA($A$1:$A171)-1","v":20},{"$f":"IF(MAX(K:K)=K171,MATCH(9999999,$K:$K)+1,MATCH(K171+1,K:K,0))-ROW(L171)-2","v":2},{"$f":"IF(AND(OR(I171<>0,J171<>0),N171=\"Sim\"),\"F\",\"\")","v":"F"},"Sim",{"$f":"IF(AND($L171>0,F171<>0),ROUND(SUM(OFFSET(Q171,1,0,$L171))/F171,4),0)","v":0},0]
[null,"SINAPI",88316,{"$f":"IF(ISNUMBER($L172),OFFSET(Banco!$A$1,Composições!$L172-1,COLUMN(Composições!D172)-1),\"\")","v":"SERVENTE COM ENCARGOS COMPLEMENTARES"},{"$f":"IF(ISNUMBER($L172),OFFSET(Banco!$A$1,Composições!$L172-1,COLUMN(Composições!E172)-1),\"\")","v":"H"},{"$f":"ROUND($H172*ROUND(I172,2),2)","v":5.33},5.74,0.2,{"$f":"IF(ISNUMBER($L172),VALUE(OFFSET(Banco!$A$1,Composições!$L172-1,COLUMN(Composições!I172)-4)),0)","v":26.65},{"$f":"IF(ISNUMBER($L172),VALUE(OFFSET(Banco!$A$1,Composições!$L172-1,COLUMN(Composições!J172)-4)),0)","v":28.71},{"$f":"COUNTA($A$1:$A172)-1","v":20},{"$f":"MATCH(CONCATENATE($B172,\" \",$C172),Banco!$A:$A,0)","v":13198},{"$f":"IF(OR(ISERROR($L172),$H172=\"\",$H172=0),\"\",OFFSET(M$1,MATCH($K172,$K$1:$K172,0)-1,0))","v":"F"},null,{"$f":"IF(ISNUMBER($L172),VALUE(OFFSET(Banco!$A$1,Composições!$L172-1,COLUMN(Composições!O172)-6)),0)","v":0},{"$f":"IF(ISNUMBER($L172),VALUE(OFFSET(Banco!$A$1,Composições!$L172-1,COLUMN(Composições!P172)-6)),0)","v":0},{"$f":"ROUND(F172*O172,2)","v":0},0]
[null,"SINAPI-I",37559,{"$f":"IF(ISNUMBER($L173),OFFSET(Banco!$A$1,Composições!$L173-1,COLUMN(Composições!D173)-1),\"\")","v":"PLACA DE SINALIZACAO DE SEGURANCA CONTRA INCENDIO, FOTOLUMINESCENTE, RETANGULAR, *12 X 40* CM, EM PVC *2* MM ANTI-CHAMAS (SIMBOLOS, CORES E PICTOGRAMAS CONFORME NBR 16820)"},{"$f":"IF(ISNUMBER($L173),OFFSET(Banco!$A$1,Composições!$L173-1,COLUMN(Composições!E173)-1),\"\")","v":"UN"},21.28,21.28,1,{"$f":"IF(ISNUMBER($L173),VALUE(OFFSET(Banco!$A$1,Composições!$L173-1,COLUMN(Composições!I173)-4)),0)","v":21.28},{"$f":"IF(ISNUMBER($L173),VALUE(OFFSET(Banco!$A$1,Composições!$L173-1,COLUMN(Composições!J173)-4)),0)","v":21.28},{"$f":"COUNTA($A$1:$A173)-1","v":20},{"$f":"MATCH(CONCATENATE($B173,\" \",$C173),Banco!$A:$A,0)","v":3535},{"$f":"IF(OR(ISERROR($L173),$H173=\"\",$H173=0),\"\",OFFSET(M$1,MATCH($K173,$K$1:$K173,0)-1,0))","v":"F"},null,{"$f":"IF(ISNUMBER($L173),VALUE(OFFSET(Banco!$A$1,Composições!$L173-1,COLUMN(Composições!O173)-6)),0)","v":0},{"$f":"IF(ISNUMBER($L173),VALUE(OFFSET(Banco!$A$1,Composições!$L173-1,COLUMN(Composições!P173)-6)),0)","v":0},0,0]
[null,null,null,null,null,null,null,null,null,null,{"$f":"COUNTA($A$1:$A174)-1","v":20},null,{"$f":"IF(OFFSET($M$1,MATCH(OFFSET(K174,-1,0),$K$1:$K174,0)-1,0)=\"F\",\"F\",\"\")","v":"F"}]
[{"$f":"CONCATENATE($B175,\" \",$C175)","v":"Composição INES.0012.01"},"Composição","INES.0012.01","PLACA DE SINALIZAÇÃO DE SEGURANÇA CONTRA INCENDIO, RETANGULAR 100X60 CM, EM PVC 2MM, ANTI-CHAMAS, NA COR VERDE CONFORME PROJETO, TIPO M1 (MEDIDAS DE SEGURANÇA), M2 (CAPACIDADE DE PÚBLICO) - FORNECIMENTO E INSTALAÇÃO.","UN",{"$f":"IF($L175>0,SUM(OFFSET(F175,1,0,$L175),0))","v":133.66},134.18,null,{"$f":"IF(ISERROR(F175),0,F175)","v":133.66},134.18,{"$f":"COUNTA($A$1:$A175)-1","v":21},{"$f":"IF(MAX(K:K)=K175,MATCH(9999999,$K:$K)+1,MATCH(K175+1,K:K,0))-ROW(L175)-2","v":2},{"$f":"IF(AND(OR(I175<>0,J175<>0),N175=\"Sim\"),\"F\",\"\")","v":"F"},"Sim",{"$f":"IF(AND($L175>0,F175<>0),ROUND(SUM(OFFSET(Q175,1,0,$L175))/F175,4),0)","v":0},0]
[null,"SINAPI",88316,{"$f":"IF(ISNUMBER($L176),OFFSET(Banco!$A$1,Composições!$L176-1,COLUMN(Composições!D176)-1),\"\")","v":"SERVENTE COM ENCARGOS COMPLEMENTARES"},{"$f":"IF(ISNUMBER($L176),OFFSET(Banco!$A$1,Composições!$L176-1,COLUMN(Composições!E176)-1),\"\")","v":"H"},{"$f":"ROUND($H176*ROUND(I176,2),2)","v":6.66},7.18,0.25,{"$f":"IF(ISNUMBER($L176),VALUE(OFFSET(Banco!$A$1,Composições!$L176-1,COLUMN(Composições!I176)-4)),0)","v":26.65},{"$f":"IF(ISNUMBER($L176),VALUE(OFFSET(Banco!$A$1,Composições!$L176-1,COLUMN(Composições!J176)-4)),0)","v":28.71},{"$f":"COUNTA($A$1:$A176)-1","v":21},{"$f":"MATCH(CONCATENATE($B176,\" \",$C176),Banco!$A:$A,0)","v":13198},{"$f":"IF(OR(ISERROR($L176),$H176=\"\",$H176=0),\"\",OFFSET(M$1,MATCH($K176,$K$1:$K176,0)-1,0))","v":"F"},null,{"$f":"IF(ISNUMBER($L176),VALUE(OFFSET(Banco!$A$1,Composições!$L176-1,COLUMN(Composições!O176)-6)),0)","v":0},{"$f":"IF(ISNUMBER($L176),VALUE(OFFSET(Banco!$A$1,Composições!$L176-1,COLUMN(Composições!P176)-6)),0)","v":0},{"$f":"ROUND(F176*O176,2)","v":0},0]
[null,"COTAÇÃO","I.INES.0004.01",{"$f":"IF(ISNUMBER($L177),OFFSET(Banco!$A$1,Composições!$L177-1,COLUMN(Composições!D177)-1),\"\")","v":"PLACA DE SINALIZAÇÃO DE SEGURANÇA CONTRA INCENDIO, RETANGULAR 100X60 CM, EM PVC 2MM, ANTI-CHAMAS, NA COR VERDE CONFORME PROJETO, TIPO M1 (MEDIDAS DE SEGURANÇA), M2A E M2B (CAPACIDADE DE PÚBLICO)"},{"$f":"IF(ISNUMBER($L177),OFFSET(Banco!$A$1,Composições!$L177-1,COLUMN(Composições!E177)-1),\"\")","v":""},127,127,1,{"$f":"IF(ISNUMBER($L177),VALUE(OFFSET(Banco!$A$1,Composições!$L177-1,COLUMN(Composições!I177)-4)),0)","v":127},{"$f":"IF(ISNUMBER($L177),VALUE(OFFSET(Banco!$A$1,Composições!$L177-1,COLUMN(Composições!J177)-4)),0)","v":127},{"$f":"COUNTA($A$1:$A177)-1","v":21},{"$f":"MATCH(CONCATENATE($B177,\" \",$C177),Banco!$A:$A,0)","v":97},{"$f":"IF(OR(ISERROR($L177),$H177=\"\",$H177=0),\"\",OFFSET(M$1,MATCH($K177,$K$1:$K177,0)-1,0))","v":"F"},null,{"$f":"IF(ISNUMBER($L177),VALUE(OFFSET(Banco!$A$1,Composições!$L177-1,COLUMN(Composições!O177)-6)),0)","v":0},{"$f":"IF(ISNUMBER($L177),VALUE(OFFSET(Banco!$A$1,Composições!$L177-1,COLUMN(Composições!P177)-6)),0)","v":0},0,0]
[null,null,null,null,null,null,null,null,null,null,{"$f":"COUNTA($A$1:$A178)-1","v":21},null,{"$f":"IF(OFFSET($M$1,MATCH(OFFSET(K178,-1,0),$K$1:$K178,0)-1,0)=\"F\",\"F\",\"\")","v":"F"}]
[{"$f":"CONCATENATE($B179,\" \",$C179)","v":"Composição INES.0002.01"},"Composição","INES.0002.01","PLACA DE SINALIZAÇÃO DE SEGURANÇA CONTRA INCÊNDIO, FOTOLUMINESCENTE, QUADRADA, *20 X 20* CM, EM PVC *2* MM ANTI-CHAMAS (SÍMBOLOS, CORES E PICTOGRAMAS CONFORME NBR 13434) (TIPO E1, E4 A E16) - FORNECIMENTO E INSTALAÇÃO","UN",{"$f":"IF($L179>0,SUM(OFFSET(F179,1,0,$L179),0))","v":22.68},23.090000000000003,null,{"$f":"IF(ISERROR(F179),0,F179)","v":22.68},23.090000000000003,{"$f":"COUNTA($A$1:$A179)-1","v":22},{"$f":"IF(MAX(K:K)=K179,MATCH(9999999,$K:$K)+1,MATCH(K179+1,K:K,0))-ROW(L179)-2","v":2},{"$f":"IF(AND(OR(I179<>0,J179<>0),N179=\"Sim\"),\"F\",\"\")","v":"F"},"Sim",{"$f":"IF(AND($L179>0,F179<>0),ROUND(SUM(OFFSET(Q179,1,0,$L179))/F179,4),0)","v":0},0]
[null,"SINAPI",88316,{"$f":"IF(ISNUMBER($L180),OFFSET(Banco!$A$1,Composições!$L180-1,COLUMN(Composições!D180)-1),\"\")","v":"SERVENTE COM ENCARGOS COMPLEMENTARES"},{"$f":"IF(ISNUMBER($L180),OFFSET(Banco!$A$1,Composições!$L180-1,COLUMN(Composições!E180)-1),\"\")","v":"H"},{"$f":"ROUND($H180*ROUND(I180,2),2)","v":5.33},5.74,0.2,{"$f":"IF(ISNUMBER($L180),VALUE(OFFSET(Banco!$A$1,Composições!$L180-1,COLUMN(Composições!I180)-4)),0)","v":26.65},{"$f":"IF(ISNUMBER($L180),VALUE(OFFSET(Banco!$A$1,Composições!$L180-1,COLUMN(Composições!J180)-4)),0)","v":28.71},{"$f":"COUNTA($A$1:$A180)-1","v":22},{"$f":"MATCH(CONCATENATE($B180,\" \",$C180),Banco!$A:$A,0)","v":13198},{"$f":"IF(OR(ISERROR($L180),$H180=\"\",$H180=0),\"\",OFFSET(M$1,MATCH($K180,$K$1:$K180,0)-1,0))","v":"F"},null,{"$f":"IF(ISNUMBER($L180),VALUE(OFFSET(Banco!$A$1,Composições!$L180-1,COLUMN(Composições!O180)-6)),0)","v":0},{"$f":"IF(ISNUMBER($L180),VALUE(OFFSET(Banco!$A$1,Composições!$L180-1,COLUMN(Composições!P180)-6)),0)","v":0},{"$f":"ROUND(F180*O180,2)","v":0},0]
[null,"SINAPI-I",37556,{"$f":"IF(ISNUMBER($L181),OFFSET(Banco!$A$1,Composições!$L181-1,COLUMN(Composições!D181)-1),\"\")","v":"PLACA DE SINALIZACAO DE SEGURANCA CONTRA INCENDIO, FOTOLUMINESCENTE, QUADRADA, *20 X 20* CM, EM PVC *2* MM ANTI-CHAMAS (SIMBOLOS, CORES E PICTOGRAMAS CONFORME NBR 16820)"},{"$f":"IF(ISNUMBER($L181),OFFSET(Banco!$A$1,Composições!$L181-1,COLUMN(Composições!E181)-1),\"\")","v":"UN"},17.350000000000001,17.350000000000001,1,{"$f":"IF(ISNUMBER($L181),VALUE(OFFSET(Banco!$A$1,Composições!$L181-1,COLUMN(Composições!I181)-4)),0)","v":17.350000000000001},{"$f":"IF(ISNUMBER($L181),VALUE(OFFSET(Banco!$A$1,Composições!$L181-1,COLUMN(Composições!J181)-4)),0)","v":17.350000000000001},{"$f":"COUNTA($A$1:$A181)-1","v":22},{"$f":"MATCH(CONCATENATE($B181,\" \",$C181),Banco!$A:$A,0)","v":3534},{"$f":"IF(OR(ISERROR($L181),$H181=\"\",$H181=0),\"\",OFFSET(M$1,MATCH($K181,$K$1:$K181,0)-1,0))","v":"F"},null,{"$f":"IF(ISNUMBER($L181),VALUE(OFFSET(Banco!$A$1,Composições!$L181-1,COLUMN(Composições!O181)-6)),0)","v":0},{"$f":"IF(ISNUMBER($L181),VALUE(OFFSET(Banco!$A$1,Composições!$L181-1,COLUMN(Composições!P181)-6)),0)","v":0},0,0]
[null,null,null,null,null,null,null,null,null,null,{"$f":"COUNTA($A$1:$A182)-1","v":22},null,{"$f":"IF(OFFSET($M$1,MATCH(OFFSET(K182,-1,0),$K$1:$K182,0)-1,0)=\"F\",\"F\",\"\")","v":"F"}]
[{"$f":"CONCATENATE($B183,\" \",$C183)","v":"Composição SEDI.0018.01"},"Composição","SEDI.0018.01","(COMPOSIÇÃO REPRESENTATIVA) - LIMPEZA FINAL DE OBRA, PARA EDIFICAÇÕES PÚBLICAS PADRÃO, INCLUSIVE LIMPEZA DE PISOS, PAREDES, APARELHOS","m²",{"$f":"IF($L183>0,SUM(OFFSET(F183,1,0,$L183),0))","v":3.75},3.9999999999999996,null,{"$f":"IF(ISERROR(F183),0,F183)","v":3.75},3.9999999999999996,{"$f":"COUNTA($A$1:$A183)-1","v":23},{"$f":"IF(MAX(K:K)=K183,MATCH(9999999,$K:$K)+1,MATCH(K183+1,K:K,0))-ROW(L183)-2","v":7},{"$f":"IF(AND(OR(I183<>0,J183<>0),N183=\"Sim\"),\"F\",\"\")","v":"F"},"Sim",{"$f":"IF(AND($L183>0,F183<>0),ROUND(SUM(OFFSET(Q183,1,0,$L183))/F183,4),0)","v":0},0]
[null,"SINAPI",99806,{"$f":"IF(ISNUMBER($L184),OFFSET(Banco!$A$1,Composições!$L184-1,COLUMN(Composições!D184)-1),\"\")","v":"LIMPEZA DE REVESTIMENTO CERÂMICO EM PAREDE COM PANO ÚMIDO AF_04/2019"},{"$f":"IF(ISNUMBER($L184),OFFSET(Banco!$A$1,Composições!$L184-1,COLUMN(Composições!E184)-1),\"\")","v":"M2"},{"$f":"ROUND($H184*ROUND(I184,2),2)","v":0.49},0.52,0.45900000000000002,{"$f":"IF(ISNUMBER($L184),VALUE(OFFSET(Banco!$A$1,Composições!$L184-1,COLUMN(Composições!I184)-4)),0)","v":1.06},{"$f":"IF(ISNUMBER($L184),VALUE(OFFSET(Banco!$A$1,Composições!$L184-1,COLUMN(Composições!J184)-4)),0)","v":1.1399999999999999},{"$f":"COUNTA($A$1:$A184)-1","v":23},{"$f":"MATCH(CONCATENATE($B184,\" \",$C184),Banco!$A:$A,0)","v":12840},{"$f":"IF(OR(ISERROR($L184),$H184=\"\",$H184=0),\"\",OFFSET(M$1,MATCH($K184,$K$1:$K184,0)-1,0))","v":"F"},null,{"$f":"IF(ISNUMBER($L184),VALUE(OFFSET(Banco!$A$1,Composições!$L184-1,COLUMN(Composições!O184)-6)),0)","v":0},{"$f":"IF(ISNUMBER($L184),VALUE(OFFSET(Banco!$A$1,Composições!$L184-1,COLUMN(Composições!P184)-6)),0)","v":0},{"$f":"ROUND(F184*O184,2)","v":0},0]
[null,"SINAPI",99822,{"$f":"IF(ISNUMBER($L185),OFFSET(Banco!$A$1,Composições!$L185-1,COLUMN(Composições!D185)-1),\"\")","v":"LIMPEZA DE PORTA DE MADEIRA. AF_04/2019"},{"$f":"IF(ISNUMBER($L185),OFFSET(Banco!$A$1,Composições!$L185-1,COLUMN(Composições!E185)-1),\"\")","v":"M2"},0.19,0.2,0.14799999999999999,{"$f":"IF(ISNUMBER($L185),VALUE(OFFSET(Banco!$A$1,Composições!$L185-1,COLUMN(Composições!I185)-4)),0)","v":1.25},{"$f":"IF(ISNUMBER($L185),VALUE(OFFSET(Banco!$A$1,Composições!$L185-1,COLUMN(Composições!J185)-4)),0)","v":1.34},{"$f":"COUNTA($A$1:$A185)-1","v":23},{"$f":"MATCH(CONCATENATE($B185,\" \",$C185),Banco!$A:$A,0)","v":12836},{"$f":"IF(OR(ISERROR($L185),$H185=\"\",$H185=0),\"\",OFFSET(M$1,MATCH($K185,$K$1:$K185,0)-1,0))","v":"F"},null,{"$f":"IF(ISNUMBER($L185),VALUE(OFFSET(Banco!$A$1,Composições!$L185-1,COLUMN(Composições!O185)-6)),0)","v":0},{"$f":"IF(ISNUMBER($L185),VALUE(OFFSET(Banco!$A$1,Composições!$L185-1,COLUMN(Composições!P185)-6)),0)","v":0},0,0]
[null,"SINAPI",99803,{"$f":"IF(ISNUMBER($L186),OFFSET(Banco!$A$1,Composições!$L186-1,COLUMN(Composições!D186)-1),\"\")","v":"LIMPEZA DE PISO CERÂMICO OU PORCELANATO COM PANO ÚMIDO. AF_04/2019"},{"$f":"IF(ISNUMBER($L186),OFFSET(Banco!$A$1,Composições!$L186-1,COLUMN(Composições!E186)-1),\"\")","v":"M2"},2.25,2.42,0.872,{"$f":"IF(ISNUMBER($L186),VALUE(OFFSET(Banco!$A$1,Composições!$L186-1,COLUMN(Composições!I186)-4)),0)","v":2.58},{"$f":"IF(ISNUMBER($L186),VALUE(OFFSET(Banco!$A$1,Composições!$L186-1,COLUMN(Composições!J186)-4)),0)","v":2.78},{"$f":"COUNTA($A$1:$A186)-1","v":23},{"$f":"MATCH(CONCATENATE($B186,\" \",$C186),Banco!$A:$A,0)","v":12830},{"$f":"IF(OR(ISERROR($L186),$H186=\"\",$H186=0),\"\",OFFSET(M$1,MATCH($K186,$K$1:$K186,0)-1,0))","v":"F"},null,{"$f":"IF(ISNUMBER($L186),VALUE(OFFSET(Banco!$A$1,Composições!$L186-1,COLUMN(Composições!O186)-6)),0)","v":0},{"$f":"IF(ISNUMBER($L186),VALUE(OFFSET(Banco!$A$1,Composições!$L186-1,COLUMN(Composições!P186)-6)),0)","v":0},0,0]
[null,"SINAPI",99821,{"$f":"IF(ISNUMBER($L187),OFFSET(Banco!$A$1,Composições!$L187-1,COLUMN(Composições!D187)-1),\"\")","v":"LIMPEZA DE JANELA DE VIDRO COM CAIXILHO EM AÇO/ALUMÍNIO/PVC. AF_04/2019"},{"$f":"IF(ISNUMBER($L187),OFFSET(Banco!$A$1,Composições!$L187-1,COLUMN(Composições!E187)-1),\"\")","v":"M2"},0.48,0.5,0.13400000000000001,{"$f":"IF(ISNUMBER($L187),VALUE(OFFSET(Banco!$A$1,Composições!$L187-1,COLUMN(Composições!I187)-4)),0)","v":3.57},{"$f":"IF(ISNUMBER($L187),VALUE(OFFSET(Banco!$A$1,Composições!$L187-1,COLUMN(Composições!J187)-4)),0)","v":3.76},{"$f":"COUNTA($A$1:$A187)-1","v":23},{"$f":"MATCH(CONCATENATE($B187,\" \",$C187),Banco!$A:$A,0)","v":12823},{"$f":"IF(OR(ISERROR($L187),$H187=\"\",$H187=0),\"\",OFFSET(M$1,MATCH($K187,$K$1:$K187,0)-1,0))","v":"F"},null,{"$f":"IF(ISNUMBER($L187),VALUE(OFFSET(Banco!$A$1,Composições!$L187-1,COLUMN(Composições!O187)-6)),0)","v":0},{"$f":"IF(ISNUMBER($L187),VALUE(OFFSET(Banco!$A$1,Composições!$L187-1,COLUMN(Composições!P187)-6)),0)","v":0},0,0]
[null,"SINAPI",99824,{"$f":"IF(ISNUMBER($L188),OFFSET(Banco!$A$1,Composições!$L188-1,COLUMN(Composições!D188)-1),\"\")","v":"LIMPEZA DE PORTA EM AÇO/ALUMÍNIO. AF_04/2019"},{"$f":"IF(ISNUMBER($L188),OFFSET(Banco!$A$1,Composições!$L188-1,COLUMN(Composições!E188)-1),\"\")","v":"M2"},0.12,0.13,4.1000000000000002E-2,{"$f":"IF(ISNUMBER($L188),VALUE(OFFSET(Banco!$A$1,Composições!$L188-1,COLUMN(Composições!I188)-4)),0)","v":3.02},{"$f":"IF(ISNUMBER($L188),VALUE(OFFSET(Banco!$A$1,Composições!$L188-1,COLUMN(Composições!J188)-4)),0)","v":3.22},{"$f":"COUNTA($A$1:$A188)-1","v":23},{"$f":"MATCH(CONCATENATE($B188,\" \",$C188),Banco!$A:$A,0)","v":12838},{"$f":"IF(OR(ISERROR($L188),$H188=\"\",$H188=0),\"\",OFFSET(M$1,MATCH($K188,$K$1:$K188,0)-1,0))","v":"F"},null,{"$f":"IF(ISNUMBER($L188),VALUE(OFFSET(Banco!$A$1,Composições!$L188-1,COLUMN(Composições!O188)-6)),0)","v":0},{"$f":"IF(ISNUMBER($L188),VALUE(OFFSET(Banco!$A$1,Composições!$L188-1,COLUMN(Composições!P188)-6)),0)","v":0},0,0]
[null,"SINAPI",99816,{"$f":"IF(ISNUMBER($L189),OFFSET(Banco!$A$1,Composições!$L189-1,COLUMN(Composições!D189)-1),\"\")","v":"LIMPEZA DE TANQUE OU LAVATÓRIO DE LOUÇA ISOLADO, INCLUSIVE METAIS CORRESPONDENTES. AF_04/2019"},{"$f":"IF(ISNUMBER($L189),OFFSET(Banco!$A$1,Composições!$L189-1,COLUMN(Composições!E189)-1),\"\")","v":"UN"},0.14000000000000001,0.15,1.2999999999999999E-2,{"$f":"IF(ISNUMBER($L189),VALUE(OFFSET(Banco!$A$1,Composições!$L189-1,COLUMN(Composições!I189)-4)),0)","v":10.91},{"$f":"IF(ISNUMBER($L189),VALUE(OFFSET(Banco!$A$1,Composições!$L189-1,COLUMN(Composições!J189)-4)),0)","v":11.52},{"$f":"COUNTA($A$1:$A189)-1","v":23},{"$f":"MATCH(CONCATENATE($B189,\" \",$C189),Banco!$A:$A,0)","v":12844},{"$f":"IF(OR(ISERROR($L189),$H189=\"\",$H189=0),\"\",OFFSET(M$1,MATCH($K189,$K$1:$K189,0)-1,0))","v":"F"},null,{"$f":"IF(ISNUMBER($L189),VALUE(OFFSET(Banco!$A$1,Composições!$L189-1,COLUMN(Composições!O189)-6)),0)","v":0},{"$f":"IF(ISNUMBER($L189),VALUE(OFFSET(Banco!$A$1,Composições!$L189-1,COLUMN(Composições!P189)-6)),0)","v":0},0,0]
[null,"SINAPI",99818,{"$f":"IF(ISNUMBER($L190),OFFSET(Banco!$A$1,Composições!$L190-1,COLUMN(Composições!D190)-1),\"\")","v":"LIMPEZA DE BACIA SANITÁRIA, BIDÊ OU MICTÓRIO EM LOUÇA, INCLUSIVE METAIS CORRESPONDENTES. AF_04/2019"},{"$f":"IF(ISNUMBER($L190),OFFSET(Banco!$A$1,Composições!$L190-1,COLUMN(Composições!E190)-1),\"\")","v":"UN"},0.08,0.08,1.2999999999999999E-2,{"$f":"IF(ISNUMBER($L190),VALUE(OFFSET(Banco!$A$1,Composições!$L190-1,COLUMN(Composições!I190)-4)),0)","v":6.27},{"$f":"IF(ISNUMBER($L190),VALUE(OFFSET(Banco!$A$1,Composições!$L190-1,COLUMN(Composições!J190)-4)),0)","v":6.53},{"$f":"COUNTA($A$1:$A190)-1","v":23},{"$f":"MATCH(CONCATENATE($B190,\" \",$C190),Banco!$A:$A,0)","v":12819},{"$f":"IF(OR(ISERROR($L190),$H190=\"\",$H190=0),\"\",OFFSET(M$1,MATCH($K190,$K$1:$K190,0)-1,0))","v":"F"},null,{"$f":"IF(ISNUMBER($L190),VALUE(OFFSET(Banco!$A$1,Composições!$L190-1,COLUMN(Composições!O190)-6)),0)","v":0},{"$f":"IF(ISNUMBER($L190),VALUE(OFFSET(Banco!$A$1,Composições!$L190-1,COLUMN(Composições!P190)-6)),0)","v":0},0,0]
[null,null,null,null,null,null,null,null,null,null,{"$f":"COUNTA($A$1:$A191)-1","v":23},null,{"$f":"IF(OFFSET($M$1,MATCH(OFFSET(K191,-1,0),$K$1:$K191,0)-1,0)=\"F\",\"F\",\"\")","v":"F"}]
[{"$f":"CONCATENATE($B192,\" \",$C192)","v":"Composição COMP. 01"},"Composição","COMP. 01","LAJE PRE-MOLDADA P/FORRO, H16, C/ CAP.C/CONC FCK=25MPA,4CM, C/ESCORAMENTO (REAPR.3X) E FERRAGEM NEGATIVA","m²",{"$f":"IF($L192>0,SUM(OFFSET(F192,1,0,$L192),0))","v":162.30000000000001},165.85,null,{"$f":"IF(ISERROR(F192),0,F192)","v":162.30000000000001},165.85,{"$f":"COUNTA($A$1:$A192)-1","v":24},{"$f":"IF(MAX(K:K)=K192,MATCH(9999999,$K:$K)+1,MATCH(K192+1,K:K,0))-ROW(L192)-2","v":12},{"$f":"IF(AND(OR(I192<>0,J192<>0),N192=\"Sim\"),\"F\",\"\")","v":"F"},"Sim",{"$f":"IF(AND($L192>0,F192<>0),ROUND(SUM(OFFSET(Q192,1,0,$L192))/F192,4),0)","v":1E-4},1E-4]
[null,"SINAPI",88239,{"$f":"IF(ISNUMBER($L193),OFFSET(Banco!$A$1,Composições!$L193-1,COLUMN(Composições!D193)-1),\"\")","v":"AJUDANTE DE CARPINTEIRO COM ENCARGOS COMPLEMENTARES"},{"$f":"IF(ISNUMBER($L193),OFFSET(Banco!$A$1,Composições!$L193-1,COLUMN(Composições!E193)-1),\"\")","v":"H"},{"$f":"ROUND($H193*ROUND(I193,2),2)","v":4.46},{"$f":"ROUND($H193*ROUND(J193,2),2)","v":4.8099999999999996},0.16,{"$f":"IF(ISNUMBER($L193),VALUE(OFFSET(Banco!$A$1,Composições!$L193-1,COLUMN(Composições!I193)-4)),0)","v":27.86},{"$f":"IF(ISNUMBER($L193),VALUE(OFFSET(Banco!$A$1,Composições!$L193-1,COLUMN(Composições!J193)-4)),0)","v":30.08},{"$f":"COUNTA($A$1:$A193)-1","v":24},{"$f":"MATCH(CONCATENATE($B193,\" \",$C193),Banco!$A:$A,0)","v":12847},{"$f":"IF(OR(ISERROR($L193),$H193=\"\",$H193=0),\"\",OFFSET(M$1,MATCH($K193,$K$1:$K193,0)-1,0))","v":"F"},null,{"$f":"IF(ISNUMBER($L193),VALUE(OFFSET(Banco!$A$1,Composições!$L193-1,COLUMN(Composições!O193)-6)),0)","v":0},{"$f":"IF(ISNUMBER($L193),VALUE(OFFSET(Banco!$A$1,Composições!$L193-1,COLUMN(Composições!P193)-6)),0)","v":0},{"$f":"ROUND(F193*O193,2)","v":0},{"$f":"ROUND(G193*P193,2)","v":0}]
[null,"SINAPI",88262,{"$f":"IF(ISNUMBER($L194),OFFSET(Banco!$A$1,Composições!$L194-1,COLUMN(Composições!D194)-1),\"\")","v":"CARPINTEIRO DE FORMAS COM ENCARGOS COMPLEMENTARES"},{"$f":"IF(ISNUMBER($L194),OFFSET(Banco!$A$1,Composições!$L194-1,COLUMN(Composições!E194)-1),\"\")","v":"H"},5.36,5.83,0.16,{"$f":"IF(ISNUMBER($L194),VALUE(OFFSET(Banco!$A$1,Composições!$L194-1,COLUMN(Composições!I194)-4)),0)","v":33.53},{"$f":"IF(ISNUMBER($L194),VALUE(OFFSET(Banco!$A$1,Composições!$L194-1,COLUMN(Composições!J194)-4)),0)","v":36.43},{"$f":"COUNTA($A$1:$A194)-1","v":24},{"$f":"MATCH(CONCATENATE($B194,\" \",$C194),Banco!$A:$A,0)","v":12901},{"$f":"IF(OR(ISERROR($L194),$H194=\"\",$H194=0),\"\",OFFSET(M$1,MATCH($K194,$K$1:$K194,0)-1,0))","v":"F"},null,{"$f":"IF(ISNUMBER($L194),VALUE(OFFSET(Banco!$A$1,Composições!$L194-1,COLUMN(Composições!O194)-6)),0)","v":0},{"$f":"IF(ISNUMBER($L194),VALUE(OFFSET(Banco!$A$1,Composições!$L194-1,COLUMN(Composições!P194)-6)),0)","v":0},0,0]
[null,"SINAPI",88309,{"$f":"IF(ISNUMBER($L195),OFFSET(Banco!$A$1,Composições!$L195-1,COLUMN(Composições!D195)-1),\"\")","v":"PEDREIRO COM ENCARGOS COMPLEMENTARES"},{"$f":"IF(ISNUMBER($L195),OFFSET(Banco!$A$1,Composições!$L195-1,COLUMN(Composições!E195)-1),\"\")","v":"H"},13.6,14.76,0.4,{"$f":"IF(ISNUMBER($L195),VALUE(OFFSET(Banco!$A$1,Composições!$L195-1,COLUMN(Composições!I195)-4)),0)","v":33.99},{"$f":"IF(ISNUMBER($L195),VALUE(OFFSET(Banco!$A$1,Composições!$L195-1,COLUMN(Composições!J195)-4)),0)","v":36.909999999999997},{"$f":"COUNTA($A$1:$A195)-1","v":24},{"$f":"MATCH(CONCATENATE($B195,\" \",$C195),Banco!$A:$A,0)","v":13185},{"$f":"IF(OR(ISERROR($L195),$H195=\"\",$H195=0),\"\",OFFSET(M$1,MATCH($K195,$K$1:$K195,0)-1,0))","v":"F"},null,{"$f":"IF(ISNUMBER($L195),VALUE(OFFSET(Banco!$A$1,Composições!$L195-1,COLUMN(Composições!O195)-6)),0)","v":0},{"$f":"IF(ISNUMBER($L195),VALUE(OFFSET(Banco!$A$1,Composições!$L195-1,COLUMN(Composições!P195)-6)),0)","v":0},0,0]
[null,"SINAPI",88316,{"$f":"IF(ISNUMBER($L196),OFFSET(Banco!$A$1,Composições!$L196-1,COLUMN(Composições!D196)-1),\"\")","v":"SERVENTE COM ENCARGOS COMPLEMENTARES"},{"$f":"IF(ISNUMBER($L196),OFFSET(Banco!$A$1,Composições!$L196-1,COLUMN(Composições!E196)-1),\"\")","v":"H"},10.66,11.48,0.4,{"$f":"IF(ISNUMBER($L196),VALUE(OFFSET(Banco!$A$1,Composições!$L196-1,COLUMN(Composições!I196)-4)),0)","v":26.65},{"$f":"IF(ISNUMBER($L196),VALUE(OFFSET(Banco!$A$1,Composições!$L196-1,COLUMN(Composições!J196)-4)),0)","v":28.71},{"$f":"COUNTA($A$1:$A196)-1","v":24},{"$f":"MATCH(CONCATENATE($B196,\" \",$C196),Banco!$A:$A,0)","v":13198},{"$f":"IF(OR(ISERROR($L196),$H196=\"\",$H196=0),\"\",OFFSET(M$1,MATCH($K196,$K$1:$K196,0)-1,0))","v":"F"},null,{"$f":"IF(ISNUMBER($L196),VALUE(OFFSET(Banco!$A$1,Composições!$L196-1,COLUMN(Composições!O196)-6)),0)","v":0},{"$f":"IF(ISNUMBER($L196),VALUE(OFFSET(Banco!$A$1,Composições!$L196-1,COLUMN(Composições!P196)-6)),0)","v":0},0,0]
[null,"SINAPI",103673,{"$f":"IF(ISNUMBER($L197),OFFSET(Banco!$A$1,Composições!$L197-1,COLUMN(Composições!D197)-1),\"\")","v":"LANÇAMENTO COM USO DE BOMBA, ADENSAMENTO E ACABAMENTO DE CONCRETO EM ESTRUTURAS. AF_02/2022"},{"$f":"IF(ISNUMBER($L197),OFFSET(Banco!$A$1,Composições!$L197-1,COLUMN(Composições!E197)-1),\"\")","v":"M3"},3.32,3.59,6.5000000000000002E-2,{"$f":"IF(ISNUMBER($L197),VALUE(OFFSET(Banco!$A$1,Composições!$L197-1,COLUMN(Composições!I197)-4)),0)","v":51.13},{"$f":"IF(ISNUMBER($L197),VALUE(OFFSET(Banco!$A$1,Composições!$L197-1,COLUMN(Composições!J197)-4)),0)","v":55.2},{"$f":"COUNTA($A$1:$A197)-1","v":24},{"$f":"MATCH(CONCATENATE($B197,\" \",$C197),Banco!$A:$A,0)","v":7393},{"$f":"IF(OR(ISERROR($L197),$H197=\"\",$H197=0),\"\",OFFSET(M$1,MATCH($K197,$K$1:$K197,0)-1,0))","v":"F"},null,{"$f":"IF(ISNUMBER($L197),VALUE(OFFSET(Banco!$A$1,Composições!$L197-1,COLUMN(Composições!O197)-6)),0)","v":2.7000000000000001E-3},{"$f":"IF(ISNUMBER($L197),VALUE(OFFSET(Banco!$A$1,Composições!$L197-1,COLUMN(Composições!P197)-6)),0)","v":2.5000000000000001E-3},0.01,0.01]
[null,"SINAPI",94971,{"$f":"IF(ISNUMBER($L198),OFFSET(Banco!$A$1,Composições!$L198-1,COLUMN(Composições!D198)-1),\"\")","v":"CONCRETO FCK = 25MPA, TRAÇO 1:2,3:2,7 (EM MASSA SECA DE CIMENTO/ AREIA MÉDIA/ BRITA 1) - PREPARO MECÂNICO COM BETONEIRA 600 L. AF_05/2021"},{"$f":"IF(ISNUMBER($L198),OFFSET(Banco!$A$1,Composições!$L198-1,COLUMN(Composições!E198)-1),\"\")","v":"M3"},30.87,31.35,6.5000000000000002E-2,{"$f":"IF(ISNUMBER($L198),VALUE(OFFSET(Banco!$A$1,Composições!$L198-1,COLUMN(Composições!I198)-4)),0)","v":474.86},{"$f":"IF(ISNUMBER($L198),VALUE(OFFSET(Banco!$A$1,Composições!$L198-1,COLUMN(Composições!J198)-4)),0)","v":482.24},{"$f":"COUNTA($A$1:$A198)-1","v":24},{"$f":"MATCH(CONCATENATE($B198,\" \",$C198),Banco!$A:$A,0)","v":14384},{"$f":"IF(OR(ISERROR($L198),$H198=\"\",$H198=0),\"\",OFFSET(M$1,MATCH($K198,$K$1:$K198,0)-1,0))","v":"F"},null,{"$f":"IF(ISNUMBER($L198),VALUE(OFFSET(Banco!$A$1,Composições!$L198-1,COLUMN(Composições!O198)-6)),0)","v":0},{"$f":"IF(ISNUMBER($L198),VALUE(OFFSET(Banco!$A$1,Composições!$L198-1,COLUMN(Composições!P198)-6)),0)","v":0},0,0]
[null,"SINAPI-I",4491,{"$f":"IF(ISNUMBER($L199),OFFSET(Banco!$A$1,Composições!$L199-1,COLUMN(Composições!D199)-1),\"\")","v":"PONTALETE *7,5 X 7,5* CM EM PINUS, MISTA OU EQUIVALENTE DA REGIAO - BRUTA"},{"$f":"IF(ISNUMBER($L199),OFFSET(Banco!$A$1,Composições!$L199-1,COLUMN(Composições!E199)-1),\"\")","v":"M"},2.08,2.08,0.28999999999999998,{"$f":"IF(ISNUMBER($L199),VALUE(OFFSET(Banco!$A$1,Composições!$L199-1,COLUMN(Composições!I199)-4)),0)","v":7.16},{"$f":"IF(ISNUMBER($L199),VALUE(OFFSET(Banco!$A$1,Composições!$L199-1,COLUMN(Composições!J199)-4)),0)","v":7.16},{"$f":"COUNTA($A$1:$A199)-1","v":24},{"$f":"MATCH(CONCATENATE($B199,\" \",$C199),Banco!$A:$A,0)","v":3569},{"$f":"IF(OR(ISERROR($L199),$H199=\"\",$H199=0),\"\",OFFSET(M$1,MATCH($K199,$K$1:$K199,0)-1,0))","v":"F"},null,{"$f":"IF(ISNUMBER($L199),VALUE(OFFSET(Banco!$A$1,Composições!$L199-1,COLUMN(Composições!O199)-6)),0)","v":0},{"$f":"IF(ISNUMBER($L199),VALUE(OFFSET(Banco!$A$1,Composições!$L199-1,COLUMN(Composições!P199)-6)),0)","v":0},0,0]
[null,"SINAPI-I",5061,{"$f":"IF(ISNUMBER($L200),OFFSET(Banco!$A$1,Composições!$L200-1,COLUMN(Composições!D200)-1),\"\")","v":"PREGO DE ACO POLIDO COM CABECA 18 X 27 (2 1/2 X 10)"},{"$f":"IF(ISNUMBER($L200),OFFSET(Banco!$A$1,Composições!$L200-1,COLUMN(Composições!E200)-1),\"\")","v":"KG"},0.47,0.47,0.03,{"$f":"IF(ISNUMBER($L200),VALUE(OFFSET(Banco!$A$1,Composições!$L200-1,COLUMN(Composições!I200)-4)),0)","v":15.76},{"$f":"IF(ISNUMBER($L200),VALUE(OFFSET(Banco!$A$1,Composições!$L200-1,COLUMN(Composições!J200)-4)),0)","v":15.76},{"$f":"COUNTA($A$1:$A200)-1","v":24},{"$f":"MATCH(CONCATENATE($B200,\" \",$C200),Banco!$A:$A,0)","v":3720},{"$f":"IF(OR(ISERROR($L200),$H200=\"\",$H200=0),\"\",OFFSET(M$1,MATCH($K200,$K$1:$K200,0)-1,0))","v":"F"},null,{"$f":"IF(ISNUMBER($L200),VALUE(OFFSET(Banco!$A$1,Composições!$L200-1,COLUMN(Composições!O200)-6)),0)","v":0},{"$f":"IF(ISNUMBER($L200),VALUE(OFFSET(Banco!$A$1,Composições!$L200-1,COLUMN(Composições!P200)-6)),0)","v":0},0,0]
[null,"SINAPI-I",6189,{"$f":"IF(ISNUMBER($L201),OFFSET(Banco!$A$1,Composições!$L201-1,COLUMN(Composições!D201)-1),\"\")","v":"TABUA NAO APARELHADA *2,5 X 30* CM, EM MACARANDUBA/MASSARANDUBA, ANGELIM OU EQUIVALENTE DA REGIAO - BRUTA"},{"$f":"IF(ISNUMBER($L201),OFFSET(Banco!$A$1,Composições!$L201-1,COLUMN(Composições!E201)-1),\"\")","v":"M"},5.61,5.61,0.17,{"$f":"IF(ISNUMBER($L201),VALUE(OFFSET(Banco!$A$1,Composições!$L201-1,COLUMN(Composições!I201)-4)),0)","v":33},{"$f":"IF(ISNUMBER($L201),VALUE(OFFSET(Banco!$A$1,Composições!$L201-1,COLUMN(Composições!J201)-4)),0)","v":33},{"$f":"COUNTA($A$1:$A201)-1","v":24},{"$f":"MATCH(CONCATENATE($B201,\" \",$C201),Banco!$A:$A,0)","v":4029},{"$f":"IF(OR(ISERROR($L201),$H201=\"\",$H201=0),\"\",OFFSET(M$1,MATCH($K201,$K$1:$K201,0)-1,0))","v":"F"},null,{"$f":"IF(ISNUMBER($L201),VALUE(OFFSET(Banco!$A$1,Composições!$L201-1,COLUMN(Composições!O201)-6)),0)","v":0},{"$f":"IF(ISNUMBER($L201),VALUE(OFFSET(Banco!$A$1,Composições!$L201-1,COLUMN(Composições!P201)-6)),0)","v":0},0,0]
[null,"COTAÇÃO",null,{"$f":"IF(ISNUMBER($L202),OFFSET(Banco!$A$1,Composições!$L202-1,COLUMN(Composições!D202)-1),\"\")","v":""},{"$f":"IF(ISNUMBER($L202),OFFSET(Banco!$A$1,Composições!$L202-1,COLUMN(Composições!E202)-1),\"\")","v":""},0,0,null,{"$f":"IF(ISNUMBER($L202),VALUE(OFFSET(Banco!$A$1,Composições!$L202-1,COLUMN(Composições!I202)-4)),0)","v":0},{"$f":"IF(ISNUMBER($L202),VALUE(OFFSET(Banco!$A$1,Composições!$L202-1,COLUMN(Composições!J202)-4)),0)","v":0},{"$f":"COUNTA($A$1:$A202)-1","v":24},{"$f":"MATCH(CONCATENATE($B202,\" \",$C202),Banco!$A:$A,0)","v":{"$error":"#N/A"}},{"$f":"IF(OR(ISERROR($L202),$H202=\"\",$H202=0),\"\",OFFSET(M$1,MATCH($K202,$K$1:$K202,0)-1,0))","v":""},null,{"$f":"IF(ISNUMBER($L202),VALUE(OFFSET(Banco!$A$1,Composições!$L202-1,COLUMN(Composições!O202)-6)),0)","v":0},{"$f":"IF(ISNUMBER($L202),VALUE(OFFSET(Banco!$A$1,Composições!$L202-1,COLUMN(Composições!P202)-6)),0)","v":0},0,0]
[null,"SINAPI-I","3738",{"$f":"IF(ISNUMBER($L203),OFFSET(Banco!$A$1,Composições!$L203-1,COLUMN(Composições!D203)-1),\"\")","v":"LAJE PRE-MOLDADA CONVENCIONAL (LAJOTAS + VIGOTAS) PARA PISO, UNIDIRECIONAL, SOBRECARGA DE 350 KG/M2, VAO ATE 5,00 M (SEM COLOCACAO)"},{"$f":"IF(ISNUMBER($L203),OFFSET(Banco!$A$1,Composições!$L203-1,COLUMN(Composições!E203)-1),\"\")","v":"M2"},82.13,82.13,1.196,{"$f":"IF(ISNUMBER($L203),VALUE(OFFSET(Banco!$A$1,Composições!$L203-1,COLUMN(Composições!I203)-4)),0)","v":68.67},{"$f":"IF(ISNUMBER($L203),VALUE(OFFSET(Banco!$A$1,Composições!$L203-1,COLUMN(Composições!J203)-4)),0)","v":68.67},{"$f":"COUNTA($A$1:$A203)-1","v":24},{"$f":"MATCH(CONCATENATE($B203,\" \",$C203),Banco!$A:$A,0)","v":2658},{"$f":"IF(OR(ISERROR($L203),$H203=\"\",$H203=0),\"\",OFFSET(M$1,MATCH($K203,$K$1:$K203,0)-1,0))","v":"F"},null,{"$f":"IF(ISNUMBER($L203),VALUE(OFFSET(Banco!$A$1,Composições!$L203-1,COLUMN(Composições!O203)-6)),0)","v":0},{"$f":"IF(ISNUMBER($L203),VALUE(OFFSET(Banco!$A$1,Composições!$L203-1,COLUMN(Composições!P203)-6)),0)","v":0},0,0]
[null,"SINAPI-I",43061,{"$f":"IF(ISNUMBER($L204),OFFSET(Banco!$A$1,Composições!$L204-1,COLUMN(Composições!D204)-1),\"\")","v":"ACO CA-60, 4,2 MM OU 5,0 MM, DOBRADO E CORTADO"},{"$f":"IF(ISNUMBER($L204),OFFSET(Banco!$A$1,Composições!$L204-1,COLUMN(Composições!E204)-1),\"\")","v":"KG"},3.74,3.74,0.47099999999999997,{"$f":"IF(ISNUMBER($L204),VALUE(OFFSET(Banco!$A$1,Composições!$L204-1,COLUMN(Composições!I204)-4)),0)","v":7.95},{"$f":"IF(ISNUMBER($L204),VALUE(OFFSET(Banco!$A$1,Composições!$L204-1,COLUMN(Composições!J204)-4)),0)","v":7.95},{"$f":"COUNTA($A$1:$A204)-1","v":24},{"$f":"MATCH(CONCATENATE($B204,\" \",$C204),Banco!$A:$A,0)","v":192},{"$f":"IF(OR(ISERROR($L204),$H204=\"\",$H204=0),\"\",OFFSET(M$1,MATCH($K204,$K$1:$K204,0)-1,0))","v":"F"},null,{"$f":"IF(ISNUMBER($L204),VALUE(OFFSET(Banco!$A$1,Composições!$L204-1,COLUMN(Composições!O204)-6)),0)","v":0},{"$f":"IF(ISNUMBER($L204),VALUE(OFFSET(Banco!$A$1,Composições!$L204-1,COLUMN(Composições!P204)-6)),0)","v":0},0,0]
[null,null,null,null,null,null,null,null,null,null,{"$f":"COUNTA($A$1:$A205)-1","v":24},null,{"$f":"IF(OFFSET($M$1,MATCH(OFFSET(K205,-1,0),$K$1:$K205,0)-1,0)=\"F\",\"F\",\"\")","v":"F"}]
[{"$f":"CONCATENATE($B206,\" \",$C206)","v":"Composição COBE.0003.01"},"Composição","COBE.0003.01","CHAPEAMENTO EM CHAPA GALVANIZADA Nº 24, INCLUSIVE TRANSPORTE VERTICAL - FORNECIMENTO E INSTALAÇÃO","m²",{"$f":"IF($L206>0,SUM(OFFSET(F206,1,0,$L206),0))","v":137.87},140.95999999999998,null,{"$f":"IF(ISERROR(F206),0,F206)","v":137.87},140.95999999999998,{"$f":"COUNTA($A$1:$A206)-1","v":25},{"$f":"IF(MAX(K:K)=K206,MATCH(9999999,$K:$K)+1,MATCH(K206+1,K:K,0))-ROW(L206)-2","v":9},{"$f":"IF(AND(OR(I206<>0,J206<>0),N206=\"Sim\"),\"F\",\"\")","v":"F"},"Sim",{"$f":"IF(AND($L206>0,F206<>0),ROUND(SUM(OFFSET(Q206,1,0,$L206))/F206,4),0)","v":0},0]
[null,"SINAPI",88316,{"$f":"IF(ISNUMBER($L207),OFFSET(Banco!$A$1,Composições!$L207-1,COLUMN(Composições!D207)-1),\"\")","v":"SERVENTE COM ENCARGOS COMPLEMENTARES"},{"$f":"IF(ISNUMBER($L207),OFFSET(Banco!$A$1,Composições!$L207-1,COLUMN(Composições!E207)-1),\"\")","v":"H"},{"$f":"ROUND($H207*ROUND(I207,2),2)","v":17.71},{"$f":"ROUND($H207*ROUND(J207,2),2)","v":19.079999999999998},0.66464999999999996,{"$f":"IF(ISNUMBER($L207),VALUE(OFFSET(Banco!$A$1,Composições!$L207-1,COLUMN(Composições!I207)-4)),0)","v":26.65},{"$f":"IF(ISNUMBER($L207),VALUE(OFFSET(Banco!$A$1,Composições!$L207-1,COLUMN(Composições!J207)-4)),0)","v":28.71},{"$f":"COUNTA($A$1:$A207)-1","v":25},{"$f":"MATCH(CONCATENATE($B207,\" \",$C207),Banco!$A:$A,0)","v":13198},{"$f":"IF(OR(ISERROR($L207),$H207=\"\",$H207=0),\"\",OFFSET(M$1,MATCH($K207,$K$1:$K207,0)-1,0))","v":"F"},null,{"$f":"IF(ISNUMBER($L207),VALUE(OFFSET(Banco!$A$1,Composições!$L207-1,COLUMN(Composições!O207)-6)),0)","v":0},{"$f":"IF(ISNUMBER($L207),VALUE(OFFSET(Banco!$A$1,Composições!$L207-1,COLUMN(Composições!P207)-6)),0)","v":0},{"$f":"ROUND(F207*O207,2)","v":0},{"$f":"ROUND(G207*P207,2)","v":0}]
[null,"SINAPI",88323,{"$f":"IF(ISNUMBER($L208),OFFSET(Banco!$A$1,Composições!$L208-1,COLUMN(Composições!D208)-1),\"\")","v":"TELHADISTA COM ENCARGOS COMPLEMENTARES"},{"$f":"IF(ISNUMBER($L208),OFFSET(Banco!$A$1,Composições!$L208-1,COLUMN(Composições!E208)-1),\"\")","v":"H"},18.809999999999999,20.43,0.56594999999999995,{"$f":"IF(ISNUMBER($L208),VALUE(OFFSET(Banco!$A$1,Composições!$L208-1,COLUMN(Composições!I208)-4)),0)","v":33.24},{"$f":"IF(ISNUMBER($L208),VALUE(OFFSET(Banco!$A$1,Composições!$L208-1,COLUMN(Composições!J208)-4)),0)","v":36.1},{"$f":"COUNTA($A$1:$A208)-1","v":25},{"$f":"MATCH(CONCATENATE($B208,\" \",$C208),Banco!$A:$A,0)","v":13207},{"$f":"IF(OR(ISERROR($L208),$H208=\"\",$H208=0),\"\",OFFSET(M$1,MATCH($K208,$K$1:$K208,0)-1,0))","v":"F"},null,{"$f":"IF(ISNUMBER($L208),VALUE(OFFSET(Banco!$A$1,Composições!$L208-1,COLUMN(Composições!O208)-6)),0)","v":0},{"$f":"IF(ISNUMBER($L208),VALUE(OFFSET(Banco!$A$1,Composições!$L208-1,COLUMN(Composições!P208)-6)),0)","v":0},0,0]
[null,"SINAPI",93281,{"$f":"IF(ISNUMBER($L209),OFFSET(Banco!$A$1,Composições!$L209-1,COLUMN(Composições!D209)-1),\"\")","v":"GUINCHO ELÉTRICO DE COLUNA, CAPACIDADE 400 KG, COM MOTO FREIO, MOTOR TRIFÁSICO DE 1,25 CV - CHP DIURNO. AF_03/2016"},{"$f":"IF(ISNUMBER($L209),OFFSET(Banco!$A$1,Composições!$L209-1,COLUMN(Composições!E209)-1),\"\")","v":"CHP"},0.45,0.49,1.3860000000000001E-2,{"$f":"IF(ISNUMBER($L209),VALUE(OFFSET(Banco!$A$1,Composições!$L209-1,COLUMN(Composições!I209)-4)),0)","v":32.68},{"$f":"IF(ISNUMBER($L209),VALUE(OFFSET(Banco!$A$1,Composições!$L209-1,COLUMN(Composições!J209)-4)),0)","v":35.47},{"$f":"COUNTA($A$1:$A209)-1","v":25},{"$f":"MATCH(CONCATENATE($B209,\" \",$C209),Banco!$A:$A,0)","v":7686},{"$f":"IF(OR(ISERROR($L209),$H209=\"\",$H209=0),\"\",OFFSET(M$1,MATCH($K209,$K$1:$K209,0)-1,0))","v":"F"},null,{"$f":"IF(ISNUMBER($L209),VALUE(OFFSET(Banco!$A$1,Composições!$L209-1,COLUMN(Composições!O209)-6)),0)","v":0},{"$f":"IF(ISNUMBER($L209),VALUE(OFFSET(Banco!$A$1,Composições!$L209-1,COLUMN(Composições!P209)-6)),0)","v":0},0,0]
[null,"SINAPI",93282,{"$f":"IF(ISNUMBER($L210),OFFSET(Banco!$A$1,Composições!$L210-1,COLUMN(Composições!D210)-1),\"\")","v":"GUINCHO ELÉTRICO DE COLUNA, CAPACIDADE 400 KG, COM MOTO FREIO, MOTOR TRIFÁSICO DE 1,25 CV - CHI DIURNO. AF_03/2016"},{"$f":"IF(ISNUMBER($L210),OFFSET(Banco!$A$1,Composições!$L210-1,COLUMN(Composições!E210)-1),\"\")","v":"CHI"},0.61,0.67,1.9214999999999999E-2,{"$f":"IF(ISNUMBER($L210),VALUE(OFFSET(Banco!$A$1,Composições!$L210-1,COLUMN(Composições!I210)-4)),0)","v":31.89},{"$f":"IF(ISNUMBER($L210),VALUE(OFFSET(Banco!$A$1,Composições!$L210-1,COLUMN(Composições!J210)-4)),0)","v":34.68},{"$f":"COUNTA($A$1:$A210)-1","v":25},{"$f":"MATCH(CONCATENATE($B210,\" \",$C210),Banco!$A:$A,0)","v":7685},{"$f":"IF(OR(ISERROR($L210),$H210=\"\",$H210=0),\"\",OFFSET(M$1,MATCH($K210,$K$1:$K210,0)-1,0))","v":"F"},null,{"$f":"IF(ISNUMBER($L210),VALUE(OFFSET(Banco!$A$1,Composições!$L210-1,COLUMN(Composições!O210)-6)),0)","v":0},{"$f":"IF(ISNUMBER($L210),VALUE(OFFSET(Banco!$A$1,Composições!$L210-1,COLUMN(Composições!P210)-6)),0)","v":0},0,0]
[null,"COTAÇÃO",43106,{"$f":"IF(ISNUMBER($L211),OFFSET(Banco!$A$1,Composições!$L211-1,COLUMN(Composições!D211)-1),\"\")","v":"CHAPA DE ACO GALVANIZADA BITOLA GSG 24, E = 0,64 (5,12 KG/M2)"},{"$f":"IF(ISNUMBER($L211),OFFSET(Banco!$A$1,Composições!$L211-1,COLUMN(Composições!E211)-1),\"\")","v":"KG"},58.44,58.44,5.3760000000000003,{"$f":"IF(ISNUMBER($L211),VALUE(OFFSET(Banco!$A$1,Composições!$L211-1,COLUMN(Composições!I211)-4)),0)","v":10.87},{"$f":"IF(ISNUMBER($L211),VALUE(OFFSET(Banco!$A$1,Composições!$L211-1,COLUMN(Composições!J211)-4)),0)","v":10.87},{"$f":"COUNTA($A$1:$A211)-1","v":25},{"$f":"MATCH(CONCATENATE($B211,\" \",$C211),Banco!$A:$A,0)","v":125},{"$f":"IF(OR(ISERROR($L211),$H211=\"\",$H211=0),\"\",OFFSET(M$1,MATCH($K211,$K$1:$K211,0)-1,0))","v":"F"},null,{"$f":"IF(ISNUMBER($L211),VALUE(OFFSET(Banco!$A$1,Composições!$L211-1,COLUMN(Composições!O211)-6)),0)","v":0},{"$f":"IF(ISNUMBER($L211),VALUE(OFFSET(Banco!$A$1,Composições!$L211-1,COLUMN(Composições!P211)-6)),0)","v":0},0,0]
[null,"SINAPI-I",142,{"$f":"IF(ISNUMBER($L212),OFFSET(Banco!$A$1,Composições!$L212-1,COLUMN(Composições!D212)-1),\"\")","v":"SELANTE ELASTICO MONOCOMPONENTE A BASE DE POLIURETANO (PU) PARA JUNTAS DIVERSAS"},{"$f":"IF(ISNUMBER($L212),OFFSET(Banco!$A$1,Composições!$L212-1,COLUMN(Composições!E212)-1),\"\")","v":"310ML"},5.33,5.33,0.16905000000000001,{"$f":"IF(ISNUMBER($L212),VALUE(OFFSET(Banco!$A$1,Composições!$L212-1,COLUMN(Composições!I212)-4)),0)","v":31.51},{"$f":"IF(ISNUMBER($L212),VALUE(OFFSET(Banco!$A$1,Composições!$L212-1,COLUMN(Composições!J212)-4)),0)","v":31.51},{"$f":"COUNTA($A$1:$A212)-1","v":25},{"$f":"MATCH(CONCATENATE($B212,\" \",$C212),Banco!$A:$A,0)","v":3943},{"$f":"IF(OR(ISERROR($L212),$H212=\"\",$H212=0),\"\",OFFSET(M$1,MATCH($K212,$K$1:$K212,0)-1,0))","v":"F"},null,{"$f":"IF(ISNUMBER($L212),VALUE(OFFSET(Banco!$A$1,Composições!$L212-1,COLUMN(Composições!O212)-6)),0)","v":0},{"$f":"IF(ISNUMBER($L212),VALUE(OFFSET(Banco!$A$1,Composições!$L212-1,COLUMN(Composições!P212)-6)),0)","v":0},0,0]
[null,"SINAPI-I",5061,{"$f":"IF(ISNUMBER($L213),OFFSET(Banco!$A$1,Composições!$L213-1,COLUMN(Composições!D213)-1),\"\")","v":"PREGO DE ACO POLIDO COM CABECA 18 X 27 (2 1/2 X 10)"},{"$f":"IF(ISNUMBER($L213),OFFSET(Banco!$A$1,Composições!$L213-1,COLUMN(Composições!E213)-1),\"\")","v":"KG"},0.41,0.41,2.6249999999999999E-2,{"$f":"IF(ISNUMBER($L213),VALUE(OFFSET(Banco!$A$1,Composições!$L213-1,COLUMN(Composições!I213)-4)),0)","v":15.76},{"$f":"IF(ISNUMBER($L213),VALUE(OFFSET(Banco!$A$1,Composições!$L213-1,COLUMN(Composições!J213)-4)),0)","v":15.76},{"$f":"COUNTA($A$1:$A213)-1","v":25},{"$f":"MATCH(CONCATENATE($B213,\" \",$C213),Banco!$A:$A,0)","v":3720},{"$f":"IF(OR(ISERROR($L213),$H213=\"\",$H213=0),\"\",OFFSET(M$1,MATCH($K213,$K$1:$K213,0)-1,0))","v":"F"},null,{"$f":"IF(ISNUMBER($L213),VALUE(OFFSET(Banco!$A$1,Composições!$L213-1,COLUMN(Composições!O213)-6)),0)","v":0},{"$f":"IF(ISNUMBER($L213),VALUE(OFFSET(Banco!$A$1,Composições!$L213-1,COLUMN(Composições!P213)-6)),0)","v":0},0,0]
[null,"SINAPI-I",5104,{"$f":"IF(ISNUMBER($L214),OFFSET(Banco!$A$1,Composições!$L214-1,COLUMN(Composições!D214)-1),\"\")","v":"REBITE DE REPUXO EM ALUMINIO VAZADO, DIAMETRO 3,2 X 8 MM DE COMPRIMENTO (1KG = 1025 UNIDADES)"},{"$f":"IF(ISNUMBER($L214),OFFSET(Banco!$A$1,Composições!$L214-1,COLUMN(Composições!E214)-1),\"\")","v":"KG"},0.47,0.47,5.1450000000000003E-3,{"$f":"IF(ISNUMBER($L214),VALUE(OFFSET(Banco!$A$1,Composições!$L214-1,COLUMN(Composições!I214)-4)),0)","v":91.71},{"$f":"IF(ISNUMBER($L214),VALUE(OFFSET(Banco!$A$1,Composições!$L214-1,COLUMN(Composições!J214)-4)),0)","v":91.71},{"$f":"COUNTA($A$1:$A214)-1","v":25},{"$f":"MATCH(CONCATENATE($B214,\" \",$C214),Banco!$A:$A,0)","v":3803},{"$f":"IF(OR(ISERROR($L214),$H214=\"\",$H214=0),\"\",OFFSET(M$1,MATCH($K214,$K$1:$K214,0)-1,0))","v":"F"},null,{"$f":"IF(ISNUMBER($L214),VALUE(OFFSET(Banco!$A$1,Composições!$L214-1,COLUMN(Composições!O214)-6)),0)","v":0},{"$f":"IF(ISNUMBER($L214),VALUE(OFFSET(Banco!$A$1,Composições!$L214-1,COLUMN(Composições!P214)-6)),0)","v":0},0,0]
[null,"SINAPI-I",13388,{"$f":"IF(ISNUMBER($L215),OFFSET(Banco!$A$1,Composições!$L215-1,COLUMN(Composições!D215)-1),\"\")","v":"SOLDA EM BARRA DE ESTANHO-CHUMBO 50/50"},{"$f":"IF(ISNUMBER($L215),OFFSET(Banco!$A$1,Composições!$L215-1,COLUMN(Composições!E215)-1),\"\")","v":"KG"},35.64,35.64,0.189,{"$f":"IF(ISNUMBER($L215),VALUE(OFFSET(Banco!$A$1,Composições!$L215-1,COLUMN(Composições!I215)-4)),0)","v":188.57},{"$f":"IF(ISNUMBER($L215),VALUE(OFFSET(Banco!$A$1,Composições!$L215-1,COLUMN(Composições!J215)-4)),0)","v":188.57},{"$f":"COUNTA($A$1:$A215)-1","v":25},{"$f":"MATCH(CONCATENATE($B215,\" \",$C215),Banco!$A:$A,0)","v":3979},{"$f":"IF(OR(ISERROR($L215),$H215=\"\",$H215=0),\"\",OFFSET(M$1,MATCH($K215,$K$1:$K215,0)-1,0))","v":"F"},null,{"$f":"IF(ISNUMBER($L215),VALUE(OFFSET(Banco!$A$1,Composições!$L215-1,COLUMN(Composições!O215)-6)),0)","v":0},{"$f":"IF(ISNUMBER($L215),VALUE(OFFSET(Banco!$A$1,Composições!$L215-1,COLUMN(Composições!P215)-6)),0)","v":0},0,0]
[null,null,null,null,null,null,null,null,null,null,{"$f":"COUNTA($A$1:$A216)-1","v":25},null,{"$f":"IF(OFFSET($M$1,MATCH(OFFSET(K216,-1,0),$K$1:$K216,0)-1,0)=\"F\",\"F\",\"\")","v":"F"}]
[{"$f":"CONCATENATE($B217,\" \",$C217)","v":"Composição INHI.0056.01"},"Composição","INHI.0056.01","LAVATÓRIO LOUÇA BRANCA COM COLUNA, *55 X 45* CM, PADRÃO MÉDIO, INCLUSO SIFÃO FLEXÍVEL EM PVC, VÁLVULA EM METAL CROMADO E ENGATE FLEXÍVEL 30CM EM PLÁSTICO E COM TORNEIRA CROMADA DE MESA, BICA ALTA, PADRÃO MÉDIO - FORNECIMENTO E INSTALAÇÃO.","UN",{"$f":"IF($L217>0,SUM(OFFSET(F217,1,0,$L217),0))","v":659.64},667.06,null,{"$f":"IF(ISERROR(F217),0,F217)","v":659.64},667.06,{"$f":"COUNTA($A$1:$A217)-1","v":26},{"$f":"IF(MAX(K:K)=K217,MATCH(9999999,$K:$K)+1,MATCH(K217+1,K:K,0))-ROW(L217)-2","v":5},{"$f":"IF(AND(OR(I217<>0,J217<>0),N217=\"Sim\"),\"F\",\"\")","v":"F"},"Sim",{"$f":"IF(AND($L217>0,F217<>0),ROUND(SUM(OFFSET(Q217,1,0,$L217))/F217,4),0)","v":0},0]
[null,"SINAPI",86883,{"$f":"IF(ISNUMBER($L218),OFFSET(Banco!$A$1,Composições!$L218-1,COLUMN(Composições!D218)-1),\"\")","v":"SIFÃO DO TIPO FLEXÍVEL EM PVC 1 X 1.1/2 - FORNECIMENTO E INSTALAÇÃO. AF_01/2020"},{"$f":"IF(ISNUMBER($L218),OFFSET(Banco!$A$1,Composições!$L218-1,COLUMN(Composições!E218)-1),\"\")","v":"UN"},{"$f":"ROUND($H218*ROUND(I218,2),2)","v":12.36},12.66,1,{"$f":"IF(ISNUMBER($L218),VALUE(OFFSET(Banco!$A$1,Composições!$L218-1,COLUMN(Composições!I218)-4)),0)","v":12.36},{"$f":"IF(ISNUMBER($L218),VALUE(OFFSET(Banco!$A$1,Composições!$L218-1,COLUMN(Composições!J218)-4)),0)","v":12.66},{"$f":"COUNTA($A$1:$A218)-1","v":26},{"$f":"MATCH(CONCATENATE($B218,\" \",$C218),Banco!$A:$A,0)","v":13293},{"$f":"IF(OR(ISERROR($L218),$H218=\"\",$H218=0),\"\",OFFSET(M$1,MATCH($K218,$K$1:$K218,0)-1,0))","v":"F"},null,{"$f":"IF(ISNUMBER($L218),VALUE(OFFSET(Banco!$A$1,Composições!$L218-1,COLUMN(Composições!O218)-6)),0)","v":0},{"$f":"IF(ISNUMBER($L218),VALUE(OFFSET(Banco!$A$1,Composições!$L218-1,COLUMN(Composições!P218)-6)),0)","v":0},{"$f":"ROUND(F218*O218,2)","v":0},0]
[null,"SINAPI",86884,{"$f":"IF(ISNUMBER($L219),OFFSET(Banco!$A$1,Composições!$L219-1,COLUMN(Composições!D219)-1),\"\")","v":"ENGATE FLEXÍVEL EM PLÁSTICO BRANCO, 1/2\" X 30CM - FORNECIMENTO E INSTALAÇÃO. AF_01/2020"},{"$f":"IF(ISNUMBER($L219),OFFSET(Banco!$A$1,Composições!$L219-1,COLUMN(Composições!E219)-1),\"\")","v":"UN"},11.71,12.25,1,{"$f":"IF(ISNUMBER($L219),VALUE(OFFSET(Banco!$A$1,Composições!$L219-1,COLUMN(Composições!I219)-4)),0)","v":11.71},{"$f":"IF(ISNUMBER($L219),VALUE(OFFSET(Banco!$A$1,Composições!$L219-1,COLUMN(Composições!J219)-4)),0)","v":12.25},{"$f":"COUNTA($A$1:$A219)-1","v":26},{"$f":"MATCH(CONCATENATE($B219,\" \",$C219),Banco!$A:$A,0)","v":13273},{"$f":"IF(OR(ISERROR($L219),$H219=\"\",$H219=0),\"\",OFFSET(M$1,MATCH($K219,$K$1:$K219,0)-1,0))","v":"F"},null,{"$f":"IF(ISNUMBER($L219),VALUE(OFFSET(Banco!$A$1,Composições!$L219-1,COLUMN(Composições!O219)-6)),0)","v":0},{"$f":"IF(ISNUMBER($L219),VALUE(OFFSET(Banco!$A$1,Composições!$L219-1,COLUMN(Composições!P219)-6)),0)","v":0},0,0]
[null,"SINAPI",86915,{"$f":"IF(ISNUMBER($L220),OFFSET(Banco!$A$1,Composições!$L220-1,COLUMN(Composições!D220)-1),\"\")","v":"TORNEIRA CROMADA DE MESA, 1/2\" OU 3/4\", PARA LAVATÓRIO, PADRÃO MÉDIO - FORNECIMENTO E INSTALAÇÃO. AF_01/2020"},{"$f":"IF(ISNUMBER($L220),OFFSET(Banco!$A$1,Composições!$L220-1,COLUMN(Composições!E220)-1),\"\")","v":"UN"},134.86000000000001,135.19999999999999,1,{"$f":"IF(ISNUMBER($L220),VALUE(OFFSET(Banco!$A$1,Composições!$L220-1,COLUMN(Composições!I220)-4)),0)","v":134.86000000000001},{"$f":"IF(ISNUMBER($L220),VALUE(OFFSET(Banco!$A$1,Composições!$L220-1,COLUMN(Composições!J220)-4)),0)","v":135.19999999999999},{"$f":"COUNTA($A$1:$A220)-1","v":26},{"$f":"MATCH(CONCATENATE($B220,\" \",$C220),Banco!$A:$A,0)","v":13318},{"$f":"IF(OR(ISERROR($L220),$H220=\"\",$H220=0),\"\",OFFSET(M$1,MATCH($K220,$K$1:$K220,0)-1,0))","v":"F"},null,{"$f":"IF(ISNUMBER($L220),VALUE(OFFSET(Banco!$A$1,Composições!$L220-1,COLUMN(Composições!O220)-6)),0)","v":0},{"$f":"IF(ISNUMBER($L220),VALUE(OFFSET(Banco!$A$1,Composições!$L220-1,COLUMN(Composições!P220)-6)),0)","v":0},0,0]
[null,"SINAPI",86903,{"$f":"IF(ISNUMBER($L221),OFFSET(Banco!$A$1,Composições!$L221-1,COLUMN(Composições!D221)-1),\"\")","v":"LAVATÓRIO LOUÇA BRANCA COM COLUNA, 45 X 55CM OU EQUIVALENTE, PADRÃO MÉDIO - FORNECIMENTO E INSTALAÇÃO. AF_01/2020"},{"$f":"IF(ISNUMBER($L221),OFFSET(Banco!$A$1,Composições!$L221-1,COLUMN(Composições!E221)-1),\"\")","v":"UN"},408.32,413.94,1,{"$f":"IF(ISNUMBER($L221),VALUE(OFFSET(Banco!$A$1,Composições!$L221-1,COLUMN(Composições!I221)-4)),0)","v":408.32},{"$f":"IF(ISNUMBER($L221),VALUE(OFFSET(Banco!$A$1,Composições!$L221-1,COLUMN(Composições!J221)-4)),0)","v":413.94},{"$f":"COUNTA($A$1:$A221)-1","v":26},{"$f":"MATCH(CONCATENATE($B221,\" \",$C221),Banco!$A:$A,0)","v":13278},{"$f":"IF(OR(ISERROR($L221),$H221=\"\",$H221=0),\"\",OFFSET(M$1,MATCH($K221,$K$1:$K221,0)-1,0))","v":"F"},null,{"$f":"IF(ISNUMBER($L221),VALUE(OFFSET(Banco!$A$1,Composições!$L221-1,COLUMN(Composições!O221)-6)),0)","v":0},{"$f":"IF(ISNUMBER($L221),VALUE(OFFSET(Banco!$A$1,Composições!$L221-1,COLUMN(Composições!P221)-6)),0)","v":0},0,0]
[null,"SINAPI",86877,{"$f":"IF(ISNUMBER($L222),OFFSET(Banco!$A$1,Composições!$L222-1,COLUMN(Composições!D222)-1),\"\")","v":"VÁLVULA EM METAL CROMADO 1.1/2\" X 1.1/2\" PARA TANQUE OU LAVATÓRIO, COM OU SEM LADRÃO - FORNECIMENTO E INSTALAÇÃO. AF_01/2020"},{"$f":"IF(ISNUMBER($L222),OFFSET(Banco!$A$1,Composições!$L222-1,COLUMN(Composições!E222)-1),\"\")","v":"UN"},92.39,93.01,1,{"$f":"IF(ISNUMBER($L222),VALUE(OFFSET(Banco!$A$1,Composições!$L222-1,COLUMN(Composições!I222)-4)),0)","v":92.39},{"$f":"IF(ISNUMBER($L222),VALUE(OFFSET(Banco!$A$1,Composições!$L222-1,COLUMN(Composições!J222)-4)),0)","v":93.01},{"$f":"COUNTA($A$1:$A222)-1","v":26},{"$f":"MATCH(CONCATENATE($B222,\" \",$C222),Banco!$A:$A,0)","v":13333},{"$f":"IF(OR(ISERROR($L222),$H222=\"\",$H222=0),\"\",OFFSET(M$1,MATCH($K222,$K$1:$K222,0)-1,0))","v":"F"},null,{"$f":"IF(ISNUMBER($L222),VALUE(OFFSET(Banco!$A$1,Composições!$L222-1,COLUMN(Composições!O222)-6)),0)","v":0},{"$f":"IF(ISNUMBER($L222),VALUE(OFFSET(Banco!$A$1,Composições!$L222-1,COLUMN(Composições!P222)-6)),0)","v":0},0,0]
[null,null,null,null,null,null,null,null,null,null,{"$f":"COUNTA($A$1:$A223)-1","v":26},null,{"$f":"IF(OFFSET($M$1,MATCH(OFFSET(K223,-1,0),$K$1:$K223,0)-1,0)=\"F\",\"F\",\"\")","v":"F"}]
[{"$f":"CONCATENATE($B224,\" \",$C224)","v":"Composição INHI.0032.01"},"Composição","INHI.0032.01","LAVATÓRIO LOUÇA BRANCA SUSPENSO, 36 X 45,5CM OU EQUIVALENTE, INCLUSO SIFÃO FLEXÍVEL EM PVC, ENGATE FLEXÍVEL 30CM EM PLÁSTICO E VÁLVULA EM METAL CROMADO 1\"  E ENGATE FLEXÍVEL 30CM EM PLÁSTICO E TORNEIRA CROMADA DE MESA BICA ALTA, PADRÃO MÉDIO - FORNECIMENTO E INSTALAÇÃO. AF_01/2020","UN",{"$f":"IF($L224>0,SUM(OFFSET(F224,1,0,$L224),0))","v":408.12},411.42,null,{"$f":"IF(ISERROR(F224),0,F224)","v":408.12},411.42,{"$f":"COUNTA($A$1:$A224)-1","v":27},{"$f":"IF(MAX(K:K)=K224,MATCH(9999999,$K:$K)+1,MATCH(K224+1,K:K,0))-ROW(L224)-2","v":5},{"$f":"IF(AND(OR(I224<>0,J224<>0),N224=\"Sim\"),\"F\",\"\")","v":"F"},"Sim",{"$f":"IF(AND($L224>0,F224<>0),ROUND(SUM(OFFSET(Q224,1,0,$L224))/F224,4),0)","v":0},0]
[null,"SINAPI",86883,{"$f":"IF(ISNUMBER($L225),OFFSET(Banco!$A$1,Composições!$L225-1,COLUMN(Composições!D225)-1),\"\")","v":"SIFÃO DO TIPO FLEXÍVEL EM PVC 1 X 1.1/2 - FORNECIMENTO E INSTALAÇÃO. AF_01/2020"},{"$f":"IF(ISNUMBER($L225),OFFSET(Banco!$A$1,Composições!$L225-1,COLUMN(Composições!E225)-1),\"\")","v":"UN"},{"$f":"ROUND($H225*ROUND(I225,2),2)","v":12.36},12.66,1,{"$f":"IF(ISNUMBER($L225),VALUE(OFFSET(Banco!$A$1,Composições!$L225-1,COLUMN(Composições!I225)-4)),0)","v":12.36},{"$f":"IF(ISNUMBER($L225),VALUE(OFFSET(Banco!$A$1,Composições!$L225-1,COLUMN(Composições!J225)-4)),0)","v":12.66},{"$f":"COUNTA($A$1:$A225)-1","v":27},{"$f":"MATCH(CONCATENATE($B225,\" \",$C225),Banco!$A:$A,0)","v":13293},{"$f":"IF(OR(ISERROR($L225),$H225=\"\",$H225=0),\"\",OFFSET(M$1,MATCH($K225,$K$1:$K225,0)-1,0))","v":"F"},null,{"$f":"IF(ISNUMBER($L225),VALUE(OFFSET(Banco!$A$1,Composições!$L225-1,COLUMN(Composições!O225)-6)),0)","v":0},{"$f":"IF(ISNUMBER($L225),VALUE(OFFSET(Banco!$A$1,Composições!$L225-1,COLUMN(Composições!P225)-6)),0)","v":0},{"$f":"ROUND(F225*O225,2)","v":0},0]
[null,"SINAPI",86884,{"$f":"IF(ISNUMBER($L226),OFFSET(Banco!$A$1,Composições!$L226-1,COLUMN(Composições!D226)-1),\"\")","v":"ENGATE FLEXÍVEL EM PLÁSTICO BRANCO, 1/2\" X 30CM - FORNECIMENTO E INSTALAÇÃO. AF_01/2020"},{"$f":"IF(ISNUMBER($L226),OFFSET(Banco!$A$1,Composições!$L226-1,COLUMN(Composições!E226)-1),\"\")","v":"UN"},11.71,12.25,1,{"$f":"IF(ISNUMBER($L226),VALUE(OFFSET(Banco!$A$1,Composições!$L226-1,COLUMN(Composições!I226)-4)),0)","v":11.71},{"$f":"IF(ISNUMBER($L226),VALUE(OFFSET(Banco!$A$1,Composições!$L226-1,COLUMN(Composições!J226)-4)),0)","v":12.25},{"$f":"COUNTA($A$1:$A226)-1","v":27},{"$f":"MATCH(CONCATENATE($B226,\" \",$C226),Banco!$A:$A,0)","v":13273},{"$f":"IF(OR(ISERROR($L226),$H226=\"\",$H226=0),\"\",OFFSET(M$1,MATCH($K226,$K$1:$K226,0)-1,0))","v":"F"},null,{"$f":"IF(ISNUMBER($L226),VALUE(OFFSET(Banco!$A$1,Composições!$L226-1,COLUMN(Composições!O226)-6)),0)","v":0},{"$f":"IF(ISNUMBER($L226),VALUE(OFFSET(Banco!$A$1,Composições!$L226-1,COLUMN(Composições!P226)-6)),0)","v":0},0,0]
[null,"SINAPI",86904,{"$f":"IF(ISNUMBER($L227),OFFSET(Banco!$A$1,Composições!$L227-1,COLUMN(Composições!D227)-1),\"\")","v":"LAVATÓRIO LOUÇA BRANCA SUSPENSO, 29,5 X 39CM OU EQUIVALENTE, PADRÃO POPULAR - FORNECIMENTO E INSTALAÇÃO. AF_01/2020"},{"$f":"IF(ISNUMBER($L227),OFFSET(Banco!$A$1,Composições!$L227-1,COLUMN(Composições!E227)-1),\"\")","v":"UN"},174.54,176.05,1,{"$f":"IF(ISNUMBER($L227),VALUE(OFFSET(Banco!$A$1,Composições!$L227-1,COLUMN(Composições!I227)-4)),0)","v":174.54},{"$f":"IF(ISNUMBER($L227),VALUE(OFFSET(Banco!$A$1,Composições!$L227-1,COLUMN(Composições!J227)-4)),0)","v":176.05},{"$f":"COUNTA($A$1:$A227)-1","v":27},{"$f":"MATCH(CONCATENATE($B227,\" \",$C227),Banco!$A:$A,0)","v":13281},{"$f":"IF(OR(ISERROR($L227),$H227=\"\",$H227=0),\"\",OFFSET(M$1,MATCH($K227,$K$1:$K227,0)-1,0))","v":"F"},null,{"$f":"IF(ISNUMBER($L227),VALUE(OFFSET(Banco!$A$1,Composições!$L227-1,COLUMN(Composições!O227)-6)),0)","v":0},{"$f":"IF(ISNUMBER($L227),VALUE(OFFSET(Banco!$A$1,Composições!$L227-1,COLUMN(Composições!P227)-6)),0)","v":0},0,0]
[null,"COMPOSIÇÃO","INHI.0016.01",{"$f":"IF(ISNUMBER($L228),OFFSET(Banco!$A$1,Composições!$L228-1,COLUMN(Composições!D228)-1),\"\")","v":"VÁLVULA EM METAL CROMADO 1\" PARA TANQUE OU LAVATÓRIO, COM OU SEM LADRÃO - FORNECIMENTO E INSTALAÇÃO."},{"$f":"IF(ISNUMBER($L228),OFFSET(Banco!$A$1,Composições!$L228-1,COLUMN(Composições!E228)-1),\"\")","v":"UN"},74.650000000000006,75.260000000000005,1,{"$f":"IF(ISNUMBER($L228),VALUE(OFFSET(Banco!$A$1,Composições!$L228-1,COLUMN(Composições!I228)-4)),0)","v":74.650000000000006},{"$f":"IF(ISNUMBER($L228),VALUE(OFFSET(Banco!$A$1,Composições!$L228-1,COLUMN(Composições!J228)-4)),0)","v":75.260000000000005},{"$f":"COUNTA($A$1:$A228)-1","v":27},{"$f":"MATCH(CONCATENATE($B228,\" \",$C228),Banco!$A:$A,0)","v":77},{"$f":"IF(OR(ISERROR($L228),$H228=\"\",$H228=0),\"\",OFFSET(M$1,MATCH($K228,$K$1:$K228,0)-1,0))","v":"F"},null,{"$f":"IF(ISNUMBER($L228),VALUE(OFFSET(Banco!$A$1,Composições!$L228-1,COLUMN(Composições!O228)-6)),0)","v":0},{"$f":"IF(ISNUMBER($L228),VALUE(OFFSET(Banco!$A$1,Composições!$L228-1,COLUMN(Composições!P228)-6)),0)","v":0},0,0]
[null,"SINAPI",86915,{"$f":"IF(ISNUMBER($L229),OFFSET(Banco!$A$1,Composições!$L229-1,COLUMN(Composições!D229)-1),\"\")","v":"TORNEIRA CROMADA DE MESA, 1/2\" OU 3/4\", PARA LAVATÓRIO, PADRÃO MÉDIO - FORNECIMENTO E INSTALAÇÃO. AF_01/2020"},{"$f":"IF(ISNUMBER($L229),OFFSET(Banco!$A$1,Composições!$L229-1,COLUMN(Composições!E229)-1),\"\")","v":"UN"},134.86000000000001,135.19999999999999,1,{"$f":"IF(ISNUMBER($L229),VALUE(OFFSET(Banco!$A$1,Composições!$L229-1,COLUMN(Composições!I229)-4)),0)","v":134.86000000000001},{"$f":"IF(ISNUMBER($L229),VALUE(OFFSET(Banco!$A$1,Composições!$L229-1,COLUMN(Composições!J229)-4)),0)","v":135.19999999999999},{"$f":"COUNTA($A$1:$A229)-1","v":27},{"$f":"MATCH(CONCATENATE($B229,\" \",$C229),Banco!$A:$A,0)","v":13318},{"$f":"IF(OR(ISERROR($L229),$H229=\"\",$H229=0),\"\",OFFSET(M$1,MATCH($K229,$K$1:$K229,0)-1,0))","v":"F"},null,{"$f":"IF(ISNUMBER($L229),VALUE(OFFSET(Banco!$A$1,Composições!$L229-1,COLUMN(Composições!O229)-6)),0)","v":0},{"$f":"IF(ISNUMBER($L229),VALUE(OFFSET(Banco!$A$1,Composições!$L229-1,COLUMN(Composições!P229)-6)),0)","v":0},0,0]
[null,null,null,null,null,null,null,null,null,null,{"$f":"COUNTA($A$1:$A230)-1","v":27},null,{"$f":"IF(OFFSET($M$1,MATCH(OFFSET(K230,-1,0),$K$1:$K230,0)-1,0)=\"F\",\"F\",\"\")","v":"F"}]
[{"$f":"CONCATENATE($B231,\" \",$C231)","v":"Composição INHI.0011.01"},"Composição","INHI.0011.01","TORNEIRA CROMADA 1/2\" OU 3/4\" PARA JARDIM, PADRÃO MÉDIO - FORNECIMENTO E INSTALAÇÃO.","UN",{"$f":"IF($L231>0,SUM(OFFSET(F231,1,0,$L231),0))","v":61.42},61.97,null,{"$f":"IF(ISERROR(F231),0,F231)","v":61.42},61.97,{"$f":"COUNTA($A$1:$A231)-1","v":28},{"$f":"IF(MAX(K:K)=K231,MATCH(9999999,$K:$K)+1,MATCH(K231+1,K:K,0))-ROW(L231)-2","v":4},{"$f":"IF(AND(OR(I231<>0,J231<>0),N231=\"Sim\"),\"F\",\"\")","v":"F"},"Sim",{"$f":"IF(AND($L231>0,F231<>0),ROUND(SUM(OFFSET(Q231,1,0,$L231))/F231,4),0)","v":0},0]
[null,"SINAPI",88267,{"$f":"IF(ISNUMBER($L232),OFFSET(Banco!$A$1,Composições!$L232-1,COLUMN(Composições!D232)-1),\"\")","v":"ENCANADOR OU BOMBEIRO HIDRÁULICO COM ENCARGOS COMPLEMENTARES"},{"$f":"IF(ISNUMBER($L232),OFFSET(Banco!$A$1,Composições!$L232-1,COLUMN(Composições!E232)-1),\"\")","v":"H"},{"$f":"ROUND($H232*ROUND(I232,2),2)","v":4.99},5.43,0.15,{"$f":"IF(ISNUMBER($L232),VALUE(OFFSET(Banco!$A$1,Composições!$L232-1,COLUMN(Composições!I232)-4)),0)","v":33.26},{"$f":"IF(ISNUMBER($L232),VALUE(OFFSET(Banco!$A$1,Composições!$L232-1,COLUMN(Composições!J232)-4)),0)","v":36.17},{"$f":"COUNTA($A$1:$A232)-1","v":28},{"$f":"MATCH(CONCATENATE($B232,\" \",$C232),Banco!$A:$A,0)","v":13099},{"$f":"IF(OR(ISERROR($L232),$H232=\"\",$H232=0),\"\",OFFSET(M$1,MATCH($K232,$K$1:$K232,0)-1,0))","v":"F"},null,{"$f":"IF(ISNUMBER($L232),VALUE(OFFSET(Banco!$A$1,Composições!$L232-1,COLUMN(Composições!O232)-6)),0)","v":0},{"$f":"IF(ISNUMBER($L232),VALUE(OFFSET(Banco!$A$1,Composições!$L232-1,COLUMN(Composições!P232)-6)),0)","v":0},{"$f":"ROUND(F232*O232,2)","v":0},0]
[null,"SINAPI",88316,{"$f":"IF(ISNUMBER($L233),OFFSET(Banco!$A$1,Composições!$L233-1,COLUMN(Composições!D233)-1),\"\")","v":"SERVENTE COM ENCARGOS COMPLEMENTARES"},{"$f":"IF(ISNUMBER($L233),OFFSET(Banco!$A$1,Composições!$L233-1,COLUMN(Composições!E233)-1),\"\")","v":"H"},1.33,1.44,0.05,{"$f":"IF(ISNUMBER($L233),VALUE(OFFSET(Banco!$A$1,Composições!$L233-1,COLUMN(Composições!I233)-4)),0)","v":26.65},{"$f":"IF(ISNUMBER($L233),VALUE(OFFSET(Banco!$A$1,Composições!$L233-1,COLUMN(Composições!J233)-4)),0)","v":28.71},{"$f":"COUNTA($A$1:$A233)-1","v":28},{"$f":"MATCH(CONCATENATE($B233,\" \",$C233),Banco!$A:$A,0)","v":13198},{"$f":"IF(OR(ISERROR($L233),$H233=\"\",$H233=0),\"\",OFFSET(M$1,MATCH($K233,$K$1:$K233,0)-1,0))","v":"F"},null,{"$f":"IF(ISNUMBER($L233),VALUE(OFFSET(Banco!$A$1,Composições!$L233-1,COLUMN(Composições!O233)-6)),0)","v":0},{"$f":"IF(ISNUMBER($L233),VALUE(OFFSET(Banco!$A$1,Composições!$L233-1,COLUMN(Composições!P233)-6)),0)","v":0},0,0]
[null,"SINAPI-I",3146,{"$f":"IF(ISNUMBER($L234),OFFSET(Banco!$A$1,Composições!$L234-1,COLUMN(Composições!D234)-1),\"\")","v":"FITA VEDA ROSCA, EM PTFE, ROLO DE 18 MM X 10 M (L X C)"},{"$f":"IF(ISNUMBER($L234),OFFSET(Banco!$A$1,Composições!$L234-1,COLUMN(Composições!E234)-1),\"\")","v":"UN"},0.15,0.15,3.04E-2,{"$f":"IF(ISNUMBER($L234),VALUE(OFFSET(Banco!$A$1,Composições!$L234-1,COLUMN(Composições!I234)-4)),0)","v":5},{"$f":"IF(ISNUMBER($L234),VALUE(OFFSET(Banco!$A$1,Composições!$L234-1,COLUMN(Composições!J234)-4)),0)","v":5},{"$f":"COUNTA($A$1:$A234)-1","v":28},{"$f":"MATCH(CONCATENATE($B234,\" \",$C234),Banco!$A:$A,0)","v":2214},{"$f":"IF(OR(ISERROR($L234),$H234=\"\",$H234=0),\"\",OFFSET(M$1,MATCH($K234,$K$1:$K234,0)-1,0))","v":"F"},null,{"$f":"IF(ISNUMBER($L234),VALUE(OFFSET(Banco!$A$1,Composições!$L234-1,COLUMN(Composições!O234)-6)),0)","v":0},{"$f":"IF(ISNUMBER($L234),VALUE(OFFSET(Banco!$A$1,Composições!$L234-1,COLUMN(Composições!P234)-6)),0)","v":0},0,0]
[null,"SINAPI-I",11762,{"$f":"IF(ISNUMBER($L235),OFFSET(Banco!$A$1,Composições!$L235-1,COLUMN(Composições!D235)-1),\"\")","v":"TORNEIRA METALICA CROMADA PARA JARDIM / TANQUE, COM BICO PLASTICO, CANO LONGO, DE PAREDE, PADRAO POPULAR / USO GERAL, 1/2\" OU 3/4\""},{"$f":"IF(ISNUMBER($L235),OFFSET(Banco!$A$1,Composições!$L235-1,COLUMN(Composições!E235)-1),\"\")","v":"UN"},54.95,54.95,1,{"$f":"IF(ISNUMBER($L235),VALUE(OFFSET(Banco!$A$1,Composições!$L235-1,COLUMN(Composições!I235)-4)),0)","v":54.95},{"$f":"IF(ISNUMBER($L235),VALUE(OFFSET(Banco!$A$1,Composições!$L235-1,COLUMN(Composições!J235)-4)),0)","v":54.95},{"$f":"COUNTA($A$1:$A235)-1","v":28},{"$f":"MATCH(CONCATENATE($B235,\" \",$C235),Banco!$A:$A,0)","v":4471},{"$f":"IF(OR(ISERROR($L235),$H235=\"\",$H235=0),\"\",OFFSET(M$1,MATCH($K235,$K$1:$K235,0)-1,0))","v":"F"},null,{"$f":"IF(ISNUMBER($L235),VALUE(OFFSET(Banco!$A$1,Composições!$L235-1,COLUMN(Composições!O235)-6)),0)","v":0},{"$f":"IF(ISNUMBER($L235),VALUE(OFFSET(Banco!$A$1,Composições!$L235-1,COLUMN(Composições!P235)-6)),0)","v":0},0,0]
[null,null,null,null,null,null,null,null,null,null,{"$f":"COUNTA($A$1:$A236)-1","v":28},null,{"$f":"IF(OFFSET($M$1,MATCH(OFFSET(K236,-1,0),$K$1:$K236,0)-1,0)=\"F\",\"F\",\"\")","v":"F"}]
[{"$f":"CONCATENATE($B237,\" \",$C237)","v":"Composição INHI.0040.01"},"Composição","INHI.0040.01","ESTRUTURA DE MADEIRA PARA SUPORTE DE CAIXA D?ÁGUA DE ATÉ 2000 LITROS.","UN",{"$f":"IF($L237>0,SUM(OFFSET(F237,1,0,$L237),0))","v":1379.8799999999999},1385.36,null,{"$f":"IF(ISERROR(F237),0,F237)","v":1379.8799999999999},1385.36,{"$f":"COUNTA($A$1:$A237)-1","v":29},{"$f":"IF(MAX(K:K)=K237,MATCH(9999999,$K:$K)+1,MATCH(K237+1,K:K,0))-ROW(L237)-2","v":8},{"$f":"IF(AND(OR(I237<>0,J237<>0),N237=\"Sim\"),\"F\",\"\")","v":"F"},"Sim",{"$f":"IF(AND($L237>0,F237<>0),ROUND(SUM(OFFSET(Q237,1,0,$L237))/F237,4),0)","v":0},0]
[null,"SINAPI",88239,{"$f":"IF(ISNUMBER($L238),OFFSET(Banco!$A$1,Composições!$L238-1,COLUMN(Composições!D238)-1),\"\")","v":"AJUDANTE DE CARPINTEIRO COM ENCARGOS COMPLEMENTARES"},{"$f":"IF(ISNUMBER($L238),OFFSET(Banco!$A$1,Composições!$L238-1,COLUMN(Composições!E238)-1),\"\")","v":"H"},{"$f":"ROUND($H238*ROUND(I238,2),2)","v":12.46},13.45,0.4471,{"$f":"IF(ISNUMBER($L238),VALUE(OFFSET(Banco!$A$1,Composições!$L238-1,COLUMN(Composições!I238)-4)),0)","v":27.86},{"$f":"IF(ISNUMBER($L238),VALUE(OFFSET(Banco!$A$1,Composições!$L238-1,COLUMN(Composições!J238)-4)),0)","v":30.08},{"$f":"COUNTA($A$1:$A238)-1","v":29},{"$f":"MATCH(CONCATENATE($B238,\" \",$C238),Banco!$A:$A,0)","v":12847},{"$f":"IF(OR(ISERROR($L238),$H238=\"\",$H238=0),\"\",OFFSET(M$1,MATCH($K238,$K$1:$K238,0)-1,0))","v":"F"},null,{"$f":"IF(ISNUMBER($L238),VALUE(OFFSET(Banco!$A$1,Composições!$L238-1,COLUMN(Composições!O238)-6)),0)","v":0},{"$f":"IF(ISNUMBER($L238),VALUE(OFFSET(Banco!$A$1,Composições!$L238-1,COLUMN(Composições!P238)-6)),0)","v":0},{"$f":"ROUND(F238*O238,2)","v":0},0]
[null,"SINAPI",88262,{"$f":"IF(ISNUMBER($L239),OFFSET(Banco!$A$1,Composições!$L239-1,COLUMN(Composições!D239)-1),\"\")","v":"CARPINTEIRO DE FORMAS COM ENCARGOS COMPLEMENTARES"},{"$f":"IF(ISNUMBER($L239),OFFSET(Banco!$A$1,Composições!$L239-1,COLUMN(Composições!E239)-1),\"\")","v":"H"},40.520000000000003,44.03,1.2084999999999999,{"$f":"IF(ISNUMBER($L239),VALUE(OFFSET(Banco!$A$1,Composições!$L239-1,COLUMN(Composições!I239)-4)),0)","v":33.53},{"$f":"IF(ISNUMBER($L239),VALUE(OFFSET(Banco!$A$1,Composições!$L239-1,COLUMN(Composições!J239)-4)),0)","v":36.43},{"$f":"COUNTA($A$1:$A239)-1","v":29},{"$f":"MATCH(CONCATENATE($B239,\" \",$C239),Banco!$A:$A,0)","v":12901},{"$f":"IF(OR(ISERROR($L239),$H239=\"\",$H239=0),\"\",OFFSET(M$1,MATCH($K239,$K$1:$K239,0)-1,0))","v":"F"},null,{"$f":"IF(ISNUMBER($L239),VALUE(OFFSET(Banco!$A$1,Composições!$L239-1,COLUMN(Composições!O239)-6)),0)","v":0},{"$f":"IF(ISNUMBER($L239),VALUE(OFFSET(Banco!$A$1,Composições!$L239-1,COLUMN(Composições!P239)-6)),0)","v":0},0,0]
[null,"SINAPI",91692,{"$f":"IF(ISNUMBER($L240),OFFSET(Banco!$A$1,Composições!$L240-1,COLUMN(Composições!D240)-1),\"\")","v":"SERRA CIRCULAR DE BANCADA COM MOTOR ELÉTRICO POTÊNCIA DE 5HP, COM COIFA PARA DISCO 10\" - CHP DIURNO. AF_08/2015"},{"$f":"IF(ISNUMBER($L240),OFFSET(Banco!$A$1,Composições!$L240-1,COLUMN(Composições!E240)-1),\"\")","v":"CHP"},2.17,2.35,6.5000000000000002E-2,{"$f":"IF(ISNUMBER($L240),VALUE(OFFSET(Banco!$A$1,Composições!$L240-1,COLUMN(Composições!I240)-4)),0)","v":33.33},{"$f":"IF(ISNUMBER($L240),VALUE(OFFSET(Banco!$A$1,Composições!$L240-1,COLUMN(Composições!J240)-4)),0)","v":36.18},{"$f":"COUNTA($A$1:$A240)-1","v":29},{"$f":"MATCH(CONCATENATE($B240,\" \",$C240),Banco!$A:$A,0)","v":7866},{"$f":"IF(OR(ISERROR($L240),$H240=\"\",$H240=0),\"\",OFFSET(M$1,MATCH($K240,$K$1:$K240,0)-1,0))","v":"F"},null,{"$f":"IF(ISNUMBER($L240),VALUE(OFFSET(Banco!$A$1,Composições!$L240-1,COLUMN(Composições!O240)-6)),0)","v":0},{"$f":"IF(ISNUMBER($L240),VALUE(OFFSET(Banco!$A$1,Composições!$L240-1,COLUMN(Composições!P240)-6)),0)","v":0},0,0]
[null,"SINAPI",91693,{"$f":"IF(ISNUMBER($L241),OFFSET(Banco!$A$1,Composições!$L241-1,COLUMN(Composições!D241)-1),\"\")","v":"SERRA CIRCULAR DE BANCADA COM MOTOR ELÉTRICO POTÊNCIA DE 5HP, COM COIFA PARA DISCO 10\" - CHI DIURNO. AF_08/2015"},{"$f":"IF(ISNUMBER($L241),OFFSET(Banco!$A$1,Composições!$L241-1,COLUMN(Composições!E241)-1),\"\")","v":"CHI"},9.0399999999999991,9.84,0.28000000000000003,{"$f":"IF(ISNUMBER($L241),VALUE(OFFSET(Banco!$A$1,Composições!$L241-1,COLUMN(Composições!I241)-4)),0)","v":32.28},{"$f":"IF(ISNUMBER($L241),VALUE(OFFSET(Banco!$A$1,Composições!$L241-1,COLUMN(Composições!J241)-4)),0)","v":35.130000000000003},{"$f":"COUNTA($A$1:$A241)-1","v":29},{"$f":"MATCH(CONCATENATE($B241,\" \",$C241),Banco!$A:$A,0)","v":7865},{"$f":"IF(OR(ISERROR($L241),$H241=\"\",$H241=0),\"\",OFFSET(M$1,MATCH($K241,$K$1:$K241,0)-1,0))","v":"F"},null,{"$f":"IF(ISNUMBER($L241),VALUE(OFFSET(Banco!$A$1,Composições!$L241-1,COLUMN(Composições!O241)-6)),0)","v":0},{"$f":"IF(ISNUMBER($L241),VALUE(OFFSET(Banco!$A$1,Composições!$L241-1,COLUMN(Composições!P241)-6)),0)","v":0},0,0]
[null,"SINAPI-I",3992,{"$f":"IF(ISNUMBER($L242),OFFSET(Banco!$A$1,Composições!$L242-1,COLUMN(Composições!D242)-1),\"\")","v":"TABUA APARELHADA *2,5 X 30* CM, EM MACARANDUBA/MASSARANDUBA, ANGELIM OU EQUIVALENTE DA REGIAO"},{"$f":"IF(ISNUMBER($L242),OFFSET(Banco!$A$1,Composições!$L242-1,COLUMN(Composições!E242)-1),\"\")","v":"M"},400.9,400.9,10.8,{"$f":"IF(ISNUMBER($L242),VALUE(OFFSET(Banco!$A$1,Composições!$L242-1,COLUMN(Composições!I242)-4)),0)","v":37.119999999999997},{"$f":"IF(ISNUMBER($L242),VALUE(OFFSET(Banco!$A$1,Composições!$L242-1,COLUMN(Composições!J242)-4)),0)","v":37.119999999999997},{"$f":"COUNTA($A$1:$A242)-1","v":29},{"$f":"MATCH(CONCATENATE($B242,\" \",$C242),Banco!$A:$A,0)","v":4023},{"$f":"IF(OR(ISERROR($L242),$H242=\"\",$H242=0),\"\",OFFSET(M$1,MATCH($K242,$K$1:$K242,0)-1,0))","v":"F"},null,{"$f":"IF(ISNUMBER($L242),VALUE(OFFSET(Banco!$A$1,Composições!$L242-1,COLUMN(Composições!O242)-6)),0)","v":0},{"$f":"IF(ISNUMBER($L242),VALUE(OFFSET(Banco!$A$1,Composições!$L242-1,COLUMN(Composições!P242)-6)),0)","v":0},0,0]
[null,"SINAPI-I",4433,{"$f":"IF(ISNUMBER($L243),OFFSET(Banco!$A$1,Composições!$L243-1,COLUMN(Composições!D243)-1),\"\")","v":"CAIBRO NAO APARELHADO *6 X 6* CM, EM MACARANDUBA/MASSARANDUBA, ANGELIM OU EQUIVALENTE DA REGIAO - BRUTA"},{"$f":"IF(ISNUMBER($L243),OFFSET(Banco!$A$1,Composições!$L243-1,COLUMN(Composições!E243)-1),\"\")","v":"M"},812.29,812.29,25.96,{"$f":"IF(ISNUMBER($L243),VALUE(OFFSET(Banco!$A$1,Composições!$L243-1,COLUMN(Composições!I243)-4)),0)","v":31.29},{"$f":"IF(ISNUMBER($L243),VALUE(OFFSET(Banco!$A$1,Composições!$L243-1,COLUMN(Composições!J243)-4)),0)","v":31.29},{"$f":"COUNTA($A$1:$A243)-1","v":29},{"$f":"MATCH(CONCATENATE($B243,\" \",$C243),Banco!$A:$A,0)","v":966},{"$f":"IF(OR(ISERROR($L243),$H243=\"\",$H243=0),\"\",OFFSET(M$1,MATCH($K243,$K$1:$K243,0)-1,0))","v":"F"},null,{"$f":"IF(ISNUMBER($L243),VALUE(OFFSET(Banco!$A$1,Composições!$L243-1,COLUMN(Composições!O243)-6)),0)","v":0},{"$f":"IF(ISNUMBER($L243),VALUE(OFFSET(Banco!$A$1,Composições!$L243-1,COLUMN(Composições!P243)-6)),0)","v":0},0,0]
[null,"SINAPI-I",5061,{"$f":"IF(ISNUMBER($L244),OFFSET(Banco!$A$1,Composições!$L244-1,COLUMN(Composições!D244)-1),\"\")","v":"PREGO DE ACO POLIDO COM CABECA 18 X 27 (2 1/2 X 10)"},{"$f":"IF(ISNUMBER($L244),OFFSET(Banco!$A$1,Composições!$L244-1,COLUMN(Composições!E244)-1),\"\")","v":"KG"},12.14,12.14,0.77,{"$f":"IF(ISNUMBER($L244),VALUE(OFFSET(Banco!$A$1,Composições!$L244-1,COLUMN(Composições!I244)-4)),0)","v":15.76},{"$f":"IF(ISNUMBER($L244),VALUE(OFFSET(Banco!$A$1,Composições!$L244-1,COLUMN(Composições!J244)-4)),0)","v":15.76},{"$f":"COUNTA($A$1:$A244)-1","v":29},{"$f":"MATCH(CONCATENATE($B244,\" \",$C244),Banco!$A:$A,0)","v":3720},{"$f":"IF(OR(ISERROR($L244),$H244=\"\",$H244=0),\"\",OFFSET(M$1,MATCH($K244,$K$1:$K244,0)-1,0))","v":"F"},null,{"$f":"IF(ISNUMBER($L244),VALUE(OFFSET(Banco!$A$1,Composições!$L244-1,COLUMN(Composições!O244)-6)),0)","v":0},{"$f":"IF(ISNUMBER($L244),VALUE(OFFSET(Banco!$A$1,Composições!$L244-1,COLUMN(Composições!P244)-6)),0)","v":0},0,0]
[null,"SINAPI-I",43681,{"$f":"IF(ISNUMBER($L245),OFFSET(Banco!$A$1,Composições!$L245-1,COLUMN(Composições!D245)-1),\"\")","v":"CHAPA/PAINEL DE MADEIRA COMPENSADA RESINADA (MADEIRITE RESINADO ROSA) PARA FORMA DE CONCRETO, DE 2200 X 1100 MM, E = 8 A 12 MM"},{"$f":"IF(ISNUMBER($L245),OFFSET(Banco!$A$1,Composições!$L245-1,COLUMN(Composições!E245)-1),\"\")","v":"M2"},90.36,90.36,3.24,{"$f":"IF(ISNUMBER($L245),VALUE(OFFSET(Banco!$A$1,Composições!$L245-1,COLUMN(Composições!I245)-4)),0)","v":27.89},{"$f":"IF(ISNUMBER($L245),VALUE(OFFSET(Banco!$A$1,Composições!$L245-1,COLUMN(Composições!J245)-4)),0)","v":27.89},{"$f":"COUNTA($A$1:$A245)-1","v":29},{"$f":"MATCH(CONCATENATE($B245,\" \",$C245),Banco!$A:$A,0)","v":1272},{"$f":"IF(OR(ISERROR($L245),$H245=\"\",$H245=0),\"\",OFFSET(M$1,MATCH($K245,$K$1:$K245,0)-1,0))","v":"F"},null,{"$f":"IF(ISNUMBER($L245),VALUE(OFFSET(Banco!$A$1,Composições!$L245-1,COLUMN(Composições!O245)-6)),0)","v":0},{"$f":"IF(ISNUMBER($L245),VALUE(OFFSET(Banco!$A$1,Composições!$L245-1,COLUMN(Composições!P245)-6)),0)","v":0},0,0]
[null,null,null,null,null,null,null,null,null,null,{"$f":"COUNTA($A$1:$A246)-1","v":29},null,{"$f":"IF(OFFSET($M$1,MATCH(OFFSET(K246,-1,0),$K$1:$K246,0)-1,0)=\"F\",\"F\",\"\")","v":"F"}]
[{"$f":"CONCATENATE($B247,\" \",$C247)","v":"Composição INHI.0015.01"},"Composição","INHI.0015.01","CAIXA SIFONADA, PVC, DN 150 X 150 X 50 MM, JUNTA ELÁSTICA, FORNECIDA E INSTALADA EM RAMAL DE DESCARGA OU EM RAMAL DE ESGOTO SANITÁRIO.","UN",{"$f":"IF($L247>0,SUM(OFFSET(F247,1,0,$L247),0))","v":72.39},73.669999999999987,null,{"$f":"IF(ISERROR(F247),0,F247)","v":72.39},73.669999999999987,{"$f":"COUNTA($A$1:$A247)-1","v":30},{"$f":"IF(MAX(K:K)=K247,MATCH(9999999,$K:$K)+1,MATCH(K247+1,K:K,0))-ROW(L247)-2","v":8},{"$f":"IF(AND(OR(I247<>0,J247<>0),N247=\"Sim\"),\"F\",\"\")","v":"F"},"Sim",{"$f":"IF(AND($L247>0,F247<>0),ROUND(SUM(OFFSET(Q247,1,0,$L247))/F247,4),0)","v":0},0]
[null,"SINAPI",88248,{"$f":"IF(ISNUMBER($L248),OFFSET(Banco!$A$1,Composições!$L248-1,COLUMN(Composições!D248)-1),\"\")","v":"AUXILIAR DE ENCANADOR OU BOMBEIRO HIDRÁULICO COM ENCARGOS COMPLEMENTARES"},{"$f":"IF(ISNUMBER($L248),OFFSET(Banco!$A$1,Composições!$L248-1,COLUMN(Composições!E248)-1),\"\")","v":"H"},{"$f":"ROUND($H248*ROUND(I248,2),2)","v":6.87},7.43,0.25,{"$f":"IF(ISNUMBER($L248),VALUE(OFFSET(Banco!$A$1,Composições!$L248-1,COLUMN(Composições!I248)-4)),0)","v":27.49},{"$f":"IF(ISNUMBER($L248),VALUE(OFFSET(Banco!$A$1,Composições!$L248-1,COLUMN(Composições!J248)-4)),0)","v":29.72},{"$f":"COUNTA($A$1:$A248)-1","v":30},{"$f":"MATCH(CONCATENATE($B248,\" \",$C248),Banco!$A:$A,0)","v":12876},{"$f":"IF(OR(ISERROR($L248),$H248=\"\",$H248=0),\"\",OFFSET(M$1,MATCH($K248,$K$1:$K248,0)-1,0))","v":"F"},null,{"$f":"IF(ISNUMBER($L248),VALUE(OFFSET(Banco!$A$1,Composições!$L248-1,COLUMN(Composições!O248)-6)),0)","v":0},{"$f":"IF(ISNUMBER($L248),VALUE(OFFSET(Banco!$A$1,Composições!$L248-1,COLUMN(Composições!P248)-6)),0)","v":0},{"$f":"ROUND(F248*O248,2)","v":0},0]
[null,"SINAPI",88267,{"$f":"IF(ISNUMBER($L249),OFFSET(Banco!$A$1,Composições!$L249-1,COLUMN(Composições!D249)-1),\"\")","v":"ENCANADOR OU BOMBEIRO HIDRÁULICO COM ENCARGOS COMPLEMENTARES"},{"$f":"IF(ISNUMBER($L249),OFFSET(Banco!$A$1,Composições!$L249-1,COLUMN(Composições!E249)-1),\"\")","v":"H"},8.32,9.0399999999999991,0.25,{"$f":"IF(ISNUMBER($L249),VALUE(OFFSET(Banco!$A$1,Composições!$L249-1,COLUMN(Composições!I249)-4)),0)","v":33.26},{"$f":"IF(ISNUMBER($L249),VALUE(OFFSET(Banco!$A$1,Composições!$L249-1,COLUMN(Composições!J249)-4)),0)","v":36.17},{"$f":"COUNTA($A$1:$A249)-1","v":30},{"$f":"MATCH(CONCATENATE($B249,\" \",$C249),Banco!$A:$A,0)","v":13099},{"$f":"IF(OR(ISERROR($L249),$H249=\"\",$H249=0),\"\",OFFSET(M$1,MATCH($K249,$K$1:$K249,0)-1,0))","v":"F"},null,{"$f":"IF(ISNUMBER($L249),VALUE(OFFSET(Banco!$A$1,Composições!$L249-1,COLUMN(Composições!O249)-6)),0)","v":0},{"$f":"IF(ISNUMBER($L249),VALUE(OFFSET(Banco!$A$1,Composições!$L249-1,COLUMN(Composições!P249)-6)),0)","v":0},0,0]
[null,"SINAPI-I",122,{"$f":"IF(ISNUMBER($L250),OFFSET(Banco!$A$1,Composições!$L250-1,COLUMN(Composições!D250)-1),\"\")","v":"ADESIVO PLASTICO PARA PVC, FRASCO COM *850* GR"},{"$f":"IF(ISNUMBER($L250),OFFSET(Banco!$A$1,Composições!$L250-1,COLUMN(Composições!E250)-1),\"\")","v":"UN"},1.0900000000000001,1.0900000000000001,1.4800000000000001E-2,{"$f":"IF(ISNUMBER($L250),VALUE(OFFSET(Banco!$A$1,Composições!$L250-1,COLUMN(Composições!I250)-4)),0)","v":73.48},{"$f":"IF(ISNUMBER($L250),VALUE(OFFSET(Banco!$A$1,Composições!$L250-1,COLUMN(Composições!J250)-4)),0)","v":73.48},{"$f":"COUNTA($A$1:$A250)-1","v":30},{"$f":"MATCH(CONCATENATE($B250,\" \",$C250),Banco!$A:$A,0)","v":254},{"$f":"IF(OR(ISERROR($L250),$H250=\"\",$H250=0),\"\",OFFSET(M$1,MATCH($K250,$K$1:$K250,0)-1,0))","v":"F"},null,{"$f":"IF(ISNUMBER($L250),VALUE(OFFSET(Banco!$A$1,Composições!$L250-1,COLUMN(Composições!O250)-6)),0)","v":0},{"$f":"IF(ISNUMBER($L250),VALUE(OFFSET(Banco!$A$1,Composições!$L250-1,COLUMN(Composições!P250)-6)),0)","v":0},0,0]
[null,"SINAPI-I",296,{"$f":"IF(ISNUMBER($L251),OFFSET(Banco!$A$1,Composições!$L251-1,COLUMN(Composições!D251)-1),\"\")","v":"ANEL BORRACHA PARA TUBO ESGOTO PREDIAL, DN 50 MM (NBR 5688)"},{"$f":"IF(ISNUMBER($L251),OFFSET(Banco!$A$1,Composições!$L251-1,COLUMN(Composições!E251)-1),\"\")","v":"UN"},1.65,1.65,1,{"$f":"IF(ISNUMBER($L251),VALUE(OFFSET(Banco!$A$1,Composições!$L251-1,COLUMN(Composições!I251)-4)),0)","v":1.65},{"$f":"IF(ISNUMBER($L251),VALUE(OFFSET(Banco!$A$1,Composições!$L251-1,COLUMN(Composições!J251)-4)),0)","v":1.65},{"$f":"COUNTA($A$1:$A251)-1","v":30},{"$f":"MATCH(CONCATENATE($B251,\" \",$C251),Banco!$A:$A,0)","v":308},{"$f":"IF(OR(ISERROR($L251),$H251=\"\",$H251=0),\"\",OFFSET(M$1,MATCH($K251,$K$1:$K251,0)-1,0))","v":"F"},null,{"$f":"IF(ISNUMBER($L251),VALUE(OFFSET(Banco!$A$1,Composições!$L251-1,COLUMN(Composições!O251)-6)),0)","v":0},{"$f":"IF(ISNUMBER($L251),VALUE(OFFSET(Banco!$A$1,Composições!$L251-1,COLUMN(Composições!P251)-6)),0)","v":0},0,0]
[null,"SINAPI-I",20078,{"$f":"IF(ISNUMBER($L252),OFFSET(Banco!$A$1,Composições!$L252-1,COLUMN(Composições!D252)-1),\"\")","v":"PASTA LUBRIFICANTE PARA TUBOS E CONEXOES COM JUNTA ELASTICA, EMBALAGEM DE *400* GR (USO EM PVC, ACO, POLIETILENO E OUTROS)"},{"$f":"IF(ISNUMBER($L252),OFFSET(Banco!$A$1,Composições!$L252-1,COLUMN(Composições!E252)-1),\"\")","v":"UN"},0.61,0.61,0.02,{"$f":"IF(ISNUMBER($L252),VALUE(OFFSET(Banco!$A$1,Composições!$L252-1,COLUMN(Composições!I252)-4)),0)","v":30.32},{"$f":"IF(ISNUMBER($L252),VALUE(OFFSET(Banco!$A$1,Composições!$L252-1,COLUMN(Composições!J252)-4)),0)","v":30.32},{"$f":"COUNTA($A$1:$A252)-1","v":30},{"$f":"MATCH(CONCATENATE($B252,\" \",$C252),Banco!$A:$A,0)","v":3366},{"$f":"IF(OR(ISERROR($L252),$H252=\"\",$H252=0),\"\",OFFSET(M$1,MATCH($K252,$K$1:$K252,0)-1,0))","v":"F"},null,{"$f":"IF(ISNUMBER($L252),VALUE(OFFSET(Banco!$A$1,Composições!$L252-1,COLUMN(Composições!O252)-6)),0)","v":0},{"$f":"IF(ISNUMBER($L252),VALUE(OFFSET(Banco!$A$1,Composições!$L252-1,COLUMN(Composições!P252)-6)),0)","v":0},0,0]
[null,"SINAPI-I",20083,{"$f":"IF(ISNUMBER($L253),OFFSET(Banco!$A$1,Composições!$L253-1,COLUMN(Composições!D253)-1),\"\")","v":"SOLUCAO PREPARADORA / LIMPADORA PARA PVC, FRASCO COM 1000 CM3"},{"$f":"IF(ISNUMBER($L253),OFFSET(Banco!$A$1,Composições!$L253-1,COLUMN(Composições!E253)-1),\"\")","v":"UN"},1.87,1.87,2.2499999999999999E-2,{"$f":"IF(ISNUMBER($L253),VALUE(OFFSET(Banco!$A$1,Composições!$L253-1,COLUMN(Composições!I253)-4)),0)","v":83.25},{"$f":"IF(ISNUMBER($L253),VALUE(OFFSET(Banco!$A$1,Composições!$L253-1,COLUMN(Composições!J253)-4)),0)","v":83.25},{"$f":"COUNTA($A$1:$A253)-1","v":30},{"$f":"MATCH(CONCATENATE($B253,\" \",$C253),Banco!$A:$A,0)","v":3991},{"$f":"IF(OR(ISERROR($L253),$H253=\"\",$H253=0),\"\",OFFSET(M$1,MATCH($K253,$K$1:$K253,0)-1,0))","v":"F"},null,{"$f":"IF(ISNUMBER($L253),VALUE(OFFSET(Banco!$A$1,Composições!$L253-1,COLUMN(Composições!O253)-6)),0)","v":0},{"$f":"IF(ISNUMBER($L253),VALUE(OFFSET(Banco!$A$1,Composições!$L253-1,COLUMN(Composições!P253)-6)),0)","v":0},0,0]
[null,"SINAPI-I",38383,{"$f":"IF(ISNUMBER($L254),OFFSET(Banco!$A$1,Composições!$L254-1,COLUMN(Composições!D254)-1),\"\")","v":"LIXA D'AGUA EM FOLHA, COR PRETA, GRAO 100"},{"$f":"IF(ISNUMBER($L254),OFFSET(Banco!$A$1,Composições!$L254-1,COLUMN(Composições!E254)-1),\"\")","v":"UN"},0.15,0.15,6.4000000000000001E-2,{"$f":"IF(ISNUMBER($L254),VALUE(OFFSET(Banco!$A$1,Composições!$L254-1,COLUMN(Composições!I254)-4)),0)","v":2.35},{"$f":"IF(ISNUMBER($L254),VALUE(OFFSET(Banco!$A$1,Composições!$L254-1,COLUMN(Composições!J254)-4)),0)","v":2.35},{"$f":"COUNTA($A$1:$A254)-1","v":30},{"$f":"MATCH(CONCATENATE($B254,\" \",$C254),Banco!$A:$A,0)","v":2691},{"$f":"IF(OR(ISERROR($L254),$H254=\"\",$H254=0),\"\",OFFSET(M$1,MATCH($K254,$K$1:$K254,0)-1,0))","v":"F"},null,{"$f":"IF(ISNUMBER($L254),VALUE(OFFSET(Banco!$A$1,Composições!$L254-1,COLUMN(Composições!O254)-6)),0)","v":0},{"$f":"IF(ISNUMBER($L254),VALUE(OFFSET(Banco!$A$1,Composições!$L254-1,COLUMN(Composições!P254)-6)),0)","v":0},0,0]
[null,"SINAPI-I",11717,{"$f":"IF(ISNUMBER($L255),OFFSET(Banco!$A$1,Composições!$L255-1,COLUMN(Composições!D255)-1),\"\")","v":"CAIXA SIFONADA, PVC, 150 X 150 X 50 MM, COM GRELHA REDONDA, BRANCA"},{"$f":"IF(ISNUMBER($L255),OFFSET(Banco!$A$1,Composições!$L255-1,COLUMN(Composições!E255)-1),\"\")","v":"UN"},51.83,51.83,1,{"$f":"IF(ISNUMBER($L255),VALUE(OFFSET(Banco!$A$1,Composições!$L255-1,COLUMN(Composições!I255)-4)),0)","v":51.83},{"$f":"IF(ISNUMBER($L255),VALUE(OFFSET(Banco!$A$1,Composições!$L255-1,COLUMN(Composições!J255)-4)),0)","v":51.83},{"$f":"COUNTA($A$1:$A255)-1","v":30},{"$f":"MATCH(CONCATENATE($B255,\" \",$C255),Banco!$A:$A,0)","v":1065},{"$f":"IF(OR(ISERROR($L255),$H255=\"\",$H255=0),\"\",OFFSET(M$1,MATCH($K255,$K$1:$K255,0)-1,0))","v":"F"},null,{"$f":"IF(ISNUMBER($L255),VALUE(OFFSET(Banco!$A$1,Composições!$L255-1,COLUMN(Composições!O255)-6)),0)","v":0},{"$f":"IF(ISNUMBER($L255),VALUE(OFFSET(Banco!$A$1,Composições!$L255-1,COLUMN(Composições!P255)-6)),0)","v":0},0,0]
[null,null,null,null,null,null,null,null,null,null,{"$f":"COUNTA($A$1:$A256)-1","v":30},null,{"$f":"IF(OFFSET($M$1,MATCH(OFFSET(K256,-1,0),$K$1:$K256,0)-1,0)=\"F\",\"F\",\"\")","v":"F"}]
[{"$f":"CONCATENATE($B257,\" \",$C257)","v":"Composição INHI.0219.01"},"Composição","INHI.0219.01","SUMIDOURO RETANGULAR, COM VIGA CINTA EM CONCRETO ARMADO, DIMENSÕES 3,0 X 3,6 X 2,20 M, CONFORME PROJETO","UN",{"$f":"IF($L257>0,SUM(OFFSET(F257,1,0,$L257),0))","v":6514.08},6769.7300000000005,null,{"$f":"IF(ISERROR(F257),0,F257)","v":6514.08},6769.7300000000005,{"$f":"COUNTA($A$1:$A257)-1","v":31},{"$f":"IF(MAX(K:K)=K257,MATCH(9999999,$K:$K)+1,MATCH(K257+1,K:K,0))-ROW(L257)-2","v":11},{"$f":"IF(AND(OR(I257<>0,J257<>0),N257=\"Sim\"),\"F\",\"\")","v":"F"},"Sim",{"$f":"IF(AND($L257>0,F257<>0),ROUND(SUM(OFFSET(Q257,1,0,$L257))/F257,4),0)","v":2.0899999999999998E-2},2.01E-2]
[null,"SINAPI",102325,{"$f":"IF(ISNUMBER($L258),OFFSET(Banco!$A$1,Composições!$L258-1,COLUMN(Composições!D258)-1),\"\")","v":"ESCAVAÇÃO MECANIZADA DE VALA COM PROF. MAIOR QUE 1,5 M ATÉ 3,0 M (MÉDIA MONTANTE E JUSANTE/UMA COMPOSIÇÃO POR TRECHO), RETROESCAV. (0,26 M3), LARG. DE 0,8 M A 1,5 M, EM SOLO DE 2A CATEGORIA, EM LOCAIS COM ALTO NÍVEL DE INTERFERÊNCIA. AF_09/2024"},{"$f":"IF(ISNUMBER($L258),OFFSET(Banco!$A$1,Composições!$L258-1,COLUMN(Composições!E258)-1),\"\")","v":"M3"},{"$f":"ROUND($H258*ROUND(I258,2),2)","v":160.47999999999999},{"$f":"ROUND($H258*ROUND(J258,2),2)","v":166.22},9.9,{"$f":"IF(ISNUMBER($L258),VALUE(OFFSET(Banco!$A$1,Composições!$L258-1,COLUMN(Composições!I258)-4)),0)","v":16.21},{"$f":"IF(ISNUMBER($L258),VALUE(OFFSET(Banco!$A$1,Composições!$L258-1,COLUMN(Composições!J258)-4)),0)","v":16.79},{"$f":"COUNTA($A$1:$A258)-1","v":31},{"$f":"MATCH(CONCATENATE($B258,\" \",$C258),Banco!$A:$A,0)","v":9380},{"$f":"IF(OR(ISERROR($L258),$H258=\"\",$H258=0),\"\",OFFSET(M$1,MATCH($K258,$K$1:$K258,0)-1,0))","v":"F"},null,{"$f":"IF(ISNUMBER($L258),VALUE(OFFSET(Banco!$A$1,Composições!$L258-1,COLUMN(Composições!O258)-6)),0)","v":0},{"$f":"IF(ISNUMBER($L258),VALUE(OFFSET(Banco!$A$1,Composições!$L258-1,COLUMN(Composições!P258)-6)),0)","v":0},{"$f":"ROUND(F258*O258,2)","v":0},{"$f":"ROUND(G258*P258,2)","v":0}]
[null,"COMPOSIÇÃO","INHI.0215.01",{"$f":"IF(ISNUMBER($L259),OFFSET(Banco!$A$1,Composições!$L259-1,COLUMN(Composições!D259)-1),\"\")","v":"(COMPOSIÇÃO REPRESENTATIVA) DO SERVIÇO DE INST. TUBO PVC, SÉRIE N, ESGOTO PREDIAL, 100 MM (INST. RAMAL DESCARGA, RAMAL DE ESG. SANIT., PRUMADA ESG. SANIT., VENTILAÇÃO OU SUB-COLETOR AÉREO), INCL. CONEXÕES E CORTES, FIXAÇÕES, P/ PRÉDIOS."},{"$f":"IF(ISNUMBER($L259),OFFSET(Banco!$A$1,Composições!$L259-1,COLUMN(Composições!E259)-1),\"\")","v":"M"},136.87,142.97,1.67,{"$f":"IF(ISNUMBER($L259),VALUE(OFFSET(Banco!$A$1,Composições!$L259-1,COLUMN(Composições!I259)-4)),0)","v":81.960000000000008},{"$f":"IF(ISNUMBER($L259),VALUE(OFFSET(Banco!$A$1,Composições!$L259-1,COLUMN(Composições!J259)-4)),0)","v":85.609999999999985},{"$f":"COUNTA($A$1:$A259)-1","v":31},{"$f":"MATCH(CONCATENATE($B259,\" \",$C259),Banco!$A:$A,0)","v":38},{"$f":"IF(OR(ISERROR($L259),$H259=\"\",$H259=0),\"\",OFFSET(M$1,MATCH($K259,$K$1:$K259,0)-1,0))","v":"F"},null,{"$f":"IF(ISNUMBER($L259),VALUE(OFFSET(Banco!$A$1,Composições!$L259-1,COLUMN(Composições!O259)-6)),0)","v":1.6999999999999999E-3},{"$f":"IF(ISNUMBER($L259),VALUE(OFFSET(Banco!$A$1,Composições!$L259-1,COLUMN(Composições!P259)-6)),0)","v":1.6000000000000001E-3},0.23,0.23]
[null,"COMPOSIÇÃO","FUES.0065.01",{"$f":"IF(ISNUMBER($L260),OFFSET(Banco!$A$1,Composições!$L260-1,COLUMN(Composições!D260)-1),\"\")","v":"ESTACA BROCA DE CONCRETO, DIÂMETRO DE 25CM, ESCAVAÇÃO MANUAL COM TRADO CONCHA, EXCETO ARMADURA"},{"$f":"IF(ISNUMBER($L260),OFFSET(Banco!$A$1,Composições!$L260-1,COLUMN(Composições!E260)-1),\"\")","v":"M"},1143.6600000000001,1211.42,14,{"$f":"IF(ISNUMBER($L260),VALUE(OFFSET(Banco!$A$1,Composições!$L260-1,COLUMN(Composições!I260)-4)),0)","v":81.69},{"$f":"IF(ISNUMBER($L260),VALUE(OFFSET(Banco!$A$1,Composições!$L260-1,COLUMN(Composições!J260)-4)),0)","v":86.53},{"$f":"COUNTA($A$1:$A260)-1","v":31},{"$f":"MATCH(CONCATENATE($B260,\" \",$C260),Banco!$A:$A,0)","v":69},{"$f":"IF(OR(ISERROR($L260),$H260=\"\",$H260=0),\"\",OFFSET(M$1,MATCH($K260,$K$1:$K260,0)-1,0))","v":"F"},null,{"$f":"IF(ISNUMBER($L260),VALUE(OFFSET(Banco!$A$1,Composições!$L260-1,COLUMN(Composições!O260)-6)),0)","v":0},{"$f":"IF(ISNUMBER($L260),VALUE(OFFSET(Banco!$A$1,Composições!$L260-1,COLUMN(Composições!P260)-6)),0)","v":0},0,0]
[null,"SINAPI",95577,{"$f":"IF(ISNUMBER($L261),OFFSET(Banco!$A$1,Composições!$L261-1,COLUMN(Composições!D261)-1),\"\")","v":"MONTAGEM DE ARMADURA DE ESTACAS, DIÂMETRO = 10,0 MM. AF_09/2021_PS"},{"$f":"IF(ISNUMBER($L261),OFFSET(Banco!$A$1,Composições!$L261-1,COLUMN(Composições!E261)-1),\"\")","v":"KG"},245.31,248.42,22.2,{"$f":"IF(ISNUMBER($L261),VALUE(OFFSET(Banco!$A$1,Composições!$L261-1,COLUMN(Composições!I261)-4)),0)","v":11.05},{"$f":"IF(ISNUMBER($L261),VALUE(OFFSET(Banco!$A$1,Composições!$L261-1,COLUMN(Composições!J261)-4)),0)","v":11.19},{"$f":"COUNTA($A$1:$A261)-1","v":31},{"$f":"MATCH(CONCATENATE($B261,\" \",$C261),Banco!$A:$A,0)","v":6351},{"$f":"IF(OR(ISERROR($L261),$H261=\"\",$H261=0),\"\",OFFSET(M$1,MATCH($K261,$K$1:$K261,0)-1,0))","v":"F"},null,{"$f":"IF(ISNUMBER($L261),VALUE(OFFSET(Banco!$A$1,Composições!$L261-1,COLUMN(Composições!O261)-6)),0)","v":0.01},{"$f":"IF(ISNUMBER($L261),VALUE(OFFSET(Banco!$A$1,Composições!$L261-1,COLUMN(Composições!P261)-6)),0)","v":9.7999999999999997E-3},2.4500000000000002,2.4300000000000002]
[null,"SINAPI",96533,{"$f":"IF(ISNUMBER($L262),OFFSET(Banco!$A$1,Composições!$L262-1,COLUMN(Composições!D262)-1),\"\")","v":"FABRICAÇÃO, MONTAGEM E DESMONTAGEM DE FÔRMA PARA VIGA BALDRAME, EM MADEIRA SERRADA, E=25 MM, 2 UTILIZAÇÕES. AF_01/2024"},{"$f":"IF(ISNUMBER($L262),OFFSET(Banco!$A$1,Composições!$L262-1,COLUMN(Composições!E262)-1),\"\")","v":"M2"},1294.31,1360.1,13.4,{"$f":"IF(ISNUMBER($L262),VALUE(OFFSET(Banco!$A$1,Composições!$L262-1,COLUMN(Composições!I262)-4)),0)","v":96.59},{"$f":"IF(ISNUMBER($L262),VALUE(OFFSET(Banco!$A$1,Composições!$L262-1,COLUMN(Composições!J262)-4)),0)","v":101.5},{"$f":"COUNTA($A$1:$A262)-1","v":31},{"$f":"MATCH(CONCATENATE($B262,\" \",$C262),Banco!$A:$A,0)","v":10101},{"$f":"IF(OR(ISERROR($L262),$H262=\"\",$H262=0),\"\",OFFSET(M$1,MATCH($K262,$K$1:$K262,0)-1,0))","v":"F"},null,{"$f":"IF(ISNUMBER($L262),VALUE(OFFSET(Banco!$A$1,Composições!$L262-1,COLUMN(Composições!O262)-6)),0)","v":0},{"$f":"IF(ISNUMBER($L262),VALUE(OFFSET(Banco!$A$1,Composições!$L262-1,COLUMN(Composições!P262)-6)),0)","v":0},0,0]
[null,"SINAPI",104916,{"$f":"IF(ISNUMBER($L263),OFFSET(Banco!$A$1,Composições!$L263-1,COLUMN(Composições!D263)-1),\"\")","v":"ARMAÇÃO DE SAPATA ISOLADA, VIGA BALDRAME E SAPATA CORRIDA UTILIZANDO AÇO CA-60 DE 5 MM - MONTAGEM. AF_01/2024"},{"$f":"IF(ISNUMBER($L263),OFFSET(Banco!$A$1,Composições!$L263-1,COLUMN(Composições!E263)-1),\"\")","v":"KG"},176.86,184.48,9.5239999999999991,{"$f":"IF(ISNUMBER($L263),VALUE(OFFSET(Banco!$A$1,Composições!$L263-1,COLUMN(Composições!I263)-4)),0)","v":18.57},{"$f":"IF(ISNUMBER($L263),VALUE(OFFSET(Banco!$A$1,Composições!$L263-1,COLUMN(Composições!J263)-4)),0)","v":19.37},{"$f":"COUNTA($A$1:$A263)-1","v":31},{"$f":"MATCH(CONCATENATE($B263,\" \",$C263),Banco!$A:$A,0)","v":10068},{"$f":"IF(OR(ISERROR($L263),$H263=\"\",$H263=0),\"\",OFFSET(M$1,MATCH($K263,$K$1:$K263,0)-1,0))","v":"F"},null,{"$f":"IF(ISNUMBER($L263),VALUE(OFFSET(Banco!$A$1,Composições!$L263-1,COLUMN(Composições!O263)-6)),0)","v":9.7000000000000003E-3},{"$f":"IF(ISNUMBER($L263),VALUE(OFFSET(Banco!$A$1,Composições!$L263-1,COLUMN(Composições!P263)-6)),0)","v":9.2999999999999992E-3},1.72,1.72]
[null,"SINAPI",104918,{"$f":"IF(ISNUMBER($L264),OFFSET(Banco!$A$1,Composições!$L264-1,COLUMN(Composições!D264)-1),\"\")","v":"ARMAÇÃO DE SAPATA ISOLADA, VIGA BALDRAME E SAPATA CORRIDA UTILIZANDO AÇO CA-50 DE 8 MM - MONTAGEM. AF_01/2024"},{"$f":"IF(ISNUMBER($L264),OFFSET(Banco!$A$1,Composições!$L264-1,COLUMN(Composições!E264)-1),\"\")","v":"KG"},529.27,543.75,34.479999999999997,{"$f":"IF(ISNUMBER($L264),VALUE(OFFSET(Banco!$A$1,Composições!$L264-1,COLUMN(Composições!I264)-4)),0)","v":15.35},{"$f":"IF(ISNUMBER($L264),VALUE(OFFSET(Banco!$A$1,Composições!$L264-1,COLUMN(Composições!J264)-4)),0)","v":15.77},{"$f":"COUNTA($A$1:$A264)-1","v":31},{"$f":"MATCH(CONCATENATE($B264,\" \",$C264),Banco!$A:$A,0)","v":10067},{"$f":"IF(OR(ISERROR($L264),$H264=\"\",$H264=0),\"\",OFFSET(M$1,MATCH($K264,$K$1:$K264,0)-1,0))","v":"F"},null,{"$f":"IF(ISNUMBER($L264),VALUE(OFFSET(Banco!$A$1,Composições!$L264-1,COLUMN(Composições!O264)-6)),0)","v":7.1999999999999998E-3},{"$f":"IF(ISNUMBER($L264),VALUE(OFFSET(Banco!$A$1,Composições!$L264-1,COLUMN(Composições!P264)-6)),0)","v":7.0000000000000001E-3},3.81,3.81]
[null,"COMPOSIÇÃO","FUES.0008.01",{"$f":"IF(ISNUMBER($L265),OFFSET(Banco!$A$1,Composições!$L265-1,COLUMN(Composições!D265)-1),\"\")","v":"CONCRETAGEM DE BLOCOS DE COROAMENTO E VIGAS BALDRAME, FCK 25 MPA, COM USO DE BOMBA ? LANÇAMENTO, ADENSAMENTO E ACABAMENTO."},{"$f":"IF(ISNUMBER($L265),OFFSET(Banco!$A$1,Composições!$L265-1,COLUMN(Composições!E265)-1),\"\")","v":"M³"},647.26,649.58000000000004,1.07,{"$f":"IF(ISNUMBER($L265),VALUE(OFFSET(Banco!$A$1,Composições!$L265-1,COLUMN(Composições!I265)-4)),0)","v":604.91999999999996},{"$f":"IF(ISNUMBER($L265),VALUE(OFFSET(Banco!$A$1,Composições!$L265-1,COLUMN(Composições!J265)-4)),0)","v":607.08000000000004},{"$f":"COUNTA($A$1:$A265)-1","v":31},{"$f":"MATCH(CONCATENATE($B265,\" \",$C265),Banco!$A:$A,0)","v":9},{"$f":"IF(OR(ISERROR($L265),$H265=\"\",$H265=0),\"\",OFFSET(M$1,MATCH($K265,$K$1:$K265,0)-1,0))","v":"F"},null,{"$f":"IF(ISNUMBER($L265),VALUE(OFFSET(Banco!$A$1,Composições!$L265-1,COLUMN(Composições!O265)-6)),0)","v":2.0000000000000001E-4},{"$f":"IF(ISNUMBER($L265),VALUE(OFFSET(Banco!$A$1,Composições!$L265-1,COLUMN(Composições!P265)-6)),0)","v":2.0000000000000001E-4},0.13,0.13]
[null,"SINAPI",97736,{"$f":"IF(ISNUMBER($L266),OFFSET(Banco!$A$1,Composições!$L266-1,COLUMN(Composições!D266)-1),\"\")","v":"PEÇA RETANGULAR PRÉ-MOLDADA, VOLUME DE CONCRETO ACIMA DE 100 LITROS, TAXA DE AÇO APROXIMADA DE 30KG/M³. AF_03/2024"},{"$f":"IF(ISNUMBER($L266),OFFSET(Banco!$A$1,Composições!$L266-1,COLUMN(Composições!E266)-1),\"\")","v":"M3"},2016.32,2090.58,1.296,{"$f":"IF(ISNUMBER($L266),VALUE(OFFSET(Banco!$A$1,Composições!$L266-1,COLUMN(Composições!I266)-4)),0)","v":1555.8},{"$f":"IF(ISNUMBER($L266),VALUE(OFFSET(Banco!$A$1,Composições!$L266-1,COLUMN(Composições!J266)-4)),0)","v":1613.1},{"$f":"COUNTA($A$1:$A266)-1","v":31},{"$f":"MATCH(CONCATENATE($B266,\" \",$C266),Banco!$A:$A,0)","v":9827},{"$f":"IF(OR(ISERROR($L266),$H266=\"\",$H266=0),\"\",OFFSET(M$1,MATCH($K266,$K$1:$K266,0)-1,0))","v":"F"},null,{"$f":"IF(ISNUMBER($L266),VALUE(OFFSET(Banco!$A$1,Composições!$L266-1,COLUMN(Composições!O266)-6)),0)","v":6.2899999999999998E-2},{"$f":"IF(ISNUMBER($L266),VALUE(OFFSET(Banco!$A$1,Composições!$L266-1,COLUMN(Composições!P266)-6)),0)","v":6.0699999999999997E-2},126.83,126.9]
[null,"SINAPI",97734,{"$f":"IF(ISNUMBER($L267),OFFSET(Banco!$A$1,Composições!$L267-1,COLUMN(Composições!D267)-1),\"\")","v":"PEÇA RETANGULAR PRÉ-MOLDADA, VOLUME DE CONCRETO DE 10 A 30 LITROS, TAXA DE AÇO APROXIMADA DE 30KG/M³. AF_03/2024"},{"$f":"IF(ISNUMBER($L267),OFFSET(Banco!$A$1,Composições!$L267-1,COLUMN(Composições!E267)-1),\"\")","v":"M3"},84.04,89.2,2.52E-2,{"$f":"IF(ISNUMBER($L267),VALUE(OFFSET(Banco!$A$1,Composições!$L267-1,COLUMN(Composições!I267)-4)),0)","v":3334.74},{"$f":"IF(ISNUMBER($L267),VALUE(OFFSET(Banco!$A$1,Composições!$L267-1,COLUMN(Composições!J267)-4)),0)","v":3539.66},{"$f":"COUNTA($A$1:$A267)-1","v":31},{"$f":"MATCH(CONCATENATE($B267,\" \",$C267),Banco!$A:$A,0)","v":9828},{"$f":"IF(OR(ISERROR($L267),$H267=\"\",$H267=0),\"\",OFFSET(M$1,MATCH($K267,$K$1:$K267,0)-1,0))","v":"F"},null,{"$f":"IF(ISNUMBER($L267),VALUE(OFFSET(Banco!$A$1,Composições!$L267-1,COLUMN(Composições!O267)-6)),0)","v":9.7000000000000003E-3},{"$f":"IF(ISNUMBER($L267),VALUE(OFFSET(Banco!$A$1,Composições!$L267-1,COLUMN(Composições!P267)-6)),0)","v":9.1000000000000004E-3},0.82,0.81]
[null,"SINAPI",100322,{"$f":"IF(ISNUMBER($L268),OFFSET(Banco!$A$1,Composições!$L268-1,COLUMN(Composições!D268)-1),\"\")","v":"LASTRO COM MATERIAL GRANULAR (PEDRA BRITADA N.3), APLICADO EM PISOS OU LAJES SOBRE SOLO, ESPESSURA DE *10 CM*. AF_01/2024"},{"$f":"IF(ISNUMBER($L268),OFFSET(Banco!$A$1,Composições!$L268-1,COLUMN(Composições!E268)-1),\"\")","v":"M3"},79.7,83.01,0.56000000000000005,{"$f":"IF(ISNUMBER($L268),VALUE(OFFSET(Banco!$A$1,Composições!$L268-1,COLUMN(Composições!I268)-4)),0)","v":142.32},{"$f":"IF(ISNUMBER($L268),VALUE(OFFSET(Banco!$A$1,Composições!$L268-1,COLUMN(Composições!J268)-4)),0)","v":148.24},{"$f":"COUNTA($A$1:$A268)-1","v":31},{"$f":"MATCH(CONCATENATE($B268,\" \",$C268),Banco!$A:$A,0)","v":12764},{"$f":"IF(OR(ISERROR($L268),$H268=\"\",$H268=0),\"\",OFFSET(M$1,MATCH($K268,$K$1:$K268,0)-1,0))","v":"F"},null,{"$f":"IF(ISNUMBER($L268),VALUE(OFFSET(Banco!$A$1,Composições!$L268-1,COLUMN(Composições!O268)-6)),0)","v":4.0000000000000002E-4},{"$f":"IF(ISNUMBER($L268),VALUE(OFFSET(Banco!$A$1,Composições!$L268-1,COLUMN(Composições!P268)-6)),0)","v":4.0000000000000002E-4},0.03,0.03]
[null,null,null,null,null,null,null,null,null,null,{"$f":"COUNTA($A$1:$A269)-1","v":31},null,{"$f":"IF(OFFSET($M$1,MATCH(OFFSET(K269,-1,0),$K$1:$K269,0)-1,0)=\"F\",\"F\",\"\")","v":"F"}]
[{"$f":"CONCATENATE($B270,\" \",$C270)","v":"Composição INHI.0215.01"},"Composição","INHI.0215.01","(COMPOSIÇÃO REPRESENTATIVA) DO SERVIÇO DE INST. TUBO PVC, SÉRIE N, ESGOTO PREDIAL, 100 MM (INST. RAMAL DESCARGA, RAMAL DE ESG. SANIT., PRUMADA ESG. SANIT., VENTILAÇÃO OU SUB-COLETOR AÉREO), INCL. CONEXÕES E CORTES, FIXAÇÕES, P/ PRÉDIOS.","M",{"$f":"IF($L270>0,SUM(OFFSET(F270,1,0,$L270),0))","v":81.960000000000008},85.609999999999985,null,{"$f":"IF(ISERROR(F270),0,F270)","v":81.960000000000008},85.609999999999985,{"$f":"COUNTA($A$1:$A270)-1","v":32},{"$f":"IF(MAX(K:K)=K270,MATCH(9999999,$K:$K)+1,MATCH(K270+1,K:K,0))-ROW(L270)-2","v":19},{"$f":"IF(AND(OR(I270<>0,J270<>0),N270=\"Sim\"),\"F\",\"\")","v":"F"},"Sim",{"$f":"IF(AND($L270>0,F270<>0),ROUND(SUM(OFFSET(Q270,1,0,$L270))/F270,4),0)","v":1.6999999999999999E-3},1.6000000000000001E-3]
[null,"SINAPI",91192,{"$f":"IF(ISNUMBER($L271),OFFSET(Banco!$A$1,Composições!$L271-1,COLUMN(Composições!D271)-1),\"\")","v":"CHUMBAMENTO PONTUAL EM PASSAGEM DE TUBO COM DIÂMETRO MAIOR QUE 75 MM E MENORES OU IGUAIS A 150 MM. AF_09/2023"},{"$f":"IF(ISNUMBER($L271),OFFSET(Banco!$A$1,Composições!$L271-1,COLUMN(Composições!E271)-1),\"\")","v":"UN"},{"$f":"ROUND($H271*ROUND(I271,2),2)","v":2.39},{"$f":"ROUND($H271*ROUND(J271,2),2)","v":2.5099999999999998},9.9500000000000005E-2,{"$f":"IF(ISNUMBER($L271),VALUE(OFFSET(Banco!$A$1,Composições!$L271-1,COLUMN(Composições!I271)-4)),0)","v":24.01},{"$f":"IF(ISNUMBER($L271),VALUE(OFFSET(Banco!$A$1,Composições!$L271-1,COLUMN(Composições!J271)-4)),0)","v":25.19},{"$f":"COUNTA($A$1:$A271)-1","v":32},{"$f":"MATCH(CONCATENATE($B271,\" \",$C271),Banco!$A:$A,0)","v":14485},{"$f":"IF(OR(ISERROR($L271),$H271=\"\",$H271=0),\"\",OFFSET(M$1,MATCH($K271,$K$1:$K271,0)-1,0))","v":"F"},null,{"$f":"IF(ISNUMBER($L271),VALUE(OFFSET(Banco!$A$1,Composições!$L271-1,COLUMN(Composições!O271)-6)),0)","v":0},{"$f":"IF(ISNUMBER($L271),VALUE(OFFSET(Banco!$A$1,Composições!$L271-1,COLUMN(Composições!P271)-6)),0)","v":0},{"$f":"ROUND(F271*O271,2)","v":0},{"$f":"ROUND(G271*P271,2)","v":0}]
[null,"SINAPI",89748,{"$f":"IF(ISNUMBER($L272),OFFSET(Banco!$A$1,Composições!$L272-1,COLUMN(Composições!D272)-1),\"\")","v":"CURVA CURTA 90 GRAUS, PVC, SERIE NORMAL, ESGOTO PREDIAL, DN 100 MM, JUNTA ELÁSTICA, FORNECIDO E INSTALADO EM RAMAL DE DESCARGA OU RAMAL DE ESGOTO SANITÁRIO. AF_08/2022"},{"$f":"IF(ISNUMBER($L272),OFFSET(Banco!$A$1,Composições!$L272-1,COLUMN(Composições!E272)-1),\"\")","v":"UN"},9.23,9.44,0.2122,{"$f":"IF(ISNUMBER($L272),VALUE(OFFSET(Banco!$A$1,Composições!$L272-1,COLUMN(Composições!I272)-4)),0)","v":43.49},{"$f":"IF(ISNUMBER($L272),VALUE(OFFSET(Banco!$A$1,Composições!$L272-1,COLUMN(Composições!J272)-4)),0)","v":44.48},{"$f":"COUNTA($A$1:$A272)-1","v":32},{"$f":"MATCH(CONCATENATE($B272,\" \",$C272),Banco!$A:$A,0)","v":11454},{"$f":"IF(OR(ISERROR($L272),$H272=\"\",$H272=0),\"\",OFFSET(M$1,MATCH($K272,$K$1:$K272,0)-1,0))","v":"F"},null,{"$f":"IF(ISNUMBER($L272),VALUE(OFFSET(Banco!$A$1,Composições!$L272-1,COLUMN(Composições!O272)-6)),0)","v":0},{"$f":"IF(ISNUMBER($L272),VALUE(OFFSET(Banco!$A$1,Composições!$L272-1,COLUMN(Composições!P272)-6)),0)","v":0},0,0]
[null,"SINAPI",91187,{"$f":"IF(ISNUMBER($L273),OFFSET(Banco!$A$1,Composições!$L273-1,COLUMN(Composições!D273)-1),\"\")","v":"FIXAÇÃO DE TUBOS HORIZONTAIS DE PVC ÁGUA, PVC ESGOTO, PVC ÁGUA PLUVIAL, CPVC, PPR, COBRE OU AÇO, DIÂMETROS MAIORES QUE 75 MM E MENORES OU IGUAIS A 100 MM, COM ABRAÇADEIRA METÁLICA FLEXÍVEL 18 MM, FIXADA DIRETAMENTE NA LAJE. AF_09/2023"},{"$f":"IF(ISNUMBER($L273),OFFSET(Banco!$A$1,Composições!$L273-1,COLUMN(Composições!E273)-1),\"\")","v":"M"},3.56,3.84,0.1239,{"$f":"IF(ISNUMBER($L273),VALUE(OFFSET(Banco!$A$1,Composições!$L273-1,COLUMN(Composições!I273)-4)),0)","v":28.76},{"$f":"IF(ISNUMBER($L273),VALUE(OFFSET(Banco!$A$1,Composições!$L273-1,COLUMN(Composições!J273)-4)),0)","v":31.03},{"$f":"COUNTA($A$1:$A273)-1","v":32},{"$f":"MATCH(CONCATENATE($B273,\" \",$C273),Banco!$A:$A,0)","v":14497},{"$f":"IF(OR(ISERROR($L273),$H273=\"\",$H273=0),\"\",OFFSET(M$1,MATCH($K273,$K$1:$K273,0)-1,0))","v":"F"},null,{"$f":"IF(ISNUMBER($L273),VALUE(OFFSET(Banco!$A$1,Composições!$L273-1,COLUMN(Composições!O273)-6)),0)","v":3.9600000000000003E-2},{"$f":"IF(ISNUMBER($L273),VALUE(OFFSET(Banco!$A$1,Composições!$L273-1,COLUMN(Composições!P273)-6)),0)","v":3.6700000000000003E-2},0.14000000000000001,0.14000000000000001]
[null,"SINAPI",90438,{"$f":"IF(ISNUMBER($L274),OFFSET(Banco!$A$1,Composições!$L274-1,COLUMN(Composições!D274)-1),\"\")","v":"FURO MANUAL EM ALVENARIA, PARA INSTALAÇÕES HIDRÁULICAS, DIÂMETROS MAIORES QUE 75 MM E MENORES OU IGUAIS A 100 MM. AF_09/2023"},{"$f":"IF(ISNUMBER($L274),OFFSET(Banco!$A$1,Composições!$L274-1,COLUMN(Composições!E274)-1),\"\")","v":"UN"},6.97,7.57,9.9949999999999997E-2,{"$f":"IF(ISNUMBER($L274),VALUE(OFFSET(Banco!$A$1,Composições!$L274-1,COLUMN(Composições!I274)-4)),0)","v":69.7},{"$f":"IF(ISNUMBER($L274),VALUE(OFFSET(Banco!$A$1,Composições!$L274-1,COLUMN(Composições!J274)-4)),0)","v":75.72},{"$f":"COUNTA($A$1:$A274)-1","v":32},{"$f":"MATCH(CONCATENATE($B274,\" \",$C274),Banco!$A:$A,0)","v":14511},{"$f":"IF(OR(ISERROR($L274),$H274=\"\",$H274=0),\"\",OFFSET(M$1,MATCH($K274,$K$1:$K274,0)-1,0))","v":"F"},null,{"$f":"IF(ISNUMBER($L274),VALUE(OFFSET(Banco!$A$1,Composições!$L274-1,COLUMN(Composições!O274)-6)),0)","v":0},{"$f":"IF(ISNUMBER($L274),VALUE(OFFSET(Banco!$A$1,Composições!$L274-1,COLUMN(Composições!P274)-6)),0)","v":0},0,0]
[null,"SINAPI",89810,{"$f":"IF(ISNUMBER($L275),OFFSET(Banco!$A$1,Composições!$L275-1,COLUMN(Composições!D275)-1),\"\")","v":"JOELHO 45 GRAUS, PVC, SERIE NORMAL, ESGOTO PREDIAL, DN 100 MM, JUNTA ELÁSTICA, FORNECIDO E INSTALADO EM PRUMADA DE ESGOTO SANITÁRIO OU VENTILAÇÃO. AF_08/2022"},{"$f":"IF(ISNUMBER($L275),OFFSET(Banco!$A$1,Composições!$L275-1,COLUMN(Composições!E275)-1),\"\")","v":"UN"},0.27,0.28000000000000003,8.5000000000000006E-3,{"$f":"IF(ISNUMBER($L275),VALUE(OFFSET(Banco!$A$1,Composições!$L275-1,COLUMN(Composições!I275)-4)),0)","v":31.32},{"$f":"IF(ISNUMBER($L275),VALUE(OFFSET(Banco!$A$1,Composições!$L275-1,COLUMN(Composições!J275)-4)),0)","v":32.43},{"$f":"COUNTA($A$1:$A275)-1","v":32},{"$f":"MATCH(CONCATENATE($B275,\" \",$C275),Banco!$A:$A,0)","v":11469},{"$f":"IF(OR(ISERROR($L275),$H275=\"\",$H275=0),\"\",OFFSET(M$1,MATCH($K275,$K$1:$K275,0)-1,0))","v":"F"},null,{"$f":"IF(ISNUMBER($L275),VALUE(OFFSET(Banco!$A$1,Composições!$L275-1,COLUMN(Composições!O275)-6)),0)","v":0},{"$f":"IF(ISNUMBER($L275),VALUE(OFFSET(Banco!$A$1,Composições!$L275-1,COLUMN(Composições!P275)-6)),0)","v":0},0,0]
[null,"SINAPI",89746,{"$f":"IF(ISNUMBER($L276),OFFSET(Banco!$A$1,Composições!$L276-1,COLUMN(Composições!D276)-1),\"\")","v":"JOELHO 45 GRAUS, PVC, SERIE NORMAL, ESGOTO PREDIAL, DN 100 MM, JUNTA ELÁSTICA, FORNECIDO E INSTALADO EM RAMAL DE DESCARGA OU RAMAL DE ESGOTO SANITÁRIO. AF_08/2022"},{"$f":"IF(ISNUMBER($L276),OFFSET(Banco!$A$1,Composições!$L276-1,COLUMN(Composições!E276)-1),\"\")","v":"UN"},1.95,2.0099999999999998,6.5299999999999997E-2,{"$f":"IF(ISNUMBER($L276),VALUE(OFFSET(Banco!$A$1,Composições!$L276-1,COLUMN(Composições!I276)-4)),0)","v":29.82},{"$f":"IF(ISNUMBER($L276),VALUE(OFFSET(Banco!$A$1,Composições!$L276-1,COLUMN(Composições!J276)-4)),0)","v":30.81},{"$f":"COUNTA($A$1:$A276)-1","v":32},{"$f":"MATCH(CONCATENATE($B276,\" \",$C276),Banco!$A:$A,0)","v":11470},{"$f":"IF(OR(ISERROR($L276),$H276=\"\",$H276=0),\"\",OFFSET(M$1,MATCH($K276,$K$1:$K276,0)-1,0))","v":"F"},null,{"$f":"IF(ISNUMBER($L276),VALUE(OFFSET(Banco!$A$1,Composições!$L276-1,COLUMN(Composições!O276)-6)),0)","v":0},{"$f":"IF(ISNUMBER($L276),VALUE(OFFSET(Banco!$A$1,Composições!$L276-1,COLUMN(Composições!P276)-6)),0)","v":0},0,0]
[null,"SINAPI",89851,{"$f":"IF(ISNUMBER($L277),OFFSET(Banco!$A$1,Composições!$L277-1,COLUMN(Composições!D277)-1),\"\")","v":"JOELHO 45 GRAUS, PVC, SERIE NORMAL, ESGOTO PREDIAL, DN 100 MM, JUNTA ELÁSTICA, FORNECIDO E INSTALADO EM SUBCOLETOR AÉREO DE ESGOTO SANITÁRIO. AF_08/2022"},{"$f":"IF(ISNUMBER($L277),OFFSET(Banco!$A$1,Composições!$L277-1,COLUMN(Composições!E277)-1),\"\")","v":"UN"},0.62,0.65,1.78E-2,{"$f":"IF(ISNUMBER($L277),VALUE(OFFSET(Banco!$A$1,Composições!$L277-1,COLUMN(Composições!I277)-4)),0)","v":34.97},{"$f":"IF(ISNUMBER($L277),VALUE(OFFSET(Banco!$A$1,Composições!$L277-1,COLUMN(Composições!J277)-4)),0)","v":36.4},{"$f":"COUNTA($A$1:$A277)-1","v":32},{"$f":"MATCH(CONCATENATE($B277,\" \",$C277),Banco!$A:$A,0)","v":11471},{"$f":"IF(OR(ISERROR($L277),$H277=\"\",$H277=0),\"\",OFFSET(M$1,MATCH($K277,$K$1:$K277,0)-1,0))","v":"F"},null,{"$f":"IF(ISNUMBER($L277),VALUE(OFFSET(Banco!$A$1,Composições!$L277-1,COLUMN(Composições!O277)-6)),0)","v":0},{"$f":"IF(ISNUMBER($L277),VALUE(OFFSET(Banco!$A$1,Composições!$L277-1,COLUMN(Composições!P277)-6)),0)","v":0},0,0]
[null,"SINAPI",89834,{"$f":"IF(ISNUMBER($L278),OFFSET(Banco!$A$1,Composições!$L278-1,COLUMN(Composições!D278)-1),\"\")","v":"JUNÇÃO SIMPLES, PVC, SERIE NORMAL, ESGOTO PREDIAL, DN 100 X 100 MM, JUNTA ELÁSTICA, FORNECIDO E INSTALADO EM PRUMADA DE ESGOTO SANITÁRIO OU VENTILAÇÃO. AF_08/2022"},{"$f":"IF(ISNUMBER($L278),OFFSET(Banco!$A$1,Composições!$L278-1,COLUMN(Composições!E278)-1),\"\")","v":"UN"},1.7,1.75,3.1099999999999999E-2,{"$f":"IF(ISNUMBER($L278),VALUE(OFFSET(Banco!$A$1,Composições!$L278-1,COLUMN(Composições!I278)-4)),0)","v":54.74},{"$f":"IF(ISNUMBER($L278),VALUE(OFFSET(Banco!$A$1,Composições!$L278-1,COLUMN(Composições!J278)-4)),0)","v":56.22},{"$f":"COUNTA($A$1:$A278)-1","v":32},{"$f":"MATCH(CONCATENATE($B278,\" \",$C278),Banco!$A:$A,0)","v":11493},{"$f":"IF(OR(ISERROR($L278),$H278=\"\",$H278=0),\"\",OFFSET(M$1,MATCH($K278,$K$1:$K278,0)-1,0))","v":"F"},null,{"$f":"IF(ISNUMBER($L278),VALUE(OFFSET(Banco!$A$1,Composições!$L278-1,COLUMN(Composições!O278)-6)),0)","v":0},{"$f":"IF(ISNUMBER($L278),VALUE(OFFSET(Banco!$A$1,Composições!$L278-1,COLUMN(Composições!P278)-6)),0)","v":0},0,0]
[null,"SINAPI",89797,{"$f":"IF(ISNUMBER($L279),OFFSET(Banco!$A$1,Composições!$L279-1,COLUMN(Composições!D279)-1),\"\")","v":"JUNÇÃO SIMPLES, PVC, SERIE NORMAL, ESGOTO PREDIAL, DN 100 X 100 MM, JUNTA ELÁSTICA, FORNECIDO E INSTALADO EM RAMAL DE DESCARGA OU RAMAL DE ESGOTO SANITÁRIO. AF_08/2022"},{"$f":"IF(ISNUMBER($L279),OFFSET(Banco!$A$1,Composições!$L279-1,COLUMN(Composições!E279)-1),\"\")","v":"UN"},5.73,5.87,0.1086,{"$f":"IF(ISNUMBER($L279),VALUE(OFFSET(Banco!$A$1,Composições!$L279-1,COLUMN(Composições!I279)-4)),0)","v":52.74},{"$f":"IF(ISNUMBER($L279),VALUE(OFFSET(Banco!$A$1,Composições!$L279-1,COLUMN(Composições!J279)-4)),0)","v":54.06},{"$f":"COUNTA($A$1:$A279)-1","v":32},{"$f":"MATCH(CONCATENATE($B279,\" \",$C279),Banco!$A:$A,0)","v":11494},{"$f":"IF(OR(ISERROR($L279),$H279=\"\",$H279=0),\"\",OFFSET(M$1,MATCH($K279,$K$1:$K279,0)-1,0))","v":"F"},null,{"$f":"IF(ISNUMBER($L279),VALUE(OFFSET(Banco!$A$1,Composições!$L279-1,COLUMN(Composições!O279)-6)),0)","v":0},{"$f":"IF(ISNUMBER($L279),VALUE(OFFSET(Banco!$A$1,Composições!$L279-1,COLUMN(Composições!P279)-6)),0)","v":0},0,0]
[null,"SINAPI",89861,{"$f":"IF(ISNUMBER($L280),OFFSET(Banco!$A$1,Composições!$L280-1,COLUMN(Composições!D280)-1),\"\")","v":"JUNÇÃO SIMPLES, PVC, SERIE NORMAL, ESGOTO PREDIAL, DN 100 X 100 MM, JUNTA ELÁSTICA, FORNECIDO E INSTALADO EM SUBCOLETOR AÉREO DE ESGOTO SANITÁRIO. AF_08/2022"},{"$f":"IF(ISNUMBER($L280),OFFSET(Banco!$A$1,Composições!$L280-1,COLUMN(Composições!E280)-1),\"\")","v":"UN"},0.05,0.05,8.0000000000000004E-4,{"$f":"IF(ISNUMBER($L280),VALUE(OFFSET(Banco!$A$1,Composições!$L280-1,COLUMN(Composições!I280)-4)),0)","v":59.6},{"$f":"IF(ISNUMBER($L280),VALUE(OFFSET(Banco!$A$1,Composições!$L280-1,COLUMN(Composições!J280)-4)),0)","v":61.51},{"$f":"COUNTA($A$1:$A280)-1","v":32},{"$f":"MATCH(CONCATENATE($B280,\" \",$C280),Banco!$A:$A,0)","v":11495},{"$f":"IF(OR(ISERROR($L280),$H280=\"\",$H280=0),\"\",OFFSET(M$1,MATCH($K280,$K$1:$K280,0)-1,0))","v":"F"},null,{"$f":"IF(ISNUMBER($L280),VALUE(OFFSET(Banco!$A$1,Composições!$L280-1,COLUMN(Composições!O280)-6)),0)","v":0},{"$f":"IF(ISNUMBER($L280),VALUE(OFFSET(Banco!$A$1,Composições!$L280-1,COLUMN(Composições!P280)-6)),0)","v":0},0,0]
[null,"SINAPI",89821,{"$f":"IF(ISNUMBER($L281),OFFSET(Banco!$A$1,Composições!$L281-1,COLUMN(Composições!D281)-1),\"\")","v":"LUVA SIMPLES, PVC, SERIE NORMAL, ESGOTO PREDIAL, DN 100 MM, JUNTA ELÁSTICA, FORNECIDO E INSTALADO EM PRUMADA DE ESGOTO SANITÁRIO OU VENTILAÇÃO. AF_08/2022"},{"$f":"IF(ISNUMBER($L281),OFFSET(Banco!$A$1,Composições!$L281-1,COLUMN(Composições!E281)-1),\"\")","v":"UN"},4.84,5.0199999999999996,0.2392,{"$f":"IF(ISNUMBER($L281),VALUE(OFFSET(Banco!$A$1,Composições!$L281-1,COLUMN(Composições!I281)-4)),0)","v":20.25},{"$f":"IF(ISNUMBER($L281),VALUE(OFFSET(Banco!$A$1,Composições!$L281-1,COLUMN(Composições!J281)-4)),0)","v":20.99},{"$f":"COUNTA($A$1:$A281)-1","v":32},{"$f":"MATCH(CONCATENATE($B281,\" \",$C281),Banco!$A:$A,0)","v":11508},{"$f":"IF(OR(ISERROR($L281),$H281=\"\",$H281=0),\"\",OFFSET(M$1,MATCH($K281,$K$1:$K281,0)-1,0))","v":"F"},null,{"$f":"IF(ISNUMBER($L281),VALUE(OFFSET(Banco!$A$1,Composições!$L281-1,COLUMN(Composições!O281)-6)),0)","v":0},{"$f":"IF(ISNUMBER($L281),VALUE(OFFSET(Banco!$A$1,Composições!$L281-1,COLUMN(Composições!P281)-6)),0)","v":0},0,0]
[null,"SINAPI",89778,{"$f":"IF(ISNUMBER($L282),OFFSET(Banco!$A$1,Composições!$L282-1,COLUMN(Composições!D282)-1),\"\")","v":"LUVA SIMPLES, PVC, SERIE NORMAL, ESGOTO PREDIAL, DN 100 MM, JUNTA ELÁSTICA, FORNECIDO E INSTALADO EM RAMAL DE DESCARGA OU RAMAL DE ESGOTO SANITÁRIO. AF_08/2022"},{"$f":"IF(ISNUMBER($L282),OFFSET(Banco!$A$1,Composições!$L282-1,COLUMN(Composições!E282)-1),\"\")","v":"UN"},1.89,1.96,9.8199999999999996E-2,{"$f":"IF(ISNUMBER($L282),VALUE(OFFSET(Banco!$A$1,Composições!$L282-1,COLUMN(Composições!I282)-4)),0)","v":19.25},{"$f":"IF(ISNUMBER($L282),VALUE(OFFSET(Banco!$A$1,Composições!$L282-1,COLUMN(Composições!J282)-4)),0)","v":19.91},{"$f":"COUNTA($A$1:$A282)-1","v":32},{"$f":"MATCH(CONCATENATE($B282,\" \",$C282),Banco!$A:$A,0)","v":11509},{"$f":"IF(OR(ISERROR($L282),$H282=\"\",$H282=0),\"\",OFFSET(M$1,MATCH($K282,$K$1:$K282,0)-1,0))","v":"F"},null,{"$f":"IF(ISNUMBER($L282),VALUE(OFFSET(Banco!$A$1,Composições!$L282-1,COLUMN(Composições!O282)-6)),0)","v":0},{"$f":"IF(ISNUMBER($L282),VALUE(OFFSET(Banco!$A$1,Composições!$L282-1,COLUMN(Composições!P282)-6)),0)","v":0},0,0]
[null,"SINAPI",89856,{"$f":"IF(ISNUMBER($L283),OFFSET(Banco!$A$1,Composições!$L283-1,COLUMN(Composições!D283)-1),\"\")","v":"LUVA SIMPLES, PVC, SERIE NORMAL, ESGOTO PREDIAL, DN 100 MM, JUNTA ELÁSTICA, FORNECIDO E INSTALADO EM SUBCOLETOR AÉREO DE ESGOTO SANITÁRIO. AF_08/2022"},{"$f":"IF(ISNUMBER($L283),OFFSET(Banco!$A$1,Composições!$L283-1,COLUMN(Composições!E283)-1),\"\")","v":"UN"},2.87,2.99,0.12670000000000001,{"$f":"IF(ISNUMBER($L283),VALUE(OFFSET(Banco!$A$1,Composições!$L283-1,COLUMN(Composições!I283)-4)),0)","v":22.68},{"$f":"IF(ISNUMBER($L283),VALUE(OFFSET(Banco!$A$1,Composições!$L283-1,COLUMN(Composições!J283)-4)),0)","v":23.63},{"$f":"COUNTA($A$1:$A283)-1","v":32},{"$f":"MATCH(CONCATENATE($B283,\" \",$C283),Banco!$A:$A,0)","v":11510},{"$f":"IF(OR(ISERROR($L283),$H283=\"\",$H283=0),\"\",OFFSET(M$1,MATCH($K283,$K$1:$K283,0)-1,0))","v":"F"},null,{"$f":"IF(ISNUMBER($L283),VALUE(OFFSET(Banco!$A$1,Composições!$L283-1,COLUMN(Composições!O283)-6)),0)","v":0},{"$f":"IF(ISNUMBER($L283),VALUE(OFFSET(Banco!$A$1,Composições!$L283-1,COLUMN(Composições!P283)-6)),0)","v":0},0,0]
[null,"SINAPI",90455,{"$f":"IF(ISNUMBER($L284),OFFSET(Banco!$A$1,Composições!$L284-1,COLUMN(Composições!D284)-1),\"\")","v":"PASSANTE TIPO TUBO COM DIÂMETRO DE 100 MM, FIXADO EM LAJE, PARA PASSAGEM DE TUBULAÇÕES COM NO MÁXIMO 75 MM DE DIÂMETRO. AF_09/2023"},{"$f":"IF(ISNUMBER($L284),OFFSET(Banco!$A$1,Composições!$L284-1,COLUMN(Composições!E284)-1),\"\")","v":"UN"},2.1,2.23,0.23230000000000001,{"$f":"IF(ISNUMBER($L284),VALUE(OFFSET(Banco!$A$1,Composições!$L284-1,COLUMN(Composições!I284)-4)),0)","v":9.06},{"$f":"IF(ISNUMBER($L284),VALUE(OFFSET(Banco!$A$1,Composições!$L284-1,COLUMN(Composições!J284)-4)),0)","v":9.6},{"$f":"COUNTA($A$1:$A284)-1","v":32},{"$f":"MATCH(CONCATENATE($B284,\" \",$C284),Banco!$A:$A,0)","v":14534},{"$f":"IF(OR(ISERROR($L284),$H284=\"\",$H284=0),\"\",OFFSET(M$1,MATCH($K284,$K$1:$K284,0)-1,0))","v":"F"},null,{"$f":"IF(ISNUMBER($L284),VALUE(OFFSET(Banco!$A$1,Composições!$L284-1,COLUMN(Composições!O284)-6)),0)","v":0},{"$f":"IF(ISNUMBER($L284),VALUE(OFFSET(Banco!$A$1,Composições!$L284-1,COLUMN(Composições!P284)-6)),0)","v":0},0,0]
[null,"SINAPI",89833,{"$f":"IF(ISNUMBER($L285),OFFSET(Banco!$A$1,Composições!$L285-1,COLUMN(Composições!D285)-1),\"\")","v":"TE, PVC, SERIE NORMAL, ESGOTO PREDIAL, DN 100 X 100 MM, JUNTA ELÁSTICA, FORNECIDO E INSTALADO EM PRUMADA DE ESGOTO SANITÁRIO OU VENTILAÇÃO. AF_08/2022"},{"$f":"IF(ISNUMBER($L285),OFFSET(Banco!$A$1,Composições!$L285-1,COLUMN(Composições!E285)-1),\"\")","v":"UN"},2.81,2.9,5.9799999999999999E-2,{"$f":"IF(ISNUMBER($L285),VALUE(OFFSET(Banco!$A$1,Composições!$L285-1,COLUMN(Composições!I285)-4)),0)","v":47},{"$f":"IF(ISNUMBER($L285),VALUE(OFFSET(Banco!$A$1,Composições!$L285-1,COLUMN(Composições!J285)-4)),0)","v":48.48},{"$f":"COUNTA($A$1:$A285)-1","v":32},{"$f":"MATCH(CONCATENATE($B285,\" \",$C285),Banco!$A:$A,0)","v":11517},{"$f":"IF(OR(ISERROR($L285),$H285=\"\",$H285=0),\"\",OFFSET(M$1,MATCH($K285,$K$1:$K285,0)-1,0))","v":"F"},null,{"$f":"IF(ISNUMBER($L285),VALUE(OFFSET(Banco!$A$1,Composições!$L285-1,COLUMN(Composições!O285)-6)),0)","v":0},{"$f":"IF(ISNUMBER($L285),VALUE(OFFSET(Banco!$A$1,Composições!$L285-1,COLUMN(Composições!P285)-6)),0)","v":0},0,0]
[null,"SINAPI",89796,{"$f":"IF(ISNUMBER($L286),OFFSET(Banco!$A$1,Composições!$L286-1,COLUMN(Composições!D286)-1),\"\")","v":"TE, PVC, SERIE NORMAL, ESGOTO PREDIAL, DN 100 X 100 MM, JUNTA ELÁSTICA, FORNECIDO E INSTALADO EM RAMAL DE DESCARGA OU RAMAL DE ESGOTO SANITÁRIO. AF_08/2022"},{"$f":"IF(ISNUMBER($L286),OFFSET(Banco!$A$1,Composições!$L286-1,COLUMN(Composições!E286)-1),\"\")","v":"UN"},2.15,2.21,4.7800000000000002E-2,{"$f":"IF(ISNUMBER($L286),VALUE(OFFSET(Banco!$A$1,Composições!$L286-1,COLUMN(Composições!I286)-4)),0)","v":45},{"$f":"IF(ISNUMBER($L286),VALUE(OFFSET(Banco!$A$1,Composições!$L286-1,COLUMN(Composições!J286)-4)),0)","v":46.32},{"$f":"COUNTA($A$1:$A286)-1","v":32},{"$f":"MATCH(CONCATENATE($B286,\" \",$C286),Banco!$A:$A,0)","v":11518},{"$f":"IF(OR(ISERROR($L286),$H286=\"\",$H286=0),\"\",OFFSET(M$1,MATCH($K286,$K$1:$K286,0)-1,0))","v":"F"},null,{"$f":"IF(ISNUMBER($L286),VALUE(OFFSET(Banco!$A$1,Composições!$L286-1,COLUMN(Composições!O286)-6)),0)","v":0},{"$f":"IF(ISNUMBER($L286),VALUE(OFFSET(Banco!$A$1,Composições!$L286-1,COLUMN(Composições!P286)-6)),0)","v":0},0,0]
[null,"SINAPI",89800,{"$f":"IF(ISNUMBER($L287),OFFSET(Banco!$A$1,Composições!$L287-1,COLUMN(Composições!D287)-1),\"\")","v":"TUBO PVC, SERIE NORMAL, ESGOTO PREDIAL, DN 100 MM, FORNECIDO E INSTALADO EM PRUMADA DE ESGOTO SANITÁRIO OU VENTILAÇÃO. AF_08/2022"},{"$f":"IF(ISNUMBER($L287),OFFSET(Banco!$A$1,Composições!$L287-1,COLUMN(Composições!E287)-1),\"\")","v":"M"},17.48,18.239999999999998,0.56100000000000005,{"$f":"IF(ISNUMBER($L287),VALUE(OFFSET(Banco!$A$1,Composições!$L287-1,COLUMN(Composições!I287)-4)),0)","v":31.16},{"$f":"IF(ISNUMBER($L287),VALUE(OFFSET(Banco!$A$1,Composições!$L287-1,COLUMN(Composições!J287)-4)),0)","v":32.51},{"$f":"COUNTA($A$1:$A287)-1","v":32},{"$f":"MATCH(CONCATENATE($B287,\" \",$C287),Banco!$A:$A,0)","v":11532},{"$f":"IF(OR(ISERROR($L287),$H287=\"\",$H287=0),\"\",OFFSET(M$1,MATCH($K287,$K$1:$K287,0)-1,0))","v":"F"},null,{"$f":"IF(ISNUMBER($L287),VALUE(OFFSET(Banco!$A$1,Composições!$L287-1,COLUMN(Composições!O287)-6)),0)","v":0},{"$f":"IF(ISNUMBER($L287),VALUE(OFFSET(Banco!$A$1,Composições!$L287-1,COLUMN(Composições!P287)-6)),0)","v":0},0,0]
[null,"SINAPI",89714,{"$f":"IF(ISNUMBER($L288),OFFSET(Banco!$A$1,Composições!$L288-1,COLUMN(Composições!D288)-1),\"\")","v":"TUBO PVC, SERIE NORMAL, ESGOTO PREDIAL, DN 100 MM, FORNECIDO E INSTALADO EM RAMAL DE DESCARGA OU RAMAL DE ESGOTO SANITÁRIO. AF_08/2022"},{"$f":"IF(ISNUMBER($L288),OFFSET(Banco!$A$1,Composições!$L288-1,COLUMN(Composições!E288)-1),\"\")","v":"M"},7.79,8.2100000000000009,0.18459999999999999,{"$f":"IF(ISNUMBER($L288),VALUE(OFFSET(Banco!$A$1,Composições!$L288-1,COLUMN(Composições!I288)-4)),0)","v":42.19},{"$f":"IF(ISNUMBER($L288),VALUE(OFFSET(Banco!$A$1,Composições!$L288-1,COLUMN(Composições!J288)-4)),0)","v":44.47},{"$f":"COUNTA($A$1:$A288)-1","v":32},{"$f":"MATCH(CONCATENATE($B288,\" \",$C288),Banco!$A:$A,0)","v":11533},{"$f":"IF(OR(ISERROR($L288),$H288=\"\",$H288=0),\"\",OFFSET(M$1,MATCH($K288,$K$1:$K288,0)-1,0))","v":"F"},null,{"$f":"IF(ISNUMBER($L288),VALUE(OFFSET(Banco!$A$1,Composições!$L288-1,COLUMN(Composições!O288)-6)),0)","v":0},{"$f":"IF(ISNUMBER($L288),VALUE(OFFSET(Banco!$A$1,Composições!$L288-1,COLUMN(Composições!P288)-6)),0)","v":0},0,0]
[null,"SINAPI",89848,{"$f":"IF(ISNUMBER($L289),OFFSET(Banco!$A$1,Composições!$L289-1,COLUMN(Composições!D289)-1),\"\")","v":"TUBO PVC, SERIE NORMAL, ESGOTO PREDIAL, DN 100 MM, FORNECIDO E INSTALADO EM SUBCOLETOR AÉREO DE ESGOTO SANITÁRIO. AF_08/2022"},{"$f":"IF(ISNUMBER($L289),OFFSET(Banco!$A$1,Composições!$L289-1,COLUMN(Composições!E289)-1),\"\")","v":"M"},7.56,7.88,0.25440000000000002,{"$f":"IF(ISNUMBER($L289),VALUE(OFFSET(Banco!$A$1,Composições!$L289-1,COLUMN(Composições!I289)-4)),0)","v":29.72},{"$f":"IF(ISNUMBER($L289),VALUE(OFFSET(Banco!$A$1,Composições!$L289-1,COLUMN(Composições!J289)-4)),0)","v":30.96},{"$f":"COUNTA($A$1:$A289)-1","v":32},{"$f":"MATCH(CONCATENATE($B289,\" \",$C289),Banco!$A:$A,0)","v":11534},{"$f":"IF(OR(ISERROR($L289),$H289=\"\",$H289=0),\"\",OFFSET(M$1,MATCH($K289,$K$1:$K289,0)-1,0))","v":"F"},null,{"$f":"IF(ISNUMBER($L289),VALUE(OFFSET(Banco!$A$1,Composições!$L289-1,COLUMN(Composições!O289)-6)),0)","v":0},{"$f":"IF(ISNUMBER($L289),VALUE(OFFSET(Banco!$A$1,Composições!$L289-1,COLUMN(Composições!P289)-6)),0)","v":0},0,0]
[null,null,null,null,null,null,null,null,null,null,{"$f":"COUNTA($A$1:$A290)-1","v":32},null,{"$f":"IF(OFFSET($M$1,MATCH(OFFSET(K290,-1,0),$K$1:$K290,0)-1,0)=\"F\",\"F\",\"\")","v":"F"}]
[{"$f":"CONCATENATE($B291,\" \",$C291)","v":"Composição INHI.0220.01"},"Composição","INHI.0220.01","TANQUE SÉPTICO CIRCULAR, EM CONCRETO PRÉ-MOLDADO, DIÂMETRO INTERNO = 1,50 M, ALTURA INTERNA = 2,50 M, COM TAMPA EM CONCRETO ARMADO 10 CM COM ABERTURA CONFORME PROJETO","UN",{"$f":"IF($L291>0,SUM(OFFSET(F291,1,0,$L291),0))","v":7242.9000000000005},7332.2300000000005,null,{"$f":"IF(ISERROR(F291),0,F291)","v":7242.9000000000005},7332.2300000000005,{"$f":"COUNTA($A$1:$A291)-1","v":33},{"$f":"IF(MAX(K:K)=K291,MATCH(9999999,$K:$K)+1,MATCH(K291+1,K:K,0))-ROW(L291)-2","v":12},{"$f":"IF(AND(OR(I291<>0,J291<>0),N291=\"Sim\"),\"F\",\"\")","v":"F"},"Sim",{"$f":"IF(AND($L291>0,F291<>0),ROUND(SUM(OFFSET(Q291,1,0,$L291))/F291,4),0)","v":5.4000000000000003E-3},5.3E-3]
[null,"SINAPI",88309,{"$f":"IF(ISNUMBER($L292),OFFSET(Banco!$A$1,Composições!$L292-1,COLUMN(Composições!D292)-1),\"\")","v":"PEDREIRO COM ENCARGOS COMPLEMENTARES"},{"$f":"IF(ISNUMBER($L292),OFFSET(Banco!$A$1,Composições!$L292-1,COLUMN(Composições!E292)-1),\"\")","v":"H"},{"$f":"ROUND($H292*ROUND(I292,2),2)","v":83.52},{"$f":"ROUND($H292*ROUND(J292,2),2)","v":90.7},2.4573,{"$f":"IF(ISNUMBER($L292),VALUE(OFFSET(Banco!$A$1,Composições!$L292-1,COLUMN(Composições!I292)-4)),0)","v":33.99},{"$f":"IF(ISNUMBER($L292),VALUE(OFFSET(Banco!$A$1,Composições!$L292-1,COLUMN(Composições!J292)-4)),0)","v":36.909999999999997},{"$f":"COUNTA($A$1:$A292)-1","v":33},{"$f":"MATCH(CONCATENATE($B292,\" \",$C292),Banco!$A:$A,0)","v":13185},{"$f":"IF(OR(ISERROR($L292),$H292=\"\",$H292=0),\"\",OFFSET(M$1,MATCH($K292,$K$1:$K292,0)-1,0))","v":"F"},null,{"$f":"IF(ISNUMBER($L292),VALUE(OFFSET(Banco!$A$1,Composições!$L292-1,COLUMN(Composições!O292)-6)),0)","v":0},{"$f":"IF(ISNUMBER($L292),VALUE(OFFSET(Banco!$A$1,Composições!$L292-1,COLUMN(Composições!P292)-6)),0)","v":0},{"$f":"ROUND(F292*O292,2)","v":0},{"$f":"ROUND(G292*P292,2)","v":0}]
[null,"SINAPI",88316,{"$f":"IF(ISNUMBER($L293),OFFSET(Banco!$A$1,Composições!$L293-1,COLUMN(Composições!D293)-1),\"\")","v":"SERVENTE COM ENCARGOS COMPLEMENTARES"},{"$f":"IF(ISNUMBER($L293),OFFSET(Banco!$A$1,Composições!$L293-1,COLUMN(Composições!E293)-1),\"\")","v":"H"},51.45,55.43,1.9307000000000001,{"$f":"IF(ISNUMBER($L293),VALUE(OFFSET(Banco!$A$1,Composições!$L293-1,COLUMN(Composições!I293)-4)),0)","v":26.65},{"$f":"IF(ISNUMBER($L293),VALUE(OFFSET(Banco!$A$1,Composições!$L293-1,COLUMN(Composições!J293)-4)),0)","v":28.71},{"$f":"COUNTA($A$1:$A293)-1","v":33},{"$f":"MATCH(CONCATENATE($B293,\" \",$C293),Banco!$A:$A,0)","v":13198},{"$f":"IF(OR(ISERROR($L293),$H293=\"\",$H293=0),\"\",OFFSET(M$1,MATCH($K293,$K$1:$K293,0)-1,0))","v":"F"},null,{"$f":"IF(ISNUMBER($L293),VALUE(OFFSET(Banco!$A$1,Composições!$L293-1,COLUMN(Composições!O293)-6)),0)","v":0},{"$f":"IF(ISNUMBER($L293),VALUE(OFFSET(Banco!$A$1,Composições!$L293-1,COLUMN(Composições!P293)-6)),0)","v":0},0,0]
[null,"SINAPI",88628,{"$f":"IF(ISNUMBER($L294),OFFSET(Banco!$A$1,Composições!$L294-1,COLUMN(Composições!D294)-1),\"\")","v":"ARGAMASSA TRAÇO 1:3 (EM VOLUME DE CIMENTO E AREIA MÉDIA ÚMIDA), PREPARO MECÂNICO COM BETONEIRA 400 L. AF_08/2019"},{"$f":"IF(ISNUMBER($L294),OFFSET(Banco!$A$1,Composições!$L294-1,COLUMN(Composições!E294)-1),\"\")","v":"M3"},49.11,49.88,8.5800000000000001E-2,{"$f":"IF(ISNUMBER($L294),VALUE(OFFSET(Banco!$A$1,Composições!$L294-1,COLUMN(Composições!I294)-4)),0)","v":572.36},{"$f":"IF(ISNUMBER($L294),VALUE(OFFSET(Banco!$A$1,Composições!$L294-1,COLUMN(Composições!J294)-4)),0)","v":581.39},{"$f":"COUNTA($A$1:$A294)-1","v":33},{"$f":"MATCH(CONCATENATE($B294,\" \",$C294),Banco!$A:$A,0)","v":6270},{"$f":"IF(OR(ISERROR($L294),$H294=\"\",$H294=0),\"\",OFFSET(M$1,MATCH($K294,$K$1:$K294,0)-1,0))","v":"F"},null,{"$f":"IF(ISNUMBER($L294),VALUE(OFFSET(Banco!$A$1,Composições!$L294-1,COLUMN(Composições!O294)-6)),0)","v":0},{"$f":"IF(ISNUMBER($L294),VALUE(OFFSET(Banco!$A$1,Composições!$L294-1,COLUMN(Composições!P294)-6)),0)","v":0},0,0]
[null,"SINAPI",97740,{"$f":"IF(ISNUMBER($L295),OFFSET(Banco!$A$1,Composições!$L295-1,COLUMN(Composições!D295)-1),\"\")","v":"PEÇA CIRCULAR PRÉ-MOLDADA, VOLUME DE CONCRETO ACIMA DE 100 LITROS, TAXA DE AÇO APROXIMADA DE 30KG/M³. AF_03/2024"},{"$f":"IF(ISNUMBER($L295),OFFSET(Banco!$A$1,Composições!$L295-1,COLUMN(Composições!E295)-1),\"\")","v":"M3"},536.6,555.86,0.2545,{"$f":"IF(ISNUMBER($L295),VALUE(OFFSET(Banco!$A$1,Composições!$L295-1,COLUMN(Composições!I295)-4)),0)","v":2108.4499999999998},{"$f":"IF(ISNUMBER($L295),VALUE(OFFSET(Banco!$A$1,Composições!$L295-1,COLUMN(Composições!J295)-4)),0)","v":2184.14},{"$f":"COUNTA($A$1:$A295)-1","v":33},{"$f":"MATCH(CONCATENATE($B295,\" \",$C295),Banco!$A:$A,0)","v":9824},{"$f":"IF(OR(ISERROR($L295),$H295=\"\",$H295=0),\"\",OFFSET(M$1,MATCH($K295,$K$1:$K295,0)-1,0))","v":"F"},null,{"$f":"IF(ISNUMBER($L295),VALUE(OFFSET(Banco!$A$1,Composições!$L295-1,COLUMN(Composições!O295)-6)),0)","v":5.9900000000000002E-2},{"$f":"IF(ISNUMBER($L295),VALUE(OFFSET(Banco!$A$1,Composições!$L295-1,COLUMN(Composições!P295)-6)),0)","v":5.7799999999999997E-2},32.14,32.130000000000003]
[null,"SINAPI",101624,{"$f":"IF(ISNUMBER($L296),OFFSET(Banco!$A$1,Composições!$L296-1,COLUMN(Composições!D296)-1),\"\")","v":"PREPARO DE FUNDO DE VALA COM LARGURA MAIOR OU IGUAL A 1,5 M E MENOR QUE 2,5 M, COM CAMADA DE BRITA, LANÇAMENTO MECANIZADO. AF_08/2020"},{"$f":"IF(ISNUMBER($L296),OFFSET(Banco!$A$1,Composições!$L296-1,COLUMN(Composições!E296)-1),\"\")","v":"M3"},8.7899999999999991,9.06,5.2999999999999999E-2,{"$f":"IF(ISNUMBER($L296),VALUE(OFFSET(Banco!$A$1,Composições!$L296-1,COLUMN(Composições!I296)-4)),0)","v":165.89},{"$f":"IF(ISNUMBER($L296),VALUE(OFFSET(Banco!$A$1,Composições!$L296-1,COLUMN(Composições!J296)-4)),0)","v":170.93},{"$f":"COUNTA($A$1:$A296)-1","v":33},{"$f":"MATCH(CONCATENATE($B296,\" \",$C296),Banco!$A:$A,0)","v":9489},{"$f":"IF(OR(ISERROR($L296),$H296=\"\",$H296=0),\"\",OFFSET(M$1,MATCH($K296,$K$1:$K296,0)-1,0))","v":"F"},null,{"$f":"IF(ISNUMBER($L296),VALUE(OFFSET(Banco!$A$1,Composições!$L296-1,COLUMN(Composições!O296)-6)),0)","v":5.0000000000000001E-4},{"$f":"IF(ISNUMBER($L296),VALUE(OFFSET(Banco!$A$1,Composições!$L296-1,COLUMN(Composições!P296)-6)),0)","v":5.0000000000000001E-4},0,0]
[null,"SINAPI",97734,{"$f":"IF(ISNUMBER($L297),OFFSET(Banco!$A$1,Composições!$L297-1,COLUMN(Composições!D297)-1),\"\")","v":"PEÇA RETANGULAR PRÉ-MOLDADA, VOLUME DE CONCRETO DE 10 A 30 LITROS, TAXA DE AÇO APROXIMADA DE 30KG/M³. AF_03/2024"},{"$f":"IF(ISNUMBER($L297),OFFSET(Banco!$A$1,Composições!$L297-1,COLUMN(Composições!E297)-1),\"\")","v":"M3"},84.04,89.2,2.52E-2,{"$f":"IF(ISNUMBER($L297),VALUE(OFFSET(Banco!$A$1,Composições!$L297-1,COLUMN(Composições!I297)-4)),0)","v":3334.74},{"$f":"IF(ISNUMBER($L297),VALUE(OFFSET(Banco!$A$1,Composições!$L297-1,COLUMN(Composições!J297)-4)),0)","v":3539.66},{"$f":"COUNTA($A$1:$A297)-1","v":33},{"$f":"MATCH(CONCATENATE($B297,\" \",$C297),Banco!$A:$A,0)","v":9828},{"$f":"IF(OR(ISERROR($L297),$H297=\"\",$H297=0),\"\",OFFSET(M$1,MATCH($K297,$K$1:$K297,0)-1,0))","v":"F"},null,{"$f":"IF(ISNUMBER($L297),VALUE(OFFSET(Banco!$A$1,Composições!$L297-1,COLUMN(Composições!O297)-6)),0)","v":9.7000000000000003E-3},{"$f":"IF(ISNUMBER($L297),VALUE(OFFSET(Banco!$A$1,Composições!$L297-1,COLUMN(Composições!P297)-6)),0)","v":9.1000000000000004E-3},0.82,0.81]
[null,"SINAPI",102312,{"$f":"IF(ISNUMBER($L298),OFFSET(Banco!$A$1,Composições!$L298-1,COLUMN(Composições!D298)-1),\"\")","v":"ESCAVAÇÃO MECANIZADA DE VALA COM PROF. DE 3,0 M ATÉ 4,5 M (MÉDIA MONTANTE E JUSANTE/UMA COMPOSIÇÃO POR TRECHO), ESCAVADEIRA (1,2 M3), LARG. DE 1,5 M A 2,5 M, EM SOLO DE 2A CATEGORIA, EM LOCAIS COM ALTO NÍVEL DE INTERFERÊNCIA. AF_09/2024"},{"$f":"IF(ISNUMBER($L298),OFFSET(Banco!$A$1,Composições!$L298-1,COLUMN(Composições!E298)-1),\"\")","v":"M3"},164.85,168.71,14.31,{"$f":"IF(ISNUMBER($L298),VALUE(OFFSET(Banco!$A$1,Composições!$L298-1,COLUMN(Composições!I298)-4)),0)","v":11.52},{"$f":"IF(ISNUMBER($L298),VALUE(OFFSET(Banco!$A$1,Composições!$L298-1,COLUMN(Composições!J298)-4)),0)","v":11.79},{"$f":"COUNTA($A$1:$A298)-1","v":33},{"$f":"MATCH(CONCATENATE($B298,\" \",$C298),Banco!$A:$A,0)","v":9374},{"$f":"IF(OR(ISERROR($L298),$H298=\"\",$H298=0),\"\",OFFSET(M$1,MATCH($K298,$K$1:$K298,0)-1,0))","v":"F"},null,{"$f":"IF(ISNUMBER($L298),VALUE(OFFSET(Banco!$A$1,Composições!$L298-1,COLUMN(Composições!O298)-6)),0)","v":0},{"$f":"IF(ISNUMBER($L298),VALUE(OFFSET(Banco!$A$1,Composições!$L298-1,COLUMN(Composições!P298)-6)),0)","v":0},0,0]
[null,"SINAPI",96620,{"$f":"IF(ISNUMBER($L299),OFFSET(Banco!$A$1,Composições!$L299-1,COLUMN(Composições!D299)-1),\"\")","v":"LASTRO DE CONCRETO MAGRO, APLICADO EM PISOS, LAJES SOBRE SOLO OU RADIERS. AF_01/2024"},{"$f":"IF(ISNUMBER($L299),OFFSET(Banco!$A$1,Composições!$L299-1,COLUMN(Composições!E299)-1),\"\")","v":"M3"},93.63,97.28,0.124,{"$f":"IF(ISNUMBER($L299),VALUE(OFFSET(Banco!$A$1,Composições!$L299-1,COLUMN(Composições!I299)-4)),0)","v":755.07},{"$f":"IF(ISNUMBER($L299),VALUE(OFFSET(Banco!$A$1,Composições!$L299-1,COLUMN(Composições!J299)-4)),0)","v":784.53},{"$f":"COUNTA($A$1:$A299)-1","v":33},{"$f":"MATCH(CONCATENATE($B299,\" \",$C299),Banco!$A:$A,0)","v":12773},{"$f":"IF(OR(ISERROR($L299),$H299=\"\",$H299=0),\"\",OFFSET(M$1,MATCH($K299,$K$1:$K299,0)-1,0))","v":"F"},null,{"$f":"IF(ISNUMBER($L299),VALUE(OFFSET(Banco!$A$1,Composições!$L299-1,COLUMN(Composições!O299)-6)),0)","v":0},{"$f":"IF(ISNUMBER($L299),VALUE(OFFSET(Banco!$A$1,Composições!$L299-1,COLUMN(Composições!P299)-6)),0)","v":0},0,0]
[null,"SINAPI",92832,{"$f":"IF(ISNUMBER($L300),OFFSET(Banco!$A$1,Composições!$L300-1,COLUMN(Composições!D300)-1),\"\")","v":"ASSENTAMENTO DE TUBO DE CONCRETO PARA REDES COLETORAS DE ÁGUAS PLUVIAIS, DIÂMETRO DE 1500 MM, JUNTA RÍGIDA, INSTALADO EM LOCAL COM ALTO NÍVEL DE INTERFERÊNCIAS (NÃO INCLUI FORNECIMENTO). AF_03/2024"},{"$f":"IF(ISNUMBER($L300),OFFSET(Banco!$A$1,Composições!$L300-1,COLUMN(Composições!E300)-1),\"\")","v":"M"},554.52,578.25,3,{"$f":"IF(ISNUMBER($L300),VALUE(OFFSET(Banco!$A$1,Composições!$L300-1,COLUMN(Composições!I300)-4)),0)","v":184.84},{"$f":"IF(ISNUMBER($L300),VALUE(OFFSET(Banco!$A$1,Composições!$L300-1,COLUMN(Composições!J300)-4)),0)","v":192.75},{"$f":"COUNTA($A$1:$A300)-1","v":33},{"$f":"MATCH(CONCATENATE($B300,\" \",$C300),Banco!$A:$A,0)","v":6740},{"$f":"IF(OR(ISERROR($L300),$H300=\"\",$H300=0),\"\",OFFSET(M$1,MATCH($K300,$K$1:$K300,0)-1,0))","v":"F"},null,{"$f":"IF(ISNUMBER($L300),VALUE(OFFSET(Banco!$A$1,Composições!$L300-1,COLUMN(Composições!O300)-6)),0)","v":0},{"$f":"IF(ISNUMBER($L300),VALUE(OFFSET(Banco!$A$1,Composições!$L300-1,COLUMN(Composições!P300)-6)),0)","v":0},0,0]
[null,"SINAPI",104737,{"$f":"IF(ISNUMBER($L301),OFFSET(Banco!$A$1,Composições!$L301-1,COLUMN(Composições!D301)-1),\"\")","v":"REATERRO MANUAL DE VALAS, COM PLACA VIBRATÓRIA. AF_08/2023"},{"$f":"IF(ISNUMBER($L301),OFFSET(Banco!$A$1,Composições!$L301-1,COLUMN(Composições!E301)-1),\"\")","v":"M3"},226.89,242.78,8.64,{"$f":"IF(ISNUMBER($L301),VALUE(OFFSET(Banco!$A$1,Composições!$L301-1,COLUMN(Composições!I301)-4)),0)","v":26.26},{"$f":"IF(ISNUMBER($L301),VALUE(OFFSET(Banco!$A$1,Composições!$L301-1,COLUMN(Composições!J301)-4)),0)","v":28.1},{"$f":"COUNTA($A$1:$A301)-1","v":33},{"$f":"MATCH(CONCATENATE($B301,\" \",$C301),Banco!$A:$A,0)","v":6818},{"$f":"IF(OR(ISERROR($L301),$H301=\"\",$H301=0),\"\",OFFSET(M$1,MATCH($K301,$K$1:$K301,0)-1,0))","v":"F"},null,{"$f":"IF(ISNUMBER($L301),VALUE(OFFSET(Banco!$A$1,Composições!$L301-1,COLUMN(Composições!O301)-6)),0)","v":2.5499999999999998E-2},{"$f":"IF(ISNUMBER($L301),VALUE(OFFSET(Banco!$A$1,Composições!$L301-1,COLUMN(Composições!P301)-6)),0)","v":2.3800000000000002E-2},5.79,5.78]
[null,"COMPOSIÇÃO","INHI.0215.01",{"$f":"IF(ISNUMBER($L302),OFFSET(Banco!$A$1,Composições!$L302-1,COLUMN(Composições!D302)-1),\"\")","v":"(COMPOSIÇÃO REPRESENTATIVA) DO SERVIÇO DE INST. TUBO PVC, SÉRIE N, ESGOTO PREDIAL, 100 MM (INST. RAMAL DESCARGA, RAMAL DE ESG. SANIT., PRUMADA ESG. SANIT., VENTILAÇÃO OU SUB-COLETOR AÉREO), INCL. CONEXÕES E CORTES, FIXAÇÕES, P/ PRÉDIOS."},{"$f":"IF(ISNUMBER($L302),OFFSET(Banco!$A$1,Composições!$L302-1,COLUMN(Composições!E302)-1),\"\")","v":"M"},125.4,130.97999999999999,1.53,{"$f":"IF(ISNUMBER($L302),VALUE(OFFSET(Banco!$A$1,Composições!$L302-1,COLUMN(Composições!I302)-4)),0)","v":81.960000000000008},{"$f":"IF(ISNUMBER($L302),VALUE(OFFSET(Banco!$A$1,Composições!$L302-1,COLUMN(Composições!J302)-4)),0)","v":85.609999999999985},{"$f":"COUNTA($A$1:$A302)-1","v":33},{"$f":"MATCH(CONCATENATE($B302,\" \",$C302),Banco!$A:$A,0)","v":38},{"$f":"IF(OR(ISERROR($L302),$H302=\"\",$H302=0),\"\",OFFSET(M$1,MATCH($K302,$K$1:$K302,0)-1,0))","v":"F"},null,{"$f":"IF(ISNUMBER($L302),VALUE(OFFSET(Banco!$A$1,Composições!$L302-1,COLUMN(Composições!O302)-6)),0)","v":1.6999999999999999E-3},{"$f":"IF(ISNUMBER($L302),VALUE(OFFSET(Banco!$A$1,Composições!$L302-1,COLUMN(Composições!P302)-6)),0)","v":1.6000000000000001E-3},0.21,0.21]
[null,"COTAÇÃO",12575,{"$f":"IF(ISNUMBER($L303),OFFSET(Banco!$A$1,Composições!$L303-1,COLUMN(Composições!D303)-1),\"\")","v":"TUBO DE CONCRETO ARMADO PARA AGUAS PLUVIAIS, CLASSE PA-3, COM ENCAIXE PONTA E BOLSA, DIAMETRO NOMINAL DE 1500 MM"},{"$f":"IF(ISNUMBER($L303),OFFSET(Banco!$A$1,Composições!$L303-1,COLUMN(Composições!E303)-1),\"\")","v":"M"},5264.1,5264.1,3,{"$f":"IF(ISNUMBER($L303),VALUE(OFFSET(Banco!$A$1,Composições!$L303-1,COLUMN(Composições!I303)-4)),0)","v":1754.7},{"$f":"IF(ISNUMBER($L303),VALUE(OFFSET(Banco!$A$1,Composições!$L303-1,COLUMN(Composições!J303)-4)),0)","v":1754.7},{"$f":"COUNTA($A$1:$A303)-1","v":33},{"$f":"MATCH(CONCATENATE($B303,\" \",$C303),Banco!$A:$A,0)","v":118},{"$f":"IF(OR(ISERROR($L303),$H303=\"\",$H303=0),\"\",OFFSET(M$1,MATCH($K303,$K$1:$K303,0)-1,0))","v":"F"},null,{"$f":"IF(ISNUMBER($L303),VALUE(OFFSET(Banco!$A$1,Composições!$L303-1,COLUMN(Composições!O303)-6)),0)","v":0},{"$f":"IF(ISNUMBER($L303),VALUE(OFFSET(Banco!$A$1,Composições!$L303-1,COLUMN(Composições!P303)-6)),0)","v":0},0,0]
[null,null,null,null,null,null,null,null,null,null,{"$f":"COUNTA($A$1:$A304)-1","v":33},null,{"$f":"IF(OFFSET($M$1,MATCH(OFFSET(K304,-1,0),$K$1:$K304,0)-1,0)=\"F\",\"F\",\"\")","v":"F"}]
[{"$f":"CONCATENATE($B305,\" \",$C305)","v":"Composição INHI.0221.01"},"Composição","INHI.0221.01","FILTRO ANAERÓBIO CIRCULAR, EM CONCRETO PRÉ-MOLDADO, DIÂMETRO INTERNO = 1,50 M, ALTURA INTERNA = 1,87 M, COM TAMPA EM CONCRETO ARMADO 10 CM COM ABERTURA, COM FUNDO FALSO E LASTRO DE BRITA N4, CONFORME PROJETO","UN",{"$f":"IF($L305>0,SUM(OFFSET(F305,1,0,$L305),0))","v":5830.8},5918.71,null,{"$f":"IF(ISERROR(F305),0,F305)","v":5830.8},5918.71,{"$f":"COUNTA($A$1:$A305)-1","v":34},{"$f":"IF(MAX(K:K)=K305,MATCH(9999999,$K:$K)+1,MATCH(K305+1,K:K,0))-ROW(L305)-2","v":15},{"$f":"IF(AND(OR(I305<>0,J305<>0),N305=\"Sim\"),\"F\",\"\")","v":"F"},"Sim",{"$f":"IF(AND($L305>0,F305<>0),ROUND(SUM(OFFSET(Q305,1,0,$L305))/F305,4),0)","v":6.8999999999999999E-3},6.7999999999999996E-3]
[null,"SINAPI",88309,{"$f":"IF(ISNUMBER($L306),OFFSET(Banco!$A$1,Composições!$L306-1,COLUMN(Composições!D306)-1),\"\")","v":"PEDREIRO COM ENCARGOS COMPLEMENTARES"},{"$f":"IF(ISNUMBER($L306),OFFSET(Banco!$A$1,Composições!$L306-1,COLUMN(Composições!E306)-1),\"\")","v":"H"},{"$f":"ROUND($H306*ROUND(I306,2),2)","v":67.73},{"$f":"ROUND($H306*ROUND(J306,2),2)","v":73.55},1.9926999999999999,{"$f":"IF(ISNUMBER($L306),VALUE(OFFSET(Banco!$A$1,Composições!$L306-1,COLUMN(Composições!I306)-4)),0)","v":33.99},{"$f":"IF(ISNUMBER($L306),VALUE(OFFSET(Banco!$A$1,Composições!$L306-1,COLUMN(Composições!J306)-4)),0)","v":36.909999999999997},{"$f":"COUNTA($A$1:$A306)-1","v":34},{"$f":"MATCH(CONCATENATE($B306,\" \",$C306),Banco!$A:$A,0)","v":13185},{"$f":"IF(OR(ISERROR($L306),$H306=\"\",$H306=0),\"\",OFFSET(M$1,MATCH($K306,$K$1:$K306,0)-1,0))","v":"F"},null,{"$f":"IF(ISNUMBER($L306),VALUE(OFFSET(Banco!$A$1,Composições!$L306-1,COLUMN(Composições!O306)-6)),0)","v":0},{"$f":"IF(ISNUMBER($L306),VALUE(OFFSET(Banco!$A$1,Composições!$L306-1,COLUMN(Composições!P306)-6)),0)","v":0},{"$f":"ROUND(F306*O306,2)","v":0},{"$f":"ROUND(G306*P306,2)","v":0}]
[null,"SINAPI",88316,{"$f":"IF(ISNUMBER($L307),OFFSET(Banco!$A$1,Composições!$L307-1,COLUMN(Composições!D307)-1),\"\")","v":"SERVENTE COM ENCARGOS COMPLEMENTARES"},{"$f":"IF(ISNUMBER($L307),OFFSET(Banco!$A$1,Composições!$L307-1,COLUMN(Composições!E307)-1),\"\")","v":"H"},41.73,44.95,1.5657000000000001,{"$f":"IF(ISNUMBER($L307),VALUE(OFFSET(Banco!$A$1,Composições!$L307-1,COLUMN(Composições!I307)-4)),0)","v":26.65},{"$f":"IF(ISNUMBER($L307),VALUE(OFFSET(Banco!$A$1,Composições!$L307-1,COLUMN(Composições!J307)-4)),0)","v":28.71},{"$f":"COUNTA($A$1:$A307)-1","v":34},{"$f":"MATCH(CONCATENATE($B307,\" \",$C307),Banco!$A:$A,0)","v":13198},{"$f":"IF(OR(ISERROR($L307),$H307=\"\",$H307=0),\"\",OFFSET(M$1,MATCH($K307,$K$1:$K307,0)-1,0))","v":"F"},null,{"$f":"IF(ISNUMBER($L307),VALUE(OFFSET(Banco!$A$1,Composições!$L307-1,COLUMN(Composições!O307)-6)),0)","v":0},{"$f":"IF(ISNUMBER($L307),VALUE(OFFSET(Banco!$A$1,Composições!$L307-1,COLUMN(Composições!P307)-6)),0)","v":0},0,0]
[null,"SINAPI",88628,{"$f":"IF(ISNUMBER($L308),OFFSET(Banco!$A$1,Composições!$L308-1,COLUMN(Composições!D308)-1),\"\")","v":"ARGAMASSA TRAÇO 1:3 (EM VOLUME DE CIMENTO E AREIA MÉDIA ÚMIDA), PREPARO MECÂNICO COM BETONEIRA 400 L. AF_08/2019"},{"$f":"IF(ISNUMBER($L308),OFFSET(Banco!$A$1,Composições!$L308-1,COLUMN(Composições!E308)-1),\"\")","v":"M3"},35.26,35.81,6.1600000000000002E-2,{"$f":"IF(ISNUMBER($L308),VALUE(OFFSET(Banco!$A$1,Composições!$L308-1,COLUMN(Composições!I308)-4)),0)","v":572.36},{"$f":"IF(ISNUMBER($L308),VALUE(OFFSET(Banco!$A$1,Composições!$L308-1,COLUMN(Composições!J308)-4)),0)","v":581.39},{"$f":"COUNTA($A$1:$A308)-1","v":34},{"$f":"MATCH(CONCATENATE($B308,\" \",$C308),Banco!$A:$A,0)","v":6270},{"$f":"IF(OR(ISERROR($L308),$H308=\"\",$H308=0),\"\",OFFSET(M$1,MATCH($K308,$K$1:$K308,0)-1,0))","v":"F"},null,{"$f":"IF(ISNUMBER($L308),VALUE(OFFSET(Banco!$A$1,Composições!$L308-1,COLUMN(Composições!O308)-6)),0)","v":0},{"$f":"IF(ISNUMBER($L308),VALUE(OFFSET(Banco!$A$1,Composições!$L308-1,COLUMN(Composições!P308)-6)),0)","v":0},0,0]
[null,"SINAPI",97740,{"$f":"IF(ISNUMBER($L309),OFFSET(Banco!$A$1,Composições!$L309-1,COLUMN(Composições!D309)-1),\"\")","v":"PEÇA CIRCULAR PRÉ-MOLDADA, VOLUME DE CONCRETO ACIMA DE 100 LITROS, TAXA DE AÇO APROXIMADA DE 30KG/M³. AF_03/2024"},{"$f":"IF(ISNUMBER($L309),OFFSET(Banco!$A$1,Composições!$L309-1,COLUMN(Composições!E309)-1),\"\")","v":"M3"},536.6,555.86,0.2545,{"$f":"IF(ISNUMBER($L309),VALUE(OFFSET(Banco!$A$1,Composições!$L309-1,COLUMN(Composições!I309)-4)),0)","v":2108.4499999999998},{"$f":"IF(ISNUMBER($L309),VALUE(OFFSET(Banco!$A$1,Composições!$L309-1,COLUMN(Composições!J309)-4)),0)","v":2184.14},{"$f":"COUNTA($A$1:$A309)-1","v":34},{"$f":"MATCH(CONCATENATE($B309,\" \",$C309),Banco!$A:$A,0)","v":9824},{"$f":"IF(OR(ISERROR($L309),$H309=\"\",$H309=0),\"\",OFFSET(M$1,MATCH($K309,$K$1:$K309,0)-1,0))","v":"F"},null,{"$f":"IF(ISNUMBER($L309),VALUE(OFFSET(Banco!$A$1,Composições!$L309-1,COLUMN(Composições!O309)-6)),0)","v":5.9900000000000002E-2},{"$f":"IF(ISNUMBER($L309),VALUE(OFFSET(Banco!$A$1,Composições!$L309-1,COLUMN(Composições!P309)-6)),0)","v":5.7799999999999997E-2},32.14,32.130000000000003]
[null,"SINAPI",101624,{"$f":"IF(ISNUMBER($L310),OFFSET(Banco!$A$1,Composições!$L310-1,COLUMN(Composições!D310)-1),\"\")","v":"PREPARO DE FUNDO DE VALA COM LARGURA MAIOR OU IGUAL A 1,5 M E MENOR QUE 2,5 M, COM CAMADA DE BRITA, LANÇAMENTO MECANIZADO. AF_08/2020"},{"$f":"IF(ISNUMBER($L310),OFFSET(Banco!$A$1,Composições!$L310-1,COLUMN(Composições!E310)-1),\"\")","v":"M3"},8.7899999999999991,9.06,5.2999999999999999E-2,{"$f":"IF(ISNUMBER($L310),VALUE(OFFSET(Banco!$A$1,Composições!$L310-1,COLUMN(Composições!I310)-4)),0)","v":165.89},{"$f":"IF(ISNUMBER($L310),VALUE(OFFSET(Banco!$A$1,Composições!$L310-1,COLUMN(Composições!J310)-4)),0)","v":170.93},{"$f":"COUNTA($A$1:$A310)-1","v":34},{"$f":"MATCH(CONCATENATE($B310,\" \",$C310),Banco!$A:$A,0)","v":9489},{"$f":"IF(OR(ISERROR($L310),$H310=\"\",$H310=0),\"\",OFFSET(M$1,MATCH($K310,$K$1:$K310,0)-1,0))","v":"F"},null,{"$f":"IF(ISNUMBER($L310),VALUE(OFFSET(Banco!$A$1,Composições!$L310-1,COLUMN(Composições!O310)-6)),0)","v":5.0000000000000001E-4},{"$f":"IF(ISNUMBER($L310),VALUE(OFFSET(Banco!$A$1,Composições!$L310-1,COLUMN(Composições!P310)-6)),0)","v":5.0000000000000001E-4},0,0]
[null,"SINAPI",96620,{"$f":"IF(ISNUMBER($L311),OFFSET(Banco!$A$1,Composições!$L311-1,COLUMN(Composições!D311)-1),\"\")","v":"LASTRO DE CONCRETO MAGRO, APLICADO EM PISOS, LAJES SOBRE SOLO OU RADIERS. AF_01/2024"},{"$f":"IF(ISNUMBER($L311),OFFSET(Banco!$A$1,Composições!$L311-1,COLUMN(Composições!E311)-1),\"\")","v":"M3"},93.63,97.28,0.124,{"$f":"IF(ISNUMBER($L311),VALUE(OFFSET(Banco!$A$1,Composições!$L311-1,COLUMN(Composições!I311)-4)),0)","v":755.07},{"$f":"IF(ISNUMBER($L311),VALUE(OFFSET(Banco!$A$1,Composições!$L311-1,COLUMN(Composições!J311)-4)),0)","v":784.53},{"$f":"COUNTA($A$1:$A311)-1","v":34},{"$f":"MATCH(CONCATENATE($B311,\" \",$C311),Banco!$A:$A,0)","v":12773},{"$f":"IF(OR(ISERROR($L311),$H311=\"\",$H311=0),\"\",OFFSET(M$1,MATCH($K311,$K$1:$K311,0)-1,0))","v":"F"},null,{"$f":"IF(ISNUMBER($L311),VALUE(OFFSET(Banco!$A$1,Composições!$L311-1,COLUMN(Composições!O311)-6)),0)","v":0},{"$f":"IF(ISNUMBER($L311),VALUE(OFFSET(Banco!$A$1,Composições!$L311-1,COLUMN(Composições!P311)-6)),0)","v":0},0,0]
[null,"SINAPI",89480,{"$f":"IF(ISNUMBER($L312),OFFSET(Banco!$A$1,Composições!$L312-1,COLUMN(Composições!D312)-1),\"\")","v":"ALVENARIA DE BLOCOS DE CONCRETO ESTRUTURAL 14X19X29 CM (ESPESSURA 14 CM), FBK = 14 MPA, UTILIZANDO COLHER DE PEDREIRO. AF_10/2022"},{"$f":"IF(ISNUMBER($L312),OFFSET(Banco!$A$1,Composições!$L312-1,COLUMN(Composições!E312)-1),\"\")","v":"M2"},207.5,215.2,1.32,{"$f":"IF(ISNUMBER($L312),VALUE(OFFSET(Banco!$A$1,Composições!$L312-1,COLUMN(Composições!I312)-4)),0)","v":157.19999999999999},{"$f":"IF(ISNUMBER($L312),VALUE(OFFSET(Banco!$A$1,Composições!$L312-1,COLUMN(Composições!J312)-4)),0)","v":163.03},{"$f":"COUNTA($A$1:$A312)-1","v":34},{"$f":"MATCH(CONCATENATE($B312,\" \",$C312),Banco!$A:$A,0)","v":6105},{"$f":"IF(OR(ISERROR($L312),$H312=\"\",$H312=0),\"\",OFFSET(M$1,MATCH($K312,$K$1:$K312,0)-1,0))","v":"F"},null,{"$f":"IF(ISNUMBER($L312),VALUE(OFFSET(Banco!$A$1,Composições!$L312-1,COLUMN(Composições!O312)-6)),0)","v":0},{"$f":"IF(ISNUMBER($L312),VALUE(OFFSET(Banco!$A$1,Composições!$L312-1,COLUMN(Composições!P312)-6)),0)","v":0},0,0]
[null,"SINAPI",102312,{"$f":"IF(ISNUMBER($L313),OFFSET(Banco!$A$1,Composições!$L313-1,COLUMN(Composições!D313)-1),\"\")","v":"ESCAVAÇÃO MECANIZADA DE VALA COM PROF. DE 3,0 M ATÉ 4,5 M (MÉDIA MONTANTE E JUSANTE/UMA COMPOSIÇÃO POR TRECHO), ESCAVADEIRA (1,2 M3), LARG. DE 1,5 M A 2,5 M, EM SOLO DE 2A CATEGORIA, EM LOCAIS COM ALTO NÍVEL DE INTERFERÊNCIA. AF_09/2024"},{"$f":"IF(ISNUMBER($L313),OFFSET(Banco!$A$1,Composições!$L313-1,COLUMN(Composições!E313)-1),\"\")","v":"M3"},129.94999999999999,132.99,11.28,{"$f":"IF(ISNUMBER($L313),VALUE(OFFSET(Banco!$A$1,Composições!$L313-1,COLUMN(Composições!I313)-4)),0)","v":11.52},{"$f":"IF(ISNUMBER($L313),VALUE(OFFSET(Banco!$A$1,Composições!$L313-1,COLUMN(Composições!J313)-4)),0)","v":11.79},{"$f":"COUNTA($A$1:$A313)-1","v":34},{"$f":"MATCH(CONCATENATE($B313,\" \",$C313),Banco!$A:$A,0)","v":9374},{"$f":"IF(OR(ISERROR($L313),$H313=\"\",$H313=0),\"\",OFFSET(M$1,MATCH($K313,$K$1:$K313,0)-1,0))","v":"F"},null,{"$f":"IF(ISNUMBER($L313),VALUE(OFFSET(Banco!$A$1,Composições!$L313-1,COLUMN(Composições!O313)-6)),0)","v":0},{"$f":"IF(ISNUMBER($L313),VALUE(OFFSET(Banco!$A$1,Composições!$L313-1,COLUMN(Composições!P313)-6)),0)","v":0},0,0]
[null,"COMPOSIÇÃO","INHI.0215.01",{"$f":"IF(ISNUMBER($L314),OFFSET(Banco!$A$1,Composições!$L314-1,COLUMN(Composições!D314)-1),\"\")","v":"(COMPOSIÇÃO REPRESENTATIVA) DO SERVIÇO DE INST. TUBO PVC, SÉRIE N, ESGOTO PREDIAL, 100 MM (INST. RAMAL DESCARGA, RAMAL DE ESG. SANIT., PRUMADA ESG. SANIT., VENTILAÇÃO OU SUB-COLETOR AÉREO), INCL. CONEXÕES E CORTES, FIXAÇÕES, P/ PRÉDIOS."},{"$f":"IF(ISNUMBER($L314),OFFSET(Banco!$A$1,Composições!$L314-1,COLUMN(Composições!E314)-1),\"\")","v":"M"},280.3,292.79000000000002,3.42,{"$f":"IF(ISNUMBER($L314),VALUE(OFFSET(Banco!$A$1,Composições!$L314-1,COLUMN(Composições!I314)-4)),0)","v":81.960000000000008},{"$f":"IF(ISNUMBER($L314),VALUE(OFFSET(Banco!$A$1,Composições!$L314-1,COLUMN(Composições!J314)-4)),0)","v":85.609999999999985},{"$f":"COUNTA($A$1:$A314)-1","v":34},{"$f":"MATCH(CONCATENATE($B314,\" \",$C314),Banco!$A:$A,0)","v":38},{"$f":"IF(OR(ISERROR($L314),$H314=\"\",$H314=0),\"\",OFFSET(M$1,MATCH($K314,$K$1:$K314,0)-1,0))","v":"F"},null,{"$f":"IF(ISNUMBER($L314),VALUE(OFFSET(Banco!$A$1,Composições!$L314-1,COLUMN(Composições!O314)-6)),0)","v":1.6999999999999999E-3},{"$f":"IF(ISNUMBER($L314),VALUE(OFFSET(Banco!$A$1,Composições!$L314-1,COLUMN(Composições!P314)-6)),0)","v":1.6000000000000001E-3},0.48,0.47]
[null,"SINAPI",97734,{"$f":"IF(ISNUMBER($L315),OFFSET(Banco!$A$1,Composições!$L315-1,COLUMN(Composições!D315)-1),\"\")","v":"PEÇA RETANGULAR PRÉ-MOLDADA, VOLUME DE CONCRETO DE 10 A 30 LITROS, TAXA DE AÇO APROXIMADA DE 30KG/M³. AF_03/2024"},{"$f":"IF(ISNUMBER($L315),OFFSET(Banco!$A$1,Composições!$L315-1,COLUMN(Composições!E315)-1),\"\")","v":"M3"},84.04,89.2,2.52E-2,{"$f":"IF(ISNUMBER($L315),VALUE(OFFSET(Banco!$A$1,Composições!$L315-1,COLUMN(Composições!I315)-4)),0)","v":3334.74},{"$f":"IF(ISNUMBER($L315),VALUE(OFFSET(Banco!$A$1,Composições!$L315-1,COLUMN(Composições!J315)-4)),0)","v":3539.66},{"$f":"COUNTA($A$1:$A315)-1","v":34},{"$f":"MATCH(CONCATENATE($B315,\" \",$C315),Banco!$A:$A,0)","v":9828},{"$f":"IF(OR(ISERROR($L315),$H315=\"\",$H315=0),\"\",OFFSET(M$1,MATCH($K315,$K$1:$K315,0)-1,0))","v":"F"},null,{"$f":"IF(ISNUMBER($L315),VALUE(OFFSET(Banco!$A$1,Composições!$L315-1,COLUMN(Composições!O315)-6)),0)","v":9.7000000000000003E-3},{"$f":"IF(ISNUMBER($L315),VALUE(OFFSET(Banco!$A$1,Composições!$L315-1,COLUMN(Composições!P315)-6)),0)","v":9.1000000000000004E-3},0.82,0.81]
[null,"SINAPI",97739,{"$f":"IF(ISNUMBER($L316),OFFSET(Banco!$A$1,Composições!$L316-1,COLUMN(Composições!D316)-1),\"\")","v":"PEÇA CIRCULAR PRÉ-MOLDADA, VOLUME DE CONCRETO DE 30 A 100 LITROS, TAXA DE AÇO APROXIMADA DE 30KG/M³. AF_03/2024"},{"$f":"IF(ISNUMBER($L316),OFFSET(Banco!$A$1,Composições!$L316-1,COLUMN(Composições!E316)-1),\"\")","v":"M3"},272.24,286.45999999999998,8.7999999999999995E-2,{"$f":"IF(ISNUMBER($L316),VALUE(OFFSET(Banco!$A$1,Composições!$L316-1,COLUMN(Composições!I316)-4)),0)","v":3093.65},{"$f":"IF(ISNUMBER($L316),VALUE(OFFSET(Banco!$A$1,Composições!$L316-1,COLUMN(Composições!J316)-4)),0)","v":3255.26},{"$f":"COUNTA($A$1:$A316)-1","v":34},{"$f":"MATCH(CONCATENATE($B316,\" \",$C316),Banco!$A:$A,0)","v":9826},{"$f":"IF(OR(ISERROR($L316),$H316=\"\",$H316=0),\"\",OFFSET(M$1,MATCH($K316,$K$1:$K316,0)-1,0))","v":"F"},null,{"$f":"IF(ISNUMBER($L316),VALUE(OFFSET(Banco!$A$1,Composições!$L316-1,COLUMN(Composições!O316)-6)),0)","v":7.7999999999999996E-3},{"$f":"IF(ISNUMBER($L316),VALUE(OFFSET(Banco!$A$1,Composições!$L316-1,COLUMN(Composições!P316)-6)),0)","v":7.4000000000000003E-3},2.12,2.12]
[null,"SINAPI",104737,{"$f":"IF(ISNUMBER($L317),OFFSET(Banco!$A$1,Composições!$L317-1,COLUMN(Composições!D317)-1),\"\")","v":"REATERRO MANUAL DE VALAS, COM PLACA VIBRATÓRIA. AF_08/2023"},{"$f":"IF(ISNUMBER($L317),OFFSET(Banco!$A$1,Composições!$L317-1,COLUMN(Composições!E317)-1),\"\")","v":"M3"},178.83,191.36,6.81,{"$f":"IF(ISNUMBER($L317),VALUE(OFFSET(Banco!$A$1,Composições!$L317-1,COLUMN(Composições!I317)-4)),0)","v":26.26},{"$f":"IF(ISNUMBER($L317),VALUE(OFFSET(Banco!$A$1,Composições!$L317-1,COLUMN(Composições!J317)-4)),0)","v":28.1},{"$f":"COUNTA($A$1:$A317)-1","v":34},{"$f":"MATCH(CONCATENATE($B317,\" \",$C317),Banco!$A:$A,0)","v":6818},{"$f":"IF(OR(ISERROR($L317),$H317=\"\",$H317=0),\"\",OFFSET(M$1,MATCH($K317,$K$1:$K317,0)-1,0))","v":"F"},null,{"$f":"IF(ISNUMBER($L317),VALUE(OFFSET(Banco!$A$1,Composições!$L317-1,COLUMN(Composições!O317)-6)),0)","v":2.5499999999999998E-2},{"$f":"IF(ISNUMBER($L317),VALUE(OFFSET(Banco!$A$1,Composições!$L317-1,COLUMN(Composições!P317)-6)),0)","v":2.3800000000000002E-2},4.5599999999999996,4.55]
[null,"COTAÇÃO",12575,{"$f":"IF(ISNUMBER($L318),OFFSET(Banco!$A$1,Composições!$L318-1,COLUMN(Composições!D318)-1),\"\")","v":"TUBO DE CONCRETO ARMADO PARA AGUAS PLUVIAIS, CLASSE PA-3, COM ENCAIXE PONTA E BOLSA, DIAMETRO NOMINAL DE 1500 MM"},{"$f":"IF(ISNUMBER($L318),OFFSET(Banco!$A$1,Composições!$L318-1,COLUMN(Composições!E318)-1),\"\")","v":"M"},3509.4,3509.4,2,{"$f":"IF(ISNUMBER($L318),VALUE(OFFSET(Banco!$A$1,Composições!$L318-1,COLUMN(Composições!I318)-4)),0)","v":1754.7},{"$f":"IF(ISNUMBER($L318),VALUE(OFFSET(Banco!$A$1,Composições!$L318-1,COLUMN(Composições!J318)-4)),0)","v":1754.7},{"$f":"COUNTA($A$1:$A318)-1","v":34},{"$f":"MATCH(CONCATENATE($B318,\" \",$C318),Banco!$A:$A,0)","v":118},{"$f":"IF(OR(ISERROR($L318),$H318=\"\",$H318=0),\"\",OFFSET(M$1,MATCH($K318,$K$1:$K318,0)-1,0))","v":"F"},null,{"$f":"IF(ISNUMBER($L318),VALUE(OFFSET(Banco!$A$1,Composições!$L318-1,COLUMN(Composições!O318)-6)),0)","v":0},{"$f":"IF(ISNUMBER($L318),VALUE(OFFSET(Banco!$A$1,Composições!$L318-1,COLUMN(Composições!P318)-6)),0)","v":0},0,0]
[null,"SINAPI-I",4722,{"$f":"IF(ISNUMBER($L319),OFFSET(Banco!$A$1,Composições!$L319-1,COLUMN(Composições!D319)-1),\"\")","v":"PEDRA BRITADA N. 3 (38 A 50 MM) POSTO PEDREIRA/FORNECEDOR, SEM FRETE"},{"$f":"IF(ISNUMBER($L319),OFFSET(Banco!$A$1,Composições!$L319-1,COLUMN(Composições!E319)-1),\"\")","v":"M3"},63.6,63.6,1.06,{"$f":"IF(ISNUMBER($L319),VALUE(OFFSET(Banco!$A$1,Composições!$L319-1,COLUMN(Composições!I319)-4)),0)","v":60},{"$f":"IF(ISNUMBER($L319),VALUE(OFFSET(Banco!$A$1,Composições!$L319-1,COLUMN(Composições!J319)-4)),0)","v":60},{"$f":"COUNTA($A$1:$A319)-1","v":34},{"$f":"MATCH(CONCATENATE($B319,\" \",$C319),Banco!$A:$A,0)","v":3389},{"$f":"IF(OR(ISERROR($L319),$H319=\"\",$H319=0),\"\",OFFSET(M$1,MATCH($K319,$K$1:$K319,0)-1,0))","v":"F"},null,{"$f":"IF(ISNUMBER($L319),VALUE(OFFSET(Banco!$A$1,Composições!$L319-1,COLUMN(Composições!O319)-6)),0)","v":0},{"$f":"IF(ISNUMBER($L319),VALUE(OFFSET(Banco!$A$1,Composições!$L319-1,COLUMN(Composições!P319)-6)),0)","v":0},0,0]
[null,"COTAÇÃO",9829,{"$f":"IF(ISNUMBER($L320),OFFSET(Banco!$A$1,Composições!$L320-1,COLUMN(Composições!D320)-1),\"\")","v":"TUBO PVC DEFOFO, JEI, 1 MPA, DN 200 MM, PARA REDE DE AGUA (NBR 7665)"},{"$f":"IF(ISNUMBER($L320),OFFSET(Banco!$A$1,Composições!$L320-1,COLUMN(Composições!E320)-1),\"\")","v":"M"},321.2,321.2,1.39,{"$f":"IF(ISNUMBER($L320),VALUE(OFFSET(Banco!$A$1,Composições!$L320-1,COLUMN(Composições!I320)-4)),0)","v":231.08},{"$f":"IF(ISNUMBER($L320),VALUE(OFFSET(Banco!$A$1,Composições!$L320-1,COLUMN(Composições!J320)-4)),0)","v":231.08},{"$f":"COUNTA($A$1:$A320)-1","v":34},{"$f":"MATCH(CONCATENATE($B320,\" \",$C320),Banco!$A:$A,0)","v":112},{"$f":"IF(OR(ISERROR($L320),$H320=\"\",$H320=0),\"\",OFFSET(M$1,MATCH($K320,$K$1:$K320,0)-1,0))","v":"F"},null,{"$f":"IF(ISNUMBER($L320),VALUE(OFFSET(Banco!$A$1,Composições!$L320-1,COLUMN(Composições!O320)-6)),0)","v":0},{"$f":"IF(ISNUMBER($L320),VALUE(OFFSET(Banco!$A$1,Composições!$L320-1,COLUMN(Composições!P320)-6)),0)","v":0},0,0]
[null,null,null,null,null,null,null,null,null,null,{"$f":"COUNTA($A$1:$A321)-1","v":34},null,{"$f":"IF(OFFSET($M$1,MATCH(OFFSET(K321,-1,0),$K$1:$K321,0)-1,0)=\"F\",\"F\",\"\")","v":"F"}]
[{"$f":"CONCATENATE($B322,\" \",$C322)","v":"Composição INEL.0081.1"},"Composição","INEL.0081.1","ESPELHO/PLACA CEGA PARA CAIXA 4\" X 2\", COM FURO CENTRAL PARA PASSAGEM DE CABOS, PARA LIGAÇÃO DE CHUVEIRO. -FORNECIMENTO E INSTALAÇÃO.","UND.",{"$f":"IF($L322>0,SUM(OFFSET(F322,1,0,$L322),0))","v":15.19},16.23,null,{"$f":"IF(ISERROR(F322),0,F322)","v":15.19},16.23,{"$f":"COUNTA($A$1:$A322)-1","v":35},{"$f":"IF(MAX(K:K)=K322,MATCH(9999999,$K:$K)+1,MATCH(K322+1,K:K,0))-ROW(L322)-2","v":3},{"$f":"IF(AND(OR(I322<>0,J322<>0),N322=\"Sim\"),\"F\",\"\")","v":"F"},"Sim",{"$f":"IF(AND($L322>0,F322<>0),ROUND(SUM(OFFSET(Q322,1,0,$L322))/F322,4),0)","v":0},0]
[null,"SINAPI",88247,{"$f":"IF(ISNUMBER($L323),OFFSET(Banco!$A$1,Composições!$L323-1,COLUMN(Composições!D323)-1),\"\")","v":"AUXILIAR DE ELETRICISTA COM ENCARGOS COMPLEMENTARES"},{"$f":"IF(ISNUMBER($L323),OFFSET(Banco!$A$1,Composições!$L323-1,COLUMN(Composições!E323)-1),\"\")","v":"H"},{"$f":"ROUND($H323*ROUND(I323,2),2)","v":5.71},6.16,0.2,{"$f":"IF(ISNUMBER($L323),VALUE(OFFSET(Banco!$A$1,Composições!$L323-1,COLUMN(Composições!I323)-4)),0)","v":28.53},{"$f":"IF(ISNUMBER($L323),VALUE(OFFSET(Banco!$A$1,Composições!$L323-1,COLUMN(Composições!J323)-4)),0)","v":30.8},{"$f":"COUNTA($A$1:$A323)-1","v":35},{"$f":"MATCH(CONCATENATE($B323,\" \",$C323),Banco!$A:$A,0)","v":12875},{"$f":"IF(OR(ISERROR($L323),$H323=\"\",$H323=0),\"\",OFFSET(M$1,MATCH($K323,$K$1:$K323,0)-1,0))","v":"F"},null,{"$f":"IF(ISNUMBER($L323),VALUE(OFFSET(Banco!$A$1,Composições!$L323-1,COLUMN(Composições!O323)-6)),0)","v":0},{"$f":"IF(ISNUMBER($L323),VALUE(OFFSET(Banco!$A$1,Composições!$L323-1,COLUMN(Composições!P323)-6)),0)","v":0},{"$f":"ROUND(F323*O323,2)","v":0},0]
[null,"SINAPI",88264,{"$f":"IF(ISNUMBER($L324),OFFSET(Banco!$A$1,Composições!$L324-1,COLUMN(Composições!D324)-1),\"\")","v":"ELETRICISTA COM ENCARGOS COMPLEMENTARES"},{"$f":"IF(ISNUMBER($L324),OFFSET(Banco!$A$1,Composições!$L324-1,COLUMN(Composições!E324)-1),\"\")","v":"H"},6.88,7.47,0.2,{"$f":"IF(ISNUMBER($L324),VALUE(OFFSET(Banco!$A$1,Composições!$L324-1,COLUMN(Composições!I324)-4)),0)","v":34.409999999999997},{"$f":"IF(ISNUMBER($L324),VALUE(OFFSET(Banco!$A$1,Composições!$L324-1,COLUMN(Composições!J324)-4)),0)","v":37.369999999999997},{"$f":"COUNTA($A$1:$A324)-1","v":35},{"$f":"MATCH(CONCATENATE($B324,\" \",$C324),Banco!$A:$A,0)","v":13095},{"$f":"IF(OR(ISERROR($L324),$H324=\"\",$H324=0),\"\",OFFSET(M$1,MATCH($K324,$K$1:$K324,0)-1,0))","v":"F"},null,{"$f":"IF(ISNUMBER($L324),VALUE(OFFSET(Banco!$A$1,Composições!$L324-1,COLUMN(Composições!O324)-6)),0)","v":0},{"$f":"IF(ISNUMBER($L324),VALUE(OFFSET(Banco!$A$1,Composições!$L324-1,COLUMN(Composições!P324)-6)),0)","v":0},0,0]
[null,"SINAPI-I",38091,{"$f":"IF(ISNUMBER($L325),OFFSET(Banco!$A$1,Composições!$L325-1,COLUMN(Composições!D325)-1),\"\")","v":"ESPELHO / PLACA CEGA 4\" X 2\", PARA INSTALACAO DE TOMADAS E INTERRUPTORES"},{"$f":"IF(ISNUMBER($L325),OFFSET(Banco!$A$1,Composições!$L325-1,COLUMN(Composições!E325)-1),\"\")","v":"UN"},2.6,2.6,1,{"$f":"IF(ISNUMBER($L325),VALUE(OFFSET(Banco!$A$1,Composições!$L325-1,COLUMN(Composições!I325)-4)),0)","v":2.6},{"$f":"IF(ISNUMBER($L325),VALUE(OFFSET(Banco!$A$1,Composições!$L325-1,COLUMN(Composições!J325)-4)),0)","v":2.6},{"$f":"COUNTA($A$1:$A325)-1","v":35},{"$f":"MATCH(CONCATENATE($B325,\" \",$C325),Banco!$A:$A,0)","v":2074},{"$f":"IF(OR(ISERROR($L325),$H325=\"\",$H325=0),\"\",OFFSET(M$1,MATCH($K325,$K$1:$K325,0)-1,0))","v":"F"},null,{"$f":"IF(ISNUMBER($L325),VALUE(OFFSET(Banco!$A$1,Composições!$L325-1,COLUMN(Composições!O325)-6)),0)","v":0},{"$f":"IF(ISNUMBER($L325),VALUE(OFFSET(Banco!$A$1,Composições!$L325-1,COLUMN(Composições!P325)-6)),0)","v":0},0,0]
[null,null,null,null,null,null,null,null,null,null,{"$f":"COUNTA($A$1:$A326)-1","v":35},null,{"$f":"IF(OFFSET($M$1,MATCH(OFFSET(K326,-1,0),$K$1:$K326,0)-1,0)=\"F\",\"F\",\"\")","v":"F"}]
[{"$f":"CONCATENATE($B327,\" \",$C327)","v":"Composição COMP. 02"},"Composição","COMP. 02","LUMINÁRIA TIPO PLAFON DE SOBREPOR, COR BRANCA, BIVOLT 12W. -FORNECIMENTO E INSTALAÇÃO.","UND.",{"$f":"IF($L327>0,SUM(OFFSET(F327,1,0,$L327),0))","v":42.290000000000006},43.08,null,{"$f":"IF(ISERROR(F327),0,F327)","v":42.290000000000006},43.08,{"$f":"COUNTA($A$1:$A327)-1","v":36},{"$f":"IF(MAX(K:K)=K327,MATCH(9999999,$K:$K)+1,MATCH(K327+1,K:K,0))-ROW(L327)-2","v":3},{"$f":"IF(AND(OR(I327<>0,J327<>0),N327=\"Sim\"),\"F\",\"\")","v":"F"},"Sim",{"$f":"IF(AND($L327>0,F327<>0),ROUND(SUM(OFFSET(Q327,1,0,$L327))/F327,4),0)","v":0},0]
[null,"SINAPI",88264,{"$f":"IF(ISNUMBER($L328),OFFSET(Banco!$A$1,Composições!$L328-1,COLUMN(Composições!D328)-1),\"\")","v":"ELETRICISTA COM ENCARGOS COMPLEMENTARES"},{"$f":"IF(ISNUMBER($L328),OFFSET(Banco!$A$1,Composições!$L328-1,COLUMN(Composições!E328)-1),\"\")","v":"H"},{"$f":"ROUND($H328*ROUND(I328,2),2)","v":5.16},5.61,0.15,{"$f":"IF(ISNUMBER($L328),VALUE(OFFSET(Banco!$A$1,Composições!$L328-1,COLUMN(Composições!I328)-4)),0)","v":34.409999999999997},{"$f":"IF(ISNUMBER($L328),VALUE(OFFSET(Banco!$A$1,Composições!$L328-1,COLUMN(Composições!J328)-4)),0)","v":37.369999999999997},{"$f":"COUNTA($A$1:$A328)-1","v":36},{"$f":"MATCH(CONCATENATE($B328,\" \",$C328),Banco!$A:$A,0)","v":13095},{"$f":"IF(OR(ISERROR($L328),$H328=\"\",$H328=0),\"\",OFFSET(M$1,MATCH($K328,$K$1:$K328,0)-1,0))","v":"F"},null,{"$f":"IF(ISNUMBER($L328),VALUE(OFFSET(Banco!$A$1,Composições!$L328-1,COLUMN(Composições!O328)-6)),0)","v":0},{"$f":"IF(ISNUMBER($L328),VALUE(OFFSET(Banco!$A$1,Composições!$L328-1,COLUMN(Composições!P328)-6)),0)","v":0},{"$f":"ROUND(F328*O328,2)","v":0},0]
[null,"SINAPI",88247,{"$f":"IF(ISNUMBER($L329),OFFSET(Banco!$A$1,Composições!$L329-1,COLUMN(Composições!D329)-1),\"\")","v":"AUXILIAR DE ELETRICISTA COM ENCARGOS COMPLEMENTARES"},{"$f":"IF(ISNUMBER($L329),OFFSET(Banco!$A$1,Composições!$L329-1,COLUMN(Composições!E329)-1),\"\")","v":"H"},4.28,4.62,0.15,{"$f":"IF(ISNUMBER($L329),VALUE(OFFSET(Banco!$A$1,Composições!$L329-1,COLUMN(Composições!I329)-4)),0)","v":28.53},{"$f":"IF(ISNUMBER($L329),VALUE(OFFSET(Banco!$A$1,Composições!$L329-1,COLUMN(Composições!J329)-4)),0)","v":30.8},{"$f":"COUNTA($A$1:$A329)-1","v":36},{"$f":"MATCH(CONCATENATE($B329,\" \",$C329),Banco!$A:$A,0)","v":12875},{"$f":"IF(OR(ISERROR($L329),$H329=\"\",$H329=0),\"\",OFFSET(M$1,MATCH($K329,$K$1:$K329,0)-1,0))","v":"F"},null,{"$f":"IF(ISNUMBER($L329),VALUE(OFFSET(Banco!$A$1,Composições!$L329-1,COLUMN(Composições!O329)-6)),0)","v":0},{"$f":"IF(ISNUMBER($L329),VALUE(OFFSET(Banco!$A$1,Composições!$L329-1,COLUMN(Composições!P329)-6)),0)","v":0},0,0]
[null,"SINAPI-I","39391",{"$f":"IF(ISNUMBER($L330),OFFSET(Banco!$A$1,Composições!$L330-1,COLUMN(Composições!D330)-1),\"\")","v":"LUMINARIA LED REFLETOR RETANGULAR BIVOLT, LUZ BRANCA, 50 W"},{"$f":"IF(ISNUMBER($L330),OFFSET(Banco!$A$1,Composições!$L330-1,COLUMN(Composições!E330)-1),\"\")","v":"UN"},32.85,32.85,1,{"$f":"IF(ISNUMBER($L330),VALUE(OFFSET(Banco!$A$1,Composições!$L330-1,COLUMN(Composições!I330)-4)),0)","v":32.85},{"$f":"IF(ISNUMBER($L330),VALUE(OFFSET(Banco!$A$1,Composições!$L330-1,COLUMN(Composições!J330)-4)),0)","v":32.85},{"$f":"COUNTA($A$1:$A330)-1","v":36},{"$f":"MATCH(CONCATENATE($B330,\" \",$C330),Banco!$A:$A,0)","v":2743},{"$f":"IF(OR(ISERROR($L330),$H330=\"\",$H330=0),\"\",OFFSET(M$1,MATCH($K330,$K$1:$K330,0)-1,0))","v":"F"},null,{"$f":"IF(ISNUMBER($L330),VALUE(OFFSET(Banco!$A$1,Composições!$L330-1,COLUMN(Composições!O330)-6)),0)","v":0},{"$f":"IF(ISNUMBER($L330),VALUE(OFFSET(Banco!$A$1,Composições!$L330-1,COLUMN(Composições!P330)-6)),0)","v":0},0,0]
[null,null,null,null,null,null,null,null,null,null,{"$f":"COUNTA($A$1:$A331)-1","v":36},null,{"$f":"IF(OFFSET($M$1,MATCH(OFFSET(K331,-1,0),$K$1:$K331,0)-1,0)=\"F\",\"F\",\"\")","v":"F"}]
[{"$f":"CONCATENATE($B332,\" \",$C332)","v":"Composição FUES.0097.01"},"Composição","FUES.0097.01","COMPOSIÇÃO REPRESENTATIVA DE VERGA E CONTRA-VERGA 14X10 (LxH) PRÉ-MOLDADA PARA ESQUADRIAS - FORNECIMENTO E INSTALAÇÃO","M",{"$f":"IF($L332>0,SUM(OFFSET(F332,1,0,$L332),0))","v":39.19},40.020000000000003,null,{"$f":"IF(ISERROR(F332),0,F332)","v":39.19},40.020000000000003,{"$f":"COUNTA($A$1:$A332)-1","v":37},{"$f":"IF(MAX(K:K)=K332,MATCH(9999999,$K:$K)+1,MATCH(K332+1,K:K,0))-ROW(L332)-2","v":8},{"$f":"IF(AND(OR(I332<>0,J332<>0),N332=\"Sim\"),\"F\",\"\")","v":"F"},"Sim",{"$f":"IF(AND($L332>0,F332<>0),ROUND(SUM(OFFSET(Q332,1,0,$L332))/F332,4),0)","v":0},0]
[null,"SINAPI",87294,{"$f":"IF(ISNUMBER($L333),OFFSET(Banco!$A$1,Composições!$L333-1,COLUMN(Composições!D333)-1),\"\")","v":"ARGAMASSA TRAÇO 1:2:9 (EM VOLUME DE CIMENTO, CAL E AREIA MÉDIA ÚMIDA) PARA EMBOÇO/MASSA ÚNICA/ASSENTAMENTO DE ALVENARIA DE VEDAÇÃO, PREPARO MECÂNICO COM BETONEIRA 600 L. AF_08/2019"},{"$f":"IF(ISNUMBER($L333),OFFSET(Banco!$A$1,Composições!$L333-1,COLUMN(Composições!E333)-1),\"\")","v":"M3"},{"$f":"ROUND($H333*ROUND(I333,2),2)","v":1.02},1.04,1.9E-3,{"$f":"IF(ISNUMBER($L333),VALUE(OFFSET(Banco!$A$1,Composições!$L333-1,COLUMN(Composições!I333)-4)),0)","v":535.85},{"$f":"IF(ISNUMBER($L333),VALUE(OFFSET(Banco!$A$1,Composições!$L333-1,COLUMN(Composições!J333)-4)),0)","v":547.11},{"$f":"COUNTA($A$1:$A333)-1","v":37},{"$f":"MATCH(CONCATENATE($B333,\" \",$C333),Banco!$A:$A,0)","v":6237},{"$f":"IF(OR(ISERROR($L333),$H333=\"\",$H333=0),\"\",OFFSET(M$1,MATCH($K333,$K$1:$K333,0)-1,0))","v":"F"},null,{"$f":"IF(ISNUMBER($L333),VALUE(OFFSET(Banco!$A$1,Composições!$L333-1,COLUMN(Composições!O333)-6)),0)","v":0},{"$f":"IF(ISNUMBER($L333),VALUE(OFFSET(Banco!$A$1,Composições!$L333-1,COLUMN(Composições!P333)-6)),0)","v":0},{"$f":"ROUND(F333*O333,2)","v":0},0]
[null,"SINAPI",88309,{"$f":"IF(ISNUMBER($L334),OFFSET(Banco!$A$1,Composições!$L334-1,COLUMN(Composições!D334)-1),\"\")","v":"PEDREIRO COM ENCARGOS COMPLEMENTARES"},{"$f":"IF(ISNUMBER($L334),OFFSET(Banco!$A$1,Composições!$L334-1,COLUMN(Composições!E334)-1),\"\")","v":"H"},1.97,2.14,5.8000000000000003E-2,{"$f":"IF(ISNUMBER($L334),VALUE(OFFSET(Banco!$A$1,Composições!$L334-1,COLUMN(Composições!I334)-4)),0)","v":33.99},{"$f":"IF(ISNUMBER($L334),VALUE(OFFSET(Banco!$A$1,Composições!$L334-1,COLUMN(Composições!J334)-4)),0)","v":36.909999999999997},{"$f":"COUNTA($A$1:$A334)-1","v":37},{"$f":"MATCH(CONCATENATE($B334,\" \",$C334),Banco!$A:$A,0)","v":13185},{"$f":"IF(OR(ISERROR($L334),$H334=\"\",$H334=0),\"\",OFFSET(M$1,MATCH($K334,$K$1:$K334,0)-1,0))","v":"F"},null,{"$f":"IF(ISNUMBER($L334),VALUE(OFFSET(Banco!$A$1,Composições!$L334-1,COLUMN(Composições!O334)-6)),0)","v":0},{"$f":"IF(ISNUMBER($L334),VALUE(OFFSET(Banco!$A$1,Composições!$L334-1,COLUMN(Composições!P334)-6)),0)","v":0},0,0]
[null,"SINAPI",88316,{"$f":"IF(ISNUMBER($L335),OFFSET(Banco!$A$1,Composições!$L335-1,COLUMN(Composições!D335)-1),\"\")","v":"SERVENTE COM ENCARGOS COMPLEMENTARES"},{"$f":"IF(ISNUMBER($L335),OFFSET(Banco!$A$1,Composições!$L335-1,COLUMN(Composições!E335)-1),\"\")","v":"H"},2.29,2.4700000000000002,8.5999999999999993E-2,{"$f":"IF(ISNUMBER($L335),VALUE(OFFSET(Banco!$A$1,Composições!$L335-1,COLUMN(Composições!I335)-4)),0)","v":26.65},{"$f":"IF(ISNUMBER($L335),VALUE(OFFSET(Banco!$A$1,Composições!$L335-1,COLUMN(Composições!J335)-4)),0)","v":28.71},{"$f":"COUNTA($A$1:$A335)-1","v":37},{"$f":"MATCH(CONCATENATE($B335,\" \",$C335),Banco!$A:$A,0)","v":13198},{"$f":"IF(OR(ISERROR($L335),$H335=\"\",$H335=0),\"\",OFFSET(M$1,MATCH($K335,$K$1:$K335,0)-1,0))","v":"F"},null,{"$f":"IF(ISNUMBER($L335),VALUE(OFFSET(Banco!$A$1,Composições!$L335-1,COLUMN(Composições!O335)-6)),0)","v":0},{"$f":"IF(ISNUMBER($L335),VALUE(OFFSET(Banco!$A$1,Composições!$L335-1,COLUMN(Composições!P335)-6)),0)","v":0},0,0]
[null,"SINAPI",92270,{"$f":"IF(ISNUMBER($L336),OFFSET(Banco!$A$1,Composições!$L336-1,COLUMN(Composições!D336)-1),\"\")","v":"FABRICAÇÃO DE FÔRMA PARA VIGAS, COM MADEIRA SERRADA, E = 25 MM. AF_09/2020"},{"$f":"IF(ISNUMBER($L336),OFFSET(Banco!$A$1,Composições!$L336-1,COLUMN(Composições!E336)-1),\"\")","v":"M2"},17,17.3,8.5000000000000006E-2,{"$f":"IF(ISNUMBER($L336),VALUE(OFFSET(Banco!$A$1,Composições!$L336-1,COLUMN(Composições!I336)-4)),0)","v":200.02},{"$f":"IF(ISNUMBER($L336),VALUE(OFFSET(Banco!$A$1,Composições!$L336-1,COLUMN(Composições!J336)-4)),0)","v":203.51},{"$f":"COUNTA($A$1:$A336)-1","v":37},{"$f":"MATCH(CONCATENATE($B336,\" \",$C336),Banco!$A:$A,0)","v":10118},{"$f":"IF(OR(ISERROR($L336),$H336=\"\",$H336=0),\"\",OFFSET(M$1,MATCH($K336,$K$1:$K336,0)-1,0))","v":"F"},null,{"$f":"IF(ISNUMBER($L336),VALUE(OFFSET(Banco!$A$1,Composições!$L336-1,COLUMN(Composições!O336)-6)),0)","v":0},{"$f":"IF(ISNUMBER($L336),VALUE(OFFSET(Banco!$A$1,Composições!$L336-1,COLUMN(Composições!P336)-6)),0)","v":0},0,0]
[null,"SINAPI",94970,{"$f":"IF(ISNUMBER($L337),OFFSET(Banco!$A$1,Composições!$L337-1,COLUMN(Composições!D337)-1),\"\")","v":"CONCRETO FCK = 20MPA, TRAÇO 1:2,7:3 (EM MASSA SECA DE CIMENTO/ AREIA MÉDIA/ BRITA 1) - PREPARO MECÂNICO COM BETONEIRA 600 L. AF_05/2021"},{"$f":"IF(ISNUMBER($L337),OFFSET(Banco!$A$1,Composições!$L337-1,COLUMN(Composições!E337)-1),\"\")","v":"M3"},7.61,7.73,1.6799999999999999E-2,{"$f":"IF(ISNUMBER($L337),VALUE(OFFSET(Banco!$A$1,Composições!$L337-1,COLUMN(Composições!I337)-4)),0)","v":452.78},{"$f":"IF(ISNUMBER($L337),VALUE(OFFSET(Banco!$A$1,Composições!$L337-1,COLUMN(Composições!J337)-4)),0)","v":460.32},{"$f":"COUNTA($A$1:$A337)-1","v":37},{"$f":"MATCH(CONCATENATE($B337,\" \",$C337),Banco!$A:$A,0)","v":14380},{"$f":"IF(OR(ISERROR($L337),$H337=\"\",$H337=0),\"\",OFFSET(M$1,MATCH($K337,$K$1:$K337,0)-1,0))","v":"F"},null,{"$f":"IF(ISNUMBER($L337),VALUE(OFFSET(Banco!$A$1,Composições!$L337-1,COLUMN(Composições!O337)-6)),0)","v":0},{"$f":"IF(ISNUMBER($L337),VALUE(OFFSET(Banco!$A$1,Composições!$L337-1,COLUMN(Composições!P337)-6)),0)","v":0},0,0]
[null,"SINAPI",92802,{"$f":"IF(ISNUMBER($L338),OFFSET(Banco!$A$1,Composições!$L338-1,COLUMN(Composições!D338)-1),\"\")","v":"CORTE E DOBRA DE AÇO CA-50, DIÂMETRO DE 8,0 MM. AF_06/2022"},{"$f":"IF(ISNUMBER($L338),OFFSET(Banco!$A$1,Composições!$L338-1,COLUMN(Composições!E338)-1),\"\")","v":"KG"},7.94,7.98,0.79,{"$f":"IF(ISNUMBER($L338),VALUE(OFFSET(Banco!$A$1,Composições!$L338-1,COLUMN(Composições!I338)-4)),0)","v":10.050000000000001},{"$f":"IF(ISNUMBER($L338),VALUE(OFFSET(Banco!$A$1,Composições!$L338-1,COLUMN(Composições!J338)-4)),0)","v":10.1},{"$f":"COUNTA($A$1:$A338)-1","v":37},{"$f":"MATCH(CONCATENATE($B338,\" \",$C338),Banco!$A:$A,0)","v":6415},{"$f":"IF(OR(ISERROR($L338),$H338=\"\",$H338=0),\"\",OFFSET(M$1,MATCH($K338,$K$1:$K338,0)-1,0))","v":"F"},null,{"$f":"IF(ISNUMBER($L338),VALUE(OFFSET(Banco!$A$1,Composições!$L338-1,COLUMN(Composições!O338)-6)),0)","v":0},{"$f":"IF(ISNUMBER($L338),VALUE(OFFSET(Banco!$A$1,Composições!$L338-1,COLUMN(Composições!P338)-6)),0)","v":0},0,0]
[null,"SINAPI-I",2692,{"$f":"IF(ISNUMBER($L339),OFFSET(Banco!$A$1,Composições!$L339-1,COLUMN(Composições!D339)-1),\"\")","v":"DESMOLDANTE PROTETOR PARA FORMAS DE MADEIRA, DE BASE OLEOSA EMULSIONADA EM AGUA"},{"$f":"IF(ISNUMBER($L339),OFFSET(Banco!$A$1,Composições!$L339-1,COLUMN(Composições!E339)-1),\"\")","v":"L"},0.04,0.04,7.0000000000000001E-3,{"$f":"IF(ISNUMBER($L339),VALUE(OFFSET(Banco!$A$1,Composições!$L339-1,COLUMN(Composições!I339)-4)),0)","v":6.31},{"$f":"IF(ISNUMBER($L339),VALUE(OFFSET(Banco!$A$1,Composições!$L339-1,COLUMN(Composições!J339)-4)),0)","v":6.31},{"$f":"COUNTA($A$1:$A339)-1","v":37},{"$f":"MATCH(CONCATENATE($B339,\" \",$C339),Banco!$A:$A,0)","v":1817},{"$f":"IF(OR(ISERROR($L339),$H339=\"\",$H339=0),\"\",OFFSET(M$1,MATCH($K339,$K$1:$K339,0)-1,0))","v":"F"},null,{"$f":"IF(ISNUMBER($L339),VALUE(OFFSET(Banco!$A$1,Composições!$L339-1,COLUMN(Composições!O339)-6)),0)","v":0},{"$f":"IF(ISNUMBER($L339),VALUE(OFFSET(Banco!$A$1,Composições!$L339-1,COLUMN(Composições!P339)-6)),0)","v":0},0,0]
[null,"COTAÇÃO",39017,{"$f":"IF(ISNUMBER($L340),OFFSET(Banco!$A$1,Composições!$L340-1,COLUMN(Composições!D340)-1),\"\")","v":"ESPACADOR / DISTANCIADOR CIRCULAR COM ENTRADA LATERAL, EM PLASTICO, PARA VERGALHAO *4,2 A 12,5* MM, COBRIMENTO 20 MM"},{"$f":"IF(ISNUMBER($L340),OFFSET(Banco!$A$1,Composições!$L340-1,COLUMN(Composições!E340)-1),\"\")","v":"UN"},1.32,1.32,6,{"$f":"IF(ISNUMBER($L340),VALUE(OFFSET(Banco!$A$1,Composições!$L340-1,COLUMN(Composições!I340)-4)),0)","v":0.22},{"$f":"IF(ISNUMBER($L340),VALUE(OFFSET(Banco!$A$1,Composições!$L340-1,COLUMN(Composições!J340)-4)),0)","v":0.22},{"$f":"COUNTA($A$1:$A340)-1","v":37},{"$f":"MATCH(CONCATENATE($B340,\" \",$C340),Banco!$A:$A,0)","v":121},{"$f":"IF(OR(ISERROR($L340),$H340=\"\",$H340=0),\"\",OFFSET(M$1,MATCH($K340,$K$1:$K340,0)-1,0))","v":"F"},null,{"$f":"IF(ISNUMBER($L340),VALUE(OFFSET(Banco!$A$1,Composições!$L340-1,COLUMN(Composições!O340)-6)),0)","v":0},{"$f":"IF(ISNUMBER($L340),VALUE(OFFSET(Banco!$A$1,Composições!$L340-1,COLUMN(Composições!P340)-6)),0)","v":0},0,0]
[null,null,null,null,null,null,null,null,null,null,{"$f":"COUNTA($A$1:$A341)-1","v":37},null,{"$f":"IF(OFFSET($M$1,MATCH(OFFSET(K341,-1,0),$K$1:$K341,0)-1,0)=\"F\",\"F\",\"\")","v":"F"}]
[{"$f":"CONCATENATE($B342,\" \",$C342)","v":"Composição ESQV.0052.01"},"Composição","ESQV.0052.01","JANELA DE VIDRO TEMPERADO 8 MM INCOLOR, INCLUSO PERFIS DE ALUMÍNIO (COR CONFORME PROJETO) E FERRAGENS - FORNECIMENTO E INSTALAÇÃO","m²",{"$f":"IF($L342>0,SUM(OFFSET(F342,1,0,$L342),0))","v":678.97},697.64,null,{"$f":"IF(ISERROR(F342),0,F342)","v":678.97},697.64,{"$f":"COUNTA($A$1:$A342)-1","v":38},{"$f":"IF(MAX(K:K)=K342,MATCH(9999999,$K:$K)+1,MATCH(K342+1,K:K,0))-ROW(L342)-2","v":3},{"$f":"IF(AND(OR(I342<>0,J342<>0),N342=\"Sim\"),\"F\",\"\")","v":"F"},"Sim",{"$f":"IF(AND($L342>0,F342<>0),ROUND(SUM(OFFSET(Q342,1,0,$L342))/F342,4),0)","v":0},0]
[null,"SINAPI",102180,{"$f":"IF(ISNUMBER($L343),OFFSET(Banco!$A$1,Composições!$L343-1,COLUMN(Composições!D343)-1),\"\")","v":"INSTALAÇÃO DE VIDRO TEMPERADO, E = 8 MM, ENCAIXADO EM PERFIL U. AF_01/2021_PS"},{"$f":"IF(ISNUMBER($L343),OFFSET(Banco!$A$1,Composições!$L343-1,COLUMN(Composições!E343)-1),\"\")","v":"M2"},{"$f":"ROUND($H343*ROUND(I343,2),2)","v":494.77},502.26,1,{"$f":"IF(ISNUMBER($L343),VALUE(OFFSET(Banco!$A$1,Composições!$L343-1,COLUMN(Composições!I343)-4)),0)","v":494.77},{"$f":"IF(ISNUMBER($L343),VALUE(OFFSET(Banco!$A$1,Composições!$L343-1,COLUMN(Composições!J343)-4)),0)","v":502.26},{"$f":"COUNTA($A$1:$A343)-1","v":38},{"$f":"MATCH(CONCATENATE($B343,\" \",$C343),Banco!$A:$A,0)","v":15640},{"$f":"IF(OR(ISERROR($L343),$H343=\"\",$H343=0),\"\",OFFSET(M$1,MATCH($K343,$K$1:$K343,0)-1,0))","v":"F"},null,{"$f":"IF(ISNUMBER($L343),VALUE(OFFSET(Banco!$A$1,Composições!$L343-1,COLUMN(Composições!O343)-6)),0)","v":0},{"$f":"IF(ISNUMBER($L343),VALUE(OFFSET(Banco!$A$1,Composições!$L343-1,COLUMN(Composições!P343)-6)),0)","v":0},{"$f":"ROUND(F343*O343,2)","v":0},0]
[null,"SINAPI",95541,{"$f":"IF(ISNUMBER($L344),OFFSET(Banco!$A$1,Composições!$L344-1,COLUMN(Composições!D344)-1),\"\")","v":"FIXAÇÃO DE DUTOS FLEXÍVEIS CIRCULARES, DIÂMETRO 109 MM OU 4\", COM ABRAÇADEIRA METÁLICA FLEXÍVEL FIXADA DIRETAMENTE NA LAJE, SOMENTE MÃO DE OBRA. AF_09/2023"},{"$f":"IF(ISNUMBER($L344),OFFSET(Banco!$A$1,Composições!$L344-1,COLUMN(Composições!E344)-1),\"\")","v":"UN"},128.1,139.28,4.3,{"$f":"IF(ISNUMBER($L344),VALUE(OFFSET(Banco!$A$1,Composições!$L344-1,COLUMN(Composições!I344)-4)),0)","v":29.79},{"$f":"IF(ISNUMBER($L344),VALUE(OFFSET(Banco!$A$1,Composições!$L344-1,COLUMN(Composições!J344)-4)),0)","v":32.39},{"$f":"COUNTA($A$1:$A344)-1","v":38},{"$f":"MATCH(CONCATENATE($B344,\" \",$C344),Banco!$A:$A,0)","v":14488},{"$f":"IF(OR(ISERROR($L344),$H344=\"\",$H344=0),\"\",OFFSET(M$1,MATCH($K344,$K$1:$K344,0)-1,0))","v":"F"},null,{"$f":"IF(ISNUMBER($L344),VALUE(OFFSET(Banco!$A$1,Composições!$L344-1,COLUMN(Composições!O344)-6)),0)","v":0},{"$f":"IF(ISNUMBER($L344),VALUE(OFFSET(Banco!$A$1,Composições!$L344-1,COLUMN(Composições!P344)-6)),0)","v":0},0,0]
[null,"SINAPI-I",38165,{"$f":"IF(ISNUMBER($L345),OFFSET(Banco!$A$1,Composições!$L345-1,COLUMN(Composições!D345)-1),\"\")","v":"FECHO / FECHADURA COM PUXADOR CONCHA, COM TRANCA TIPO TRAVA, PARA JANELA / PORTA DE CORRER (INCLUI TESTA, FECHADURA, PUXADOR) - COMPLETA"},{"$f":"IF(ISNUMBER($L345),OFFSET(Banco!$A$1,Composições!$L345-1,COLUMN(Composições!E345)-1),\"\")","v":"CJ"},56.1,56.1,0.83299999999999996,{"$f":"IF(ISNUMBER($L345),VALUE(OFFSET(Banco!$A$1,Composições!$L345-1,COLUMN(Composições!I345)-4)),0)","v":67.349999999999994},{"$f":"IF(ISNUMBER($L345),VALUE(OFFSET(Banco!$A$1,Composições!$L345-1,COLUMN(Composições!J345)-4)),0)","v":67.349999999999994},{"$f":"COUNTA($A$1:$A345)-1","v":38},{"$f":"MATCH(CONCATENATE($B345,\" \",$C345),Banco!$A:$A,0)","v":2139},{"$f":"IF(OR(ISERROR($L345),$H345=\"\",$H345=0),\"\",OFFSET(M$1,MATCH($K345,$K$1:$K345,0)-1,0))","v":"F"},null,{"$f":"IF(ISNUMBER($L345),VALUE(OFFSET(Banco!$A$1,Composições!$L345-1,COLUMN(Composições!O345)-6)),0)","v":0},{"$f":"IF(ISNUMBER($L345),VALUE(OFFSET(Banco!$A$1,Composições!$L345-1,COLUMN(Composições!P345)-6)),0)","v":0},0,0]
[null,null,null,null,null,null,null,null,null,null,{"$f":"COUNTA($A$1:$A346)-1","v":38},null,{"$f":"IF(OFFSET($M$1,MATCH(OFFSET(K346,-1,0),$K$1:$K346,0)-1,0)=\"F\",\"F\",\"\")","v":"F"}]
[{"$f":"CONCATENATE($B347,\" \",$C347)","v":"Composição ESQV.0013.01"},"Composição","ESQV.0013.01","GRADE DE FERRO COM VERGALHÃO LISO 5/16\" E CANTONEIRA DE ABAS IGUAIS 1\" #1/8\", INCLUSO PINTURA ESMALTE FOSCO","m²",{"$f":"IF($L347>0,SUM(OFFSET(F347,1,0,$L347),0))","v":239.83},249.99,null,{"$f":"IF(ISERROR(F347),0,F347)","v":239.83},249.99,{"$f":"COUNTA($A$1:$A347)-1","v":39},{"$f":"IF(MAX(K:K)=K347,MATCH(9999999,$K:$K)+1,MATCH(K347+1,K:K,0))-ROW(L347)-2","v":6},{"$f":"IF(AND(OR(I347<>0,J347<>0),N347=\"Sim\"),\"F\",\"\")","v":"F"},"Sim",{"$f":"IF(AND($L347>0,F347<>0),ROUND(SUM(OFFSET(Q347,1,0,$L347))/F347,4),0)","v":0},0]
[null,"SINAPI",88315,{"$f":"IF(ISNUMBER($L348),OFFSET(Banco!$A$1,Composições!$L348-1,COLUMN(Composições!D348)-1),\"\")","v":"SERRALHEIRO COM ENCARGOS COMPLEMENTARES"},{"$f":"IF(ISNUMBER($L348),OFFSET(Banco!$A$1,Composições!$L348-1,COLUMN(Composições!E348)-1),\"\")","v":"H"},{"$f":"ROUND($H348*ROUND(I348,2),2)","v":50.63},54.98,1.5,{"$f":"IF(ISNUMBER($L348),VALUE(OFFSET(Banco!$A$1,Composições!$L348-1,COLUMN(Composições!I348)-4)),0)","v":33.75},{"$f":"IF(ISNUMBER($L348),VALUE(OFFSET(Banco!$A$1,Composições!$L348-1,COLUMN(Composições!J348)-4)),0)","v":36.65},{"$f":"COUNTA($A$1:$A348)-1","v":39},{"$f":"MATCH(CONCATENATE($B348,\" \",$C348),Banco!$A:$A,0)","v":13196},{"$f":"IF(OR(ISERROR($L348),$H348=\"\",$H348=0),\"\",OFFSET(M$1,MATCH($K348,$K$1:$K348,0)-1,0))","v":"F"},null,{"$f":"IF(ISNUMBER($L348),VALUE(OFFSET(Banco!$A$1,Composições!$L348-1,COLUMN(Composições!O348)-6)),0)","v":0},{"$f":"IF(ISNUMBER($L348),VALUE(OFFSET(Banco!$A$1,Composições!$L348-1,COLUMN(Composições!P348)-6)),0)","v":0},{"$f":"ROUND(F348*O348,2)","v":0},0]
[null,"SINAPI",88316,{"$f":"IF(ISNUMBER($L349),OFFSET(Banco!$A$1,Composições!$L349-1,COLUMN(Composições!D349)-1),\"\")","v":"SERVENTE COM ENCARGOS COMPLEMENTARES"},{"$f":"IF(ISNUMBER($L349),OFFSET(Banco!$A$1,Composições!$L349-1,COLUMN(Composições!E349)-1),\"\")","v":"H"},42.64,45.94,1.6,{"$f":"IF(ISNUMBER($L349),VALUE(OFFSET(Banco!$A$1,Composições!$L349-1,COLUMN(Composições!I349)-4)),0)","v":26.65},{"$f":"IF(ISNUMBER($L349),VALUE(OFFSET(Banco!$A$1,Composições!$L349-1,COLUMN(Composições!J349)-4)),0)","v":28.71},{"$f":"COUNTA($A$1:$A349)-1","v":39},{"$f":"MATCH(CONCATENATE($B349,\" \",$C349),Banco!$A:$A,0)","v":13198},{"$f":"IF(OR(ISERROR($L349),$H349=\"\",$H349=0),\"\",OFFSET(M$1,MATCH($K349,$K$1:$K349,0)-1,0))","v":"F"},null,{"$f":"IF(ISNUMBER($L349),VALUE(OFFSET(Banco!$A$1,Composições!$L349-1,COLUMN(Composições!O349)-6)),0)","v":0},{"$f":"IF(ISNUMBER($L349),VALUE(OFFSET(Banco!$A$1,Composições!$L349-1,COLUMN(Composições!P349)-6)),0)","v":0},0,0]
[null,"SINAPI",88631,{"$f":"IF(ISNUMBER($L350),OFFSET(Banco!$A$1,Composições!$L350-1,COLUMN(Composições!D350)-1),\"\")","v":"ARGAMASSA TRAÇO 1:4 (EM VOLUME DE CIMENTO E AREIA MÉDIA ÚMIDA), PREPARO MANUAL. AF_08/2019"},{"$f":"IF(ISNUMBER($L350),OFFSET(Banco!$A$1,Composições!$L350-1,COLUMN(Composições!E350)-1),\"\")","v":"M3"},2.52,2.59,4.0000000000000001E-3,{"$f":"IF(ISNUMBER($L350),VALUE(OFFSET(Banco!$A$1,Composições!$L350-1,COLUMN(Composições!I350)-4)),0)","v":630.53},{"$f":"IF(ISNUMBER($L350),VALUE(OFFSET(Banco!$A$1,Composições!$L350-1,COLUMN(Composições!J350)-4)),0)","v":647.61},{"$f":"COUNTA($A$1:$A350)-1","v":39},{"$f":"MATCH(CONCATENATE($B350,\" \",$C350),Banco!$A:$A,0)","v":6307},{"$f":"IF(OR(ISERROR($L350),$H350=\"\",$H350=0),\"\",OFFSET(M$1,MATCH($K350,$K$1:$K350,0)-1,0))","v":"F"},null,{"$f":"IF(ISNUMBER($L350),VALUE(OFFSET(Banco!$A$1,Composições!$L350-1,COLUMN(Composições!O350)-6)),0)","v":0},{"$f":"IF(ISNUMBER($L350),VALUE(OFFSET(Banco!$A$1,Composições!$L350-1,COLUMN(Composições!P350)-6)),0)","v":0},0,0]
[null,"SINAPI",100761,{"$f":"IF(ISNUMBER($L351),OFFSET(Banco!$A$1,Composições!$L351-1,COLUMN(Composições!D351)-1),\"\")","v":"PINTURA COM TINTA ALQUÍDICA DE ACABAMENTO (ESMALTE SINTÉTICO FOSCO) PULVERIZADA SOBRE SUPERFÍCIES METÁLICAS (EXCETO PERFIL) EXECUTADO EM OBRA (02 DEMÃOS). AF_01/2020_PE"},{"$f":"IF(ISNUMBER($L351),OFFSET(Banco!$A$1,Composições!$L351-1,COLUMN(Composições!E351)-1),\"\")","v":"M2"},45.42,47.86,0.8,{"$f":"IF(ISNUMBER($L351),VALUE(OFFSET(Banco!$A$1,Composições!$L351-1,COLUMN(Composições!I351)-4)),0)","v":56.78},{"$f":"IF(ISNUMBER($L351),VALUE(OFFSET(Banco!$A$1,Composições!$L351-1,COLUMN(Composições!J351)-4)),0)","v":59.83},{"$f":"COUNTA($A$1:$A351)-1","v":39},{"$f":"MATCH(CONCATENATE($B351,\" \",$C351),Banco!$A:$A,0)","v":14012},{"$f":"IF(OR(ISERROR($L351),$H351=\"\",$H351=0),\"\",OFFSET(M$1,MATCH($K351,$K$1:$K351,0)-1,0))","v":"F"},null,{"$f":"IF(ISNUMBER($L351),VALUE(OFFSET(Banco!$A$1,Composições!$L351-1,COLUMN(Composições!O351)-6)),0)","v":0},{"$f":"IF(ISNUMBER($L351),VALUE(OFFSET(Banco!$A$1,Composições!$L351-1,COLUMN(Composições!P351)-6)),0)","v":0},0,0]
[null,"SINAPI-I",43053,{"$f":"IF(ISNUMBER($L352),OFFSET(Banco!$A$1,Composições!$L352-1,COLUMN(Composições!D352)-1),\"\")","v":"ACO CA-25, 6,3 MM OU 8,0 MM, VERGALHAO"},{"$f":"IF(ISNUMBER($L352),OFFSET(Banco!$A$1,Composições!$L352-1,COLUMN(Composições!E352)-1),\"\")","v":"KG"},61.6,61.6,8,{"$f":"IF(ISNUMBER($L352),VALUE(OFFSET(Banco!$A$1,Composições!$L352-1,COLUMN(Composições!I352)-4)),0)","v":7.7},{"$f":"IF(ISNUMBER($L352),VALUE(OFFSET(Banco!$A$1,Composições!$L352-1,COLUMN(Composições!J352)-4)),0)","v":7.7},{"$f":"COUNTA($A$1:$A352)-1","v":39},{"$f":"MATCH(CONCATENATE($B352,\" \",$C352),Banco!$A:$A,0)","v":183},{"$f":"IF(OR(ISERROR($L352),$H352=\"\",$H352=0),\"\",OFFSET(M$1,MATCH($K352,$K$1:$K352,0)-1,0))","v":"F"},null,{"$f":"IF(ISNUMBER($L352),VALUE(OFFSET(Banco!$A$1,Composições!$L352-1,COLUMN(Composições!O352)-6)),0)","v":0},{"$f":"IF(ISNUMBER($L352),VALUE(OFFSET(Banco!$A$1,Composições!$L352-1,COLUMN(Composições!P352)-6)),0)","v":0},0,0]
[null,"SINAPI-I",567,{"$f":"IF(ISNUMBER($L353),OFFSET(Banco!$A$1,Composições!$L353-1,COLUMN(Composições!D353)-1),\"\")","v":"CANTONEIRA (ABAS IGUAIS) EM ACO CARBONO, 25,4 MM X 3,17 MM (L X E), 1,27KG/M"},{"$f":"IF(ISNUMBER($L353),OFFSET(Banco!$A$1,Composições!$L353-1,COLUMN(Composições!E353)-1),\"\")","v":"M"},37.020000000000003,37.020000000000003,3,{"$f":"IF(ISNUMBER($L353),VALUE(OFFSET(Banco!$A$1,Composições!$L353-1,COLUMN(Composições!I353)-4)),0)","v":12.34},{"$f":"IF(ISNUMBER($L353),VALUE(OFFSET(Banco!$A$1,Composições!$L353-1,COLUMN(Composições!J353)-4)),0)","v":12.34},{"$f":"COUNTA($A$1:$A353)-1","v":39},{"$f":"MATCH(CONCATENATE($B353,\" \",$C353),Banco!$A:$A,0)","v":1116},{"$f":"IF(OR(ISERROR($L353),$H353=\"\",$H353=0),\"\",OFFSET(M$1,MATCH($K353,$K$1:$K353,0)-1,0))","v":"F"},null,{"$f":"IF(ISNUMBER($L353),VALUE(OFFSET(Banco!$A$1,Composições!$L353-1,COLUMN(Composições!O353)-6)),0)","v":0},{"$f":"IF(ISNUMBER($L353),VALUE(OFFSET(Banco!$A$1,Composições!$L353-1,COLUMN(Composições!P353)-6)),0)","v":0},0,0]
[null,null,null,null,null,null,null,null,null,null,{"$f":"COUNTA($A$1:$A354)-1","v":39},null,{"$f":"IF(OFFSET($M$1,MATCH(OFFSET(K354,-1,0),$K$1:$K354,0)-1,0)=\"F\",\"F\",\"\")","v":"F"}]
[{"$f":"CONCATENATE($B355,\" \",$C355)","v":"Composição ESQV.0019.01"},"Composição","ESQV.0019.01","ALCAPAO EM FERRO 90X90CM, INCLUSO FERRAGENS - FORNECIMENTO E INSTALAÇÃO","UN",{"$f":"IF($L355>0,SUM(OFFSET(F355,1,0,$L355),0))","v":231.04000000000002},240.11,null,{"$f":"IF(ISERROR(F355),0,F355)","v":231.04000000000002},240.11,{"$f":"COUNTA($A$1:$A355)-1","v":40},{"$f":"IF(MAX(K:K)=K355,MATCH(9999999,$K:$K)+1,MATCH(K355+1,K:K,0))-ROW(L355)-2","v":7},{"$f":"IF(AND(OR(I355<>0,J355<>0),N355=\"Sim\"),\"F\",\"\")","v":"F"},"Sim",{"$f":"IF(AND($L355>0,F355<>0),ROUND(SUM(OFFSET(Q355,1,0,$L355))/F355,4),0)","v":0},0]
[null,"SINAPI",88309,{"$f":"IF(ISNUMBER($L356),OFFSET(Banco!$A$1,Composições!$L356-1,COLUMN(Composições!D356)-1),\"\")","v":"PEDREIRO COM ENCARGOS COMPLEMENTARES"},{"$f":"IF(ISNUMBER($L356),OFFSET(Banco!$A$1,Composições!$L356-1,COLUMN(Composições!E356)-1),\"\")","v":"H"},{"$f":"ROUND($H356*ROUND(I356,2),2)","v":33.99},36.909999999999997,1,{"$f":"IF(ISNUMBER($L356),VALUE(OFFSET(Banco!$A$1,Composições!$L356-1,COLUMN(Composições!I356)-4)),0)","v":33.99},{"$f":"IF(ISNUMBER($L356),VALUE(OFFSET(Banco!$A$1,Composições!$L356-1,COLUMN(Composições!J356)-4)),0)","v":36.909999999999997},{"$f":"COUNTA($A$1:$A356)-1","v":40},{"$f":"MATCH(CONCATENATE($B356,\" \",$C356),Banco!$A:$A,0)","v":13185},{"$f":"IF(OR(ISERROR($L356),$H356=\"\",$H356=0),\"\",OFFSET(M$1,MATCH($K356,$K$1:$K356,0)-1,0))","v":"F"},null,{"$f":"IF(ISNUMBER($L356),VALUE(OFFSET(Banco!$A$1,Composições!$L356-1,COLUMN(Composições!O356)-6)),0)","v":0},{"$f":"IF(ISNUMBER($L356),VALUE(OFFSET(Banco!$A$1,Composições!$L356-1,COLUMN(Composições!P356)-6)),0)","v":0},{"$f":"ROUND(F356*O356,2)","v":0},0]
[null,"SINAPI",88315,{"$f":"IF(ISNUMBER($L357),OFFSET(Banco!$A$1,Composições!$L357-1,COLUMN(Composições!D357)-1),\"\")","v":"SERRALHEIRO COM ENCARGOS COMPLEMENTARES"},{"$f":"IF(ISNUMBER($L357),OFFSET(Banco!$A$1,Composições!$L357-1,COLUMN(Composições!E357)-1),\"\")","v":"H"},33.75,36.65,1,{"$f":"IF(ISNUMBER($L357),VALUE(OFFSET(Banco!$A$1,Composições!$L357-1,COLUMN(Composições!I357)-4)),0)","v":33.75},{"$f":"IF(ISNUMBER($L357),VALUE(OFFSET(Banco!$A$1,Composições!$L357-1,COLUMN(Composições!J357)-4)),0)","v":36.65},{"$f":"COUNTA($A$1:$A357)-1","v":40},{"$f":"MATCH(CONCATENATE($B357,\" \",$C357),Banco!$A:$A,0)","v":13196},{"$f":"IF(OR(ISERROR($L357),$H357=\"\",$H357=0),\"\",OFFSET(M$1,MATCH($K357,$K$1:$K357,0)-1,0))","v":"F"},null,{"$f":"IF(ISNUMBER($L357),VALUE(OFFSET(Banco!$A$1,Composições!$L357-1,COLUMN(Composições!O357)-6)),0)","v":0},{"$f":"IF(ISNUMBER($L357),VALUE(OFFSET(Banco!$A$1,Composições!$L357-1,COLUMN(Composições!P357)-6)),0)","v":0},0,0]
[null,"SINAPI",88316,{"$f":"IF(ISNUMBER($L358),OFFSET(Banco!$A$1,Composições!$L358-1,COLUMN(Composições!D358)-1),\"\")","v":"SERVENTE COM ENCARGOS COMPLEMENTARES"},{"$f":"IF(ISNUMBER($L358),OFFSET(Banco!$A$1,Composições!$L358-1,COLUMN(Composições!E358)-1),\"\")","v":"H"},39.979999999999997,43.07,1.5,{"$f":"IF(ISNUMBER($L358),VALUE(OFFSET(Banco!$A$1,Composições!$L358-1,COLUMN(Composições!I358)-4)),0)","v":26.65},{"$f":"IF(ISNUMBER($L358),VALUE(OFFSET(Banco!$A$1,Composições!$L358-1,COLUMN(Composições!J358)-4)),0)","v":28.71},{"$f":"COUNTA($A$1:$A358)-1","v":40},{"$f":"MATCH(CONCATENATE($B358,\" \",$C358),Banco!$A:$A,0)","v":13198},{"$f":"IF(OR(ISERROR($L358),$H358=\"\",$H358=0),\"\",OFFSET(M$1,MATCH($K358,$K$1:$K358,0)-1,0))","v":"F"},null,{"$f":"IF(ISNUMBER($L358),VALUE(OFFSET(Banco!$A$1,Composições!$L358-1,COLUMN(Composições!O358)-6)),0)","v":0},{"$f":"IF(ISNUMBER($L358),VALUE(OFFSET(Banco!$A$1,Composições!$L358-1,COLUMN(Composições!P358)-6)),0)","v":0},0,0]
[null,"SINAPI",88631,{"$f":"IF(ISNUMBER($L359),OFFSET(Banco!$A$1,Composições!$L359-1,COLUMN(Composições!D359)-1),\"\")","v":"ARGAMASSA TRAÇO 1:4 (EM VOLUME DE CIMENTO E AREIA MÉDIA ÚMIDA), PREPARO MANUAL. AF_08/2019"},{"$f":"IF(ISNUMBER($L359),OFFSET(Banco!$A$1,Composições!$L359-1,COLUMN(Composições!E359)-1),\"\")","v":"M3"},5.67,5.83,8.9999999999999993E-3,{"$f":"IF(ISNUMBER($L359),VALUE(OFFSET(Banco!$A$1,Composições!$L359-1,COLUMN(Composições!I359)-4)),0)","v":630.53},{"$f":"IF(ISNUMBER($L359),VALUE(OFFSET(Banco!$A$1,Composições!$L359-1,COLUMN(Composições!J359)-4)),0)","v":647.61},{"$f":"COUNTA($A$1:$A359)-1","v":40},{"$f":"MATCH(CONCATENATE($B359,\" \",$C359),Banco!$A:$A,0)","v":6307},{"$f":"IF(OR(ISERROR($L359),$H359=\"\",$H359=0),\"\",OFFSET(M$1,MATCH($K359,$K$1:$K359,0)-1,0))","v":"F"},null,{"$f":"IF(ISNUMBER($L359),VALUE(OFFSET(Banco!$A$1,Composições!$L359-1,COLUMN(Composições!O359)-6)),0)","v":0},{"$f":"IF(ISNUMBER($L359),VALUE(OFFSET(Banco!$A$1,Composições!$L359-1,COLUMN(Composições!P359)-6)),0)","v":0},0,0]
[null,"SINAPI-I",567,{"$f":"IF(ISNUMBER($L360),OFFSET(Banco!$A$1,Composições!$L360-1,COLUMN(Composições!D360)-1),\"\")","v":"CANTONEIRA (ABAS IGUAIS) EM ACO CARBONO, 25,4 MM X 3,17 MM (L X E), 1,27KG/M"},{"$f":"IF(ISNUMBER($L360),OFFSET(Banco!$A$1,Composições!$L360-1,COLUMN(Composições!E360)-1),\"\")","v":"M"},44.42,44.42,3.6,{"$f":"IF(ISNUMBER($L360),VALUE(OFFSET(Banco!$A$1,Composições!$L360-1,COLUMN(Composições!I360)-4)),0)","v":12.34},{"$f":"IF(ISNUMBER($L360),VALUE(OFFSET(Banco!$A$1,Composições!$L360-1,COLUMN(Composições!J360)-4)),0)","v":12.34},{"$f":"COUNTA($A$1:$A360)-1","v":40},{"$f":"MATCH(CONCATENATE($B360,\" \",$C360),Banco!$A:$A,0)","v":1116},{"$f":"IF(OR(ISERROR($L360),$H360=\"\",$H360=0),\"\",OFFSET(M$1,MATCH($K360,$K$1:$K360,0)-1,0))","v":"F"},null,{"$f":"IF(ISNUMBER($L360),VALUE(OFFSET(Banco!$A$1,Composições!$L360-1,COLUMN(Composições!O360)-6)),0)","v":0},{"$f":"IF(ISNUMBER($L360),VALUE(OFFSET(Banco!$A$1,Composições!$L360-1,COLUMN(Composições!P360)-6)),0)","v":0},0,0]
[null,"COTAÇÃO",1327,{"$f":"IF(ISNUMBER($L361),OFFSET(Banco!$A$1,Composições!$L361-1,COLUMN(Composições!D361)-1),\"\")","v":"CHAPA DE ACO FINA A FRIO BITOLA MSG 24, E = 0,60 MM (4,80 KG/M2)"},{"$f":"IF(ISNUMBER($L361),OFFSET(Banco!$A$1,Composições!$L361-1,COLUMN(Composições!E361)-1),\"\")","v":"KG"},7.31,7.31,0.75,{"$f":"IF(ISNUMBER($L361),VALUE(OFFSET(Banco!$A$1,Composições!$L361-1,COLUMN(Composições!I361)-4)),0)","v":9.74},{"$f":"IF(ISNUMBER($L361),VALUE(OFFSET(Banco!$A$1,Composições!$L361-1,COLUMN(Composições!J361)-4)),0)","v":9.74},{"$f":"COUNTA($A$1:$A361)-1","v":40},{"$f":"MATCH(CONCATENATE($B361,\" \",$C361),Banco!$A:$A,0)","v":105},{"$f":"IF(OR(ISERROR($L361),$H361=\"\",$H361=0),\"\",OFFSET(M$1,MATCH($K361,$K$1:$K361,0)-1,0))","v":"F"},null,{"$f":"IF(ISNUMBER($L361),VALUE(OFFSET(Banco!$A$1,Composições!$L361-1,COLUMN(Composições!O361)-6)),0)","v":0},{"$f":"IF(ISNUMBER($L361),VALUE(OFFSET(Banco!$A$1,Composições!$L361-1,COLUMN(Composições!P361)-6)),0)","v":0},0,0]
[null,"SINAPI-I",11447,{"$f":"IF(ISNUMBER($L362),OFFSET(Banco!$A$1,Composições!$L362-1,COLUMN(Composições!D362)-1),\"\")","v":"DOBRADICA EM LATAO, 3\" X 2 1/2 \", E= 1,9 A 2 MM, COM ANEL, CROMADO, TAMPA BOLA, COM PARAFUSOS"},{"$f":"IF(ISNUMBER($L362),OFFSET(Banco!$A$1,Composições!$L362-1,COLUMN(Composições!E362)-1),\"\")","v":"UN"},65.92,65.92,2,{"$f":"IF(ISNUMBER($L362),VALUE(OFFSET(Banco!$A$1,Composições!$L362-1,COLUMN(Composições!I362)-4)),0)","v":32.96},{"$f":"IF(ISNUMBER($L362),VALUE(OFFSET(Banco!$A$1,Composições!$L362-1,COLUMN(Composições!J362)-4)),0)","v":32.96},{"$f":"COUNTA($A$1:$A362)-1","v":40},{"$f":"MATCH(CONCATENATE($B362,\" \",$C362),Banco!$A:$A,0)","v":1910},{"$f":"IF(OR(ISERROR($L362),$H362=\"\",$H362=0),\"\",OFFSET(M$1,MATCH($K362,$K$1:$K362,0)-1,0))","v":"F"},null,{"$f":"IF(ISNUMBER($L362),VALUE(OFFSET(Banco!$A$1,Composições!$L362-1,COLUMN(Composições!O362)-6)),0)","v":0},{"$f":"IF(ISNUMBER($L362),VALUE(OFFSET(Banco!$A$1,Composições!$L362-1,COLUMN(Composições!P362)-6)),0)","v":0},0,0]
[null,null,null,null,null,null,null,null,null,null,{"$f":"COUNTA($A$1:$A363)-1","v":40},null,{"$f":"IF(OFFSET($M$1,MATCH(OFFSET(K363,-1,0),$K$1:$K363,0)-1,0)=\"F\",\"F\",\"\")","v":"F"}]
[{"$f":"CONCATENATE($B364,\" \",$C364)","v":"Composição INES.0009.01"},"Composição","INES.0009.01","EXTINTOR DE INCÊNDIO PÓ QUÍMICO 4 KG TIPO ABC CARGA COMPLETA - FORNECIMENTO E INSTALAÇÃO","UN",{"$f":"IF($L364>0,SUM(OFFSET(F364,1,0,$L364),0))","v":219.08},220.56,null,{"$f":"IF(ISERROR(F364),0,F364)","v":219.08},220.56,{"$f":"COUNTA($A$1:$A364)-1","v":41},{"$f":"IF(MAX(K:K)=K364,MATCH(9999999,$K:$K)+1,MATCH(K364+1,K:K,0))-ROW(L364)-2","v":4},{"$f":"IF(AND(OR(I364<>0,J364<>0),N364=\"Sim\"),\"F\",\"\")","v":"F"},"Sim",{"$f":"IF(AND($L364>0,F364<>0),ROUND(SUM(OFFSET(Q364,1,0,$L364))/F364,4),0)","v":0},0]
[null,"SINAPI",88267,{"$f":"IF(ISNUMBER($L365),OFFSET(Banco!$A$1,Composições!$L365-1,COLUMN(Composições!D365)-1),\"\")","v":"ENCANADOR OU BOMBEIRO HIDRÁULICO COM ENCARGOS COMPLEMENTARES"},{"$f":"IF(ISNUMBER($L365),OFFSET(Banco!$A$1,Composições!$L365-1,COLUMN(Composições!E365)-1),\"\")","v":"H"},{"$f":"ROUND($H365*ROUND(I365,2),2)","v":9.98},10.85,0.3,{"$f":"IF(ISNUMBER($L365),VALUE(OFFSET(Banco!$A$1,Composições!$L365-1,COLUMN(Composições!I365)-4)),0)","v":33.26},{"$f":"IF(ISNUMBER($L365),VALUE(OFFSET(Banco!$A$1,Composições!$L365-1,COLUMN(Composições!J365)-4)),0)","v":36.17},{"$f":"COUNTA($A$1:$A365)-1","v":41},{"$f":"MATCH(CONCATENATE($B365,\" \",$C365),Banco!$A:$A,0)","v":13099},{"$f":"IF(OR(ISERROR($L365),$H365=\"\",$H365=0),\"\",OFFSET(M$1,MATCH($K365,$K$1:$K365,0)-1,0))","v":"F"},null,{"$f":"IF(ISNUMBER($L365),VALUE(OFFSET(Banco!$A$1,Composições!$L365-1,COLUMN(Composições!O365)-6)),0)","v":0},{"$f":"IF(ISNUMBER($L365),VALUE(OFFSET(Banco!$A$1,Composições!$L365-1,COLUMN(Composições!P365)-6)),0)","v":0},{"$f":"ROUND(F365*O365,2)","v":0},0]
[null,"SINAPI",88316,{"$f":"IF(ISNUMBER($L366),OFFSET(Banco!$A$1,Composições!$L366-1,COLUMN(Composições!D366)-1),\"\")","v":"SERVENTE COM ENCARGOS COMPLEMENTARES"},{"$f":"IF(ISNUMBER($L366),OFFSET(Banco!$A$1,Composições!$L366-1,COLUMN(Composições!E366)-1),\"\")","v":"H"},8,8.61,0.3,{"$f":"IF(ISNUMBER($L366),VALUE(OFFSET(Banco!$A$1,Composições!$L366-1,COLUMN(Composições!I366)-4)),0)","v":26.65},{"$f":"IF(ISNUMBER($L366),VALUE(OFFSET(Banco!$A$1,Composições!$L366-1,COLUMN(Composições!J366)-4)),0)","v":28.71},{"$f":"COUNTA($A$1:$A366)-1","v":41},{"$f":"MATCH(CONCATENATE($B366,\" \",$C366),Banco!$A:$A,0)","v":13198},{"$f":"IF(OR(ISERROR($L366),$H366=\"\",$H366=0),\"\",OFFSET(M$1,MATCH($K366,$K$1:$K366,0)-1,0))","v":"F"},null,{"$f":"IF(ISNUMBER($L366),VALUE(OFFSET(Banco!$A$1,Composições!$L366-1,COLUMN(Composições!O366)-6)),0)","v":0},{"$f":"IF(ISNUMBER($L366),VALUE(OFFSET(Banco!$A$1,Composições!$L366-1,COLUMN(Composições!P366)-6)),0)","v":0},0,0]
[null,"SINAPI-I",4350,{"$f":"IF(ISNUMBER($L367),OFFSET(Banco!$A$1,Composições!$L367-1,COLUMN(Composições!D367)-1),\"\")","v":"BUCHA DE NYLON, DIAMETRO DO FURO 8 MM, COMPRIMENTO 40 MM, COM PARAFUSO DE ROSCA SOBERBA, CABECA CHATA, FENDA SIMPLES, 4,8 X 50 MM"},{"$f":"IF(ISNUMBER($L367),OFFSET(Banco!$A$1,Composições!$L367-1,COLUMN(Composições!E367)-1),\"\")","v":"UN"},0.56999999999999995,0.56999999999999995,1,{"$f":"IF(ISNUMBER($L367),VALUE(OFFSET(Banco!$A$1,Composições!$L367-1,COLUMN(Composições!I367)-4)),0)","v":0.56999999999999995},{"$f":"IF(ISNUMBER($L367),VALUE(OFFSET(Banco!$A$1,Composições!$L367-1,COLUMN(Composições!J367)-4)),0)","v":0.56999999999999995},{"$f":"COUNTA($A$1:$A367)-1","v":41},{"$f":"MATCH(CONCATENATE($B367,\" \",$C367),Banco!$A:$A,0)","v":722},{"$f":"IF(OR(ISERROR($L367),$H367=\"\",$H367=0),\"\",OFFSET(M$1,MATCH($K367,$K$1:$K367,0)-1,0))","v":"F"},null,{"$f":"IF(ISNUMBER($L367),VALUE(OFFSET(Banco!$A$1,Composições!$L367-1,COLUMN(Composições!O367)-6)),0)","v":0},{"$f":"IF(ISNUMBER($L367),VALUE(OFFSET(Banco!$A$1,Composições!$L367-1,COLUMN(Composições!P367)-6)),0)","v":0},0,0]
[null,"COTAÇÃO","I.INES.0001.01",{"$f":"IF(ISNUMBER($L368),OFFSET(Banco!$A$1,Composições!$L368-1,COLUMN(Composições!D368)-1),\"\")","v":"EXTINTOR DE INCÊNDIO PORTÁTIL COM CARGA DE PÓ QUÍMICO SECO (PQS) DE 4 KG, CLASSE ABC"},{"$f":"IF(ISNUMBER($L368),OFFSET(Banco!$A$1,Composições!$L368-1,COLUMN(Composições!E368)-1),\"\")","v":"UNIDADE"},200.53,200.53,1,{"$f":"IF(ISNUMBER($L368),VALUE(OFFSET(Banco!$A$1,Composições!$L368-1,COLUMN(Composições!I368)-4)),0)","v":200.53},{"$f":"IF(ISNUMBER($L368),VALUE(OFFSET(Banco!$A$1,Composições!$L368-1,COLUMN(Composições!J368)-4)),0)","v":200.53},{"$f":"COUNTA($A$1:$A368)-1","v":41},{"$f":"MATCH(CONCATENATE($B368,\" \",$C368),Banco!$A:$A,0)","v":94},{"$f":"IF(OR(ISERROR($L368),$H368=\"\",$H368=0),\"\",OFFSET(M$1,MATCH($K368,$K$1:$K368,0)-1,0))","v":"F"},null,{"$f":"IF(ISNUMBER($L368),VALUE(OFFSET(Banco!$A$1,Composições!$L368-1,COLUMN(Composições!O368)-6)),0)","v":0},{"$f":"IF(ISNUMBER($L368),VALUE(OFFSET(Banco!$A$1,Composições!$L368-1,COLUMN(Composições!P368)-6)),0)","v":0},0,0]
[null,null,null,null,null,null,null,null,null,null,{"$f":"COUNTA($A$1:$A369)-1","v":41},null,{"$f":"IF(OFFSET($M$1,MATCH(OFFSET(K369,-1,0),$K$1:$K369,0)-1,0)=\"F\",\"F\",\"\")","v":"F"}]
[{"$f":"CONCATENATE($B370,\" \",$C370)","v":"Composição INES.0054.01"},"Composição","INES.0054.01","ABRIGO PARA 01 BOTIJÃO DE GÁS P13 KG, 86X66X95 CM (LXCXA), PINTURA ACRÍLICA COM TINTA TEXTURIZADA, GRADIL COM TELA E CANTONEIRA COM PINTURA ESMALTE, LAJE EM CONCRETO ARMADO, INCLUSO UMA MANGUEIRA PARA GÁS 3/8","UN",{"$f":"IF($L370>0,SUM(OFFSET(F370,1,0,$L370),0))","v":763.55},801.62999999999988,null,{"$f":"IF(ISERROR(F370),0,F370)","v":763.55},801.62999999999988,{"$f":"COUNTA($A$1:$A370)-1","v":42},{"$f":"IF(MAX(K:K)=K370,MATCH(9999999,$K:$K)+1,MATCH(K370+1,K:K,0))-ROW(L370)-2","v":10},{"$f":"IF(AND(OR(I370<>0,J370<>0),N370=\"Sim\"),\"F\",\"\")","v":"F"},"Sim",{"$f":"IF(AND($L370>0,F370<>0),ROUND(SUM(OFFSET(Q370,1,0,$L370))/F370,4),0)","v":2.3E-3},2.0999999999999999E-3]
[null,"SINAPI",103332,{"$f":"IF(ISNUMBER($L371),OFFSET(Banco!$A$1,Composições!$L371-1,COLUMN(Composições!D371)-1),\"\")","v":"ALVENARIA DE VEDAÇÃO DE BLOCOS CERÂMICOS FURADOS NA HORIZONTAL DE 9X14X19 CM (ESPESSURA 9 CM) E ARGAMASSA DE ASSENTAMENTO COM PREPARO EM BETONEIRA. AF_12/2021"},{"$f":"IF(ISNUMBER($L371),OFFSET(Banco!$A$1,Composições!$L371-1,COLUMN(Composições!E371)-1),\"\")","v":"M2"},{"$f":"ROUND($H371*ROUND(I371,2),2)","v":113.81},{"$f":"ROUND($H371*ROUND(J371,2),2)","v":121.23},0.84,{"$f":"IF(ISNUMBER($L371),VALUE(OFFSET(Banco!$A$1,Composições!$L371-1,COLUMN(Composições!I371)-4)),0)","v":135.49},{"$f":"IF(ISNUMBER($L371),VALUE(OFFSET(Banco!$A$1,Composições!$L371-1,COLUMN(Composições!J371)-4)),0)","v":144.32},{"$f":"COUNTA($A$1:$A371)-1","v":42},{"$f":"MATCH(CONCATENATE($B371,\" \",$C371),Banco!$A:$A,0)","v":6135},{"$f":"IF(OR(ISERROR($L371),$H371=\"\",$H371=0),\"\",OFFSET(M$1,MATCH($K371,$K$1:$K371,0)-1,0))","v":"F"},null,{"$f":"IF(ISNUMBER($L371),VALUE(OFFSET(Banco!$A$1,Composições!$L371-1,COLUMN(Composições!O371)-6)),0)","v":2.2000000000000001E-3},{"$f":"IF(ISNUMBER($L371),VALUE(OFFSET(Banco!$A$1,Composições!$L371-1,COLUMN(Composições!P371)-6)),0)","v":2.0999999999999999E-3},{"$f":"ROUND(F371*O371,2)","v":0.25},{"$f":"ROUND(G371*P371,2)","v":0.25}]
[null,"SINAPI",87894,{"$f":"IF(ISNUMBER($L372),OFFSET(Banco!$A$1,Composições!$L372-1,COLUMN(Composições!D372)-1),\"\")","v":"CHAPISCO APLICADO EM ALVENARIA (SEM PRESENÇA DE VÃOS) E ESTRUTURAS DE CONCRETO DE FACHADA, COM COLHER DE PEDREIRO. ARGAMASSA TRAÇO 1:3 COM PREPARO EM BETONEIRA 400L. AF_10/2022"},{"$f":"IF(ISNUMBER($L372),OFFSET(Banco!$A$1,Composições!$L372-1,COLUMN(Composições!E372)-1),\"\")","v":"M2"},13.41,14.33,1.68,{"$f":"IF(ISNUMBER($L372),VALUE(OFFSET(Banco!$A$1,Composições!$L372-1,COLUMN(Composições!I372)-4)),0)","v":7.98},{"$f":"IF(ISNUMBER($L372),VALUE(OFFSET(Banco!$A$1,Composições!$L372-1,COLUMN(Composições!J372)-4)),0)","v":8.5299999999999994},{"$f":"COUNTA($A$1:$A372)-1","v":42},{"$f":"MATCH(CONCATENATE($B372,\" \",$C372),Banco!$A:$A,0)","v":7354},{"$f":"IF(OR(ISERROR($L372),$H372=\"\",$H372=0),\"\",OFFSET(M$1,MATCH($K372,$K$1:$K372,0)-1,0))","v":"F"},null,{"$f":"IF(ISNUMBER($L372),VALUE(OFFSET(Banco!$A$1,Composições!$L372-1,COLUMN(Composições!O372)-6)),0)","v":0},{"$f":"IF(ISNUMBER($L372),VALUE(OFFSET(Banco!$A$1,Composições!$L372-1,COLUMN(Composições!P372)-6)),0)","v":0},0,0]
[null,"SINAPI",87794,{"$f":"IF(ISNUMBER($L373),OFFSET(Banco!$A$1,Composições!$L373-1,COLUMN(Composições!D373)-1),\"\")","v":"EMBOÇO OU MASSA ÚNICA EM ARGAMASSA TRAÇO 1:2:8, PREPARO MANUAL, APLICADA MANUALMENTE EM PANOS CEGOS DE FACHADA (SEM PRESENÇA DE VÃOS), ESPESSURA DE 25 MM. AF_09/2022"},{"$f":"IF(ISNUMBER($L373),OFFSET(Banco!$A$1,Composições!$L373-1,COLUMN(Composições!E373)-1),\"\")","v":"M2"},81.45,86,1.68,{"$f":"IF(ISNUMBER($L373),VALUE(OFFSET(Banco!$A$1,Composições!$L373-1,COLUMN(Composições!I373)-4)),0)","v":48.48},{"$f":"IF(ISNUMBER($L373),VALUE(OFFSET(Banco!$A$1,Composições!$L373-1,COLUMN(Composições!J373)-4)),0)","v":51.19},{"$f":"COUNTA($A$1:$A373)-1","v":42},{"$f":"MATCH(CONCATENATE($B373,\" \",$C373),Banco!$A:$A,0)","v":13390},{"$f":"IF(OR(ISERROR($L373),$H373=\"\",$H373=0),\"\",OFFSET(M$1,MATCH($K373,$K$1:$K373,0)-1,0))","v":"F"},null,{"$f":"IF(ISNUMBER($L373),VALUE(OFFSET(Banco!$A$1,Composições!$L373-1,COLUMN(Composições!O373)-6)),0)","v":0},{"$f":"IF(ISNUMBER($L373),VALUE(OFFSET(Banco!$A$1,Composições!$L373-1,COLUMN(Composições!P373)-6)),0)","v":0},0,0]
[null,"SINAPI",88485,{"$f":"IF(ISNUMBER($L374),OFFSET(Banco!$A$1,Composições!$L374-1,COLUMN(Composições!D374)-1),\"\")","v":"FUNDO SELADOR ACRÍLICO, APLICAÇÃO MANUAL EM PAREDE, UMA DEMÃO. AF_04/2023"},{"$f":"IF(ISNUMBER($L374),OFFSET(Banco!$A$1,Composições!$L374-1,COLUMN(Composições!E374)-1),\"\")","v":"M2"},7.38,7.76,1.68,{"$f":"IF(ISNUMBER($L374),VALUE(OFFSET(Banco!$A$1,Composições!$L374-1,COLUMN(Composições!I374)-4)),0)","v":4.3899999999999997},{"$f":"IF(ISNUMBER($L374),VALUE(OFFSET(Banco!$A$1,Composições!$L374-1,COLUMN(Composições!J374)-4)),0)","v":4.62},{"$f":"COUNTA($A$1:$A374)-1","v":42},{"$f":"MATCH(CONCATENATE($B374,\" \",$C374),Banco!$A:$A,0)","v":13931},{"$f":"IF(OR(ISERROR($L374),$H374=\"\",$H374=0),\"\",OFFSET(M$1,MATCH($K374,$K$1:$K374,0)-1,0))","v":"F"},null,{"$f":"IF(ISNUMBER($L374),VALUE(OFFSET(Banco!$A$1,Composições!$L374-1,COLUMN(Composições!O374)-6)),0)","v":0},{"$f":"IF(ISNUMBER($L374),VALUE(OFFSET(Banco!$A$1,Composições!$L374-1,COLUMN(Composições!P374)-6)),0)","v":0},0,0]
[null,"SINAPI",95305,{"$f":"IF(ISNUMBER($L375),OFFSET(Banco!$A$1,Composições!$L375-1,COLUMN(Composições!D375)-1),\"\")","v":"TEXTURA ACRÍLICA, APLICAÇÃO MANUAL EM PAREDE, UMA DEMÃO. AF_04/2023"},{"$f":"IF(ISNUMBER($L375),OFFSET(Banco!$A$1,Composições!$L375-1,COLUMN(Composições!E375)-1),\"\")","v":"M2"},23.89,24.81,1.68,{"$f":"IF(ISNUMBER($L375),VALUE(OFFSET(Banco!$A$1,Composições!$L375-1,COLUMN(Composições!I375)-4)),0)","v":14.22},{"$f":"IF(ISNUMBER($L375),VALUE(OFFSET(Banco!$A$1,Composições!$L375-1,COLUMN(Composições!J375)-4)),0)","v":14.77},{"$f":"COUNTA($A$1:$A375)-1","v":42},{"$f":"MATCH(CONCATENATE($B375,\" \",$C375),Banco!$A:$A,0)","v":13943},{"$f":"IF(OR(ISERROR($L375),$H375=\"\",$H375=0),\"\",OFFSET(M$1,MATCH($K375,$K$1:$K375,0)-1,0))","v":"F"},null,{"$f":"IF(ISNUMBER($L375),VALUE(OFFSET(Banco!$A$1,Composições!$L375-1,COLUMN(Composições!O375)-6)),0)","v":0},{"$f":"IF(ISNUMBER($L375),VALUE(OFFSET(Banco!$A$1,Composições!$L375-1,COLUMN(Composições!P375)-6)),0)","v":0},0,0]
[null,"SINAPI",88489,{"$f":"IF(ISNUMBER($L376),OFFSET(Banco!$A$1,Composições!$L376-1,COLUMN(Composições!D376)-1),\"\")","v":"PINTURA LÁTEX ACRÍLICA PREMIUM, APLICAÇÃO MANUAL EM PAREDES, DUAS DEMÃOS. AF_04/2023"},{"$f":"IF(ISNUMBER($L376),OFFSET(Banco!$A$1,Composições!$L376-1,COLUMN(Composições!E376)-1),\"\")","v":"M2"},22.9,23.89,1.68,{"$f":"IF(ISNUMBER($L376),VALUE(OFFSET(Banco!$A$1,Composições!$L376-1,COLUMN(Composições!I376)-4)),0)","v":13.63},{"$f":"IF(ISNUMBER($L376),VALUE(OFFSET(Banco!$A$1,Composições!$L376-1,COLUMN(Composições!J376)-4)),0)","v":14.22},{"$f":"COUNTA($A$1:$A376)-1","v":42},{"$f":"MATCH(CONCATENATE($B376,\" \",$C376),Banco!$A:$A,0)","v":13939},{"$f":"IF(OR(ISERROR($L376),$H376=\"\",$H376=0),\"\",OFFSET(M$1,MATCH($K376,$K$1:$K376,0)-1,0))","v":"F"},null,{"$f":"IF(ISNUMBER($L376),VALUE(OFFSET(Banco!$A$1,Composições!$L376-1,COLUMN(Composições!O376)-6)),0)","v":0},{"$f":"IF(ISNUMBER($L376),VALUE(OFFSET(Banco!$A$1,Composições!$L376-1,COLUMN(Composições!P376)-6)),0)","v":0},0,0]
[null,"SINAPI",97734,{"$f":"IF(ISNUMBER($L377),OFFSET(Banco!$A$1,Composições!$L377-1,COLUMN(Composições!D377)-1),\"\")","v":"PEÇA RETANGULAR PRÉ-MOLDADA, VOLUME DE CONCRETO DE 10 A 30 LITROS, TAXA DE AÇO APROXIMADA DE 30KG/M³. AF_03/2024"},{"$f":"IF(ISNUMBER($L377),OFFSET(Banco!$A$1,Composições!$L377-1,COLUMN(Composições!E377)-1),\"\")","v":"M3"},152.06,161.41,4.5600000000000002E-2,{"$f":"IF(ISNUMBER($L377),VALUE(OFFSET(Banco!$A$1,Composições!$L377-1,COLUMN(Composições!I377)-4)),0)","v":3334.74},{"$f":"IF(ISNUMBER($L377),VALUE(OFFSET(Banco!$A$1,Composições!$L377-1,COLUMN(Composições!J377)-4)),0)","v":3539.66},{"$f":"COUNTA($A$1:$A377)-1","v":42},{"$f":"MATCH(CONCATENATE($B377,\" \",$C377),Banco!$A:$A,0)","v":9828},{"$f":"IF(OR(ISERROR($L377),$H377=\"\",$H377=0),\"\",OFFSET(M$1,MATCH($K377,$K$1:$K377,0)-1,0))","v":"F"},null,{"$f":"IF(ISNUMBER($L377),VALUE(OFFSET(Banco!$A$1,Composições!$L377-1,COLUMN(Composições!O377)-6)),0)","v":9.7000000000000003E-3},{"$f":"IF(ISNUMBER($L377),VALUE(OFFSET(Banco!$A$1,Composições!$L377-1,COLUMN(Composições!P377)-6)),0)","v":9.1000000000000004E-3},1.47,1.47]
[null,"COMPOSIÇÃO","ESQV.0029.01",{"$f":"IF(ISNUMBER($L378),OFFSET(Banco!$A$1,Composições!$L378-1,COLUMN(Composições!D378)-1),\"\")","v":"PORTÃO COM QUADRO DE CANTONEIRA EM AÇO GALVANIZADO 1''X1/8'' E FECHAMENTO TELA DE ARAME GALVANIZADO ONDULADA MALHA 5X5 CM FIO 2,77MM – FORNECIMENTO E INSTALAÇÃO"},{"$f":"IF(ISNUMBER($L378),OFFSET(Banco!$A$1,Composições!$L378-1,COLUMN(Composições!E378)-1),\"\")","v":"m²"},298.44,311.66000000000003,0.46200000000000002,{"$f":"IF(ISNUMBER($L378),VALUE(OFFSET(Banco!$A$1,Composições!$L378-1,COLUMN(Composições!I378)-4)),0)","v":645.97000000000014},{"$f":"IF(ISNUMBER($L378),VALUE(OFFSET(Banco!$A$1,Composições!$L378-1,COLUMN(Composições!J378)-4)),0)","v":674.58},{"$f":"COUNTA($A$1:$A378)-1","v":42},{"$f":"MATCH(CONCATENATE($B378,\" \",$C378),Banco!$A:$A,0)","v":73},{"$f":"IF(OR(ISERROR($L378),$H378=\"\",$H378=0),\"\",OFFSET(M$1,MATCH($K378,$K$1:$K378,0)-1,0))","v":"F"},null,{"$f":"IF(ISNUMBER($L378),VALUE(OFFSET(Banco!$A$1,Composições!$L378-1,COLUMN(Composições!O378)-6)),0)","v":0},{"$f":"IF(ISNUMBER($L378),VALUE(OFFSET(Banco!$A$1,Composições!$L378-1,COLUMN(Composições!P378)-6)),0)","v":0},0,0]
[null,"SINAPI",100739,{"$f":"IF(ISNUMBER($L379),OFFSET(Banco!$A$1,Composições!$L379-1,COLUMN(Composições!D379)-1),\"\")","v":"PINTURA COM TINTA ALQUÍDICA DE ACABAMENTO (ESMALTE SINTÉTICO ACETINADO) PULVERIZADA SOBRE PERFIL METÁLICO EXECUTADO EM FÁBRICA (POR DEMÃO). AF_01/2020_PE"},{"$f":"IF(ISNUMBER($L379),OFFSET(Banco!$A$1,Composições!$L379-1,COLUMN(Composições!E379)-1),\"\")","v":"M2"},21.2,21.53,1.85,{"$f":"IF(ISNUMBER($L379),VALUE(OFFSET(Banco!$A$1,Composições!$L379-1,COLUMN(Composições!I379)-4)),0)","v":11.46},{"$f":"IF(ISNUMBER($L379),VALUE(OFFSET(Banco!$A$1,Composições!$L379-1,COLUMN(Composições!J379)-4)),0)","v":11.64},{"$f":"COUNTA($A$1:$A379)-1","v":42},{"$f":"MATCH(CONCATENATE($B379,\" \",$C379),Banco!$A:$A,0)","v":13999},{"$f":"IF(OR(ISERROR($L379),$H379=\"\",$H379=0),\"\",OFFSET(M$1,MATCH($K379,$K$1:$K379,0)-1,0))","v":"F"},null,{"$f":"IF(ISNUMBER($L379),VALUE(OFFSET(Banco!$A$1,Composições!$L379-1,COLUMN(Composições!O379)-6)),0)","v":0},{"$f":"IF(ISNUMBER($L379),VALUE(OFFSET(Banco!$A$1,Composições!$L379-1,COLUMN(Composições!P379)-6)),0)","v":0},0,0]
[null,"SINAPI-I",20260,{"$f":"IF(ISNUMBER($L380),OFFSET(Banco!$A$1,Composições!$L380-1,COLUMN(Composições!D380)-1),\"\")","v":"MANGUEIRA PARA GAS - GLP, PVC, TRANCADA, DIAMETRO DE 3/8\", COMPRIMENTO DE 1M (NORMATIZADA)"},{"$f":"IF(ISNUMBER($L380),OFFSET(Banco!$A$1,Composições!$L380-1,COLUMN(Composições!E380)-1),\"\")","v":"UN"},29.01,29.01,1,{"$f":"IF(ISNUMBER($L380),VALUE(OFFSET(Banco!$A$1,Composições!$L380-1,COLUMN(Composições!I380)-4)),0)","v":29.01},{"$f":"IF(ISNUMBER($L380),VALUE(OFFSET(Banco!$A$1,Composições!$L380-1,COLUMN(Composições!J380)-4)),0)","v":29.01},{"$f":"COUNTA($A$1:$A380)-1","v":42},{"$f":"MATCH(CONCATENATE($B380,\" \",$C380),Banco!$A:$A,0)","v":2994},{"$f":"IF(OR(ISERROR($L380),$H380=\"\",$H380=0),\"\",OFFSET(M$1,MATCH($K380,$K$1:$K380,0)-1,0))","v":"F"},null,{"$f":"IF(ISNUMBER($L380),VALUE(OFFSET(Banco!$A$1,Composições!$L380-1,COLUMN(Composições!O380)-6)),0)","v":0},{"$f":"IF(ISNUMBER($L380),VALUE(OFFSET(Banco!$A$1,Composições!$L380-1,COLUMN(Composições!P380)-6)),0)","v":0},0,0]
[null,null,null,null,null,null,null,null,null,null,{"$f":"COUNTA($A$1:$A381)-1","v":42},null,{"$f":"IF(OFFSET($M$1,MATCH(OFFSET(K381,-1,0),$K$1:$K381,0)-1,0)=\"F\",\"F\",\"\")","v":"F"}]
[{"$f":"CONCATENATE($B382,\" \",$C382)","v":"Composição INHI.0021.01"},"Composição","INHI.0021.01","TOALHEIRO PLASTICO TIPO DISPENSER PARA PAPEL TOALHA INTERFOLHADO, INCLUSO FIXAÇÃO.","UN",{"$f":"IF($L382>0,SUM(OFFSET(F382,1,0,$L382),0))","v":160.68},171.08,null,{"$f":"IF(ISERROR(F382),0,F382)","v":160.68},171.08,{"$f":"COUNTA($A$1:$A382)-1","v":43},{"$f":"IF(MAX(K:K)=K382,MATCH(9999999,$K:$K)+1,MATCH(K382+1,K:K,0))-ROW(L382)-2","v":2},{"$f":"IF(AND(OR(I382<>0,J382<>0),N382=\"Sim\"),\"F\",\"\")","v":"F"},"Sim",{"$f":"IF(AND($L382>0,F382<>0),ROUND(SUM(OFFSET(Q382,1,0,$L382))/F382,4),0)","v":0},0]
[null,"SINAPI",95541,{"$f":"IF(ISNUMBER($L383),OFFSET(Banco!$A$1,Composições!$L383-1,COLUMN(Composições!D383)-1),\"\")","v":"FIXAÇÃO DE DUTOS FLEXÍVEIS CIRCULARES, DIÂMETRO 109 MM OU 4\", COM ABRAÇADEIRA METÁLICA FLEXÍVEL FIXADA DIRETAMENTE NA LAJE, SOMENTE MÃO DE OBRA. AF_09/2023"},{"$f":"IF(ISNUMBER($L383),OFFSET(Banco!$A$1,Composições!$L383-1,COLUMN(Composições!E383)-1),\"\")","v":"UN"},{"$f":"ROUND($H383*ROUND(I383,2),2)","v":119.16},129.56,4,{"$f":"IF(ISNUMBER($L383),VALUE(OFFSET(Banco!$A$1,Composições!$L383-1,COLUMN(Composições!I383)-4)),0)","v":29.79},{"$f":"IF(ISNUMBER($L383),VALUE(OFFSET(Banco!$A$1,Composições!$L383-1,COLUMN(Composições!J383)-4)),0)","v":32.39},{"$f":"COUNTA($A$1:$A383)-1","v":43},{"$f":"MATCH(CONCATENATE($B383,\" \",$C383),Banco!$A:$A,0)","v":14488},{"$f":"IF(OR(ISERROR($L383),$H383=\"\",$H383=0),\"\",OFFSET(M$1,MATCH($K383,$K$1:$K383,0)-1,0))","v":"F"},null,{"$f":"IF(ISNUMBER($L383),VALUE(OFFSET(Banco!$A$1,Composições!$L383-1,COLUMN(Composições!O383)-6)),0)","v":0},{"$f":"IF(ISNUMBER($L383),VALUE(OFFSET(Banco!$A$1,Composições!$L383-1,COLUMN(Composições!P383)-6)),0)","v":0},{"$f":"ROUND(F383*O383,2)","v":0},0]
[null,"SINAPI-I",37401,{"$f":"IF(ISNUMBER($L384),OFFSET(Banco!$A$1,Composições!$L384-1,COLUMN(Composições!D384)-1),\"\")","v":"TOALHEIRO PLASTICO TIPO DISPENSER PARA PAPEL TOALHA INTERFOLHADO"},{"$f":"IF(ISNUMBER($L384),OFFSET(Banco!$A$1,Composições!$L384-1,COLUMN(Composições!E384)-1),\"\")","v":"UN"},41.52,41.52,1,{"$f":"IF(ISNUMBER($L384),VALUE(OFFSET(Banco!$A$1,Composições!$L384-1,COLUMN(Composições!I384)-4)),0)","v":41.52},{"$f":"IF(ISNUMBER($L384),VALUE(OFFSET(Banco!$A$1,Composições!$L384-1,COLUMN(Composições!J384)-4)),0)","v":41.52},{"$f":"COUNTA($A$1:$A384)-1","v":43},{"$f":"MATCH(CONCATENATE($B384,\" \",$C384),Banco!$A:$A,0)","v":4431},{"$f":"IF(OR(ISERROR($L384),$H384=\"\",$H384=0),\"\",OFFSET(M$1,MATCH($K384,$K$1:$K384,0)-1,0))","v":"F"},null,{"$f":"IF(ISNUMBER($L384),VALUE(OFFSET(Banco!$A$1,Composições!$L384-1,COLUMN(Composições!O384)-6)),0)","v":0},{"$f":"IF(ISNUMBER($L384),VALUE(OFFSET(Banco!$A$1,Composições!$L384-1,COLUMN(Composições!P384)-6)),0)","v":0},0,0]
[null,null,null,null,null,null,null,null,null,null,{"$f":"COUNTA($A$1:$A385)-1","v":43},null,{"$f":"IF(OFFSET($M$1,MATCH(OFFSET(K385,-1,0),$K$1:$K385,0)-1,0)=\"F\",\"F\",\"\")","v":"F"}]
[{"$f":"CONCATENATE($B386,\" \",$C386)","v":"Composição ESQV.0010.01"},"Composição","ESQV.0010.01","BARRA DE APOIO EM U, EM ACO INOX POLIDO, COMPRIMENTO 30CM, DIAMETRO MINIMO 3 CM - FORNECIMENTO E INSTALAÇÃO","UN",{"$f":"IF($L386>0,SUM(OFFSET(F386,1,0,$L386),0))","v":292.78000000000003},308.38,null,{"$f":"IF(ISERROR(F386),0,F386)","v":292.78000000000003},308.38,{"$f":"COUNTA($A$1:$A386)-1","v":44},{"$f":"IF(MAX(K:K)=K386,MATCH(9999999,$K:$K)+1,MATCH(K386+1,K:K,0))-ROW(L386)-2","v":2},{"$f":"IF(AND(OR(I386<>0,J386<>0),N386=\"Sim\"),\"F\",\"\")","v":"F"},"Sim",{"$f":"IF(AND($L386>0,F386<>0),ROUND(SUM(OFFSET(Q386,1,0,$L386))/F386,4),0)","v":0},0]
[null,"SINAPI",95541,{"$f":"IF(ISNUMBER($L387),OFFSET(Banco!$A$1,Composições!$L387-1,COLUMN(Composições!D387)-1),\"\")","v":"FIXAÇÃO DE DUTOS FLEXÍVEIS CIRCULARES, DIÂMETRO 109 MM OU 4\", COM ABRAÇADEIRA METÁLICA FLEXÍVEL FIXADA DIRETAMENTE NA LAJE, SOMENTE MÃO DE OBRA. AF_09/2023"},{"$f":"IF(ISNUMBER($L387),OFFSET(Banco!$A$1,Composições!$L387-1,COLUMN(Composições!E387)-1),\"\")","v":"UN"},{"$f":"ROUND($H387*ROUND(I387,2),2)","v":178.74},194.34,6,{"$f":"IF(ISNUMBER($L387),VALUE(OFFSET(Banco!$A$1,Composições!$L387-1,COLUMN(Composições!I387)-4)),0)","v":29.79},{"$f":"IF(ISNUMBER($L387),VALUE(OFFSET(Banco!$A$1,Composições!$L387-1,COLUMN(Composições!J387)-4)),0)","v":32.39},{"$f":"COUNTA($A$1:$A387)-1","v":44},{"$f":"MATCH(CONCATENATE($B387,\" \",$C387),Banco!$A:$A,0)","v":14488},{"$f":"IF(OR(ISERROR($L387),$H387=\"\",$H387=0),\"\",OFFSET(M$1,MATCH($K387,$K$1:$K387,0)-1,0))","v":"F"},null,{"$f":"IF(ISNUMBER($L387),VALUE(OFFSET(Banco!$A$1,Composições!$L387-1,COLUMN(Composições!O387)-6)),0)","v":0},{"$f":"IF(ISNUMBER($L387),VALUE(OFFSET(Banco!$A$1,Composições!$L387-1,COLUMN(Composições!P387)-6)),0)","v":0},{"$f":"ROUND(F387*O387,2)","v":0},0]
[null,"SINAPI-I",36204,{"$f":"IF(ISNUMBER($L388),OFFSET(Banco!$A$1,Composições!$L388-1,COLUMN(Composições!D388)-1),\"\")","v":"BARRA DE APOIO RETA, EM ACO INOX POLIDO, COMPRIMENTO 60CM, DIAMETRO MINIMO 3 CM"},{"$f":"IF(ISNUMBER($L388),OFFSET(Banco!$A$1,Composições!$L388-1,COLUMN(Composições!E388)-1),\"\")","v":"UN"},114.04,114.04,1.1000000000000001,{"$f":"IF(ISNUMBER($L388),VALUE(OFFSET(Banco!$A$1,Composições!$L388-1,COLUMN(Composições!I388)-4)),0)","v":103.67},{"$f":"IF(ISNUMBER($L388),VALUE(OFFSET(Banco!$A$1,Composições!$L388-1,COLUMN(Composições!J388)-4)),0)","v":103.67},{"$f":"COUNTA($A$1:$A388)-1","v":44},{"$f":"MATCH(CONCATENATE($B388,\" \",$C388),Banco!$A:$A,0)","v":564},{"$f":"IF(OR(ISERROR($L388),$H388=\"\",$H388=0),\"\",OFFSET(M$1,MATCH($K388,$K$1:$K388,0)-1,0))","v":"F"},null,{"$f":"IF(ISNUMBER($L388),VALUE(OFFSET(Banco!$A$1,Composições!$L388-1,COLUMN(Composições!O388)-6)),0)","v":0},{"$f":"IF(ISNUMBER($L388),VALUE(OFFSET(Banco!$A$1,Composições!$L388-1,COLUMN(Composições!P388)-6)),0)","v":0},0,0]
[null,null,null,null,null,null,null,null,null,null,{"$f":"COUNTA($A$1:$A389)-1","v":44},null,{"$f":"IF(OFFSET($M$1,MATCH(OFFSET(K389,-1,0),$K$1:$K389,0)-1,0)=\"F\",\"F\",\"\")","v":"F"}]
[{"$f":"CONCATENATE($B390,\" \",$C390)","v":"Composição SERT.0039.01"},"Composição","SERT.0039.01","ADMINISTRAÇÃO LOCAL DA OBRA COM UM ENGENHEIRO CIVIL (2,5H POR DIA), INCLUSIVE ENCARGOS COMPLEMENTARES E TODOS OS DEMAIS CUSTOS ADMINISTRATIVOS DA OBRA","MÊS",{"$f":"IF($L390>0,SUM(OFFSET(F390,1,0,$L390),0))","v":5870.5},6553,null,{"$f":"IF(ISERROR(F390),0,F390)","v":5870.5},6553,{"$f":"COUNTA($A$1:$A390)-1","v":45},{"$f":"IF(MAX(K:K)=K390,MATCH(9999999,$K:$K)+1,MATCH(K390+1,K:K,0))-ROW(L390)-2","v":1},{"$f":"IF(AND(OR(I390<>0,J390<>0),N390=\"Sim\"),\"F\",\"\")","v":"F"},"Sim",{"$f":"IF(AND($L390>0,F390<>0),ROUND(SUM(OFFSET(Q390,1,0,$L390))/F390,4),0)","v":0},0]
[null,"SINAPI",90777,{"$f":"IF(ISNUMBER($L391),OFFSET(Banco!$A$1,Composições!$L391-1,COLUMN(Composições!D391)-1),\"\")","v":"ENGENHEIRO CIVIL DE OBRA JUNIOR COM ENCARGOS COMPLEMENTARES"},{"$f":"IF(ISNUMBER($L391),OFFSET(Banco!$A$1,Composições!$L391-1,COLUMN(Composições!E391)-1),\"\")","v":"H"},{"$f":"ROUND($H391*ROUND(I391,2),2)","v":5870.5},6553,50,{"$f":"IF(ISNUMBER($L391),VALUE(OFFSET(Banco!$A$1,Composições!$L391-1,COLUMN(Composições!I391)-4)),0)","v":117.41},{"$f":"IF(ISNUMBER($L391),VALUE(OFFSET(Banco!$A$1,Composições!$L391-1,COLUMN(Composições!J391)-4)),0)","v":131.06},{"$f":"COUNTA($A$1:$A391)-1","v":45},{"$f":"MATCH(CONCATENATE($B391,\" \",$C391),Banco!$A:$A,0)","v":13103},{"$f":"IF(OR(ISERROR($L391),$H391=\"\",$H391=0),\"\",OFFSET(M$1,MATCH($K391,$K$1:$K391,0)-1,0))","v":"F"},null,{"$f":"IF(ISNUMBER($L391),VALUE(OFFSET(Banco!$A$1,Composições!$L391-1,COLUMN(Composições!O391)-6)),0)","v":0},{"$f":"IF(ISNUMBER($L391),VALUE(OFFSET(Banco!$A$1,Composições!$L391-1,COLUMN(Composições!P391)-6)),0)","v":0},{"$f":"ROUND(F391*O391,2)","v":0},0]
[null,null,null,null,null,null,null,null,null,null,{"$f":"COUNTA($A$1:$A392)-1","v":45},null,{"$f":"IF(OFFSET($M$1,MATCH(OFFSET(K392,-1,0),$K$1:$K392,0)-1,0)=\"F\",\"F\",\"\")","v":"F"}]
[{"$f":"CONCATENATE($B393,\" \",$C393)","v":"Composição COBE.0085.01"},"Composição","COBE.0085.01","CALHA EM CHAPA DE AÇO GALVANIZADO NÚMERO 22, DESENVOLVIMENTO DE 110 CM, INCLUSO TRANSPORTE VERTICAL.","M",{"$f":"IF($L393>0,SUM(OFFSET(F393,1,0,$L393),0))","v":189.3},194.26,null,{"$f":"IF(ISERROR(F393),0,F393)","v":189.3},194.26,{"$f":"COUNTA($A$1:$A393)-1","v":46},{"$f":"IF(MAX(K:K)=K393,MATCH(9999999,$K:$K)+1,MATCH(K393+1,K:K,0))-ROW(L393)-2","v":10},{"$f":"IF(AND(OR(I393<>0,J393<>0),N393=\"Sim\"),\"F\",\"\")","v":"F"},"Sim",{"$f":"IF(AND($L393>0,F393<>0),ROUND(SUM(OFFSET(Q393,1,0,$L393))/F393,4),0)","v":0},0]
[null,"SINAPI",88316,{"$f":"IF(ISNUMBER($L394),OFFSET(Banco!$A$1,Composições!$L394-1,COLUMN(Composições!D394)-1),\"\")","v":"SERVENTE COM ENCARGOS COMPLEMENTARES"},{"$f":"IF(ISNUMBER($L394),OFFSET(Banco!$A$1,Composições!$L394-1,COLUMN(Composições!E394)-1),\"\")","v":"H"},{"$f":"ROUND($H394*ROUND(I394,2),2)","v":20.239999999999998},{"$f":"ROUND($H394*ROUND(J394,2),2)","v":21.81},0.75960000000000005,{"$f":"IF(ISNUMBER($L394),VALUE(OFFSET(Banco!$A$1,Composições!$L394-1,COLUMN(Composições!I394)-4)),0)","v":26.65},{"$f":"IF(ISNUMBER($L394),VALUE(OFFSET(Banco!$A$1,Composições!$L394-1,COLUMN(Composições!J394)-4)),0)","v":28.71},{"$f":"COUNTA($A$1:$A394)-1","v":46},{"$f":"MATCH(CONCATENATE($B394,\" \",$C394),Banco!$A:$A,0)","v":13198},{"$f":"IF(OR(ISERROR($L394),$H394=\"\",$H394=0),\"\",OFFSET(M$1,MATCH($K394,$K$1:$K394,0)-1,0))","v":"F"},null,{"$f":"IF(ISNUMBER($L394),VALUE(OFFSET(Banco!$A$1,Composições!$L394-1,COLUMN(Composições!O394)-6)),0)","v":0},{"$f":"IF(ISNUMBER($L394),VALUE(OFFSET(Banco!$A$1,Composições!$L394-1,COLUMN(Composições!P394)-6)),0)","v":0},{"$f":"ROUND(F394*O394,2)","v":0},{"$f":"ROUND(G394*P394,2)","v":0}]
[null,"SINAPI",88323,{"$f":"IF(ISNUMBER($L395),OFFSET(Banco!$A$1,Composições!$L395-1,COLUMN(Composições!D395)-1),\"\")","v":"TELHADISTA COM ENCARGOS COMPLEMENTARES"},{"$f":"IF(ISNUMBER($L395),OFFSET(Banco!$A$1,Composições!$L395-1,COLUMN(Composições!E395)-1),\"\")","v":"H"},21.5,23.35,0.64680000000000004,{"$f":"IF(ISNUMBER($L395),VALUE(OFFSET(Banco!$A$1,Composições!$L395-1,COLUMN(Composições!I395)-4)),0)","v":33.24},{"$f":"IF(ISNUMBER($L395),VALUE(OFFSET(Banco!$A$1,Composições!$L395-1,COLUMN(Composições!J395)-4)),0)","v":36.1},{"$f":"COUNTA($A$1:$A395)-1","v":46},{"$f":"MATCH(CONCATENATE($B395,\" \",$C395),Banco!$A:$A,0)","v":13207},{"$f":"IF(OR(ISERROR($L395),$H395=\"\",$H395=0),\"\",OFFSET(M$1,MATCH($K395,$K$1:$K395,0)-1,0))","v":"F"},null,{"$f":"IF(ISNUMBER($L395),VALUE(OFFSET(Banco!$A$1,Composições!$L395-1,COLUMN(Composições!O395)-6)),0)","v":0},{"$f":"IF(ISNUMBER($L395),VALUE(OFFSET(Banco!$A$1,Composições!$L395-1,COLUMN(Composições!P395)-6)),0)","v":0},0,0]
[null,"SINAPI",93281,{"$f":"IF(ISNUMBER($L396),OFFSET(Banco!$A$1,Composições!$L396-1,COLUMN(Composições!D396)-1),\"\")","v":"GUINCHO ELÉTRICO DE COLUNA, CAPACIDADE 400 KG, COM MOTO FREIO, MOTOR TRIFÁSICO DE 1,25 CV - CHP DIURNO. AF_03/2016"},{"$f":"IF(ISNUMBER($L396),OFFSET(Banco!$A$1,Composições!$L396-1,COLUMN(Composições!E396)-1),\"\")","v":"CHP"},0.43,0.47,1.32E-2,{"$f":"IF(ISNUMBER($L396),VALUE(OFFSET(Banco!$A$1,Composições!$L396-1,COLUMN(Composições!I396)-4)),0)","v":32.68},{"$f":"IF(ISNUMBER($L396),VALUE(OFFSET(Banco!$A$1,Composições!$L396-1,COLUMN(Composições!J396)-4)),0)","v":35.47},{"$f":"COUNTA($A$1:$A396)-1","v":46},{"$f":"MATCH(CONCATENATE($B396,\" \",$C396),Banco!$A:$A,0)","v":7686},{"$f":"IF(OR(ISERROR($L396),$H396=\"\",$H396=0),\"\",OFFSET(M$1,MATCH($K396,$K$1:$K396,0)-1,0))","v":"F"},null,{"$f":"IF(ISNUMBER($L396),VALUE(OFFSET(Banco!$A$1,Composições!$L396-1,COLUMN(Composições!O396)-6)),0)","v":0},{"$f":"IF(ISNUMBER($L396),VALUE(OFFSET(Banco!$A$1,Composições!$L396-1,COLUMN(Composições!P396)-6)),0)","v":0},0,0]
[null,"SINAPI",93282,{"$f":"IF(ISNUMBER($L397),OFFSET(Banco!$A$1,Composições!$L397-1,COLUMN(Composições!D397)-1),\"\")","v":"GUINCHO ELÉTRICO DE COLUNA, CAPACIDADE 400 KG, COM MOTO FREIO, MOTOR TRIFÁSICO DE 1,25 CV - CHI DIURNO. AF_03/2016"},{"$f":"IF(ISNUMBER($L397),OFFSET(Banco!$A$1,Composições!$L397-1,COLUMN(Composições!E397)-1),\"\")","v":"CHI"},0.57999999999999996,0.63,1.83E-2,{"$f":"IF(ISNUMBER($L397),VALUE(OFFSET(Banco!$A$1,Composições!$L397-1,COLUMN(Composições!I397)-4)),0)","v":31.89},{"$f":"IF(ISNUMBER($L397),VALUE(OFFSET(Banco!$A$1,Composições!$L397-1,COLUMN(Composições!J397)-4)),0)","v":34.68},{"$f":"COUNTA($A$1:$A397)-1","v":46},{"$f":"MATCH(CONCATENATE($B397,\" \",$C397),Banco!$A:$A,0)","v":7685},{"$f":"IF(OR(ISERROR($L397),$H397=\"\",$H397=0),\"\",OFFSET(M$1,MATCH($K397,$K$1:$K397,0)-1,0))","v":"F"},null,{"$f":"IF(ISNUMBER($L397),VALUE(OFFSET(Banco!$A$1,Composições!$L397-1,COLUMN(Composições!O397)-6)),0)","v":0},{"$f":"IF(ISNUMBER($L397),VALUE(OFFSET(Banco!$A$1,Composições!$L397-1,COLUMN(Composições!P397)-6)),0)","v":0},0,0]
[null,"SINAPI",88315,{"$f":"IF(ISNUMBER($L398),OFFSET(Banco!$A$1,Composições!$L398-1,COLUMN(Composições!D398)-1),\"\")","v":"SERRALHEIRO COM ENCARGOS COMPLEMENTARES"},{"$f":"IF(ISNUMBER($L398),OFFSET(Banco!$A$1,Composições!$L398-1,COLUMN(Composições!E398)-1),\"\")","v":"H"},16.88,18.329999999999998,0.5,{"$f":"IF(ISNUMBER($L398),VALUE(OFFSET(Banco!$A$1,Composições!$L398-1,COLUMN(Composições!I398)-4)),0)","v":33.75},{"$f":"IF(ISNUMBER($L398),VALUE(OFFSET(Banco!$A$1,Composições!$L398-1,COLUMN(Composições!J398)-4)),0)","v":36.65},{"$f":"COUNTA($A$1:$A398)-1","v":46},{"$f":"MATCH(CONCATENATE($B398,\" \",$C398),Banco!$A:$A,0)","v":13196},{"$f":"IF(OR(ISERROR($L398),$H398=\"\",$H398=0),\"\",OFFSET(M$1,MATCH($K398,$K$1:$K398,0)-1,0))","v":"F"},null,{"$f":"IF(ISNUMBER($L398),VALUE(OFFSET(Banco!$A$1,Composições!$L398-1,COLUMN(Composições!O398)-6)),0)","v":0},{"$f":"IF(ISNUMBER($L398),VALUE(OFFSET(Banco!$A$1,Composições!$L398-1,COLUMN(Composições!P398)-6)),0)","v":0},0,0]
[null,"SINAPI-I",142,{"$f":"IF(ISNUMBER($L399),OFFSET(Banco!$A$1,Composições!$L399-1,COLUMN(Composições!D399)-1),\"\")","v":"SELANTE ELASTICO MONOCOMPONENTE A BASE DE POLIURETANO (PU) PARA JUNTAS DIVERSAS"},{"$f":"IF(ISNUMBER($L399),OFFSET(Banco!$A$1,Composições!$L399-1,COLUMN(Composições!E399)-1),\"\")","v":"310ML"},5.58,5.58,0.17710000000000001,{"$f":"IF(ISNUMBER($L399),VALUE(OFFSET(Banco!$A$1,Composições!$L399-1,COLUMN(Composições!I399)-4)),0)","v":31.51},{"$f":"IF(ISNUMBER($L399),VALUE(OFFSET(Banco!$A$1,Composições!$L399-1,COLUMN(Composições!J399)-4)),0)","v":31.51},{"$f":"COUNTA($A$1:$A399)-1","v":46},{"$f":"MATCH(CONCATENATE($B399,\" \",$C399),Banco!$A:$A,0)","v":3943},{"$f":"IF(OR(ISERROR($L399),$H399=\"\",$H399=0),\"\",OFFSET(M$1,MATCH($K399,$K$1:$K399,0)-1,0))","v":"F"},null,{"$f":"IF(ISNUMBER($L399),VALUE(OFFSET(Banco!$A$1,Composições!$L399-1,COLUMN(Composições!O399)-6)),0)","v":0},{"$f":"IF(ISNUMBER($L399),VALUE(OFFSET(Banco!$A$1,Composições!$L399-1,COLUMN(Composições!P399)-6)),0)","v":0},0,0]
[null,"SINAPI-I",5061,{"$f":"IF(ISNUMBER($L400),OFFSET(Banco!$A$1,Composições!$L400-1,COLUMN(Composições!D400)-1),\"\")","v":"PREGO DE ACO POLIDO COM CABECA 18 X 27 (2 1/2 X 10)"},{"$f":"IF(ISNUMBER($L400),OFFSET(Banco!$A$1,Composições!$L400-1,COLUMN(Composições!E400)-1),\"\")","v":"KG"},0.43,0.43,2.75E-2,{"$f":"IF(ISNUMBER($L400),VALUE(OFFSET(Banco!$A$1,Composições!$L400-1,COLUMN(Composições!I400)-4)),0)","v":15.76},{"$f":"IF(ISNUMBER($L400),VALUE(OFFSET(Banco!$A$1,Composições!$L400-1,COLUMN(Composições!J400)-4)),0)","v":15.76},{"$f":"COUNTA($A$1:$A400)-1","v":46},{"$f":"MATCH(CONCATENATE($B400,\" \",$C400),Banco!$A:$A,0)","v":3720},{"$f":"IF(OR(ISERROR($L400),$H400=\"\",$H400=0),\"\",OFFSET(M$1,MATCH($K400,$K$1:$K400,0)-1,0))","v":"F"},null,{"$f":"IF(ISNUMBER($L400),VALUE(OFFSET(Banco!$A$1,Composições!$L400-1,COLUMN(Composições!O400)-6)),0)","v":0},{"$f":"IF(ISNUMBER($L400),VALUE(OFFSET(Banco!$A$1,Composições!$L400-1,COLUMN(Composições!P400)-6)),0)","v":0},0,0]
[null,"SINAPI-I",5104,{"$f":"IF(ISNUMBER($L401),OFFSET(Banco!$A$1,Composições!$L401-1,COLUMN(Composições!D401)-1),\"\")","v":"REBITE DE REPUXO EM ALUMINIO VAZADO, DIAMETRO 3,2 X 8 MM DE COMPRIMENTO (1KG = 1025 UNIDADES)"},{"$f":"IF(ISNUMBER($L401),OFFSET(Banco!$A$1,Composições!$L401-1,COLUMN(Composições!E401)-1),\"\")","v":"KG"},0.49,0.49,5.3899999999999998E-3,{"$f":"IF(ISNUMBER($L401),VALUE(OFFSET(Banco!$A$1,Composições!$L401-1,COLUMN(Composições!I401)-4)),0)","v":91.71},{"$f":"IF(ISNUMBER($L401),VALUE(OFFSET(Banco!$A$1,Composições!$L401-1,COLUMN(Composições!J401)-4)),0)","v":91.71},{"$f":"COUNTA($A$1:$A401)-1","v":46},{"$f":"MATCH(CONCATENATE($B401,\" \",$C401),Banco!$A:$A,0)","v":3803},{"$f":"IF(OR(ISERROR($L401),$H401=\"\",$H401=0),\"\",OFFSET(M$1,MATCH($K401,$K$1:$K401,0)-1,0))","v":"F"},null,{"$f":"IF(ISNUMBER($L401),VALUE(OFFSET(Banco!$A$1,Composições!$L401-1,COLUMN(Composições!O401)-6)),0)","v":0},{"$f":"IF(ISNUMBER($L401),VALUE(OFFSET(Banco!$A$1,Composições!$L401-1,COLUMN(Composições!P401)-6)),0)","v":0},0,0]
[null,"SINAPI-I",13388,{"$f":"IF(ISNUMBER($L402),OFFSET(Banco!$A$1,Composições!$L402-1,COLUMN(Composições!D402)-1),\"\")","v":"SOLDA EM BARRA DE ESTANHO-CHUMBO 50/50"},{"$f":"IF(ISNUMBER($L402),OFFSET(Banco!$A$1,Composições!$L402-1,COLUMN(Composições!E402)-1),\"\")","v":"KG"},37.340000000000003,37.340000000000003,0.19800000000000001,{"$f":"IF(ISNUMBER($L402),VALUE(OFFSET(Banco!$A$1,Composições!$L402-1,COLUMN(Composições!I402)-4)),0)","v":188.57},{"$f":"IF(ISNUMBER($L402),VALUE(OFFSET(Banco!$A$1,Composições!$L402-1,COLUMN(Composições!J402)-4)),0)","v":188.57},{"$f":"COUNTA($A$1:$A402)-1","v":46},{"$f":"MATCH(CONCATENATE($B402,\" \",$C402),Banco!$A:$A,0)","v":3979},{"$f":"IF(OR(ISERROR($L402),$H402=\"\",$H402=0),\"\",OFFSET(M$1,MATCH($K402,$K$1:$K402,0)-1,0))","v":"F"},null,{"$f":"IF(ISNUMBER($L402),VALUE(OFFSET(Banco!$A$1,Composições!$L402-1,COLUMN(Composições!O402)-6)),0)","v":0},{"$f":"IF(ISNUMBER($L402),VALUE(OFFSET(Banco!$A$1,Composições!$L402-1,COLUMN(Composições!P402)-6)),0)","v":0},0,0]
[null,"COTAÇÃO",11049,{"$f":"IF(ISNUMBER($L403),OFFSET(Banco!$A$1,Composições!$L403-1,COLUMN(Composições!D403)-1),\"\")","v":"CHAPA DE ACO GALVANIZADA BITOLA GSG 22, E = 0,80 MM (6,40 KG/M2)"},{"$f":"IF(ISNUMBER($L403),OFFSET(Banco!$A$1,Composições!$L403-1,COLUMN(Composições!E403)-1),\"\")","v":"KG"},85.83,85.83,7.94,{"$f":"IF(ISNUMBER($L403),VALUE(OFFSET(Banco!$A$1,Composições!$L403-1,COLUMN(Composições!I403)-4)),0)","v":10.81},{"$f":"IF(ISNUMBER($L403),VALUE(OFFSET(Banco!$A$1,Composições!$L403-1,COLUMN(Composições!J403)-4)),0)","v":10.81},{"$f":"COUNTA($A$1:$A403)-1","v":46},{"$f":"MATCH(CONCATENATE($B403,\" \",$C403),Banco!$A:$A,0)","v":116},{"$f":"IF(OR(ISERROR($L403),$H403=\"\",$H403=0),\"\",OFFSET(M$1,MATCH($K403,$K$1:$K403,0)-1,0))","v":"F"},null,{"$f":"IF(ISNUMBER($L403),VALUE(OFFSET(Banco!$A$1,Composições!$L403-1,COLUMN(Composições!O403)-6)),0)","v":0},{"$f":"IF(ISNUMBER($L403),VALUE(OFFSET(Banco!$A$1,Composições!$L403-1,COLUMN(Composições!P403)-6)),0)","v":0},0,0]
[null,null,null,null,null,null,null,null,null,null,{"$f":"COUNTA($A$1:$A404)-1","v":46},null,{"$f":"IF(OFFSET($M$1,MATCH(OFFSET(K404,-1,0),$K$1:$K404,0)-1,0)=\"F\",\"F\",\"\")","v":"F"}]
[{"$f":"CONCATENATE($B405,\" \",$C405)","v":"Composição INHI.0017.01"},"Composição","INHI.0017.01","FILTRO VOLUMÉTRICO PARA REAPROVEITAMENTO DE ÁGUA DE CHUVA (MODELO DIN 1989-2) - FORNECIMENTO E INSTALAÇÃO","UN",{"$f":"IF($L405>0,SUM(OFFSET(F405,1,0,$L405),0))","v":1601.5},1611.78,null,{"$f":"IF(ISERROR(F405),0,F405)","v":1601.5},1611.78,{"$f":"COUNTA($A$1:$A405)-1","v":47},{"$f":"IF(MAX(K:K)=K405,MATCH(9999999,$K:$K)+1,MATCH(K405+1,K:K,0))-ROW(L405)-2","v":3},{"$f":"IF(AND(OR(I405<>0,J405<>0),N405=\"Sim\"),\"F\",\"\")","v":"F"},"Sim",{"$f":"IF(AND($L405>0,F405<>0),ROUND(SUM(OFFSET(Q405,1,0,$L405))/F405,4),0)","v":0},0]
[null,"SINAPI",88267,{"$f":"IF(ISNUMBER($L406),OFFSET(Banco!$A$1,Composições!$L406-1,COLUMN(Composições!D406)-1),\"\")","v":"ENCANADOR OU BOMBEIRO HIDRÁULICO COM ENCARGOS COMPLEMENTARES"},{"$f":"IF(ISNUMBER($L406),OFFSET(Banco!$A$1,Composições!$L406-1,COLUMN(Composições!E406)-1),\"\")","v":"H"},{"$f":"ROUND($H406*ROUND(I406,2),2)","v":66.52},72.34,2,{"$f":"IF(ISNUMBER($L406),VALUE(OFFSET(Banco!$A$1,Composições!$L406-1,COLUMN(Composições!I406)-4)),0)","v":33.26},{"$f":"IF(ISNUMBER($L406),VALUE(OFFSET(Banco!$A$1,Composições!$L406-1,COLUMN(Composições!J406)-4)),0)","v":36.17},{"$f":"COUNTA($A$1:$A406)-1","v":47},{"$f":"MATCH(CONCATENATE($B406,\" \",$C406),Banco!$A:$A,0)","v":13099},{"$f":"IF(OR(ISERROR($L406),$H406=\"\",$H406=0),\"\",OFFSET(M$1,MATCH($K406,$K$1:$K406,0)-1,0))","v":"F"},null,{"$f":"IF(ISNUMBER($L406),VALUE(OFFSET(Banco!$A$1,Composições!$L406-1,COLUMN(Composições!O406)-6)),0)","v":0},{"$f":"IF(ISNUMBER($L406),VALUE(OFFSET(Banco!$A$1,Composições!$L406-1,COLUMN(Composições!P406)-6)),0)","v":0},{"$f":"ROUND(F406*O406,2)","v":0},0]
[null,"SINAPI",88248,{"$f":"IF(ISNUMBER($L407),OFFSET(Banco!$A$1,Composições!$L407-1,COLUMN(Composições!D407)-1),\"\")","v":"AUXILIAR DE ENCANADOR OU BOMBEIRO HIDRÁULICO COM ENCARGOS COMPLEMENTARES"},{"$f":"IF(ISNUMBER($L407),OFFSET(Banco!$A$1,Composições!$L407-1,COLUMN(Composições!E407)-1),\"\")","v":"H"},54.98,59.44,2,{"$f":"IF(ISNUMBER($L407),VALUE(OFFSET(Banco!$A$1,Composições!$L407-1,COLUMN(Composições!I407)-4)),0)","v":27.49},{"$f":"IF(ISNUMBER($L407),VALUE(OFFSET(Banco!$A$1,Composições!$L407-1,COLUMN(Composições!J407)-4)),0)","v":29.72},{"$f":"COUNTA($A$1:$A407)-1","v":47},{"$f":"MATCH(CONCATENATE($B407,\" \",$C407),Banco!$A:$A,0)","v":12876},{"$f":"IF(OR(ISERROR($L407),$H407=\"\",$H407=0),\"\",OFFSET(M$1,MATCH($K407,$K$1:$K407,0)-1,0))","v":"F"},null,{"$f":"IF(ISNUMBER($L407),VALUE(OFFSET(Banco!$A$1,Composições!$L407-1,COLUMN(Composições!O407)-6)),0)","v":0},{"$f":"IF(ISNUMBER($L407),VALUE(OFFSET(Banco!$A$1,Composições!$L407-1,COLUMN(Composições!P407)-6)),0)","v":0},0,0]
[null,"COTAÇÃO","I.INHI.0007.01",{"$f":"IF(ISNUMBER($L408),OFFSET(Banco!$A$1,Composições!$L408-1,COLUMN(Composições!D408)-1),\"\")","v":"FILTRO VOLUMÉTRICO PARA REAPROVEITAMENTO DE ÁGUA DE CHUVA (MODELO DIN 1989-2)"},{"$f":"IF(ISNUMBER($L408),OFFSET(Banco!$A$1,Composições!$L408-1,COLUMN(Composições!E408)-1),\"\")","v":"UNIDADE"},1480,1480,1,{"$f":"IF(ISNUMBER($L408),VALUE(OFFSET(Banco!$A$1,Composições!$L408-1,COLUMN(Composições!I408)-4)),0)","v":1480},{"$f":"IF(ISNUMBER($L408),VALUE(OFFSET(Banco!$A$1,Composições!$L408-1,COLUMN(Composições!J408)-4)),0)","v":1480},{"$f":"COUNTA($A$1:$A408)-1","v":47},{"$f":"MATCH(CONCATENATE($B408,\" \",$C408),Banco!$A:$A,0)","v":93},{"$f":"IF(OR(ISERROR($L408),$H408=\"\",$H408=0),\"\",OFFSET(M$1,MATCH($K408,$K$1:$K408,0)-1,0))","v":"F"},null,{"$f":"IF(ISNUMBER($L408),VALUE(OFFSET(Banco!$A$1,Composições!$L408-1,COLUMN(Composições!O408)-6)),0)","v":0},{"$f":"IF(ISNUMBER($L408),VALUE(OFFSET(Banco!$A$1,Composições!$L408-1,COLUMN(Composições!P408)-6)),0)","v":0},0,0]
[null,null,null,null,null,null,null,null,null,null,{"$f":"COUNTA($A$1:$A409)-1","v":47},null,{"$f":"IF(OFFSET($M$1,MATCH(OFFSET(K409,-1,0),$K$1:$K409,0)-1,0)=\"F\",\"F\",\"\")","v":"F"}]
[{"$f":"CONCATENATE($B410,\" \",$C410)","v":"Composição INEL.0611.01"},"Composição","INEL.0611.01","ENTRADA DE ENERGIA ELÉTRICA, SUBTERRÂNEA, TRIFÁSICA, COM CAIXA DE SOBREPOR, CABO DE 70 MM2 E DISJUNTOR DIN 200A, INCLUSA MURETA DE ALVENARIA E POSTE.","UN",{"$f":"IF($L410>0,SUM(OFFSET(F410,1,0,$L410),0))","v":7334.34},7549.33,null,{"$f":"IF(ISERROR(F410),0,F410)","v":7334.34},7549.33,{"$f":"COUNTA($A$1:$A410)-1","v":48},{"$f":"IF(MAX(K:K)=K410,MATCH(9999999,$K:$K)+1,MATCH(K410+1,K:K,0))-ROW(L410)-2","v":14},{"$f":"IF(AND(OR(I410<>0,J410<>0),N410=\"Sim\"),\"F\",\"\")","v":"F"},"Sim",{"$f":"IF(AND($L410>0,F410<>0),ROUND(SUM(OFFSET(Q410,1,0,$L410))/F410,4),0)","v":7.6E-3},7.4000000000000003E-3]
[null,"SINAPI",88247,{"$f":"IF(ISNUMBER($L411),OFFSET(Banco!$A$1,Composições!$L411-1,COLUMN(Composições!D411)-1),\"\")","v":"AUXILIAR DE ELETRICISTA COM ENCARGOS COMPLEMENTARES"},{"$f":"IF(ISNUMBER($L411),OFFSET(Banco!$A$1,Composições!$L411-1,COLUMN(Composições!E411)-1),\"\")","v":"H"},{"$f":"ROUND($H411*ROUND(I411,2),2)","v":6.13},{"$f":"ROUND($H411*ROUND(J411,2),2)","v":6.62},0.215,{"$f":"IF(ISNUMBER($L411),VALUE(OFFSET(Banco!$A$1,Composições!$L411-1,COLUMN(Composições!I411)-4)),0)","v":28.53},{"$f":"IF(ISNUMBER($L411),VALUE(OFFSET(Banco!$A$1,Composições!$L411-1,COLUMN(Composições!J411)-4)),0)","v":30.8},{"$f":"COUNTA($A$1:$A411)-1","v":48},{"$f":"MATCH(CONCATENATE($B411,\" \",$C411),Banco!$A:$A,0)","v":12875},{"$f":"IF(OR(ISERROR($L411),$H411=\"\",$H411=0),\"\",OFFSET(M$1,MATCH($K411,$K$1:$K411,0)-1,0))","v":"F"},null,{"$f":"IF(ISNUMBER($L411),VALUE(OFFSET(Banco!$A$1,Composições!$L411-1,COLUMN(Composições!O411)-6)),0)","v":0},{"$f":"IF(ISNUMBER($L411),VALUE(OFFSET(Banco!$A$1,Composições!$L411-1,COLUMN(Composições!P411)-6)),0)","v":0},{"$f":"ROUND(F411*O411,2)","v":0},{"$f":"ROUND(G411*P411,2)","v":0}]
[null,"SINAPI",88264,{"$f":"IF(ISNUMBER($L412),OFFSET(Banco!$A$1,Composições!$L412-1,COLUMN(Composições!D412)-1),\"\")","v":"ELETRICISTA COM ENCARGOS COMPLEMENTARES"},{"$f":"IF(ISNUMBER($L412),OFFSET(Banco!$A$1,Composições!$L412-1,COLUMN(Composições!E412)-1),\"\")","v":"H"},66.599999999999994,72.33,1.9355,{"$f":"IF(ISNUMBER($L412),VALUE(OFFSET(Banco!$A$1,Composições!$L412-1,COLUMN(Composições!I412)-4)),0)","v":34.409999999999997},{"$f":"IF(ISNUMBER($L412),VALUE(OFFSET(Banco!$A$1,Composições!$L412-1,COLUMN(Composições!J412)-4)),0)","v":37.369999999999997},{"$f":"COUNTA($A$1:$A412)-1","v":48},{"$f":"MATCH(CONCATENATE($B412,\" \",$C412),Banco!$A:$A,0)","v":13095},{"$f":"IF(OR(ISERROR($L412),$H412=\"\",$H412=0),\"\",OFFSET(M$1,MATCH($K412,$K$1:$K412,0)-1,0))","v":"F"},null,{"$f":"IF(ISNUMBER($L412),VALUE(OFFSET(Banco!$A$1,Composições!$L412-1,COLUMN(Composições!O412)-6)),0)","v":0},{"$f":"IF(ISNUMBER($L412),VALUE(OFFSET(Banco!$A$1,Composições!$L412-1,COLUMN(Composições!P412)-6)),0)","v":0},0,0]
[null,"SINAPI",91872,{"$f":"IF(ISNUMBER($L413),OFFSET(Banco!$A$1,Composições!$L413-1,COLUMN(Composições!D413)-1),\"\")","v":"ELETRODUTO RÍGIDO ROSCÁVEL, PVC, DN 32 MM (1\"), PARA CIRCUITOS TERMINAIS, INSTALADO EM PAREDE - FORNECIMENTO E INSTALAÇÃO. AF_03/2023"},{"$f":"IF(ISNUMBER($L413),OFFSET(Banco!$A$1,Composições!$L413-1,COLUMN(Composições!E413)-1),\"\")","v":"M"},30.9,32.24,1.3,{"$f":"IF(ISNUMBER($L413),VALUE(OFFSET(Banco!$A$1,Composições!$L413-1,COLUMN(Composições!I413)-4)),0)","v":23.77},{"$f":"IF(ISNUMBER($L413),VALUE(OFFSET(Banco!$A$1,Composições!$L413-1,COLUMN(Composições!J413)-4)),0)","v":24.8},{"$f":"COUNTA($A$1:$A413)-1","v":48},{"$f":"MATCH(CONCATENATE($B413,\" \",$C413),Banco!$A:$A,0)","v":10539},{"$f":"IF(OR(ISERROR($L413),$H413=\"\",$H413=0),\"\",OFFSET(M$1,MATCH($K413,$K$1:$K413,0)-1,0))","v":"F"},null,{"$f":"IF(ISNUMBER($L413),VALUE(OFFSET(Banco!$A$1,Composições!$L413-1,COLUMN(Composições!O413)-6)),0)","v":0},{"$f":"IF(ISNUMBER($L413),VALUE(OFFSET(Banco!$A$1,Composições!$L413-1,COLUMN(Composições!P413)-6)),0)","v":0},0,0]
[null,"SINAPI",96977,{"$f":"IF(ISNUMBER($L414),OFFSET(Banco!$A$1,Composições!$L414-1,COLUMN(Composições!D414)-1),\"\")","v":"CORDOALHA DE COBRE NU 50 MM², ENTERRADA - FORNECIMENTO E INSTALAÇÃO. AF_08/2023"},{"$f":"IF(ISNUMBER($L414),OFFSET(Banco!$A$1,Composições!$L414-1,COLUMN(Composições!E414)-1),\"\")","v":"M"},118.38,118.72,1.95,{"$f":"IF(ISNUMBER($L414),VALUE(OFFSET(Banco!$A$1,Composições!$L414-1,COLUMN(Composições!I414)-4)),0)","v":60.71},{"$f":"IF(ISNUMBER($L414),VALUE(OFFSET(Banco!$A$1,Composições!$L414-1,COLUMN(Composições!J414)-4)),0)","v":60.88},{"$f":"COUNTA($A$1:$A414)-1","v":48},{"$f":"MATCH(CONCATENATE($B414,\" \",$C414),Banco!$A:$A,0)","v":14979},{"$f":"IF(OR(ISERROR($L414),$H414=\"\",$H414=0),\"\",OFFSET(M$1,MATCH($K414,$K$1:$K414,0)-1,0))","v":"F"},null,{"$f":"IF(ISNUMBER($L414),VALUE(OFFSET(Banco!$A$1,Composições!$L414-1,COLUMN(Composições!O414)-6)),0)","v":0},{"$f":"IF(ISNUMBER($L414),VALUE(OFFSET(Banco!$A$1,Composições!$L414-1,COLUMN(Composições!P414)-6)),0)","v":0},0,0]
[null,"SINAPI",96986,{"$f":"IF(ISNUMBER($L415),OFFSET(Banco!$A$1,Composições!$L415-1,COLUMN(Composições!D415)-1),\"\")","v":"HASTE DE ATERRAMENTO, DIÂMETRO 3/4\", COM 3 METROS - FORNECIMENTO E INSTALAÇÃO. AF_08/2023"},{"$f":"IF(ISNUMBER($L415),OFFSET(Banco!$A$1,Composições!$L415-1,COLUMN(Composições!E415)-1),\"\")","v":"UN"},111.21,113.24,1,{"$f":"IF(ISNUMBER($L415),VALUE(OFFSET(Banco!$A$1,Composições!$L415-1,COLUMN(Composições!I415)-4)),0)","v":111.21},{"$f":"IF(ISNUMBER($L415),VALUE(OFFSET(Banco!$A$1,Composições!$L415-1,COLUMN(Composições!J415)-4)),0)","v":113.24},{"$f":"COUNTA($A$1:$A415)-1","v":48},{"$f":"MATCH(CONCATENATE($B415,\" \",$C415),Banco!$A:$A,0)","v":14989},{"$f":"IF(OR(ISERROR($L415),$H415=\"\",$H415=0),\"\",OFFSET(M$1,MATCH($K415,$K$1:$K415,0)-1,0))","v":"F"},null,{"$f":"IF(ISNUMBER($L415),VALUE(OFFSET(Banco!$A$1,Composições!$L415-1,COLUMN(Composições!O415)-6)),0)","v":0},{"$f":"IF(ISNUMBER($L415),VALUE(OFFSET(Banco!$A$1,Composições!$L415-1,COLUMN(Composições!P415)-6)),0)","v":0},0,0]
[null,"SINAPI",97668,{"$f":"IF(ISNUMBER($L416),OFFSET(Banco!$A$1,Composições!$L416-1,COLUMN(Composições!D416)-1),\"\")","v":"ELETRODUTO FLEXÍVEL CORRUGADO, PEAD, DN 63 (2\"), PARA REDE ENTERRADA DE DISTRIBUIÇÃO DE ENERGIA ELÉTRICA - FORNECIMENTO E INSTALAÇÃO. AF_12/2021"},{"$f":"IF(ISNUMBER($L416),OFFSET(Banco!$A$1,Composições!$L416-1,COLUMN(Composições!E416)-1),\"\")","v":"M"},96.83,99.98,6.3,{"$f":"IF(ISNUMBER($L416),VALUE(OFFSET(Banco!$A$1,Composições!$L416-1,COLUMN(Composições!I416)-4)),0)","v":15.37},{"$f":"IF(ISNUMBER($L416),VALUE(OFFSET(Banco!$A$1,Composições!$L416-1,COLUMN(Composições!J416)-4)),0)","v":15.87},{"$f":"COUNTA($A$1:$A416)-1","v":48},{"$f":"MATCH(CONCATENATE($B416,\" \",$C416),Banco!$A:$A,0)","v":14654},{"$f":"IF(OR(ISERROR($L416),$H416=\"\",$H416=0),\"\",OFFSET(M$1,MATCH($K416,$K$1:$K416,0)-1,0))","v":"F"},null,{"$f":"IF(ISNUMBER($L416),VALUE(OFFSET(Banco!$A$1,Composições!$L416-1,COLUMN(Composições!O416)-6)),0)","v":0},{"$f":"IF(ISNUMBER($L416),VALUE(OFFSET(Banco!$A$1,Composições!$L416-1,COLUMN(Composições!P416)-6)),0)","v":0},0,0]
[null,"SINAPI",100605,{"$f":"IF(ISNUMBER($L417),OFFSET(Banco!$A$1,Composições!$L417-1,COLUMN(Composições!D417)-1),\"\")","v":"ASSENTAMENTO DE POSTE DE CONCRETO COM COMPRIMENTO NOMINAL DE 10 M, CARGA NOMINAL DE 600 DAN, ENGASTAMENTO BASE CONCRETADA COM 1 M DE CONCRETO E 0,6 M DE SOLO (NÃO INCLUI FORNECIMENTO). AF_04/2025"},{"$f":"IF(ISNUMBER($L417),OFFSET(Banco!$A$1,Composições!$L417-1,COLUMN(Composições!E417)-1),\"\")","v":"UN"},1142.95,1181.8399999999999,1,{"$f":"IF(ISNUMBER($L417),VALUE(OFFSET(Banco!$A$1,Composições!$L417-1,COLUMN(Composições!I417)-4)),0)","v":1142.95},{"$f":"IF(ISNUMBER($L417),VALUE(OFFSET(Banco!$A$1,Composições!$L417-1,COLUMN(Composições!J417)-4)),0)","v":1181.8399999999999},{"$f":"COUNTA($A$1:$A417)-1","v":48},{"$f":"MATCH(CONCATENATE($B417,\" \",$C417),Banco!$A:$A,0)","v":14118},{"$f":"IF(OR(ISERROR($L417),$H417=\"\",$H417=0),\"\",OFFSET(M$1,MATCH($K417,$K$1:$K417,0)-1,0))","v":"F"},null,{"$f":"IF(ISNUMBER($L417),VALUE(OFFSET(Banco!$A$1,Composições!$L417-1,COLUMN(Composições!O417)-6)),0)","v":4.1500000000000002E-2},{"$f":"IF(ISNUMBER($L417),VALUE(OFFSET(Banco!$A$1,Composições!$L417-1,COLUMN(Composições!P417)-6)),0)","v":4.0099999999999997E-2},47.43,47.39]
[null,"SINAPI",101896,{"$f":"IF(ISNUMBER($L418),OFFSET(Banco!$A$1,Composições!$L418-1,COLUMN(Composições!D418)-1),\"\")","v":"DISJUNTOR TERMOMAGNÉTICO TRIPOLAR, CORRENTE NOMINAL DE 200A - FORNECIMENTO E INSTALAÇÃO. AF_10/2020"},{"$f":"IF(ISNUMBER($L418),OFFSET(Banco!$A$1,Composições!$L418-1,COLUMN(Composições!E418)-1),\"\")","v":"UN"},764.65,771.56,1,{"$f":"IF(ISNUMBER($L418),VALUE(OFFSET(Banco!$A$1,Composições!$L418-1,COLUMN(Composições!I418)-4)),0)","v":764.65},{"$f":"IF(ISNUMBER($L418),VALUE(OFFSET(Banco!$A$1,Composições!$L418-1,COLUMN(Composições!J418)-4)),0)","v":771.56},{"$f":"COUNTA($A$1:$A418)-1","v":48},{"$f":"MATCH(CONCATENATE($B418,\" \",$C418),Banco!$A:$A,0)","v":10783},{"$f":"IF(OR(ISERROR($L418),$H418=\"\",$H418=0),\"\",OFFSET(M$1,MATCH($K418,$K$1:$K418,0)-1,0))","v":"F"},null,{"$f":"IF(ISNUMBER($L418),VALUE(OFFSET(Banco!$A$1,Composições!$L418-1,COLUMN(Composições!O418)-6)),0)","v":0},{"$f":"IF(ISNUMBER($L418),VALUE(OFFSET(Banco!$A$1,Composições!$L418-1,COLUMN(Composições!P418)-6)),0)","v":0},0,0]
[null,"COMPOSIÇÃO","FUES.0052.01",{"$f":"IF(ISNUMBER($L419),OFFSET(Banco!$A$1,Composições!$L419-1,COLUMN(Composições!D419)-1),\"\")","v":"MURETA EM ALVENARIA PARA ENTRADA DE ENERGIA ELÉTRICA, COM DIMENSÕES 2,55 X 1,85 M E ESPESSURA DE 30CM, EXECUTADO CONFORME PROJETO, INCLUSIVE FUNDAÇÕES, ESTRUTURAS E ACABAMENTOS (REBOCO, PINTURA E DETALHES) - FORNECIMENTO E EXECUÇÃO"},{"$f":"IF(ISNUMBER($L419),OFFSET(Banco!$A$1,Composições!$L419-1,COLUMN(Composições!E419)-1),\"\")","v":"UN"},3218.65,3374.76,1,{"$f":"IF(ISNUMBER($L419),VALUE(OFFSET(Banco!$A$1,Composições!$L419-1,COLUMN(Composições!I419)-4)),0)","v":3218.65},{"$f":"IF(ISNUMBER($L419),VALUE(OFFSET(Banco!$A$1,Composições!$L419-1,COLUMN(Composições!J419)-4)),0)","v":3374.76},{"$f":"COUNTA($A$1:$A419)-1","v":48},{"$f":"MATCH(CONCATENATE($B419,\" \",$C419),Banco!$A:$A,0)","v":72},{"$f":"IF(OR(ISERROR($L419),$H419=\"\",$H419=0),\"\",OFFSET(M$1,MATCH($K419,$K$1:$K419,0)-1,0))","v":"F"},null,{"$f":"IF(ISNUMBER($L419),VALUE(OFFSET(Banco!$A$1,Composições!$L419-1,COLUMN(Composições!O419)-6)),0)","v":2.5000000000000001E-3},{"$f":"IF(ISNUMBER($L419),VALUE(OFFSET(Banco!$A$1,Composições!$L419-1,COLUMN(Composições!P419)-6)),0)","v":2.3999999999999998E-3},8.0500000000000007,8.1]
[null,"SINAPI-I",11864,{"$f":"IF(ISNUMBER($L420),OFFSET(Banco!$A$1,Composições!$L420-1,COLUMN(Composições!D420)-1),\"\")","v":"CONECTOR METALICO TIPO PARAFUSO FENDIDO (SPLIT BOLT), PARA CABOS ATE 95 MM2"},{"$f":"IF(ISNUMBER($L420),OFFSET(Banco!$A$1,Composições!$L420-1,COLUMN(Composições!E420)-1),\"\")","v":"UN"},36.04,36.04,1,{"$f":"IF(ISNUMBER($L420),VALUE(OFFSET(Banco!$A$1,Composições!$L420-1,COLUMN(Composições!I420)-4)),0)","v":36.04},{"$f":"IF(ISNUMBER($L420),VALUE(OFFSET(Banco!$A$1,Composições!$L420-1,COLUMN(Composições!J420)-4)),0)","v":36.04},{"$f":"COUNTA($A$1:$A420)-1","v":48},{"$f":"MATCH(CONCATENATE($B420,\" \",$C420),Banco!$A:$A,0)","v":1473},{"$f":"IF(OR(ISERROR($L420),$H420=\"\",$H420=0),\"\",OFFSET(M$1,MATCH($K420,$K$1:$K420,0)-1,0))","v":"F"},null,{"$f":"IF(ISNUMBER($L420),VALUE(OFFSET(Banco!$A$1,Composições!$L420-1,COLUMN(Composições!O420)-6)),0)","v":0},{"$f":"IF(ISNUMBER($L420),VALUE(OFFSET(Banco!$A$1,Composições!$L420-1,COLUMN(Composições!P420)-6)),0)","v":0},0,0]
[null,"SINAPI-I",11950,{"$f":"IF(ISNUMBER($L421),OFFSET(Banco!$A$1,Composições!$L421-1,COLUMN(Composições!D421)-1),\"\")","v":"BUCHA DE NYLON SEM ABA S6, COM PARAFUSO DE 4,20 X 40 MM EM ACO ZINCADO COM ROSCA SOBERBA, CABECA CHATA E FENDA PHILLIPS"},{"$f":"IF(ISNUMBER($L421),OFFSET(Banco!$A$1,Composições!$L421-1,COLUMN(Composições!E421)-1),\"\")","v":"UN"},0.72,0.72,4,{"$f":"IF(ISNUMBER($L421),VALUE(OFFSET(Banco!$A$1,Composições!$L421-1,COLUMN(Composições!I421)-4)),0)","v":0.18},{"$f":"IF(ISNUMBER($L421),VALUE(OFFSET(Banco!$A$1,Composições!$L421-1,COLUMN(Composições!J421)-4)),0)","v":0.18},{"$f":"COUNTA($A$1:$A421)-1","v":48},{"$f":"MATCH(CONCATENATE($B421,\" \",$C421),Banco!$A:$A,0)","v":719},{"$f":"IF(OR(ISERROR($L421),$H421=\"\",$H421=0),\"\",OFFSET(M$1,MATCH($K421,$K$1:$K421,0)-1,0))","v":"F"},null,{"$f":"IF(ISNUMBER($L421),VALUE(OFFSET(Banco!$A$1,Composições!$L421-1,COLUMN(Composições!O421)-6)),0)","v":0},{"$f":"IF(ISNUMBER($L421),VALUE(OFFSET(Banco!$A$1,Composições!$L421-1,COLUMN(Composições!P421)-6)),0)","v":0},0,0]
[null,"SINAPI-I",34643,{"$f":"IF(ISNUMBER($L422),OFFSET(Banco!$A$1,Composições!$L422-1,COLUMN(Composições!D422)-1),\"\")","v":"CAIXA DE INSPECAO PARA ATERRAMENTO E PARA RAIOS, EM POLIPROPILENO, DIAMETRO = 300 MM X ALTURA = 400 MM (INCLUIDA TAMPA SEM ESCOTILHA)"},{"$f":"IF(ISNUMBER($L422),OFFSET(Banco!$A$1,Composições!$L422-1,COLUMN(Composições!E422)-1),\"\")","v":"UN"},41.81,41.81,1,{"$f":"IF(ISNUMBER($L422),VALUE(OFFSET(Banco!$A$1,Composições!$L422-1,COLUMN(Composições!I422)-4)),0)","v":41.81},{"$f":"IF(ISNUMBER($L422),VALUE(OFFSET(Banco!$A$1,Composições!$L422-1,COLUMN(Composições!J422)-4)),0)","v":41.81},{"$f":"COUNTA($A$1:$A422)-1","v":48},{"$f":"MATCH(CONCATENATE($B422,\" \",$C422),Banco!$A:$A,0)","v":1010},{"$f":"IF(OR(ISERROR($L422),$H422=\"\",$H422=0),\"\",OFFSET(M$1,MATCH($K422,$K$1:$K422,0)-1,0))","v":"F"},null,{"$f":"IF(ISNUMBER($L422),VALUE(OFFSET(Banco!$A$1,Composições!$L422-1,COLUMN(Composições!O422)-6)),0)","v":0},{"$f":"IF(ISNUMBER($L422),VALUE(OFFSET(Banco!$A$1,Composições!$L422-1,COLUMN(Composições!P422)-6)),0)","v":0},0,0]
[null,"SINAPI-I",39809,{"$f":"IF(ISNUMBER($L423),OFFSET(Banco!$A$1,Composições!$L423-1,COLUMN(Composições!D423)-1),\"\")","v":"CAIXA PARA MEDIDOR POLIFASICO, EM POLICARBONATO / TERMOPLASTICO, PARA ALOJAR 1 DISJUNTOR (PADRAO DA CONCESSIONARIA LOCAL)"},{"$f":"IF(ISNUMBER($L423),OFFSET(Banco!$A$1,Composições!$L423-1,COLUMN(Composições!E423)-1),\"\")","v":"UN"},316.99,316.99,1,{"$f":"IF(ISNUMBER($L423),VALUE(OFFSET(Banco!$A$1,Composições!$L423-1,COLUMN(Composições!I423)-4)),0)","v":316.99},{"$f":"IF(ISNUMBER($L423),VALUE(OFFSET(Banco!$A$1,Composições!$L423-1,COLUMN(Composições!J423)-4)),0)","v":316.99},{"$f":"COUNTA($A$1:$A423)-1","v":48},{"$f":"MATCH(CONCATENATE($B423,\" \",$C423),Banco!$A:$A,0)","v":1059},{"$f":"IF(OR(ISERROR($L423),$H423=\"\",$H423=0),\"\",OFFSET(M$1,MATCH($K423,$K$1:$K423,0)-1,0))","v":"F"},null,{"$f":"IF(ISNUMBER($L423),VALUE(OFFSET(Banco!$A$1,Composições!$L423-1,COLUMN(Composições!O423)-6)),0)","v":0},{"$f":"IF(ISNUMBER($L423),VALUE(OFFSET(Banco!$A$1,Composições!$L423-1,COLUMN(Composições!P423)-6)),0)","v":0},0,0]
[null,"COTAÇÃO",41200,{"$f":"IF(ISNUMBER($L424),OFFSET(Banco!$A$1,Composições!$L424-1,COLUMN(Composições!D424)-1),\"\")","v":"POSTE DE CONCRETO ARMADO DE SECAO DUPLO T, EXTENSAO DE 10,00 M, RESISTENCIA DE 600 DAN, TIPO B"},{"$f":"IF(ISNUMBER($L424),OFFSET(Banco!$A$1,Composições!$L424-1,COLUMN(Composições!E424)-1),\"\")","v":"UN"},1382.48,1382.48,1,{"$f":"IF(ISNUMBER($L424),VALUE(OFFSET(Banco!$A$1,Composições!$L424-1,COLUMN(Composições!I424)-4)),0)","v":1382.48},{"$f":"IF(ISNUMBER($L424),VALUE(OFFSET(Banco!$A$1,Composições!$L424-1,COLUMN(Composições!J424)-4)),0)","v":1382.48},{"$f":"COUNTA($A$1:$A424)-1","v":48},{"$f":"MATCH(CONCATENATE($B424,\" \",$C424),Banco!$A:$A,0)","v":124},{"$f":"IF(OR(ISERROR($L424),$H424=\"\",$H424=0),\"\",OFFSET(M$1,MATCH($K424,$K$1:$K424,0)-1,0))","v":"F"},null,{"$f":"IF(ISNUMBER($L424),VALUE(OFFSET(Banco!$A$1,Composições!$L424-1,COLUMN(Composições!O424)-6)),0)","v":0},{"$f":"IF(ISNUMBER($L424),VALUE(OFFSET(Banco!$A$1,Composições!$L424-1,COLUMN(Composições!P424)-6)),0)","v":0},0,0]
[null,null,null,null,null,null,null,null,null,null,{"$f":"COUNTA($A$1:$A425)-1","v":48},null,{"$f":"IF(OFFSET($M$1,MATCH(OFFSET(K425,-1,0),$K$1:$K425,0)-1,0)=\"F\",\"F\",\"\")","v":"F"}]
[{"$f":"CONCATENATE($B426,\" \",$C426)","v":"Composição INEL.0125.01"},"Composição","INEL.0125.01","POSTE CONCRETO SEÇÃO CIRCULAR COMPRIMENTO DE 14 METROS,  CARGA NOMINAL NO TOPO 300DAN, INCLUSIVE ESCAVAÇÃO E CAMINHÃO GUINDAUTO PARA INSTALAÇÃO - FORNECIMENTO E INSTALAÇÃO","UND.",{"$f":"IF($L426>0,SUM(OFFSET(F426,1,0,$L426),0))","v":2878.5299999999997},2887.13,null,{"$f":"IF(ISERROR(F426),0,F426)","v":2878.5299999999997},2887.13,{"$f":"COUNTA($A$1:$A426)-1","v":49},{"$f":"IF(MAX(K:K)=K426,MATCH(9999999,$K:$K)+1,MATCH(K426+1,K:K,0))-ROW(L426)-2","v":4},{"$f":"IF(AND(OR(I426<>0,J426<>0),N426=\"Sim\"),\"F\",\"\")","v":"F"},"Sim",{"$f":"IF(AND($L426>0,F426<>0),ROUND(SUM(OFFSET(Q426,1,0,$L426))/F426,4),0)","v":2.4299999999999999E-2},2.4199999999999999E-2]
[null,"SINAPI",88247,{"$f":"IF(ISNUMBER($L427),OFFSET(Banco!$A$1,Composições!$L427-1,COLUMN(Composições!D427)-1),\"\")","v":"AUXILIAR DE ELETRICISTA COM ENCARGOS COMPLEMENTARES"},{"$f":"IF(ISNUMBER($L427),OFFSET(Banco!$A$1,Composições!$L427-1,COLUMN(Composições!E427)-1),\"\")","v":"H"},{"$f":"ROUND($H427*ROUND(I427,2),2)","v":28.53},30.8,1,{"$f":"IF(ISNUMBER($L427),VALUE(OFFSET(Banco!$A$1,Composições!$L427-1,COLUMN(Composições!I427)-4)),0)","v":28.53},{"$f":"IF(ISNUMBER($L427),VALUE(OFFSET(Banco!$A$1,Composições!$L427-1,COLUMN(Composições!J427)-4)),0)","v":30.8},{"$f":"COUNTA($A$1:$A427)-1","v":49},{"$f":"MATCH(CONCATENATE($B427,\" \",$C427),Banco!$A:$A,0)","v":12875},{"$f":"IF(OR(ISERROR($L427),$H427=\"\",$H427=0),\"\",OFFSET(M$1,MATCH($K427,$K$1:$K427,0)-1,0))","v":"F"},null,{"$f":"IF(ISNUMBER($L427),VALUE(OFFSET(Banco!$A$1,Composições!$L427-1,COLUMN(Composições!O427)-6)),0)","v":0},{"$f":"IF(ISNUMBER($L427),VALUE(OFFSET(Banco!$A$1,Composições!$L427-1,COLUMN(Composições!P427)-6)),0)","v":0},{"$f":"ROUND(F427*O427,2)","v":0},0]
[null,"SINAPI",88264,{"$f":"IF(ISNUMBER($L428),OFFSET(Banco!$A$1,Composições!$L428-1,COLUMN(Composições!D428)-1),\"\")","v":"ELETRICISTA COM ENCARGOS COMPLEMENTARES"},{"$f":"IF(ISNUMBER($L428),OFFSET(Banco!$A$1,Composições!$L428-1,COLUMN(Composições!E428)-1),\"\")","v":"H"},34.409999999999997,37.369999999999997,1,{"$f":"IF(ISNUMBER($L428),VALUE(OFFSET(Banco!$A$1,Composições!$L428-1,COLUMN(Composições!I428)-4)),0)","v":34.409999999999997},{"$f":"IF(ISNUMBER($L428),VALUE(OFFSET(Banco!$A$1,Composições!$L428-1,COLUMN(Composições!J428)-4)),0)","v":37.369999999999997},{"$f":"COUNTA($A$1:$A428)-1","v":49},{"$f":"MATCH(CONCATENATE($B428,\" \",$C428),Banco!$A:$A,0)","v":13095},{"$f":"IF(OR(ISERROR($L428),$H428=\"\",$H428=0),\"\",OFFSET(M$1,MATCH($K428,$K$1:$K428,0)-1,0))","v":"F"},null,{"$f":"IF(ISNUMBER($L428),VALUE(OFFSET(Banco!$A$1,Composições!$L428-1,COLUMN(Composições!O428)-6)),0)","v":0},{"$f":"IF(ISNUMBER($L428),VALUE(OFFSET(Banco!$A$1,Composições!$L428-1,COLUMN(Composições!P428)-6)),0)","v":0},0,0]
[null,"SINAPI",91634,{"$f":"IF(ISNUMBER($L429),OFFSET(Banco!$A$1,Composições!$L429-1,COLUMN(Composições!D429)-1),\"\")","v":"GUINDAUTO HIDRÁULICO, CAPACIDADE MÁXIMA DE CARGA 6500 KG, MOMENTO MÁXIMO DE CARGA 5,8 TM, ALCANCE MÁXIMO HORIZONTAL 7,60 M, INCLUSIVE CAMINHÃO TOCO PBT 9.700 KG, POTÊNCIA DE 160 CV - CHP DIURNO. AF_08/2015"},{"$f":"IF(ISNUMBER($L429),OFFSET(Banco!$A$1,Composições!$L429-1,COLUMN(Composições!E429)-1),\"\")","v":"CHP"},239.53,242.9,1,{"$f":"IF(ISNUMBER($L429),VALUE(OFFSET(Banco!$A$1,Composições!$L429-1,COLUMN(Composições!I429)-4)),0)","v":239.53},{"$f":"IF(ISNUMBER($L429),VALUE(OFFSET(Banco!$A$1,Composições!$L429-1,COLUMN(Composições!J429)-4)),0)","v":242.9},{"$f":"COUNTA($A$1:$A429)-1","v":49},{"$f":"MATCH(CONCATENATE($B429,\" \",$C429),Banco!$A:$A,0)","v":7710},{"$f":"IF(OR(ISERROR($L429),$H429=\"\",$H429=0),\"\",OFFSET(M$1,MATCH($K429,$K$1:$K429,0)-1,0))","v":"F"},null,{"$f":"IF(ISNUMBER($L429),VALUE(OFFSET(Banco!$A$1,Composições!$L429-1,COLUMN(Composições!O429)-6)),0)","v":0.29220000000000002},{"$f":"IF(ISNUMBER($L429),VALUE(OFFSET(Banco!$A$1,Composições!$L429-1,COLUMN(Composições!P429)-6)),0)","v":0.28820000000000001},69.989999999999995,70]
[null,"COTAÇÃO",5036,{"$f":"IF(ISNUMBER($L430),OFFSET(Banco!$A$1,Composições!$L430-1,COLUMN(Composições!D430)-1),\"\")","v":"POSTE DE CONCRETO ARMADO DE SECAO CIRCULAR, EXTENSAO DE 14,00 M, RESISTENCIA DE 300 A 400 DAN, TIPO C-17"},{"$f":"IF(ISNUMBER($L430),OFFSET(Banco!$A$1,Composições!$L430-1,COLUMN(Composições!E430)-1),\"\")","v":"UN"},2576.06,2576.06,1,{"$f":"IF(ISNUMBER($L430),VALUE(OFFSET(Banco!$A$1,Composições!$L430-1,COLUMN(Composições!I430)-4)),0)","v":2576.06},{"$f":"IF(ISNUMBER($L430),VALUE(OFFSET(Banco!$A$1,Composições!$L430-1,COLUMN(Composições!J430)-4)),0)","v":2576.06},{"$f":"COUNTA($A$1:$A430)-1","v":49},{"$f":"MATCH(CONCATENATE($B430,\" \",$C430),Banco!$A:$A,0)","v":108},{"$f":"IF(OR(ISERROR($L430),$H430=\"\",$H430=0),\"\",OFFSET(M$1,MATCH($K430,$K$1:$K430,0)-1,0))","v":"F"},null,{"$f":"IF(ISNUMBER($L430),VALUE(OFFSET(Banco!$A$1,Composições!$L430-1,COLUMN(Composições!O430)-6)),0)","v":0},{"$f":"IF(ISNUMBER($L430),VALUE(OFFSET(Banco!$A$1,Composições!$L430-1,COLUMN(Composições!P430)-6)),0)","v":0},0,0]
[null,null,null,null,null,null,null,null,null,null,{"$f":"COUNTA($A$1:$A431)-1","v":49},null,{"$f":"IF(OFFSET($M$1,MATCH(OFFSET(K431,-1,0),$K$1:$K431,0)-1,0)=\"F\",\"F\",\"\")","v":"F"}]
[{"$f":"CONCATENATE($B432,\" \",$C432)","v":"Composição INEL.0377.01"},"Composição","INEL.0377.01","SUPORTE CENTRAL TIPO X PARA INSTALAÇÃO DE 4 LUMINÁRIAS EM PÉTALAS TIPO PÚBLICA NO TOPO DO POSTE, FABRICADO EM TUBOS DE AÇO ESTRUTURAL, PROVIDO DE BRAÇO COM DIÂMETRO DE 48MM, COMPRIMENTO 30CM, ÂNGULO DE INCLINAÇÃO HORIZONTAL DE 10º, PROVIDO DE TAMPA REMOVÍVEL EM ALUMÍNIO, FIXADO AO TOPO DO POSTE ATRAVÉS DE 3 PARAFUSOS INCLUSOS, DIÂMETRO DE FIXAÇÃO NO POSTE DE 111MM. ACABAMENTO GALVANIZADO A FOGO CONFORME NBR 6323.  - FORNECIMENTO E INSTALAÇÃO.","UND.",{"$f":"IF($L432>0,SUM(OFFSET(F432,1,0,$L432),0))","v":188.37999999999997},191.29999999999998,null,{"$f":"IF(ISERROR(F432),0,F432)","v":188.37999999999997},191.29999999999998,{"$f":"COUNTA($A$1:$A432)-1","v":50},{"$f":"IF(MAX(K:K)=K432,MATCH(9999999,$K:$K)+1,MATCH(K432+1,K:K,0))-ROW(L432)-2","v":5},{"$f":"IF(AND(OR(I432<>0,J432<>0),N432=\"Sim\"),\"F\",\"\")","v":"F"},"Sim",{"$f":"IF(AND($L432>0,F432<>0),ROUND(SUM(OFFSET(Q432,1,0,$L432))/F432,4),0)","v":0},0]
[null,"SINAPI",88317,{"$f":"IF(ISNUMBER($L433),OFFSET(Banco!$A$1,Composições!$L433-1,COLUMN(Composições!D433)-1),\"\")","v":"SOLDADOR COM ENCARGOS COMPLEMENTARES"},{"$f":"IF(ISNUMBER($L433),OFFSET(Banco!$A$1,Composições!$L433-1,COLUMN(Composições!E433)-1),\"\")","v":"H"},{"$f":"ROUND($H433*ROUND(I433,2),2)","v":17.52},18.989999999999998,0.5,{"$f":"IF(ISNUMBER($L433),VALUE(OFFSET(Banco!$A$1,Composições!$L433-1,COLUMN(Composições!I433)-4)),0)","v":35.04},{"$f":"IF(ISNUMBER($L433),VALUE(OFFSET(Banco!$A$1,Composições!$L433-1,COLUMN(Composições!J433)-4)),0)","v":37.979999999999997},{"$f":"COUNTA($A$1:$A433)-1","v":50},{"$f":"MATCH(CONCATENATE($B433,\" \",$C433),Banco!$A:$A,0)","v":13202},{"$f":"IF(OR(ISERROR($L433),$H433=\"\",$H433=0),\"\",OFFSET(M$1,MATCH($K433,$K$1:$K433,0)-1,0))","v":"F"},null,{"$f":"IF(ISNUMBER($L433),VALUE(OFFSET(Banco!$A$1,Composições!$L433-1,COLUMN(Composições!O433)-6)),0)","v":0},{"$f":"IF(ISNUMBER($L433),VALUE(OFFSET(Banco!$A$1,Composições!$L433-1,COLUMN(Composições!P433)-6)),0)","v":0},{"$f":"ROUND(F433*O433,2)","v":0},0]
[null,"SINAPI",88315,{"$f":"IF(ISNUMBER($L434),OFFSET(Banco!$A$1,Composições!$L434-1,COLUMN(Composições!D434)-1),\"\")","v":"SERRALHEIRO COM ENCARGOS COMPLEMENTARES"},{"$f":"IF(ISNUMBER($L434),OFFSET(Banco!$A$1,Composições!$L434-1,COLUMN(Composições!E434)-1),\"\")","v":"H"},16.88,18.329999999999998,0.5,{"$f":"IF(ISNUMBER($L434),VALUE(OFFSET(Banco!$A$1,Composições!$L434-1,COLUMN(Composições!I434)-4)),0)","v":33.75},{"$f":"IF(ISNUMBER($L434),VALUE(OFFSET(Banco!$A$1,Composições!$L434-1,COLUMN(Composições!J434)-4)),0)","v":36.65},{"$f":"COUNTA($A$1:$A434)-1","v":50},{"$f":"MATCH(CONCATENATE($B434,\" \",$C434),Banco!$A:$A,0)","v":13196},{"$f":"IF(OR(ISERROR($L434),$H434=\"\",$H434=0),\"\",OFFSET(M$1,MATCH($K434,$K$1:$K434,0)-1,0))","v":"F"},null,{"$f":"IF(ISNUMBER($L434),VALUE(OFFSET(Banco!$A$1,Composições!$L434-1,COLUMN(Composições!O434)-6)),0)","v":0},{"$f":"IF(ISNUMBER($L434),VALUE(OFFSET(Banco!$A$1,Composições!$L434-1,COLUMN(Composições!P434)-6)),0)","v":0},0,0]
[null,"COTAÇÃO",7696,{"$f":"IF(ISNUMBER($L435),OFFSET(Banco!$A$1,Composições!$L435-1,COLUMN(Composições!D435)-1),\"\")","v":"TUBO ACO GALVANIZADO COM COSTURA, CLASSE MEDIA, DN 2\", E = *3,65* MM, PESO *5,10* KG/M (NBR 5580)"},{"$f":"IF(ISNUMBER($L435),OFFSET(Banco!$A$1,Composições!$L435-1,COLUMN(Composições!E435)-1),\"\")","v":"M"},89.3,89.3,1.2,{"$f":"IF(ISNUMBER($L435),VALUE(OFFSET(Banco!$A$1,Composições!$L435-1,COLUMN(Composições!I435)-4)),0)","v":74.42},{"$f":"IF(ISNUMBER($L435),VALUE(OFFSET(Banco!$A$1,Composições!$L435-1,COLUMN(Composições!J435)-4)),0)","v":74.42},{"$f":"COUNTA($A$1:$A435)-1","v":50},{"$f":"MATCH(CONCATENATE($B435,\" \",$C435),Banco!$A:$A,0)","v":111},{"$f":"IF(OR(ISERROR($L435),$H435=\"\",$H435=0),\"\",OFFSET(M$1,MATCH($K435,$K$1:$K435,0)-1,0))","v":"F"},null,{"$f":"IF(ISNUMBER($L435),VALUE(OFFSET(Banco!$A$1,Composições!$L435-1,COLUMN(Composições!O435)-6)),0)","v":0},{"$f":"IF(ISNUMBER($L435),VALUE(OFFSET(Banco!$A$1,Composições!$L435-1,COLUMN(Composições!P435)-6)),0)","v":0},0,0]
[null,"COTAÇÃO",21016,{"$f":"IF(ISNUMBER($L436),OFFSET(Banco!$A$1,Composições!$L436-1,COLUMN(Composições!D436)-1),\"\")","v":"TUBO ACO GALVANIZADO COM COSTURA, CLASSE LEVE, DN 100 MM (4\"), E = 3,75 MM, *10,55* KG/M (NBR 5580)"},{"$f":"IF(ISNUMBER($L436),OFFSET(Banco!$A$1,Composições!$L436-1,COLUMN(Composições!E436)-1),\"\")","v":"M"},62.7,62.7,0.4,{"$f":"IF(ISNUMBER($L436),VALUE(OFFSET(Banco!$A$1,Composições!$L436-1,COLUMN(Composições!I436)-4)),0)","v":156.74},{"$f":"IF(ISNUMBER($L436),VALUE(OFFSET(Banco!$A$1,Composições!$L436-1,COLUMN(Composições!J436)-4)),0)","v":156.74},{"$f":"COUNTA($A$1:$A436)-1","v":50},{"$f":"MATCH(CONCATENATE($B436,\" \",$C436),Banco!$A:$A,0)","v":120},{"$f":"IF(OR(ISERROR($L436),$H436=\"\",$H436=0),\"\",OFFSET(M$1,MATCH($K436,$K$1:$K436,0)-1,0))","v":"F"},null,{"$f":"IF(ISNUMBER($L436),VALUE(OFFSET(Banco!$A$1,Composições!$L436-1,COLUMN(Composições!O436)-6)),0)","v":0},{"$f":"IF(ISNUMBER($L436),VALUE(OFFSET(Banco!$A$1,Composições!$L436-1,COLUMN(Composições!P436)-6)),0)","v":0},0,0]
[null,"COTAÇÃO",11026,{"$f":"IF(ISNUMBER($L437),OFFSET(Banco!$A$1,Composições!$L437-1,COLUMN(Composições!D437)-1),\"\")","v":"CHAPA DE ACO GALVANIZADA BITOLA GSG 14, E = 1,95 MM (15,60 KG/M2)"},{"$f":"IF(ISNUMBER($L437),OFFSET(Banco!$A$1,Composições!$L437-1,COLUMN(Composições!E437)-1),\"\")","v":"KG"},1.98,1.98,0.19,{"$f":"IF(ISNUMBER($L437),VALUE(OFFSET(Banco!$A$1,Composições!$L437-1,COLUMN(Composições!I437)-4)),0)","v":10.4},{"$f":"IF(ISNUMBER($L437),VALUE(OFFSET(Banco!$A$1,Composições!$L437-1,COLUMN(Composições!J437)-4)),0)","v":10.4},{"$f":"COUNTA($A$1:$A437)-1","v":50},{"$f":"MATCH(CONCATENATE($B437,\" \",$C437),Banco!$A:$A,0)","v":114},{"$f":"IF(OR(ISERROR($L437),$H437=\"\",$H437=0),\"\",OFFSET(M$1,MATCH($K437,$K$1:$K437,0)-1,0))","v":"F"},null,{"$f":"IF(ISNUMBER($L437),VALUE(OFFSET(Banco!$A$1,Composições!$L437-1,COLUMN(Composições!O437)-6)),0)","v":0},{"$f":"IF(ISNUMBER($L437),VALUE(OFFSET(Banco!$A$1,Composições!$L437-1,COLUMN(Composições!P437)-6)),0)","v":0},0,0]
[null,null,null,null,null,null,null,null,null,null,{"$f":"COUNTA($A$1:$A438)-1","v":50},null,{"$f":"IF(OFFSET($M$1,MATCH(OFFSET(K438,-1,0),$K$1:$K438,0)-1,0)=\"F\",\"F\",\"\")","v":"F"}]
[{"$f":"CONCATENATE($B439,\" \",$C439)","v":"Composição URBA.0006.01"},"Composição","URBA.0006.01","LOCAÇÃO DE MUROS, CERCAS E ESTRUTURAS SIMILARES","M",{"$f":"IF($L439>0,SUM(OFFSET(F439,1,0,$L439),0))","v":1.66},1.71,null,{"$f":"IF(ISERROR(F439),0,F439)","v":1.66},1.71,{"$f":"COUNTA($A$1:$A439)-1","v":51},{"$f":"IF(MAX(K:K)=K439,MATCH(9999999,$K:$K)+1,MATCH(K439+1,K:K,0))-ROW(L439)-2","v":2},{"$f":"IF(AND(OR(I439<>0,J439<>0),N439=\"Sim\"),\"F\",\"\")","v":"F"},"Sim",{"$f":"IF(AND($L439>0,F439<>0),ROUND(SUM(OFFSET(Q439,1,0,$L439))/F439,4),0)","v":0},0]
[null,"SINAPI",88253,{"$f":"IF(ISNUMBER($L440),OFFSET(Banco!$A$1,Composições!$L440-1,COLUMN(Composições!D440)-1),\"\")","v":"AUXILIAR DE TOPÓGRAFO COM ENCARGOS COMPLEMENTARES"},{"$f":"IF(ISNUMBER($L440),OFFSET(Banco!$A$1,Composições!$L440-1,COLUMN(Composições!E440)-1),\"\")","v":"H"},{"$f":"ROUND($H440*ROUND(I440,2),2)","v":0.16},0.17,1.2E-2,{"$f":"IF(ISNUMBER($L440),VALUE(OFFSET(Banco!$A$1,Composições!$L440-1,COLUMN(Composições!I440)-4)),0)","v":13.26},{"$f":"IF(ISNUMBER($L440),VALUE(OFFSET(Banco!$A$1,Composições!$L440-1,COLUMN(Composições!J440)-4)),0)","v":14.55},{"$f":"COUNTA($A$1:$A440)-1","v":51},{"$f":"MATCH(CONCATENATE($B440,\" \",$C440),Banco!$A:$A,0)","v":12888},{"$f":"IF(OR(ISERROR($L440),$H440=\"\",$H440=0),\"\",OFFSET(M$1,MATCH($K440,$K$1:$K440,0)-1,0))","v":"F"},null,{"$f":"IF(ISNUMBER($L440),VALUE(OFFSET(Banco!$A$1,Composições!$L440-1,COLUMN(Composições!O440)-6)),0)","v":0},{"$f":"IF(ISNUMBER($L440),VALUE(OFFSET(Banco!$A$1,Composições!$L440-1,COLUMN(Composições!P440)-6)),0)","v":0},{"$f":"ROUND(F440*O440,2)","v":0},0]
[null,"SINAPI",92138,{"$f":"IF(ISNUMBER($L441),OFFSET(Banco!$A$1,Composições!$L441-1,COLUMN(Composições!D441)-1),\"\")","v":"CAMINHONETE COM MOTOR A DIESEL, POTÊNCIA 180 CV, CABINE DUPLA, 4X4 - CHP DIURNO. AF_11/2015"},{"$f":"IF(ISNUMBER($L441),OFFSET(Banco!$A$1,Composições!$L441-1,COLUMN(Composições!E441)-1),\"\")","v":"CHP"},1.5,1.54,1.4999999999999999E-2,{"$f":"IF(ISNUMBER($L441),VALUE(OFFSET(Banco!$A$1,Composições!$L441-1,COLUMN(Composições!I441)-4)),0)","v":99.99},{"$f":"IF(ISNUMBER($L441),VALUE(OFFSET(Banco!$A$1,Composições!$L441-1,COLUMN(Composições!J441)-4)),0)","v":102.61},{"$f":"COUNTA($A$1:$A441)-1","v":51},{"$f":"MATCH(CONCATENATE($B441,\" \",$C441),Banco!$A:$A,0)","v":7566},{"$f":"IF(OR(ISERROR($L441),$H441=\"\",$H441=0),\"\",OFFSET(M$1,MATCH($K441,$K$1:$K441,0)-1,0))","v":"F"},null,{"$f":"IF(ISNUMBER($L441),VALUE(OFFSET(Banco!$A$1,Composições!$L441-1,COLUMN(Composições!O441)-6)),0)","v":0},{"$f":"IF(ISNUMBER($L441),VALUE(OFFSET(Banco!$A$1,Composições!$L441-1,COLUMN(Composições!P441)-6)),0)","v":0},0,0]
[null,null,null,null,null,null,null,null,null,null,{"$f":"COUNTA($A$1:$A442)-1","v":51},null,{"$f":"IF(OFFSET($M$1,MATCH(OFFSET(K442,-1,0),$K$1:$K442,0)-1,0)=\"F\",\"F\",\"\")","v":"F"}]
[{"$f":"CONCATENATE($B443,\" \",$C443)","v":"Composição URBA.0002.01"},"Composição","URBA.0002.01","CERCA ALAMBRADO, COM MOURÕES (13X8 E REFORÇO DE 14X14), TELA ARAME GALVANIZADO FIO 12 BWG (2,77 MM) MALHA 7X7 CM, REFORÇO DE 4 FIOS 10BWG (3,4MM), VIGA BALDRAME EM CONCRETO 20X30, ALTURA 2,40 M -  FORNECIMENTO E INSTALAÇÃO CONFORME PROJETO","M",{"$f":"IF($L443>0,SUM(OFFSET(F443,1,0,$L443),0))","v":253.13},262.05,null,{"$f":"IF(ISERROR(F443),0,F443)","v":253.13},262.05,{"$f":"COUNTA($A$1:$A443)-1","v":52},{"$f":"IF(MAX(K:K)=K443,MATCH(9999999,$K:$K)+1,MATCH(K443+1,K:K,0))-ROW(L443)-2","v":12},{"$f":"IF(AND(OR(I443<>0,J443<>0),N443=\"Sim\"),\"F\",\"\")","v":"F"},"Sim",{"$f":"IF(AND($L443>0,F443<>0),ROUND(SUM(OFFSET(Q443,1,0,$L443))/F443,4),0)","v":4.0000000000000002E-4},4.0000000000000002E-4]
[null,"SINAPI",96522,{"$f":"IF(ISNUMBER($L444),OFFSET(Banco!$A$1,Composições!$L444-1,COLUMN(Composições!D444)-1),\"\")","v":"ESCAVAÇÃO MANUAL PARA BLOCO DE COROAMENTO OU SAPATA (SEM ESCAVAÇÃO PARA COLOCAÇÃO DE FÔRMAS). AF_01/2024"},{"$f":"IF(ISNUMBER($L444),OFFSET(Banco!$A$1,Composições!$L444-1,COLUMN(Composições!E444)-1),\"\")","v":"M3"},{"$f":"ROUND($H444*ROUND(I444,2),2)","v":15.98},{"$f":"ROUND($H444*ROUND(J444,2),2)","v":17.25},9.0999999999999998E-2,{"$f":"IF(ISNUMBER($L444),VALUE(OFFSET(Banco!$A$1,Composições!$L444-1,COLUMN(Composições!I444)-4)),0)","v":175.55},{"$f":"IF(ISNUMBER($L444),VALUE(OFFSET(Banco!$A$1,Composições!$L444-1,COLUMN(Composições!J444)-4)),0)","v":189.61},{"$f":"COUNTA($A$1:$A444)-1","v":52},{"$f":"MATCH(CONCATENATE($B444,\" \",$C444),Banco!$A:$A,0)","v":10076},{"$f":"IF(OR(ISERROR($L444),$H444=\"\",$H444=0),\"\",OFFSET(M$1,MATCH($K444,$K$1:$K444,0)-1,0))","v":"F"},null,{"$f":"IF(ISNUMBER($L444),VALUE(OFFSET(Banco!$A$1,Composições!$L444-1,COLUMN(Composições!O444)-6)),0)","v":0},{"$f":"IF(ISNUMBER($L444),VALUE(OFFSET(Banco!$A$1,Composições!$L444-1,COLUMN(Composições!P444)-6)),0)","v":0},{"$f":"ROUND(F444*O444,2)","v":0},{"$f":"ROUND(G444*P444,2)","v":0}]
[null,"SINAPI",92800,{"$f":"IF(ISNUMBER($L445),OFFSET(Banco!$A$1,Composições!$L445-1,COLUMN(Composições!D445)-1),\"\")","v":"CORTE E DOBRA DE AÇO CA-60, DIÂMETRO DE 5,0 MM. AF_06/2022"},{"$f":"IF(ISNUMBER($L445),OFFSET(Banco!$A$1,Composições!$L445-1,COLUMN(Composições!E445)-1),\"\")","v":"KG"},3.98,4.05,0.38500000000000001,{"$f":"IF(ISNUMBER($L445),VALUE(OFFSET(Banco!$A$1,Composições!$L445-1,COLUMN(Composições!I445)-4)),0)","v":10.34},{"$f":"IF(ISNUMBER($L445),VALUE(OFFSET(Banco!$A$1,Composições!$L445-1,COLUMN(Composições!J445)-4)),0)","v":10.52},{"$f":"COUNTA($A$1:$A445)-1","v":52},{"$f":"MATCH(CONCATENATE($B445,\" \",$C445),Banco!$A:$A,0)","v":6417},{"$f":"IF(OR(ISERROR($L445),$H445=\"\",$H445=0),\"\",OFFSET(M$1,MATCH($K445,$K$1:$K445,0)-1,0))","v":"F"},null,{"$f":"IF(ISNUMBER($L445),VALUE(OFFSET(Banco!$A$1,Composições!$L445-1,COLUMN(Composições!O445)-6)),0)","v":0},{"$f":"IF(ISNUMBER($L445),VALUE(OFFSET(Banco!$A$1,Composições!$L445-1,COLUMN(Composições!P445)-6)),0)","v":0},0,0]
[null,"SINAPI",92801,{"$f":"IF(ISNUMBER($L446),OFFSET(Banco!$A$1,Composições!$L446-1,COLUMN(Composições!D446)-1),\"\")","v":"CORTE E DOBRA DE AÇO CA-50, DIÂMETRO DE 6,3 MM. AF_06/2022"},{"$f":"IF(ISNUMBER($L446),OFFSET(Banco!$A$1,Composições!$L446-1,COLUMN(Composições!E446)-1),\"\")","v":"KG"},10.029999999999999,10.119999999999999,0.98,{"$f":"IF(ISNUMBER($L446),VALUE(OFFSET(Banco!$A$1,Composições!$L446-1,COLUMN(Composições!I446)-4)),0)","v":10.23},{"$f":"IF(ISNUMBER($L446),VALUE(OFFSET(Banco!$A$1,Composições!$L446-1,COLUMN(Composições!J446)-4)),0)","v":10.33},{"$f":"COUNTA($A$1:$A446)-1","v":52},{"$f":"MATCH(CONCATENATE($B446,\" \",$C446),Banco!$A:$A,0)","v":6414},{"$f":"IF(OR(ISERROR($L446),$H446=\"\",$H446=0),\"\",OFFSET(M$1,MATCH($K446,$K$1:$K446,0)-1,0))","v":"F"},null,{"$f":"IF(ISNUMBER($L446),VALUE(OFFSET(Banco!$A$1,Composições!$L446-1,COLUMN(Composições!O446)-6)),0)","v":0},{"$f":"IF(ISNUMBER($L446),VALUE(OFFSET(Banco!$A$1,Composições!$L446-1,COLUMN(Composições!P446)-6)),0)","v":0},0,0]
[null,"SINAPI",96536,{"$f":"IF(ISNUMBER($L447),OFFSET(Banco!$A$1,Composições!$L447-1,COLUMN(Composições!D447)-1),\"\")","v":"FABRICAÇÃO, MONTAGEM E DESMONTAGEM DE FÔRMA PARA VIGA BALDRAME, EM MADEIRA SERRADA, E=25 MM, 4 UTILIZAÇÕES. AF_01/2024"},{"$f":"IF(ISNUMBER($L447),OFFSET(Banco!$A$1,Composições!$L447-1,COLUMN(Composições!E447)-1),\"\")","v":"M2"},43.57,46.21,0.6,{"$f":"IF(ISNUMBER($L447),VALUE(OFFSET(Banco!$A$1,Composições!$L447-1,COLUMN(Composições!I447)-4)),0)","v":72.62},{"$f":"IF(ISNUMBER($L447),VALUE(OFFSET(Banco!$A$1,Composições!$L447-1,COLUMN(Composições!J447)-4)),0)","v":77.02},{"$f":"COUNTA($A$1:$A447)-1","v":52},{"$f":"MATCH(CONCATENATE($B447,\" \",$C447),Banco!$A:$A,0)","v":10102},{"$f":"IF(OR(ISERROR($L447),$H447=\"\",$H447=0),\"\",OFFSET(M$1,MATCH($K447,$K$1:$K447,0)-1,0))","v":"F"},null,{"$f":"IF(ISNUMBER($L447),VALUE(OFFSET(Banco!$A$1,Composições!$L447-1,COLUMN(Composições!O447)-6)),0)","v":0},{"$f":"IF(ISNUMBER($L447),VALUE(OFFSET(Banco!$A$1,Composições!$L447-1,COLUMN(Composições!P447)-6)),0)","v":0},0,0]
[null,"SINAPI",94965,{"$f":"IF(ISNUMBER($L448),OFFSET(Banco!$A$1,Composições!$L448-1,COLUMN(Composições!D448)-1),\"\")","v":"CONCRETO FCK = 25MPA, TRAÇO 1:2,3:2,7 (EM MASSA SECA DE CIMENTO/ AREIA MÉDIA/ BRITA 1) - PREPARO MECÂNICO COM BETONEIRA 400 L. AF_05/2021"},{"$f":"IF(ISNUMBER($L448),OFFSET(Banco!$A$1,Composições!$L448-1,COLUMN(Composições!E448)-1),\"\")","v":"M3"},30.57,31.11,6.3E-2,{"$f":"IF(ISNUMBER($L448),VALUE(OFFSET(Banco!$A$1,Composições!$L448-1,COLUMN(Composições!I448)-4)),0)","v":485.25},{"$f":"IF(ISNUMBER($L448),VALUE(OFFSET(Banco!$A$1,Composições!$L448-1,COLUMN(Composições!J448)-4)),0)","v":493.87},{"$f":"COUNTA($A$1:$A448)-1","v":52},{"$f":"MATCH(CONCATENATE($B448,\" \",$C448),Banco!$A:$A,0)","v":14383},{"$f":"IF(OR(ISERROR($L448),$H448=\"\",$H448=0),\"\",OFFSET(M$1,MATCH($K448,$K$1:$K448,0)-1,0))","v":"F"},null,{"$f":"IF(ISNUMBER($L448),VALUE(OFFSET(Banco!$A$1,Composições!$L448-1,COLUMN(Composições!O448)-6)),0)","v":0},{"$f":"IF(ISNUMBER($L448),VALUE(OFFSET(Banco!$A$1,Composições!$L448-1,COLUMN(Composições!P448)-6)),0)","v":0},0,0]
[null,"SINAPI",103670,{"$f":"IF(ISNUMBER($L449),OFFSET(Banco!$A$1,Composições!$L449-1,COLUMN(Composições!D449)-1),\"\")","v":"LANÇAMENTO COM USO DE BALDES, ADENSAMENTO E ACABAMENTO DE CONCRETO EM ESTRUTURAS. AF_02/2022"},{"$f":"IF(ISNUMBER($L449),OFFSET(Banco!$A$1,Composições!$L449-1,COLUMN(Composições!E449)-1),\"\")","v":"M3"},22.97,24.83,6.3E-2,{"$f":"IF(ISNUMBER($L449),VALUE(OFFSET(Banco!$A$1,Composições!$L449-1,COLUMN(Composições!I449)-4)),0)","v":364.65},{"$f":"IF(ISNUMBER($L449),VALUE(OFFSET(Banco!$A$1,Composições!$L449-1,COLUMN(Composições!J449)-4)),0)","v":394.16},{"$f":"COUNTA($A$1:$A449)-1","v":52},{"$f":"MATCH(CONCATENATE($B449,\" \",$C449),Banco!$A:$A,0)","v":7392},{"$f":"IF(OR(ISERROR($L449),$H449=\"\",$H449=0),\"\",OFFSET(M$1,MATCH($K449,$K$1:$K449,0)-1,0))","v":"F"},null,{"$f":"IF(ISNUMBER($L449),VALUE(OFFSET(Banco!$A$1,Composições!$L449-1,COLUMN(Composições!O449)-6)),0)","v":4.4999999999999997E-3},{"$f":"IF(ISNUMBER($L449),VALUE(OFFSET(Banco!$A$1,Composições!$L449-1,COLUMN(Composições!P449)-6)),0)","v":4.1999999999999997E-3},0.1,0.1]
[null,"SINAPI",88316,{"$f":"IF(ISNUMBER($L450),OFFSET(Banco!$A$1,Composições!$L450-1,COLUMN(Composições!D450)-1),\"\")","v":"SERVENTE COM ENCARGOS COMPLEMENTARES"},{"$f":"IF(ISNUMBER($L450),OFFSET(Banco!$A$1,Composições!$L450-1,COLUMN(Composições!E450)-1),\"\")","v":"H"},8.93,9.6199999999999992,0.33500000000000002,{"$f":"IF(ISNUMBER($L450),VALUE(OFFSET(Banco!$A$1,Composições!$L450-1,COLUMN(Composições!I450)-4)),0)","v":26.65},{"$f":"IF(ISNUMBER($L450),VALUE(OFFSET(Banco!$A$1,Composições!$L450-1,COLUMN(Composições!J450)-4)),0)","v":28.71},{"$f":"COUNTA($A$1:$A450)-1","v":52},{"$f":"MATCH(CONCATENATE($B450,\" \",$C450),Banco!$A:$A,0)","v":13198},{"$f":"IF(OR(ISERROR($L450),$H450=\"\",$H450=0),\"\",OFFSET(M$1,MATCH($K450,$K$1:$K450,0)-1,0))","v":"F"},null,{"$f":"IF(ISNUMBER($L450),VALUE(OFFSET(Banco!$A$1,Composições!$L450-1,COLUMN(Composições!O450)-6)),0)","v":0},{"$f":"IF(ISNUMBER($L450),VALUE(OFFSET(Banco!$A$1,Composições!$L450-1,COLUMN(Composições!P450)-6)),0)","v":0},0,0]
[null,"SINAPI",88309,{"$f":"IF(ISNUMBER($L451),OFFSET(Banco!$A$1,Composições!$L451-1,COLUMN(Composições!D451)-1),\"\")","v":"PEDREIRO COM ENCARGOS COMPLEMENTARES"},{"$f":"IF(ISNUMBER($L451),OFFSET(Banco!$A$1,Composições!$L451-1,COLUMN(Composições!E451)-1),\"\")","v":"H"},20.39,22.15,0.6,{"$f":"IF(ISNUMBER($L451),VALUE(OFFSET(Banco!$A$1,Composições!$L451-1,COLUMN(Composições!I451)-4)),0)","v":33.99},{"$f":"IF(ISNUMBER($L451),VALUE(OFFSET(Banco!$A$1,Composições!$L451-1,COLUMN(Composições!J451)-4)),0)","v":36.909999999999997},{"$f":"COUNTA($A$1:$A451)-1","v":52},{"$f":"MATCH(CONCATENATE($B451,\" \",$C451),Banco!$A:$A,0)","v":13185},{"$f":"IF(OR(ISERROR($L451),$H451=\"\",$H451=0),\"\",OFFSET(M$1,MATCH($K451,$K$1:$K451,0)-1,0))","v":"F"},null,{"$f":"IF(ISNUMBER($L451),VALUE(OFFSET(Banco!$A$1,Composições!$L451-1,COLUMN(Composições!O451)-6)),0)","v":0},{"$f":"IF(ISNUMBER($L451),VALUE(OFFSET(Banco!$A$1,Composições!$L451-1,COLUMN(Composições!P451)-6)),0)","v":0},0,0]
[null,"SINAPI-I",36797,{"$f":"IF(ISNUMBER($L452),OFFSET(Banco!$A$1,Composições!$L452-1,COLUMN(Composições!D452)-1),\"\")","v":"MOURAO DE CONCRETO CURVO, *10 X 10* CM, H= *2,60* M + CURVA DE 0,40 M"},{"$f":"IF(ISNUMBER($L452),OFFSET(Banco!$A$1,Composições!$L452-1,COLUMN(Composições!E452)-1),\"\")","v":"UN"},27.51,27.51,0.40333330000000001,{"$f":"IF(ISNUMBER($L452),VALUE(OFFSET(Banco!$A$1,Composições!$L452-1,COLUMN(Composições!I452)-4)),0)","v":68.2},{"$f":"IF(ISNUMBER($L452),VALUE(OFFSET(Banco!$A$1,Composições!$L452-1,COLUMN(Composições!J452)-4)),0)","v":68.2},{"$f":"COUNTA($A$1:$A452)-1","v":52},{"$f":"MATCH(CONCATENATE($B452,\" \",$C452),Banco!$A:$A,0)","v":3176},{"$f":"IF(OR(ISERROR($L452),$H452=\"\",$H452=0),\"\",OFFSET(M$1,MATCH($K452,$K$1:$K452,0)-1,0))","v":"F"},null,{"$f":"IF(ISNUMBER($L452),VALUE(OFFSET(Banco!$A$1,Composições!$L452-1,COLUMN(Composições!O452)-6)),0)","v":0},{"$f":"IF(ISNUMBER($L452),VALUE(OFFSET(Banco!$A$1,Composições!$L452-1,COLUMN(Composições!P452)-6)),0)","v":0},0,0]
[null,"SINAPI-I",4111,{"$f":"IF(ISNUMBER($L453),OFFSET(Banco!$A$1,Composições!$L453-1,COLUMN(Composições!D453)-1),\"\")","v":"ESCORA PRE-MOLDADA EM CONCRETO, *10 X 10* CM, H = 2,30M"},{"$f":"IF(ISNUMBER($L453),OFFSET(Banco!$A$1,Composições!$L453-1,COLUMN(Composições!E453)-1),\"\")","v":"UN"},3.6,3.6,6.6666699999999995E-2,{"$f":"IF(ISNUMBER($L453),VALUE(OFFSET(Banco!$A$1,Composições!$L453-1,COLUMN(Composições!I453)-4)),0)","v":53.96},{"$f":"IF(ISNUMBER($L453),VALUE(OFFSET(Banco!$A$1,Composições!$L453-1,COLUMN(Composições!J453)-4)),0)","v":53.96},{"$f":"COUNTA($A$1:$A453)-1","v":52},{"$f":"MATCH(CONCATENATE($B453,\" \",$C453),Banco!$A:$A,0)","v":2051},{"$f":"IF(OR(ISERROR($L453),$H453=\"\",$H453=0),\"\",OFFSET(M$1,MATCH($K453,$K$1:$K453,0)-1,0))","v":"F"},null,{"$f":"IF(ISNUMBER($L453),VALUE(OFFSET(Banco!$A$1,Composições!$L453-1,COLUMN(Composições!O453)-6)),0)","v":0},{"$f":"IF(ISNUMBER($L453),VALUE(OFFSET(Banco!$A$1,Composições!$L453-1,COLUMN(Composições!P453)-6)),0)","v":0},0,0]
[null,"SINAPI-I",10927,{"$f":"IF(ISNUMBER($L454),OFFSET(Banco!$A$1,Composições!$L454-1,COLUMN(Composições!D454)-1),\"\")","v":"TELA DE ARAME GALVANIZADA QUADRANGULAR / LOSANGULAR, FIO 2,77 MM (12 BWG), MALHA 8 X 8 CM, H = 2 M"},{"$f":"IF(ISNUMBER($L454),OFFSET(Banco!$A$1,Composições!$L454-1,COLUMN(Composições!E454)-1),\"\")","v":"M2"},56.84,56.84,2.06,{"$f":"IF(ISNUMBER($L454),VALUE(OFFSET(Banco!$A$1,Composições!$L454-1,COLUMN(Composições!I454)-4)),0)","v":27.59},{"$f":"IF(ISNUMBER($L454),VALUE(OFFSET(Banco!$A$1,Composições!$L454-1,COLUMN(Composições!J454)-4)),0)","v":27.59},{"$f":"COUNTA($A$1:$A454)-1","v":52},{"$f":"MATCH(CONCATENATE($B454,\" \",$C454),Banco!$A:$A,0)","v":4296},{"$f":"IF(OR(ISERROR($L454),$H454=\"\",$H454=0),\"\",OFFSET(M$1,MATCH($K454,$K$1:$K454,0)-1,0))","v":"F"},null,{"$f":"IF(ISNUMBER($L454),VALUE(OFFSET(Banco!$A$1,Composições!$L454-1,COLUMN(Composições!O454)-6)),0)","v":0},{"$f":"IF(ISNUMBER($L454),VALUE(OFFSET(Banco!$A$1,Composições!$L454-1,COLUMN(Composições!P454)-6)),0)","v":0},0,0]
[null,"SINAPI-I",43131,{"$f":"IF(ISNUMBER($L455),OFFSET(Banco!$A$1,Composições!$L455-1,COLUMN(Composições!D455)-1),\"\")","v":"ARAME GALVANIZADO 6 BWG, D = 5,16 MM (0,157 KG/M), OU 8 BWG, D = 4,19 MM (0,101 KG/M), OU 10 BWG, D = 3,40 MM (0,0713 KG/M)"},{"$f":"IF(ISNUMBER($L455),OFFSET(Banco!$A$1,Composições!$L455-1,COLUMN(Composições!E455)-1),\"\")","v":"KG"},8.76,8.76,0.28520000000000001,{"$f":"IF(ISNUMBER($L455),VALUE(OFFSET(Banco!$A$1,Composições!$L455-1,COLUMN(Composições!I455)-4)),0)","v":30.72},{"$f":"IF(ISNUMBER($L455),VALUE(OFFSET(Banco!$A$1,Composições!$L455-1,COLUMN(Composições!J455)-4)),0)","v":30.72},{"$f":"COUNTA($A$1:$A455)-1","v":52},{"$f":"MATCH(CONCATENATE($B455,\" \",$C455),Banco!$A:$A,0)","v":433},{"$f":"IF(OR(ISERROR($L455),$H455=\"\",$H455=0),\"\",OFFSET(M$1,MATCH($K455,$K$1:$K455,0)-1,0))","v":"F"},null,{"$f":"IF(ISNUMBER($L455),VALUE(OFFSET(Banco!$A$1,Composições!$L455-1,COLUMN(Composições!O455)-6)),0)","v":0},{"$f":"IF(ISNUMBER($L455),VALUE(OFFSET(Banco!$A$1,Composições!$L455-1,COLUMN(Composições!P455)-6)),0)","v":0},0,0]
[null,null,null,null,null,null,null,null,null,null,{"$f":"COUNTA($A$1:$A456)-1","v":52},null,{"$f":"IF(OFFSET($M$1,MATCH(OFFSET(K456,-1,0),$K$1:$K456,0)-1,0)=\"F\",\"F\",\"\")","v":"F"}]
[{"$f":"CONCATENATE($B457,\" \",$C457)","v":"Composição ESQV.0034.01"},"Composição","ESQV.0034.01","PORTAO EM TELA ARAME GALVANIZADO N.14 MALHA 5X5 CM E MOLDURA EM TUBOS DE ACO GALVANIZADO 3\", INCLUSO FERRAGENS, CONFORME PROJETO - FORNECIMENTO E INSTALAÇÃO","m²",{"$f":"IF($L457>0,SUM(OFFSET(F457,1,0,$L457),0))","v":687.79000000000008},701.41,null,{"$f":"IF(ISERROR(F457),0,F457)","v":687.79000000000008},701.41,{"$f":"COUNTA($A$1:$A457)-1","v":53},{"$f":"IF(MAX(K:K)=K457,MATCH(9999999,$K:$K)+1,MATCH(K457+1,K:K,0))-ROW(L457)-2","v":9},{"$f":"IF(AND(OR(I457<>0,J457<>0),N457=\"Sim\"),\"F\",\"\")","v":"F"},"Sim",{"$f":"IF(AND($L457>0,F457<>0),ROUND(SUM(OFFSET(Q457,1,0,$L457))/F457,4),0)","v":0},0]
[null,"SINAPI",88316,{"$f":"IF(ISNUMBER($L458),OFFSET(Banco!$A$1,Composições!$L458-1,COLUMN(Composições!D458)-1),\"\")","v":"SERVENTE COM ENCARGOS COMPLEMENTARES"},{"$f":"IF(ISNUMBER($L458),OFFSET(Banco!$A$1,Composições!$L458-1,COLUMN(Composições!E458)-1),\"\")","v":"H"},{"$f":"ROUND($H458*ROUND(I458,2),2)","v":66.63},{"$f":"ROUND($H458*ROUND(J458,2),2)","v":71.78},2.5,{"$f":"IF(ISNUMBER($L458),VALUE(OFFSET(Banco!$A$1,Composições!$L458-1,COLUMN(Composições!I458)-4)),0)","v":26.65},{"$f":"IF(ISNUMBER($L458),VALUE(OFFSET(Banco!$A$1,Composições!$L458-1,COLUMN(Composições!J458)-4)),0)","v":28.71},{"$f":"COUNTA($A$1:$A458)-1","v":53},{"$f":"MATCH(CONCATENATE($B458,\" \",$C458),Banco!$A:$A,0)","v":13198},{"$f":"IF(OR(ISERROR($L458),$H458=\"\",$H458=0),\"\",OFFSET(M$1,MATCH($K458,$K$1:$K458,0)-1,0))","v":"F"},null,{"$f":"IF(ISNUMBER($L458),VALUE(OFFSET(Banco!$A$1,Composições!$L458-1,COLUMN(Composições!O458)-6)),0)","v":0},{"$f":"IF(ISNUMBER($L458),VALUE(OFFSET(Banco!$A$1,Composições!$L458-1,COLUMN(Composições!P458)-6)),0)","v":0},{"$f":"ROUND(F458*O458,2)","v":0},{"$f":"ROUND(G458*P458,2)","v":0}]
[null,"SINAPI",88315,{"$f":"IF(ISNUMBER($L459),OFFSET(Banco!$A$1,Composições!$L459-1,COLUMN(Composições!D459)-1),\"\")","v":"SERRALHEIRO COM ENCARGOS COMPLEMENTARES"},{"$f":"IF(ISNUMBER($L459),OFFSET(Banco!$A$1,Composições!$L459-1,COLUMN(Composições!E459)-1),\"\")","v":"H"},50.63,54.98,1.5,{"$f":"IF(ISNUMBER($L459),VALUE(OFFSET(Banco!$A$1,Composições!$L459-1,COLUMN(Composições!I459)-4)),0)","v":33.75},{"$f":"IF(ISNUMBER($L459),VALUE(OFFSET(Banco!$A$1,Composições!$L459-1,COLUMN(Composições!J459)-4)),0)","v":36.65},{"$f":"COUNTA($A$1:$A459)-1","v":53},{"$f":"MATCH(CONCATENATE($B459,\" \",$C459),Banco!$A:$A,0)","v":13196},{"$f":"IF(OR(ISERROR($L459),$H459=\"\",$H459=0),\"\",OFFSET(M$1,MATCH($K459,$K$1:$K459,0)-1,0))","v":"F"},null,{"$f":"IF(ISNUMBER($L459),VALUE(OFFSET(Banco!$A$1,Composições!$L459-1,COLUMN(Composições!O459)-6)),0)","v":0},{"$f":"IF(ISNUMBER($L459),VALUE(OFFSET(Banco!$A$1,Composições!$L459-1,COLUMN(Composições!P459)-6)),0)","v":0},0,0]
[null,"SINAPI",98746,{"$f":"IF(ISNUMBER($L460),OFFSET(Banco!$A$1,Composições!$L460-1,COLUMN(Composições!D460)-1),\"\")","v":"SOLDA DE TOPO EM CHAPA/PERFIL/TUBO DE AÇO CHANFRADO, ESPESSURA=1/4''. AF_06/2018"},{"$f":"IF(ISNUMBER($L460),OFFSET(Banco!$A$1,Composições!$L460-1,COLUMN(Composições!E460)-1),\"\")","v":"M"},70.760000000000005,74.88,0.9,{"$f":"IF(ISNUMBER($L460),VALUE(OFFSET(Banco!$A$1,Composições!$L460-1,COLUMN(Composições!I460)-4)),0)","v":78.62},{"$f":"IF(ISNUMBER($L460),VALUE(OFFSET(Banco!$A$1,Composições!$L460-1,COLUMN(Composições!J460)-4)),0)","v":83.2},{"$f":"COUNTA($A$1:$A460)-1","v":53},{"$f":"MATCH(CONCATENATE($B460,\" \",$C460),Banco!$A:$A,0)","v":15054},{"$f":"IF(OR(ISERROR($L460),$H460=\"\",$H460=0),\"\",OFFSET(M$1,MATCH($K460,$K$1:$K460,0)-1,0))","v":"F"},null,{"$f":"IF(ISNUMBER($L460),VALUE(OFFSET(Banco!$A$1,Composições!$L460-1,COLUMN(Composições!O460)-6)),0)","v":0},{"$f":"IF(ISNUMBER($L460),VALUE(OFFSET(Banco!$A$1,Composições!$L460-1,COLUMN(Composições!P460)-6)),0)","v":0},0,0]
[null,"SINAPI-I",7167,{"$f":"IF(ISNUMBER($L461),OFFSET(Banco!$A$1,Composições!$L461-1,COLUMN(Composições!D461)-1),\"\")","v":"TELA DE ARAME GALVANIZADA QUADRANGULAR / LOSANGULAR, FIO 2,11 MM (14 BWG), MALHA 5 X 5 CM, H = 2 M"},{"$f":"IF(ISNUMBER($L461),OFFSET(Banco!$A$1,Composições!$L461-1,COLUMN(Composições!E461)-1),\"\")","v":"M2"},30.82,30.82,1.05,{"$f":"IF(ISNUMBER($L461),VALUE(OFFSET(Banco!$A$1,Composições!$L461-1,COLUMN(Composições!I461)-4)),0)","v":29.35},{"$f":"IF(ISNUMBER($L461),VALUE(OFFSET(Banco!$A$1,Composições!$L461-1,COLUMN(Composições!J461)-4)),0)","v":29.35},{"$f":"COUNTA($A$1:$A461)-1","v":53},{"$f":"MATCH(CONCATENATE($B461,\" \",$C461),Banco!$A:$A,0)","v":4292},{"$f":"IF(OR(ISERROR($L461),$H461=\"\",$H461=0),\"\",OFFSET(M$1,MATCH($K461,$K$1:$K461,0)-1,0))","v":"F"},null,{"$f":"IF(ISNUMBER($L461),VALUE(OFFSET(Banco!$A$1,Composições!$L461-1,COLUMN(Composições!O461)-6)),0)","v":0},{"$f":"IF(ISNUMBER($L461),VALUE(OFFSET(Banco!$A$1,Composições!$L461-1,COLUMN(Composições!P461)-6)),0)","v":0},0,0]
[null,"COTAÇÃO",7694,{"$f":"IF(ISNUMBER($L462),OFFSET(Banco!$A$1,Composições!$L462-1,COLUMN(Composições!D462)-1),\"\")","v":"TUBO ACO GALVANIZADO COM COSTURA, CLASSE MEDIA, DN 3\", E = *4,05* MM, PESO *8,47* KG/M (NBR 5580)"},{"$f":"IF(ISNUMBER($L462),OFFSET(Banco!$A$1,Composições!$L462-1,COLUMN(Composições!E462)-1),\"\")","v":"M"},242.35,242.35,1.95,{"$f":"IF(ISNUMBER($L462),VALUE(OFFSET(Banco!$A$1,Composições!$L462-1,COLUMN(Composições!I462)-4)),0)","v":124.28},{"$f":"IF(ISNUMBER($L462),VALUE(OFFSET(Banco!$A$1,Composições!$L462-1,COLUMN(Composições!J462)-4)),0)","v":124.28},{"$f":"COUNTA($A$1:$A462)-1","v":53},{"$f":"MATCH(CONCATENATE($B462,\" \",$C462),Banco!$A:$A,0)","v":110},{"$f":"IF(OR(ISERROR($L462),$H462=\"\",$H462=0),\"\",OFFSET(M$1,MATCH($K462,$K$1:$K462,0)-1,0))","v":"F"},null,{"$f":"IF(ISNUMBER($L462),VALUE(OFFSET(Banco!$A$1,Composições!$L462-1,COLUMN(Composições!O462)-6)),0)","v":0},{"$f":"IF(ISNUMBER($L462),VALUE(OFFSET(Banco!$A$1,Composições!$L462-1,COLUMN(Composições!P462)-6)),0)","v":0},0,0]
[null,"SINAPI-I",37562,{"$f":"IF(ISNUMBER($L463),OFFSET(Banco!$A$1,Composições!$L463-1,COLUMN(Composições!D463)-1),\"\")","v":"PORTAO DE CORRER EM GRADIL FIXO DE BARRA DE FERRO CHATA DE 3 X 1/4\" NA VERTICAL, SEM REQUADRO, ACABAMENTO NATURAL, COM TRILHOS E ROLDANAS"},{"$f":"IF(ISNUMBER($L463),OFFSET(Banco!$A$1,Composições!$L463-1,COLUMN(Composições!E463)-1),\"\")","v":"M2"},141.96,141.96,0.1,{"$f":"IF(ISNUMBER($L463),VALUE(OFFSET(Banco!$A$1,Composições!$L463-1,COLUMN(Composições!I463)-4)),0)","v":1419.56},{"$f":"IF(ISNUMBER($L463),VALUE(OFFSET(Banco!$A$1,Composições!$L463-1,COLUMN(Composições!J463)-4)),0)","v":1419.56},{"$f":"COUNTA($A$1:$A463)-1","v":53},{"$f":"MATCH(CONCATENATE($B463,\" \",$C463),Banco!$A:$A,0)","v":3633},{"$f":"IF(OR(ISERROR($L463),$H463=\"\",$H463=0),\"\",OFFSET(M$1,MATCH($K463,$K$1:$K463,0)-1,0))","v":"F"},null,{"$f":"IF(ISNUMBER($L463),VALUE(OFFSET(Banco!$A$1,Composições!$L463-1,COLUMN(Composições!O463)-6)),0)","v":0},{"$f":"IF(ISNUMBER($L463),VALUE(OFFSET(Banco!$A$1,Composições!$L463-1,COLUMN(Composições!P463)-6)),0)","v":0},0,0]
[null,"COTAÇÃO",21010,{"$f":"IF(ISNUMBER($L464),OFFSET(Banco!$A$1,Composições!$L464-1,COLUMN(Composições!D464)-1),\"\")","v":"TUBO ACO GALVANIZADO COM COSTURA, CLASSE LEVE, DN 25 MM (1\"), E = 2,65 MM, *2,11* KG/M (NBR 5580)"},{"$f":"IF(ISNUMBER($L464),OFFSET(Banco!$A$1,Composições!$L464-1,COLUMN(Composições!E464)-1),\"\")","v":"M"},76.06,76.06,2.3759999999999999,{"$f":"IF(ISNUMBER($L464),VALUE(OFFSET(Banco!$A$1,Composições!$L464-1,COLUMN(Composições!I464)-4)),0)","v":32.01},{"$f":"IF(ISNUMBER($L464),VALUE(OFFSET(Banco!$A$1,Composições!$L464-1,COLUMN(Composições!J464)-4)),0)","v":32.01},{"$f":"COUNTA($A$1:$A464)-1","v":53},{"$f":"MATCH(CONCATENATE($B464,\" \",$C464),Banco!$A:$A,0)","v":119},{"$f":"IF(OR(ISERROR($L464),$H464=\"\",$H464=0),\"\",OFFSET(M$1,MATCH($K464,$K$1:$K464,0)-1,0))","v":"F"},null,{"$f":"IF(ISNUMBER($L464),VALUE(OFFSET(Banco!$A$1,Composições!$L464-1,COLUMN(Composições!O464)-6)),0)","v":0},{"$f":"IF(ISNUMBER($L464),VALUE(OFFSET(Banco!$A$1,Composições!$L464-1,COLUMN(Composições!P464)-6)),0)","v":0},0,0]
[null,"COTAÇÃO","I.ESQV.0003.01",{"$f":"IF(ISNUMBER($L465),OFFSET(Banco!$A$1,Composições!$L465-1,COLUMN(Composições!D465)-1),\"\")","v":"SPRAY PARA GALVANIZAÇÃO A FRIO"},{"$f":"IF(ISNUMBER($L465),OFFSET(Banco!$A$1,Composições!$L465-1,COLUMN(Composições!E465)-1),\"\")","v":"L"},1.1299999999999999,1.1299999999999999,5.0000000000000001E-3,{"$f":"IF(ISNUMBER($L465),VALUE(OFFSET(Banco!$A$1,Composições!$L465-1,COLUMN(Composições!I465)-4)),0)","v":226.33},{"$f":"IF(ISNUMBER($L465),VALUE(OFFSET(Banco!$A$1,Composições!$L465-1,COLUMN(Composições!J465)-4)),0)","v":226.33},{"$f":"COUNTA($A$1:$A465)-1","v":53},{"$f":"MATCH(CONCATENATE($B465,\" \",$C465),Banco!$A:$A,0)","v":95},{"$f":"IF(OR(ISERROR($L465),$H465=\"\",$H465=0),\"\",OFFSET(M$1,MATCH($K465,$K$1:$K465,0)-1,0))","v":"F"},null,{"$f":"IF(ISNUMBER($L465),VALUE(OFFSET(Banco!$A$1,Composições!$L465-1,COLUMN(Composições!O465)-6)),0)","v":0},{"$f":"IF(ISNUMBER($L465),VALUE(OFFSET(Banco!$A$1,Composições!$L465-1,COLUMN(Composições!P465)-6)),0)","v":0},0,0]
[null,"SINAPI-I",547,{"$f":"IF(ISNUMBER($L466),OFFSET(Banco!$A$1,Composições!$L466-1,COLUMN(Composições!D466)-1),\"\")","v":"BARRA DE ACO CHATO, RETANGULAR, 50,8 MM X 9,53 MM (L X E), 3,79KG/M"},{"$f":"IF(ISNUMBER($L466),OFFSET(Banco!$A$1,Composições!$L466-1,COLUMN(Composições!E466)-1),\"\")","v":"M"},7.45,7.45,0.2,{"$f":"IF(ISNUMBER($L466),VALUE(OFFSET(Banco!$A$1,Composições!$L466-1,COLUMN(Composições!I466)-4)),0)","v":37.25},{"$f":"IF(ISNUMBER($L466),VALUE(OFFSET(Banco!$A$1,Composições!$L466-1,COLUMN(Composições!J466)-4)),0)","v":37.25},{"$f":"COUNTA($A$1:$A466)-1","v":53},{"$f":"MATCH(CONCATENATE($B466,\" \",$C466),Banco!$A:$A,0)","v":560},{"$f":"IF(OR(ISERROR($L466),$H466=\"\",$H466=0),\"\",OFFSET(M$1,MATCH($K466,$K$1:$K466,0)-1,0))","v":"F"},null,{"$f":"IF(ISNUMBER($L466),VALUE(OFFSET(Banco!$A$1,Composições!$L466-1,COLUMN(Composições!O466)-6)),0)","v":0},{"$f":"IF(ISNUMBER($L466),VALUE(OFFSET(Banco!$A$1,Composições!$L466-1,COLUMN(Composições!P466)-6)),0)","v":0},0,0]
[null,null,null,null,null,null,null,null,null,null,{"$f":"COUNTA($A$1:$A467)-1","v":53},null,{"$f":"IF(OFFSET($M$1,MATCH(OFFSET(K467,-1,0),$K$1:$K467,0)-1,0)=\"F\",\"F\",\"\")","v":"F"}]
[{"$f":"CONCATENATE($B468,\" \",$C468)","v":"Composição SERP.0012.01"},"Composição","SERP.0012.01","DEMOLIÇÃO DE MEIO FIO, COM CARGA DO ENTULHO EM CAMINHÃO","m",{"$f":"IF($L468>0,SUM(OFFSET(F468,1,0,$L468),0))","v":12.02},12.96,null,{"$f":"IF(ISERROR(F468),0,F468)","v":12.02},12.96,{"$f":"COUNTA($A$1:$A468)-1","v":54},{"$f":"IF(MAX(K:K)=K468,MATCH(9999999,$K:$K)+1,MATCH(K468+1,K:K,0))-ROW(L468)-2","v":2},{"$f":"IF(AND(OR(I468<>0,J468<>0),N468=\"Sim\"),\"F\",\"\")","v":"F"},"Sim",{"$f":"IF(AND($L468>0,F468<>0),ROUND(SUM(OFFSET(Q468,1,0,$L468))/F468,4),0)","v":0},0]
[null,"SINAPI",88316,{"$f":"IF(ISNUMBER($L469),OFFSET(Banco!$A$1,Composições!$L469-1,COLUMN(Composições!D469)-1),\"\")","v":"SERVENTE COM ENCARGOS COMPLEMENTARES"},{"$f":"IF(ISNUMBER($L469),OFFSET(Banco!$A$1,Composições!$L469-1,COLUMN(Composições!E469)-1),\"\")","v":"H"},{"$f":"ROUND($H469*ROUND(I469,2),2)","v":10.66},11.48,0.4,{"$f":"IF(ISNUMBER($L469),VALUE(OFFSET(Banco!$A$1,Composições!$L469-1,COLUMN(Composições!I469)-4)),0)","v":26.65},{"$f":"IF(ISNUMBER($L469),VALUE(OFFSET(Banco!$A$1,Composições!$L469-1,COLUMN(Composições!J469)-4)),0)","v":28.71},{"$f":"COUNTA($A$1:$A469)-1","v":54},{"$f":"MATCH(CONCATENATE($B469,\" \",$C469),Banco!$A:$A,0)","v":13198},{"$f":"IF(OR(ISERROR($L469),$H469=\"\",$H469=0),\"\",OFFSET(M$1,MATCH($K469,$K$1:$K469,0)-1,0))","v":"F"},null,{"$f":"IF(ISNUMBER($L469),VALUE(OFFSET(Banco!$A$1,Composições!$L469-1,COLUMN(Composições!O469)-6)),0)","v":0},{"$f":"IF(ISNUMBER($L469),VALUE(OFFSET(Banco!$A$1,Composições!$L469-1,COLUMN(Composições!P469)-6)),0)","v":0},{"$f":"ROUND(F469*O469,2)","v":0},0]
[null,"SINAPI",88309,{"$f":"IF(ISNUMBER($L470),OFFSET(Banco!$A$1,Composições!$L470-1,COLUMN(Composições!D470)-1),\"\")","v":"PEDREIRO COM ENCARGOS COMPLEMENTARES"},{"$f":"IF(ISNUMBER($L470),OFFSET(Banco!$A$1,Composições!$L470-1,COLUMN(Composições!E470)-1),\"\")","v":"H"},1.36,1.48,0.04,{"$f":"IF(ISNUMBER($L470),VALUE(OFFSET(Banco!$A$1,Composições!$L470-1,COLUMN(Composições!I470)-4)),0)","v":33.99},{"$f":"IF(ISNUMBER($L470),VALUE(OFFSET(Banco!$A$1,Composições!$L470-1,COLUMN(Composições!J470)-4)),0)","v":36.909999999999997},{"$f":"COUNTA($A$1:$A470)-1","v":54},{"$f":"MATCH(CONCATENATE($B470,\" \",$C470),Banco!$A:$A,0)","v":13185},{"$f":"IF(OR(ISERROR($L470),$H470=\"\",$H470=0),\"\",OFFSET(M$1,MATCH($K470,$K$1:$K470,0)-1,0))","v":"F"},null,{"$f":"IF(ISNUMBER($L470),VALUE(OFFSET(Banco!$A$1,Composições!$L470-1,COLUMN(Composições!O470)-6)),0)","v":0},{"$f":"IF(ISNUMBER($L470),VALUE(OFFSET(Banco!$A$1,Composições!$L470-1,COLUMN(Composições!P470)-6)),0)","v":0},0,0]
[null,null,null,null,null,null,null,null,null,null,{"$f":"COUNTA($A$1:$A471)-1","v":54},null,{"$f":"IF(OFFSET($M$1,MATCH(OFFSET(K471,-1,0),$K$1:$K471,0)-1,0)=\"F\",\"F\",\"\")","v":"F"}]
[{"$f":"CONCATENATE($B472,\" \",$C472)","v":"Composição SERP.0041.01"},"Composição","SERP.0041.01","DEMOLIÇÃO DE PISO EM CONCRETO (ARMADOS OU NÃO ARMADOS) ATÉ 15 CM DE ESPESSURA, COM RETROESCAVADEIRA","m²",{"$f":"IF($L472>0,SUM(OFFSET(F472,1,0,$L472),0))","v":13.62},13.99,null,{"$f":"IF(ISERROR(F472),0,F472)","v":13.62},13.99,{"$f":"COUNTA($A$1:$A472)-1","v":55},{"$f":"IF(MAX(K:K)=K472,MATCH(9999999,$K:$K)+1,MATCH(K472+1,K:K,0))-ROW(L472)-2","v":2},{"$f":"IF(AND(OR(I472<>0,J472<>0),N472=\"Sim\"),\"F\",\"\")","v":"F"},"Sim",{"$f":"IF(AND($L472>0,F472<>0),ROUND(SUM(OFFSET(Q472,1,0,$L472))/F472,4),0)","v":0},0]
[null,"SINAPI",5680,{"$f":"IF(ISNUMBER($L473),OFFSET(Banco!$A$1,Composições!$L473-1,COLUMN(Composições!D473)-1),\"\")","v":"RETROESCAVADEIRA SOBRE RODAS COM CARREGADEIRA, TRAÇÃO 4X2, POTÊNCIA LÍQ. 79 HP, CAÇAMBA CARREG. CAP. MÍN. 1 M3, CAÇAMBA RETRO CAP. 0,20 M3, PESO OPERACIONAL MÍN. 6.570 KG, PROFUNDIDADE ESCAVAÇÃO MÁX. 4,37 M - CHP DIURNO. AF_06/2014"},{"$f":"IF(ISNUMBER($L473),OFFSET(Banco!$A$1,Composições!$L473-1,COLUMN(Composições!E473)-1),\"\")","v":"CHP"},{"$f":"ROUND($H473*ROUND(I473,2),2)","v":12.02},12.27,8.3000000000000004E-2,{"$f":"IF(ISNUMBER($L473),VALUE(OFFSET(Banco!$A$1,Composições!$L473-1,COLUMN(Composições!I473)-4)),0)","v":144.86000000000001},{"$f":"IF(ISNUMBER($L473),VALUE(OFFSET(Banco!$A$1,Composições!$L473-1,COLUMN(Composições!J473)-4)),0)","v":147.85},{"$f":"COUNTA($A$1:$A473)-1","v":55},{"$f":"MATCH(CONCATENATE($B473,\" \",$C473),Banco!$A:$A,0)","v":7840},{"$f":"IF(OR(ISERROR($L473),$H473=\"\",$H473=0),\"\",OFFSET(M$1,MATCH($K473,$K$1:$K473,0)-1,0))","v":"F"},null,{"$f":"IF(ISNUMBER($L473),VALUE(OFFSET(Banco!$A$1,Composições!$L473-1,COLUMN(Composições!O473)-6)),0)","v":0},{"$f":"IF(ISNUMBER($L473),VALUE(OFFSET(Banco!$A$1,Composições!$L473-1,COLUMN(Composições!P473)-6)),0)","v":0},{"$f":"ROUND(F473*O473,2)","v":0},0]
[null,"SINAPI",88316,{"$f":"IF(ISNUMBER($L474),OFFSET(Banco!$A$1,Composições!$L474-1,COLUMN(Composições!D474)-1),\"\")","v":"SERVENTE COM ENCARGOS COMPLEMENTARES"},{"$f":"IF(ISNUMBER($L474),OFFSET(Banco!$A$1,Composições!$L474-1,COLUMN(Composições!E474)-1),\"\")","v":"H"},1.6,1.72,0.06,{"$f":"IF(ISNUMBER($L474),VALUE(OFFSET(Banco!$A$1,Composições!$L474-1,COLUMN(Composições!I474)-4)),0)","v":26.65},{"$f":"IF(ISNUMBER($L474),VALUE(OFFSET(Banco!$A$1,Composições!$L474-1,COLUMN(Composições!J474)-4)),0)","v":28.71},{"$f":"COUNTA($A$1:$A474)-1","v":55},{"$f":"MATCH(CONCATENATE($B474,\" \",$C474),Banco!$A:$A,0)","v":13198},{"$f":"IF(OR(ISERROR($L474),$H474=\"\",$H474=0),\"\",OFFSET(M$1,MATCH($K474,$K$1:$K474,0)-1,0))","v":"F"},null,{"$f":"IF(ISNUMBER($L474),VALUE(OFFSET(Banco!$A$1,Composições!$L474-1,COLUMN(Composições!O474)-6)),0)","v":0},{"$f":"IF(ISNUMBER($L474),VALUE(OFFSET(Banco!$A$1,Composições!$L474-1,COLUMN(Composições!P474)-6)),0)","v":0},0,0]
[null,null,null,null,null,null,null,null,null,null,{"$f":"COUNTA($A$1:$A475)-1","v":55},null,{"$f":"IF(OFFSET($M$1,MATCH(OFFSET(K475,-1,0),$K$1:$K475,0)-1,0)=\"F\",\"F\",\"\")","v":"F"}]
[{"$f":"CONCATENATE($B476,\" \",$C476)","v":"Composição PISO.0026.01"},"Composição","PISO.0026.01","EXECUÇÃO DE PISO DE CONCRETO (fck 35MPA) COM CONCRETO USINADO, ACABAMENTO CONVENCIONAL, ESPESSURA 10 CM, ARMADO - FORNECIMENTO DE MATERIAL E EXECUÇÃO","m²",{"$f":"IF($L476>0,SUM(OFFSET(F476,1,0,$L476),0))","v":134.81},137.59,null,{"$f":"IF(ISERROR(F476),0,F476)","v":134.81},137.59,{"$f":"COUNTA($A$1:$A476)-1","v":56},{"$f":"IF(MAX(K:K)=K476,MATCH(9999999,$K:$K)+1,MATCH(K476+1,K:K,0))-ROW(L476)-2","v":8},{"$f":"IF(AND(OR(I476<>0,J476<>0),N476=\"Sim\"),\"F\",\"\")","v":"F"},"Sim",{"$f":"IF(AND($L476>0,F476<>0),ROUND(SUM(OFFSET(Q476,1,0,$L476))/F476,4),0)","v":0},0]
[null,"SINAPI",88262,{"$f":"IF(ISNUMBER($L477),OFFSET(Banco!$A$1,Composições!$L477-1,COLUMN(Composições!D477)-1),\"\")","v":"CARPINTEIRO DE FORMAS COM ENCARGOS COMPLEMENTARES"},{"$f":"IF(ISNUMBER($L477),OFFSET(Banco!$A$1,Composições!$L477-1,COLUMN(Composições!E477)-1),\"\")","v":"H"},{"$f":"ROUND($H477*ROUND(I477,2),2)","v":7.56},8.2200000000000006,0.22559999999999999,{"$f":"IF(ISNUMBER($L477),VALUE(OFFSET(Banco!$A$1,Composições!$L477-1,COLUMN(Composições!I477)-4)),0)","v":33.53},{"$f":"IF(ISNUMBER($L477),VALUE(OFFSET(Banco!$A$1,Composições!$L477-1,COLUMN(Composições!J477)-4)),0)","v":36.43},{"$f":"COUNTA($A$1:$A477)-1","v":56},{"$f":"MATCH(CONCATENATE($B477,\" \",$C477),Banco!$A:$A,0)","v":12901},{"$f":"IF(OR(ISERROR($L477),$H477=\"\",$H477=0),\"\",OFFSET(M$1,MATCH($K477,$K$1:$K477,0)-1,0))","v":"F"},null,{"$f":"IF(ISNUMBER($L477),VALUE(OFFSET(Banco!$A$1,Composições!$L477-1,COLUMN(Composições!O477)-6)),0)","v":0},{"$f":"IF(ISNUMBER($L477),VALUE(OFFSET(Banco!$A$1,Composições!$L477-1,COLUMN(Composições!P477)-6)),0)","v":0},{"$f":"ROUND(F477*O477,2)","v":0},0]
[null,"SINAPI",88309,{"$f":"IF(ISNUMBER($L478),OFFSET(Banco!$A$1,Composições!$L478-1,COLUMN(Composições!D478)-1),\"\")","v":"PEDREIRO COM ENCARGOS COMPLEMENTARES"},{"$f":"IF(ISNUMBER($L478),OFFSET(Banco!$A$1,Composições!$L478-1,COLUMN(Composições!E478)-1),\"\")","v":"H"},11.27,12.24,0.33169999999999999,{"$f":"IF(ISNUMBER($L478),VALUE(OFFSET(Banco!$A$1,Composições!$L478-1,COLUMN(Composições!I478)-4)),0)","v":33.99},{"$f":"IF(ISNUMBER($L478),VALUE(OFFSET(Banco!$A$1,Composições!$L478-1,COLUMN(Composições!J478)-4)),0)","v":36.909999999999997},{"$f":"COUNTA($A$1:$A478)-1","v":56},{"$f":"MATCH(CONCATENATE($B478,\" \",$C478),Banco!$A:$A,0)","v":13185},{"$f":"IF(OR(ISERROR($L478),$H478=\"\",$H478=0),\"\",OFFSET(M$1,MATCH($K478,$K$1:$K478,0)-1,0))","v":"F"},null,{"$f":"IF(ISNUMBER($L478),VALUE(OFFSET(Banco!$A$1,Composições!$L478-1,COLUMN(Composições!O478)-6)),0)","v":0},{"$f":"IF(ISNUMBER($L478),VALUE(OFFSET(Banco!$A$1,Composições!$L478-1,COLUMN(Composições!P478)-6)),0)","v":0},0,0]
[null,"SINAPI",88316,{"$f":"IF(ISNUMBER($L479),OFFSET(Banco!$A$1,Composições!$L479-1,COLUMN(Composições!D479)-1),\"\")","v":"SERVENTE COM ENCARGOS COMPLEMENTARES"},{"$f":"IF(ISNUMBER($L479),OFFSET(Banco!$A$1,Composições!$L479-1,COLUMN(Composições!E479)-1),\"\")","v":"H"},14.85,16,0.55730000000000002,{"$f":"IF(ISNUMBER($L479),VALUE(OFFSET(Banco!$A$1,Composições!$L479-1,COLUMN(Composições!I479)-4)),0)","v":26.65},{"$f":"IF(ISNUMBER($L479),VALUE(OFFSET(Banco!$A$1,Composições!$L479-1,COLUMN(Composições!J479)-4)),0)","v":28.71},{"$f":"COUNTA($A$1:$A479)-1","v":56},{"$f":"MATCH(CONCATENATE($B479,\" \",$C479),Banco!$A:$A,0)","v":13198},{"$f":"IF(OR(ISERROR($L479),$H479=\"\",$H479=0),\"\",OFFSET(M$1,MATCH($K479,$K$1:$K479,0)-1,0))","v":"F"},null,{"$f":"IF(ISNUMBER($L479),VALUE(OFFSET(Banco!$A$1,Composições!$L479-1,COLUMN(Composições!O479)-6)),0)","v":0},{"$f":"IF(ISNUMBER($L479),VALUE(OFFSET(Banco!$A$1,Composições!$L479-1,COLUMN(Composições!P479)-6)),0)","v":0},0,0]
[null,"SINAPI-I",3777,{"$f":"IF(ISNUMBER($L480),OFFSET(Banco!$A$1,Composições!$L480-1,COLUMN(Composições!D480)-1),\"\")","v":"LONA PLASTICA PESADA PRETA, E = 150 MICRA"},{"$f":"IF(ISNUMBER($L480),OFFSET(Banco!$A$1,Composições!$L480-1,COLUMN(Composições!E480)-1),\"\")","v":"M2"},1.47,1.47,1.1279999999999999,{"$f":"IF(ISNUMBER($L480),VALUE(OFFSET(Banco!$A$1,Composições!$L480-1,COLUMN(Composições!I480)-4)),0)","v":1.3},{"$f":"IF(ISNUMBER($L480),VALUE(OFFSET(Banco!$A$1,Composições!$L480-1,COLUMN(Composições!J480)-4)),0)","v":1.3},{"$f":"COUNTA($A$1:$A480)-1","v":56},{"$f":"MATCH(CONCATENATE($B480,\" \",$C480),Banco!$A:$A,0)","v":2723},{"$f":"IF(OR(ISERROR($L480),$H480=\"\",$H480=0),\"\",OFFSET(M$1,MATCH($K480,$K$1:$K480,0)-1,0))","v":"F"},null,{"$f":"IF(ISNUMBER($L480),VALUE(OFFSET(Banco!$A$1,Composições!$L480-1,COLUMN(Composições!O480)-6)),0)","v":0},{"$f":"IF(ISNUMBER($L480),VALUE(OFFSET(Banco!$A$1,Composições!$L480-1,COLUMN(Composições!P480)-6)),0)","v":0},0,0]
[null,"SINAPI-I",4460,{"$f":"IF(ISNUMBER($L481),OFFSET(Banco!$A$1,Composições!$L481-1,COLUMN(Composições!D481)-1),\"\")","v":"SARRAFO NAO APARELHADO *2,5 X 10* CM, EM MACARANDUBA/MASSARANDUBA, ANGELIM OU EQUIVALENTE DA REGIAO - BRUTA"},{"$f":"IF(ISNUMBER($L481),OFFSET(Banco!$A$1,Composições!$L481-1,COLUMN(Composições!E481)-1),\"\")","v":"M"},2.82,2.82,0.25,{"$f":"IF(ISNUMBER($L481),VALUE(OFFSET(Banco!$A$1,Composições!$L481-1,COLUMN(Composições!I481)-4)),0)","v":11.29},{"$f":"IF(ISNUMBER($L481),VALUE(OFFSET(Banco!$A$1,Composições!$L481-1,COLUMN(Composições!J481)-4)),0)","v":11.29},{"$f":"COUNTA($A$1:$A481)-1","v":56},{"$f":"MATCH(CONCATENATE($B481,\" \",$C481),Banco!$A:$A,0)","v":3932},{"$f":"IF(OR(ISERROR($L481),$H481=\"\",$H481=0),\"\",OFFSET(M$1,MATCH($K481,$K$1:$K481,0)-1,0))","v":"F"},null,{"$f":"IF(ISNUMBER($L481),VALUE(OFFSET(Banco!$A$1,Composições!$L481-1,COLUMN(Composições!O481)-6)),0)","v":0},{"$f":"IF(ISNUMBER($L481),VALUE(OFFSET(Banco!$A$1,Composições!$L481-1,COLUMN(Composições!P481)-6)),0)","v":0},0,0]
[null,"SINAPI-I",4517,{"$f":"IF(ISNUMBER($L482),OFFSET(Banco!$A$1,Composições!$L482-1,COLUMN(Composições!D482)-1),\"\")","v":"SARRAFO *2,5 X 7,5* CM EM PINUS, MISTA OU EQUIVALENTE DA REGIAO - BRUTA"},{"$f":"IF(ISNUMBER($L482),OFFSET(Banco!$A$1,Composições!$L482-1,COLUMN(Composições!E482)-1),\"\")","v":"M"},0.5,0.5,0.2,{"$f":"IF(ISNUMBER($L482),VALUE(OFFSET(Banco!$A$1,Composições!$L482-1,COLUMN(Composições!I482)-4)),0)","v":2.5},{"$f":"IF(ISNUMBER($L482),VALUE(OFFSET(Banco!$A$1,Composições!$L482-1,COLUMN(Composições!J482)-4)),0)","v":2.5},{"$f":"COUNTA($A$1:$A482)-1","v":56},{"$f":"MATCH(CONCATENATE($B482,\" \",$C482),Banco!$A:$A,0)","v":3930},{"$f":"IF(OR(ISERROR($L482),$H482=\"\",$H482=0),\"\",OFFSET(M$1,MATCH($K482,$K$1:$K482,0)-1,0))","v":"F"},null,{"$f":"IF(ISNUMBER($L482),VALUE(OFFSET(Banco!$A$1,Composições!$L482-1,COLUMN(Composições!O482)-6)),0)","v":0},{"$f":"IF(ISNUMBER($L482),VALUE(OFFSET(Banco!$A$1,Composições!$L482-1,COLUMN(Composições!P482)-6)),0)","v":0},0,0]
[null,"SINAPI-I",11145,{"$f":"IF(ISNUMBER($L483),OFFSET(Banco!$A$1,Composições!$L483-1,COLUMN(Composições!D483)-1),\"\")","v":"CONCRETO USINADO BOMBEAVEL, CLASSE DE RESISTENCIA C35, BRITA 0 E 1, SLUMP = 100 +/- 20 MM, COM BOMBEAMENTO (DISPONIBILIZACAO DE BOMBA), SEM O LANCAMENTO (NBR 8953)"},{"$f":"IF(ISNUMBER($L483),OFFSET(Banco!$A$1,Composições!$L483-1,COLUMN(Composições!E483)-1),\"\")","v":"M3"},64.73,64.73,0.12130000000000001,{"$f":"IF(ISNUMBER($L483),VALUE(OFFSET(Banco!$A$1,Composições!$L483-1,COLUMN(Composições!I483)-4)),0)","v":533.66},{"$f":"IF(ISNUMBER($L483),VALUE(OFFSET(Banco!$A$1,Composições!$L483-1,COLUMN(Composições!J483)-4)),0)","v":533.66},{"$f":"COUNTA($A$1:$A483)-1","v":56},{"$f":"MATCH(CONCATENATE($B483,\" \",$C483),Banco!$A:$A,0)","v":1356},{"$f":"IF(OR(ISERROR($L483),$H483=\"\",$H483=0),\"\",OFFSET(M$1,MATCH($K483,$K$1:$K483,0)-1,0))","v":"F"},null,{"$f":"IF(ISNUMBER($L483),VALUE(OFFSET(Banco!$A$1,Composições!$L483-1,COLUMN(Composições!O483)-6)),0)","v":0},{"$f":"IF(ISNUMBER($L483),VALUE(OFFSET(Banco!$A$1,Composições!$L483-1,COLUMN(Composições!P483)-6)),0)","v":0},0,0]
[null,"SINAPI-I",7156,{"$f":"IF(ISNUMBER($L484),OFFSET(Banco!$A$1,Composições!$L484-1,COLUMN(Composições!D484)-1),\"\")","v":"TELA DE ACO SOLDADA NERVURADA, CA-60, Q-196, (3,11 KG/M2), DIAMETRO DO FIO = 5,0 MM, LARGURA = 2,45 M, ESPACAMENTO DA MALHA = 10 X 10 CM"},{"$f":"IF(ISNUMBER($L484),OFFSET(Banco!$A$1,Composições!$L484-1,COLUMN(Composições!E484)-1),\"\")","v":"M2"},31.61,31.61,1.1000000000000001,{"$f":"IF(ISNUMBER($L484),VALUE(OFFSET(Banco!$A$1,Composições!$L484-1,COLUMN(Composições!I484)-4)),0)","v":28.74},{"$f":"IF(ISNUMBER($L484),VALUE(OFFSET(Banco!$A$1,Composições!$L484-1,COLUMN(Composições!J484)-4)),0)","v":28.74},{"$f":"COUNTA($A$1:$A484)-1","v":56},{"$f":"MATCH(CONCATENATE($B484,\" \",$C484),Banco!$A:$A,0)","v":4286},{"$f":"IF(OR(ISERROR($L484),$H484=\"\",$H484=0),\"\",OFFSET(M$1,MATCH($K484,$K$1:$K484,0)-1,0))","v":"F"},null,{"$f":"IF(ISNUMBER($L484),VALUE(OFFSET(Banco!$A$1,Composições!$L484-1,COLUMN(Composições!O484)-6)),0)","v":0},{"$f":"IF(ISNUMBER($L484),VALUE(OFFSET(Banco!$A$1,Composições!$L484-1,COLUMN(Composições!P484)-6)),0)","v":0},0,0]
[null,null,null,null,null,null,null,null,null,null,{"$f":"COUNTA($A$1:$A485)-1","v":56},null,{"$f":"IF(OFFSET($M$1,MATCH(OFFSET(K485,-1,0),$K$1:$K485,0)-1,0)=\"F\",\"F\",\"\")","v":"F"}]
[{"$f":"CONCATENATE($B486,\" \",$C486)","v":"Composição DROP.0021.01"},"Composição","DROP.0021.01","RECOMPOSIÇÃO DE BOCA DE LOBO SIMPLES EXISTENTE EM ALVENARIA INCLUSIVE TROCA DA GUIA CHAPÉU E TAMPA DE CONCRETO ARMADO","UN",{"$f":"IF($L486>0,SUM(OFFSET(F486,1,0,$L486),0))","v":376.78000000000003},395.71999999999997,null,{"$f":"IF(ISERROR(F486),0,F486)","v":376.78000000000003},395.71999999999997,{"$f":"COUNTA($A$1:$A486)-1","v":57},{"$f":"IF(MAX(K:K)=K486,MATCH(9999999,$K:$K)+1,MATCH(K486+1,K:K,0))-ROW(L486)-2","v":5},{"$f":"IF(AND(OR(I486<>0,J486<>0),N486=\"Sim\"),\"F\",\"\")","v":"F"},"Sim",{"$f":"IF(AND($L486>0,F486<>0),ROUND(SUM(OFFSET(Q486,1,0,$L486))/F486,4),0)","v":6.1000000000000004E-3},5.7999999999999996E-3]
[null,"SINAPI",103318,{"$f":"IF(ISNUMBER($L487),OFFSET(Banco!$A$1,Composições!$L487-1,COLUMN(Composições!D487)-1),\"\")","v":"ALVENARIA DE VEDAÇÃO DE BLOCOS VAZADOS DE CONCRETO DE 14X19X39 CM (ESPESSURA 14 CM) E ARGAMASSA DE ASSENTAMENTO COM PREPARO EM BETONEIRA. AF_12/2021"},{"$f":"IF(ISNUMBER($L487),OFFSET(Banco!$A$1,Composições!$L487-1,COLUMN(Composições!E487)-1),\"\")","v":"M2"},{"$f":"ROUND($H487*ROUND(I487,2),2)","v":41.39},43.06,0.41,{"$f":"IF(ISNUMBER($L487),VALUE(OFFSET(Banco!$A$1,Composições!$L487-1,COLUMN(Composições!I487)-4)),0)","v":100.96},{"$f":"IF(ISNUMBER($L487),VALUE(OFFSET(Banco!$A$1,Composições!$L487-1,COLUMN(Composições!J487)-4)),0)","v":105.03},{"$f":"COUNTA($A$1:$A487)-1","v":57},{"$f":"MATCH(CONCATENATE($B487,\" \",$C487),Banco!$A:$A,0)","v":6167},{"$f":"IF(OR(ISERROR($L487),$H487=\"\",$H487=0),\"\",OFFSET(M$1,MATCH($K487,$K$1:$K487,0)-1,0))","v":"F"},null,{"$f":"IF(ISNUMBER($L487),VALUE(OFFSET(Banco!$A$1,Composições!$L487-1,COLUMN(Composições!O487)-6)),0)","v":4.4000000000000003E-3},{"$f":"IF(ISNUMBER($L487),VALUE(OFFSET(Banco!$A$1,Composições!$L487-1,COLUMN(Composições!P487)-6)),0)","v":4.1999999999999997E-3},{"$f":"ROUND(F487*O487,2)","v":0.18},0.18]
[null,"SINAPI",87546,{"$f":"IF(ISNUMBER($L488),OFFSET(Banco!$A$1,Composições!$L488-1,COLUMN(Composições!D488)-1),\"\")","v":"EMBOÇO, EM ARGAMASSA TRAÇO 1:2:8, PREPARO MANUAL, APLICADO MANUALMENTE EM PAREDES INTERNAS, PARA AMBIENTES COM ÁREA MENOR QUE 5M², E = 10MM, COM TALISCAS. AF_03/2024"},{"$f":"IF(ISNUMBER($L488),OFFSET(Banco!$A$1,Composições!$L488-1,COLUMN(Composições!E488)-1),\"\")","v":"M2"},15.22,16.190000000000001,0.43,{"$f":"IF(ISNUMBER($L488),VALUE(OFFSET(Banco!$A$1,Composições!$L488-1,COLUMN(Composições!I488)-4)),0)","v":35.4},{"$f":"IF(ISNUMBER($L488),VALUE(OFFSET(Banco!$A$1,Composições!$L488-1,COLUMN(Composições!J488)-4)),0)","v":37.65},{"$f":"COUNTA($A$1:$A488)-1","v":57},{"$f":"MATCH(CONCATENATE($B488,\" \",$C488),Banco!$A:$A,0)","v":13480},{"$f":"IF(OR(ISERROR($L488),$H488=\"\",$H488=0),\"\",OFFSET(M$1,MATCH($K488,$K$1:$K488,0)-1,0))","v":"F"},null,{"$f":"IF(ISNUMBER($L488),VALUE(OFFSET(Banco!$A$1,Composições!$L488-1,COLUMN(Composições!O488)-6)),0)","v":0},{"$f":"IF(ISNUMBER($L488),VALUE(OFFSET(Banco!$A$1,Composições!$L488-1,COLUMN(Composições!P488)-6)),0)","v":0},0,0]
[null,"COMPOSIÇÃO","DROP.0009.01",{"$f":"IF(ISNUMBER($L489),OFFSET(Banco!$A$1,Composições!$L489-1,COLUMN(Composições!D489)-1),\"\")","v":"GUIA CHAPÉU EM CONCRETO FCK=20MPA 1,20 X 0,30 X 0,19M - FORNECIMENTO E INSTALAÇÃO"},{"$f":"IF(ISNUMBER($L489),OFFSET(Banco!$A$1,Composições!$L489-1,COLUMN(Composições!E489)-1),\"\")","v":"UN"},121.98,126.94,1,{"$f":"IF(ISNUMBER($L489),VALUE(OFFSET(Banco!$A$1,Composições!$L489-1,COLUMN(Composições!I489)-4)),0)","v":121.98},{"$f":"IF(ISNUMBER($L489),VALUE(OFFSET(Banco!$A$1,Composições!$L489-1,COLUMN(Composições!J489)-4)),0)","v":126.94},{"$f":"COUNTA($A$1:$A489)-1","v":57},{"$f":"MATCH(CONCATENATE($B489,\" \",$C489),Banco!$A:$A,0)","v":71},{"$f":"IF(OR(ISERROR($L489),$H489=\"\",$H489=0),\"\",OFFSET(M$1,MATCH($K489,$K$1:$K489,0)-1,0))","v":"F"},null,{"$f":"IF(ISNUMBER($L489),VALUE(OFFSET(Banco!$A$1,Composições!$L489-1,COLUMN(Composições!O489)-6)),0)","v":5.0000000000000001E-4},{"$f":"IF(ISNUMBER($L489),VALUE(OFFSET(Banco!$A$1,Composições!$L489-1,COLUMN(Composições!P489)-6)),0)","v":5.0000000000000001E-4},0.06,0.06]
[null,"SINAPI",97735,{"$f":"IF(ISNUMBER($L490),OFFSET(Banco!$A$1,Composições!$L490-1,COLUMN(Composições!D490)-1),\"\")","v":"PEÇA RETANGULAR PRÉ-MOLDADA, VOLUME DE CONCRETO DE 30 A 100 LITROS, TAXA DE AÇO APROXIMADA DE 30KG/M³. AF_03/2024"},{"$f":"IF(ISNUMBER($L490),OFFSET(Banco!$A$1,Composições!$L490-1,COLUMN(Composições!E490)-1),\"\")","v":"M3"},193.96,204.96,7.1999999999999995E-2,{"$f":"IF(ISNUMBER($L490),VALUE(OFFSET(Banco!$A$1,Composições!$L490-1,COLUMN(Composições!I490)-4)),0)","v":2693.84},{"$f":"IF(ISNUMBER($L490),VALUE(OFFSET(Banco!$A$1,Composições!$L490-1,COLUMN(Composições!J490)-4)),0)","v":2846.67},{"$f":"COUNTA($A$1:$A490)-1","v":57},{"$f":"MATCH(CONCATENATE($B490,\" \",$C490),Banco!$A:$A,0)","v":9829},{"$f":"IF(OR(ISERROR($L490),$H490=\"\",$H490=0),\"\",OFFSET(M$1,MATCH($K490,$K$1:$K490,0)-1,0))","v":"F"},null,{"$f":"IF(ISNUMBER($L490),VALUE(OFFSET(Banco!$A$1,Composições!$L490-1,COLUMN(Composições!O490)-6)),0)","v":1.06E-2},{"$f":"IF(ISNUMBER($L490),VALUE(OFFSET(Banco!$A$1,Composições!$L490-1,COLUMN(Composições!P490)-6)),0)","v":0.01},2.06,2.0499999999999998]
[null,"SINAPI",97622,{"$f":"IF(ISNUMBER($L491),OFFSET(Banco!$A$1,Composições!$L491-1,COLUMN(Composições!D491)-1),\"\")","v":"DEMOLIÇÃO DE ALVENARIA DE BLOCO FURADO, DE FORMA MANUAL, SEM REAPROVEITAMENTO. AF_09/2023"},{"$f":"IF(ISNUMBER($L491),OFFSET(Banco!$A$1,Composições!$L491-1,COLUMN(Composições!E491)-1),\"\")","v":"M3"},4.2300000000000004,4.57,0.06,{"$f":"IF(ISNUMBER($L491),VALUE(OFFSET(Banco!$A$1,Composições!$L491-1,COLUMN(Composições!I491)-4)),0)","v":70.540000000000006},{"$f":"IF(ISNUMBER($L491),VALUE(OFFSET(Banco!$A$1,Composições!$L491-1,COLUMN(Composições!J491)-4)),0)","v":76.09},{"$f":"COUNTA($A$1:$A491)-1","v":57},{"$f":"MATCH(CONCATENATE($B491,\" \",$C491),Banco!$A:$A,0)","v":7932},{"$f":"IF(OR(ISERROR($L491),$H491=\"\",$H491=0),\"\",OFFSET(M$1,MATCH($K491,$K$1:$K491,0)-1,0))","v":"F"},null,{"$f":"IF(ISNUMBER($L491),VALUE(OFFSET(Banco!$A$1,Composições!$L491-1,COLUMN(Composições!O491)-6)),0)","v":0},{"$f":"IF(ISNUMBER($L491),VALUE(OFFSET(Banco!$A$1,Composições!$L491-1,COLUMN(Composições!P491)-6)),0)","v":0},0,0]
[null,null,null,null,null,null,null,null,null,null,{"$f":"COUNTA($A$1:$A492)-1","v":57},null,{"$f":"IF(OFFSET($M$1,MATCH(OFFSET(K492,-1,0),$K$1:$K492,0)-1,0)=\"F\",\"F\",\"\")","v":"F"}]
[{"$f":"CONCATENATE($B493,\" \",$C493)","v":"Composição FUES.0132.01"},"Composição","FUES.0132.01","BENEFICIAMENTO DE ESTRUTURA TRELIÇADA DE COBERTURA, COM LIGAÇÕES SOLDADAS, EXCLUSIVE SOLDA.","M",{"$f":"IF($L493>0,SUM(OFFSET(F493,1,0,$L493),0))","v":8.2900000000000009},8.9999999999999982,null,{"$f":"IF(ISERROR(F493),0,F493)","v":8.2900000000000009},8.9999999999999982,{"$f":"COUNTA($A$1:$A493)-1","v":58},{"$f":"IF(MAX(K:K)=K493,MATCH(9999999,$K:$K)+1,MATCH(K493+1,K:K,0))-ROW(L493)-2","v":3},{"$f":"IF(AND(OR(I493<>0,J493<>0),N493=\"Sim\"),\"F\",\"\")","v":"F"},"Sim",{"$f":"IF(AND($L493>0,F493<>0),ROUND(SUM(OFFSET(Q493,1,0,$L493))/F493,4),0)","v":0},0]
[null,"SINAPI",88278,{"$f":"IF(ISNUMBER($L494),OFFSET(Banco!$A$1,Composições!$L494-1,COLUMN(Composições!D494)-1),\"\")","v":"MONTADOR DE ESTRUTURA METÁLICA COM ENCARGOS COMPLEMENTARES"},{"$f":"IF(ISNUMBER($L494),OFFSET(Banco!$A$1,Composições!$L494-1,COLUMN(Composições!E494)-1),\"\")","v":"H"},{"$f":"ROUND($H494*ROUND(I494,2),2)","v":7.19},7.81,0.2424,{"$f":"IF(ISNUMBER($L494),VALUE(OFFSET(Banco!$A$1,Composições!$L494-1,COLUMN(Composições!I494)-4)),0)","v":29.66},{"$f":"IF(ISNUMBER($L494),VALUE(OFFSET(Banco!$A$1,Composições!$L494-1,COLUMN(Composições!J494)-4)),0)","v":32.22},{"$f":"COUNTA($A$1:$A494)-1","v":58},{"$f":"MATCH(CONCATENATE($B494,\" \",$C494),Banco!$A:$A,0)","v":13132},{"$f":"IF(OR(ISERROR($L494),$H494=\"\",$H494=0),\"\",OFFSET(M$1,MATCH($K494,$K$1:$K494,0)-1,0))","v":"F"},null,{"$f":"IF(ISNUMBER($L494),VALUE(OFFSET(Banco!$A$1,Composições!$L494-1,COLUMN(Composições!O494)-6)),0)","v":0},{"$f":"IF(ISNUMBER($L494),VALUE(OFFSET(Banco!$A$1,Composições!$L494-1,COLUMN(Composições!P494)-6)),0)","v":0},{"$f":"ROUND(F494*O494,2)","v":0},0]
[null,"SINAPI",91693,{"$f":"IF(ISNUMBER($L495),OFFSET(Banco!$A$1,Composições!$L495-1,COLUMN(Composições!D495)-1),\"\")","v":"SERRA CIRCULAR DE BANCADA COM MOTOR ELÉTRICO POTÊNCIA DE 5HP, COM COIFA PARA DISCO 10\" - CHI DIURNO. AF_08/2015"},{"$f":"IF(ISNUMBER($L495),OFFSET(Banco!$A$1,Composições!$L495-1,COLUMN(Composições!E495)-1),\"\")","v":"CHI"},0.84,0.91,2.5899999999999999E-2,{"$f":"IF(ISNUMBER($L495),VALUE(OFFSET(Banco!$A$1,Composições!$L495-1,COLUMN(Composições!I495)-4)),0)","v":32.28},{"$f":"IF(ISNUMBER($L495),VALUE(OFFSET(Banco!$A$1,Composições!$L495-1,COLUMN(Composições!J495)-4)),0)","v":35.130000000000003},{"$f":"COUNTA($A$1:$A495)-1","v":58},{"$f":"MATCH(CONCATENATE($B495,\" \",$C495),Banco!$A:$A,0)","v":7865},{"$f":"IF(OR(ISERROR($L495),$H495=\"\",$H495=0),\"\",OFFSET(M$1,MATCH($K495,$K$1:$K495,0)-1,0))","v":"F"},null,{"$f":"IF(ISNUMBER($L495),VALUE(OFFSET(Banco!$A$1,Composições!$L495-1,COLUMN(Composições!O495)-6)),0)","v":0},{"$f":"IF(ISNUMBER($L495),VALUE(OFFSET(Banco!$A$1,Composições!$L495-1,COLUMN(Composições!P495)-6)),0)","v":0},0,0]
[null,"SINAPI",91692,{"$f":"IF(ISNUMBER($L496),OFFSET(Banco!$A$1,Composições!$L496-1,COLUMN(Composições!D496)-1),\"\")","v":"SERRA CIRCULAR DE BANCADA COM MOTOR ELÉTRICO POTÊNCIA DE 5HP, COM COIFA PARA DISCO 10\" - CHP DIURNO. AF_08/2015"},{"$f":"IF(ISNUMBER($L496),OFFSET(Banco!$A$1,Composições!$L496-1,COLUMN(Composições!E496)-1),\"\")","v":"CHP"},0.26,0.28000000000000003,7.7999999999999996E-3,{"$f":"IF(ISNUMBER($L496),VALUE(OFFSET(Banco!$A$1,Composições!$L496-1,COLUMN(Composições!I496)-4)),0)","v":33.33},{"$f":"IF(ISNUMBER($L496),VALUE(OFFSET(Banco!$A$1,Composições!$L496-1,COLUMN(Composições!J496)-4)),0)","v":36.18},{"$f":"COUNTA($A$1:$A496)-1","v":58},{"$f":"MATCH(CONCATENATE($B496,\" \",$C496),Banco!$A:$A,0)","v":7866},{"$f":"IF(OR(ISERROR($L496),$H496=\"\",$H496=0),\"\",OFFSET(M$1,MATCH($K496,$K$1:$K496,0)-1,0))","v":"F"},null,{"$f":"IF(ISNUMBER($L496),VALUE(OFFSET(Banco!$A$1,Composições!$L496-1,COLUMN(Composições!O496)-6)),0)","v":0},{"$f":"IF(ISNUMBER($L496),VALUE(OFFSET(Banco!$A$1,Composições!$L496-1,COLUMN(Composições!P496)-6)),0)","v":0},0,0]
[null,null,null,null,null,null,null,null,null,null,{"$f":"COUNTA($A$1:$A497)-1","v":58},null,{"$f":"IF(OFFSET($M$1,MATCH(OFFSET(K497,-1,0),$K$1:$K497,0)-1,0)=\"F\",\"F\",\"\")","v":"F"}]
[{"$f":"CONCATENATE($B498,\" \",$C498)","v":"Composição INEL.0440.17"},"Composição","INEL.0440.17","CANTONEIRA ZZ ALTA 38X38MM - APENAS INSUMO","UN",{"$f":"IF($L498>0,SUM(OFFSET(F498,1,0,$L498),0))","v":2.39},2.39,null,{"$f":"IF(ISERROR(F498),0,F498)","v":2.39},2.39,{"$f":"COUNTA($A$1:$A498)-1","v":59},{"$f":"IF(MAX(K:K)=K498,MATCH(9999999,$K:$K)+1,MATCH(K498+1,K:K,0))-ROW(L498)-2","v":1},{"$f":"IF(AND(OR(I498<>0,J498<>0),N498=\"Sim\"),\"F\",\"\")","v":"F"},"Sim",{"$f":"IF(AND($L498>0,F498<>0),ROUND(SUM(OFFSET(Q498,1,0,$L498))/F498,4),0)","v":0},0]
[null,"COTAÇÃO",11049,{"$f":"IF(ISNUMBER($L499),OFFSET(Banco!$A$1,Composições!$L499-1,COLUMN(Composições!D499)-1),\"\")","v":"CHAPA DE ACO GALVANIZADA BITOLA GSG 22, E = 0,80 MM (6,40 KG/M2)"},{"$f":"IF(ISNUMBER($L499),OFFSET(Banco!$A$1,Composições!$L499-1,COLUMN(Composições!E499)-1),\"\")","v":"KG"},{"$f":"ROUND($H499*ROUND(I499,2),2)","v":2.39},2.39,0.2213,{"$f":"IF(ISNUMBER($L499),VALUE(OFFSET(Banco!$A$1,Composições!$L499-1,COLUMN(Composições!I499)-4)),0)","v":10.81},{"$f":"IF(ISNUMBER($L499),VALUE(OFFSET(Banco!$A$1,Composições!$L499-1,COLUMN(Composições!J499)-4)),0)","v":10.81},{"$f":"COUNTA($A$1:$A499)-1","v":59},{"$f":"MATCH(CONCATENATE($B499,\" \",$C499),Banco!$A:$A,0)","v":116},{"$f":"IF(OR(ISERROR($L499),$H499=\"\",$H499=0),\"\",OFFSET(M$1,MATCH($K499,$K$1:$K499,0)-1,0))","v":"F"},null,{"$f":"IF(ISNUMBER($L499),VALUE(OFFSET(Banco!$A$1,Composições!$L499-1,COLUMN(Composições!O499)-6)),0)","v":0},{"$f":"IF(ISNUMBER($L499),VALUE(OFFSET(Banco!$A$1,Composições!$L499-1,COLUMN(Composições!P499)-6)),0)","v":0},{"$f":"ROUND(F499*O499,2)","v":0},0]
[null,null,null,null,null,null,null,null,null,null,{"$f":"COUNTA($A$1:$A500)-1","v":59},null,{"$f":"IF(OFFSET($M$1,MATCH(OFFSET(K500,-1,0),$K$1:$K500,0)-1,0)=\"F\",\"F\",\"\")","v":"F"}]
[{"$f":"CONCATENATE($B501,\" \",$C501)","v":"Composição INEL.0516.03"},"Composição","INEL.0516.03","ELETROCALHA PERFURADA TIPO U, EM CHAPA DE ACO GALVANIZADO GSG 18, SEM TAMPA, DE 100 X 50 MM - APENAS INSUMO","M",{"$f":"IF($L501>0,SUM(OFFSET(F501,1,0,$L501),0))","v":50.31},50.31,null,{"$f":"IF(ISERROR(F501),0,F501)","v":50.31},50.31,{"$f":"COUNTA($A$1:$A501)-1","v":60},{"$f":"IF(MAX(K:K)=K501,MATCH(9999999,$K:$K)+1,MATCH(K501+1,K:K,0))-ROW(L501)-2","v":1},{"$f":"IF(AND(OR(I501<>0,J501<>0),N501=\"Sim\"),\"F\",\"\")","v":"F"},"Sim",{"$f":"IF(AND($L501>0,F501<>0),ROUND(SUM(OFFSET(Q501,1,0,$L501))/F501,4),0)","v":0},0]
[null,"COTAÇÃO",11046,{"$f":"IF(ISNUMBER($L502),OFFSET(Banco!$A$1,Composições!$L502-1,COLUMN(Composições!D502)-1),\"\")","v":"CHAPA DE ACO GALVANIZADA BITOLA GSG 18, E = 1,25 MM (10,00 KG/M2)"},{"$f":"IF(ISNUMBER($L502),OFFSET(Banco!$A$1,Composições!$L502-1,COLUMN(Composições!E502)-1),\"\")","v":"KG"},{"$f":"ROUND($H502*ROUND(I502,2),2)","v":50.31},50.31,4.8516000000000004,{"$f":"IF(ISNUMBER($L502),VALUE(OFFSET(Banco!$A$1,Composições!$L502-1,COLUMN(Composições!I502)-4)),0)","v":10.37},{"$f":"IF(ISNUMBER($L502),VALUE(OFFSET(Banco!$A$1,Composições!$L502-1,COLUMN(Composições!J502)-4)),0)","v":10.37},{"$f":"COUNTA($A$1:$A502)-1","v":60},{"$f":"MATCH(CONCATENATE($B502,\" \",$C502),Banco!$A:$A,0)","v":115},{"$f":"IF(OR(ISERROR($L502),$H502=\"\",$H502=0),\"\",OFFSET(M$1,MATCH($K502,$K$1:$K502,0)-1,0))","v":"F"},null,{"$f":"IF(ISNUMBER($L502),VALUE(OFFSET(Banco!$A$1,Composições!$L502-1,COLUMN(Composições!O502)-6)),0)","v":0},{"$f":"IF(ISNUMBER($L502),VALUE(OFFSET(Banco!$A$1,Composições!$L502-1,COLUMN(Composições!P502)-6)),0)","v":0},{"$f":"ROUND(F502*O502,2)","v":0},0]
[null,null,null,null,null,null,null,null,null,null,{"$f":"COUNTA($A$1:$A503)-1","v":60},null,{"$f":"IF(OFFSET($M$1,MATCH(OFFSET(K503,-1,0),$K$1:$K503,0)-1,0)=\"F\",\"F\",\"\")","v":"F"}]
[{"$f":"CONCATENATE($B504,\" \",$C504)","v":"Composição INEL.0466.03"},"Composição","INEL.0466.03","EMENDA PARA ELETROCALHA, LISA OU PERFURADA EM AÇO GALVANIZADO, LARGURA 100MM E ALTURA 50MM - APENAS INSUMO","UN",{"$f":"IF($L504>0,SUM(OFFSET(F504,1,0,$L504),0))","v":3.64},3.64,null,{"$f":"IF(ISERROR(F504),0,F504)","v":3.64},3.64,{"$f":"COUNTA($A$1:$A504)-1","v":61},{"$f":"IF(MAX(K:K)=K504,MATCH(9999999,$K:$K)+1,MATCH(K504+1,K:K,0))-ROW(L504)-2","v":1},{"$f":"IF(AND(OR(I504<>0,J504<>0),N504=\"Sim\"),\"F\",\"\")","v":"F"},"Sim",{"$f":"IF(AND($L504>0,F504<>0),ROUND(SUM(OFFSET(Q504,1,0,$L504))/F504,4),0)","v":0},0]
[null,"COTAÇÃO",11049,{"$f":"IF(ISNUMBER($L505),OFFSET(Banco!$A$1,Composições!$L505-1,COLUMN(Composições!D505)-1),\"\")","v":"CHAPA DE ACO GALVANIZADA BITOLA GSG 22, E = 0,80 MM (6,40 KG/M2)"},{"$f":"IF(ISNUMBER($L505),OFFSET(Banco!$A$1,Composições!$L505-1,COLUMN(Composições!E505)-1),\"\")","v":"KG"},{"$f":"ROUND($H505*ROUND(I505,2),2)","v":3.64},3.64,0.33700000000000002,{"$f":"IF(ISNUMBER($L505),VALUE(OFFSET(Banco!$A$1,Composições!$L505-1,COLUMN(Composições!I505)-4)),0)","v":10.81},{"$f":"IF(ISNUMBER($L505),VALUE(OFFSET(Banco!$A$1,Composições!$L505-1,COLUMN(Composições!J505)-4)),0)","v":10.81},{"$f":"COUNTA($A$1:$A505)-1","v":61},{"$f":"MATCH(CONCATENATE($B505,\" \",$C505),Banco!$A:$A,0)","v":116},{"$f":"IF(OR(ISERROR($L505),$H505=\"\",$H505=0),\"\",OFFSET(M$1,MATCH($K505,$K$1:$K505,0)-1,0))","v":"F"},null,{"$f":"IF(ISNUMBER($L505),VALUE(OFFSET(Banco!$A$1,Composições!$L505-1,COLUMN(Composições!O505)-6)),0)","v":0},{"$f":"IF(ISNUMBER($L505),VALUE(OFFSET(Banco!$A$1,Composições!$L505-1,COLUMN(Composições!P505)-6)),0)","v":0},{"$f":"ROUND(F505*O505,2)","v":0},0]
[null,null,null,null,null,null,null,null,null,null,{"$f":"COUNTA($A$1:$A506)-1","v":61},null,{"$f":"IF(OFFSET($M$1,MATCH(OFFSET(K506,-1,0),$K$1:$K506,0)-1,0)=\"F\",\"F\",\"\")","v":"F"}]
[{"$f":"CONCATENATE($B507,\" \",$C507)","v":"Composição INEL.0471.03"},"Composição","INEL.0471.03","EMENDA PARA ELETROCALHA, LISA OU PERFURADA EM AÇO GALVANIZADO, LARGURA 100MM E ALTURA 50MM - FORNECIMENTO E INSTALAÇÃO.","UN",{"$f":"IF($L507>0,SUM(OFFSET(F507,1,0,$L507),0))","v":28.59},30.1,null,{"$f":"IF(ISERROR(F507),0,F507)","v":28.59},30.1,{"$f":"COUNTA($A$1:$A507)-1","v":62},{"$f":"IF(MAX(K:K)=K507,MATCH(9999999,$K:$K)+1,MATCH(K507+1,K:K,0))-ROW(L507)-2","v":4},{"$f":"IF(AND(OR(I507<>0,J507<>0),N507=\"Sim\"),\"F\",\"\")","v":"F"},"Sim",{"$f":"IF(AND($L507>0,F507<>0),ROUND(SUM(OFFSET(Q507,1,0,$L507))/F507,4),0)","v":0},0]
[null,"SINAPI",88264,{"$f":"IF(ISNUMBER($L508),OFFSET(Banco!$A$1,Composições!$L508-1,COLUMN(Composições!D508)-1),\"\")","v":"ELETRICISTA COM ENCARGOS COMPLEMENTARES"},{"$f":"IF(ISNUMBER($L508),OFFSET(Banco!$A$1,Composições!$L508-1,COLUMN(Composições!E508)-1),\"\")","v":"H"},{"$f":"ROUND($H508*ROUND(I508,2),2)","v":9.9700000000000006},10.82,0.28960000000000002,{"$f":"IF(ISNUMBER($L508),VALUE(OFFSET(Banco!$A$1,Composições!$L508-1,COLUMN(Composições!I508)-4)),0)","v":34.409999999999997},{"$f":"IF(ISNUMBER($L508),VALUE(OFFSET(Banco!$A$1,Composições!$L508-1,COLUMN(Composições!J508)-4)),0)","v":37.369999999999997},{"$f":"COUNTA($A$1:$A508)-1","v":62},{"$f":"MATCH(CONCATENATE($B508,\" \",$C508),Banco!$A:$A,0)","v":13095},{"$f":"IF(OR(ISERROR($L508),$H508=\"\",$H508=0),\"\",OFFSET(M$1,MATCH($K508,$K$1:$K508,0)-1,0))","v":"F"},null,{"$f":"IF(ISNUMBER($L508),VALUE(OFFSET(Banco!$A$1,Composições!$L508-1,COLUMN(Composições!O508)-6)),0)","v":0},{"$f":"IF(ISNUMBER($L508),VALUE(OFFSET(Banco!$A$1,Composições!$L508-1,COLUMN(Composições!P508)-6)),0)","v":0},{"$f":"ROUND(F508*O508,2)","v":0},0]
[null,"SINAPI",88247,{"$f":"IF(ISNUMBER($L509),OFFSET(Banco!$A$1,Composições!$L509-1,COLUMN(Composições!D509)-1),\"\")","v":"AUXILIAR DE ELETRICISTA COM ENCARGOS COMPLEMENTARES"},{"$f":"IF(ISNUMBER($L509),OFFSET(Banco!$A$1,Composições!$L509-1,COLUMN(Composições!E509)-1),\"\")","v":"H"},8.26,8.92,0.28960000000000002,{"$f":"IF(ISNUMBER($L509),VALUE(OFFSET(Banco!$A$1,Composições!$L509-1,COLUMN(Composições!I509)-4)),0)","v":28.53},{"$f":"IF(ISNUMBER($L509),VALUE(OFFSET(Banco!$A$1,Composições!$L509-1,COLUMN(Composições!J509)-4)),0)","v":30.8},{"$f":"COUNTA($A$1:$A509)-1","v":62},{"$f":"MATCH(CONCATENATE($B509,\" \",$C509),Banco!$A:$A,0)","v":12875},{"$f":"IF(OR(ISERROR($L509),$H509=\"\",$H509=0),\"\",OFFSET(M$1,MATCH($K509,$K$1:$K509,0)-1,0))","v":"F"},null,{"$f":"IF(ISNUMBER($L509),VALUE(OFFSET(Banco!$A$1,Composições!$L509-1,COLUMN(Composições!O509)-6)),0)","v":0},{"$f":"IF(ISNUMBER($L509),VALUE(OFFSET(Banco!$A$1,Composições!$L509-1,COLUMN(Composições!P509)-6)),0)","v":0},0,0]
[null,"COMPOSIÇÃO","INEL.0466.03",{"$f":"IF(ISNUMBER($L510),OFFSET(Banco!$A$1,Composições!$L510-1,COLUMN(Composições!D510)-1),\"\")","v":"EMENDA PARA ELETROCALHA, LISA OU PERFURADA EM AÇO GALVANIZADO, LARGURA 100MM E ALTURA 50MM - APENAS INSUMO"},{"$f":"IF(ISNUMBER($L510),OFFSET(Banco!$A$1,Composições!$L510-1,COLUMN(Composições!E510)-1),\"\")","v":"UN"},3.64,3.64,1,{"$f":"IF(ISNUMBER($L510),VALUE(OFFSET(Banco!$A$1,Composições!$L510-1,COLUMN(Composições!I510)-4)),0)","v":3.64},{"$f":"IF(ISNUMBER($L510),VALUE(OFFSET(Banco!$A$1,Composições!$L510-1,COLUMN(Composições!J510)-4)),0)","v":3.64},{"$f":"COUNTA($A$1:$A510)-1","v":62},{"$f":"MATCH(CONCATENATE($B510,\" \",$C510),Banco!$A:$A,0)","v":67},{"$f":"IF(OR(ISERROR($L510),$H510=\"\",$H510=0),\"\",OFFSET(M$1,MATCH($K510,$K$1:$K510,0)-1,0))","v":"F"},null,{"$f":"IF(ISNUMBER($L510),VALUE(OFFSET(Banco!$A$1,Composições!$L510-1,COLUMN(Composições!O510)-6)),0)","v":0},{"$f":"IF(ISNUMBER($L510),VALUE(OFFSET(Banco!$A$1,Composições!$L510-1,COLUMN(Composições!P510)-6)),0)","v":0},0,0]
[null,"SINAPI-I",13246,{"$f":"IF(ISNUMBER($L511),OFFSET(Banco!$A$1,Composições!$L511-1,COLUMN(Composições!D511)-1),\"\")","v":"PARAFUSO DE ACO ZINCADO, SEXTAVADO, COM ROSCA INTEIRA, DIAMETRO 5/16\", COMPRIMENTO 3/4\", COM PORCA E ARRUELA LISA LEVE"},{"$f":"IF(ISNUMBER($L511),OFFSET(Banco!$A$1,Composições!$L511-1,COLUMN(Composições!E511)-1),\"\")","v":"UN"},6.72,6.72,16.8,{"$f":"IF(ISNUMBER($L511),VALUE(OFFSET(Banco!$A$1,Composições!$L511-1,COLUMN(Composições!I511)-4)),0)","v":0.4},{"$f":"IF(ISNUMBER($L511),VALUE(OFFSET(Banco!$A$1,Composições!$L511-1,COLUMN(Composições!J511)-4)),0)","v":0.4},{"$f":"COUNTA($A$1:$A511)-1","v":62},{"$f":"MATCH(CONCATENATE($B511,\" \",$C511),Banco!$A:$A,0)","v":3299},{"$f":"IF(OR(ISERROR($L511),$H511=\"\",$H511=0),\"\",OFFSET(M$1,MATCH($K511,$K$1:$K511,0)-1,0))","v":"F"},null,{"$f":"IF(ISNUMBER($L511),VALUE(OFFSET(Banco!$A$1,Composições!$L511-1,COLUMN(Composições!O511)-6)),0)","v":0},{"$f":"IF(ISNUMBER($L511),VALUE(OFFSET(Banco!$A$1,Composições!$L511-1,COLUMN(Composições!P511)-6)),0)","v":0},0,0]
[null,null,null,null,null,null,null,null,null,null,{"$f":"COUNTA($A$1:$A512)-1","v":62},null,{"$f":"IF(OFFSET($M$1,MATCH(OFFSET(K512,-1,0),$K$1:$K512,0)-1,0)=\"F\",\"F\",\"\")","v":"F"}]
[{"$f":"CONCATENATE($B513,\" \",$C513)","v":"Composição FUES.0065.01"},"Composição","FUES.0065.01","ESTACA BROCA DE CONCRETO, DIÂMETRO DE 25CM, ESCAVAÇÃO MANUAL COM TRADO CONCHA, EXCETO ARMADURA","M",{"$f":"IF($L513>0,SUM(OFFSET(F513,1,0,$L513),0))","v":81.69},86.53,null,{"$f":"IF(ISERROR(F513),0,F513)","v":81.69},86.53,{"$f":"COUNTA($A$1:$A513)-1","v":63},{"$f":"IF(MAX(K:K)=K513,MATCH(9999999,$K:$K)+1,MATCH(K513+1,K:K,0))-ROW(L513)-2","v":3},{"$f":"IF(AND(OR(I513<>0,J513<>0),N513=\"Sim\"),\"F\",\"\")","v":"F"},"Sim",{"$f":"IF(AND($L513>0,F513<>0),ROUND(SUM(OFFSET(Q513,1,0,$L513))/F513,4),0)","v":0},0]
[null,"SINAPI",88309,{"$f":"IF(ISNUMBER($L514),OFFSET(Banco!$A$1,Composições!$L514-1,COLUMN(Composições!D514)-1),\"\")","v":"PEDREIRO COM ENCARGOS COMPLEMENTARES"},{"$f":"IF(ISNUMBER($L514),OFFSET(Banco!$A$1,Composições!$L514-1,COLUMN(Composições!E514)-1),\"\")","v":"H"},{"$f":"ROUND($H514*ROUND(I514,2),2)","v":27.02},29.34,0.79500000000000004,{"$f":"IF(ISNUMBER($L514),VALUE(OFFSET(Banco!$A$1,Composições!$L514-1,COLUMN(Composições!I514)-4)),0)","v":33.99},{"$f":"IF(ISNUMBER($L514),VALUE(OFFSET(Banco!$A$1,Composições!$L514-1,COLUMN(Composições!J514)-4)),0)","v":36.909999999999997},{"$f":"COUNTA($A$1:$A514)-1","v":63},{"$f":"MATCH(CONCATENATE($B514,\" \",$C514),Banco!$A:$A,0)","v":13185},{"$f":"IF(OR(ISERROR($L514),$H514=\"\",$H514=0),\"\",OFFSET(M$1,MATCH($K514,$K$1:$K514,0)-1,0))","v":"F"},null,{"$f":"IF(ISNUMBER($L514),VALUE(OFFSET(Banco!$A$1,Composições!$L514-1,COLUMN(Composições!O514)-6)),0)","v":0},{"$f":"IF(ISNUMBER($L514),VALUE(OFFSET(Banco!$A$1,Composições!$L514-1,COLUMN(Composições!P514)-6)),0)","v":0},{"$f":"ROUND(F514*O514,2)","v":0},0]
[null,"SINAPI",88316,{"$f":"IF(ISNUMBER($L515),OFFSET(Banco!$A$1,Composições!$L515-1,COLUMN(Composições!D515)-1),\"\")","v":"SERVENTE COM ENCARGOS COMPLEMENTARES"},{"$f":"IF(ISNUMBER($L515),OFFSET(Banco!$A$1,Composições!$L515-1,COLUMN(Composições!E515)-1),\"\")","v":"H"},26.6,28.65,0.998,{"$f":"IF(ISNUMBER($L515),VALUE(OFFSET(Banco!$A$1,Composições!$L515-1,COLUMN(Composições!I515)-4)),0)","v":26.65},{"$f":"IF(ISNUMBER($L515),VALUE(OFFSET(Banco!$A$1,Composições!$L515-1,COLUMN(Composições!J515)-4)),0)","v":28.71},{"$f":"COUNTA($A$1:$A515)-1","v":63},{"$f":"MATCH(CONCATENATE($B515,\" \",$C515),Banco!$A:$A,0)","v":13198},{"$f":"IF(OR(ISERROR($L515),$H515=\"\",$H515=0),\"\",OFFSET(M$1,MATCH($K515,$K$1:$K515,0)-1,0))","v":"F"},null,{"$f":"IF(ISNUMBER($L515),VALUE(OFFSET(Banco!$A$1,Composições!$L515-1,COLUMN(Composições!O515)-6)),0)","v":0},{"$f":"IF(ISNUMBER($L515),VALUE(OFFSET(Banco!$A$1,Composições!$L515-1,COLUMN(Composições!P515)-6)),0)","v":0},0,0]
[null,"SINAPI",94970,{"$f":"IF(ISNUMBER($L516),OFFSET(Banco!$A$1,Composições!$L516-1,COLUMN(Composições!D516)-1),\"\")","v":"CONCRETO FCK = 20MPA, TRAÇO 1:2,7:3 (EM MASSA SECA DE CIMENTO/ AREIA MÉDIA/ BRITA 1) - PREPARO MECÂNICO COM BETONEIRA 600 L. AF_05/2021"},{"$f":"IF(ISNUMBER($L516),OFFSET(Banco!$A$1,Composições!$L516-1,COLUMN(Composições!E516)-1),\"\")","v":"M3"},28.07,28.54,6.2E-2,{"$f":"IF(ISNUMBER($L516),VALUE(OFFSET(Banco!$A$1,Composições!$L516-1,COLUMN(Composições!I516)-4)),0)","v":452.78},{"$f":"IF(ISNUMBER($L516),VALUE(OFFSET(Banco!$A$1,Composições!$L516-1,COLUMN(Composições!J516)-4)),0)","v":460.32},{"$f":"COUNTA($A$1:$A516)-1","v":63},{"$f":"MATCH(CONCATENATE($B516,\" \",$C516),Banco!$A:$A,0)","v":14380},{"$f":"IF(OR(ISERROR($L516),$H516=\"\",$H516=0),\"\",OFFSET(M$1,MATCH($K516,$K$1:$K516,0)-1,0))","v":"F"},null,{"$f":"IF(ISNUMBER($L516),VALUE(OFFSET(Banco!$A$1,Composições!$L516-1,COLUMN(Composições!O516)-6)),0)","v":0},{"$f":"IF(ISNUMBER($L516),VALUE(OFFSET(Banco!$A$1,Composições!$L516-1,COLUMN(Composições!P516)-6)),0)","v":0},0,0]
[null,null,null,null,null,null,null,null,null,null,{"$f":"COUNTA($A$1:$A517)-1","v":63},null,{"$f":"IF(OFFSET($M$1,MATCH(OFFSET(K517,-1,0),$K$1:$K517,0)-1,0)=\"F\",\"F\",\"\")","v":"F"}]
[{"$f":"CONCATENATE($B518,\" \",$C518)","v":"Composição INHI.0216.01"},"Composição","INHI.0216.01","FIXAÇÃO UTILIZANDO PARAFUSO E BUCHA DE NYLON, SOMENTE MÃO DE OBRA","UN",{"$f":"IF($L518>0,SUM(OFFSET(F518,1,0,$L518),0))","v":6.01},6.53,null,{"$f":"IF(ISERROR(F518),0,F518)","v":6.01},6.53,{"$f":"COUNTA($A$1:$A518)-1","v":64},{"$f":"IF(MAX(K:K)=K518,MATCH(9999999,$K:$K)+1,MATCH(K518+1,K:K,0))-ROW(L518)-2","v":2},{"$f":"IF(AND(OR(I518<>0,J518<>0),N518=\"Sim\"),\"F\",\"\")","v":"F"},"Sim",{"$f":"IF(AND($L518>0,F518<>0),ROUND(SUM(OFFSET(Q518,1,0,$L518))/F518,4),0)","v":0},0]
[null,"SINAPI",88248,{"$f":"IF(ISNUMBER($L519),OFFSET(Banco!$A$1,Composições!$L519-1,COLUMN(Composições!D519)-1),\"\")","v":"AUXILIAR DE ENCANADOR OU BOMBEIRO HIDRÁULICO COM ENCARGOS COMPLEMENTARES"},{"$f":"IF(ISNUMBER($L519),OFFSET(Banco!$A$1,Composições!$L519-1,COLUMN(Composições!E519)-1),\"\")","v":"H"},{"$f":"ROUND($H519*ROUND(I519,2),2)","v":0.62},0.67,2.2700000000000001E-2,{"$f":"IF(ISNUMBER($L519),VALUE(OFFSET(Banco!$A$1,Composições!$L519-1,COLUMN(Composições!I519)-4)),0)","v":27.49},{"$f":"IF(ISNUMBER($L519),VALUE(OFFSET(Banco!$A$1,Composições!$L519-1,COLUMN(Composições!J519)-4)),0)","v":29.72},{"$f":"COUNTA($A$1:$A519)-1","v":64},{"$f":"MATCH(CONCATENATE($B519,\" \",$C519),Banco!$A:$A,0)","v":12876},{"$f":"IF(OR(ISERROR($L519),$H519=\"\",$H519=0),\"\",OFFSET(M$1,MATCH($K519,$K$1:$K519,0)-1,0))","v":"F"},null,{"$f":"IF(ISNUMBER($L519),VALUE(OFFSET(Banco!$A$1,Composições!$L519-1,COLUMN(Composições!O519)-6)),0)","v":0},{"$f":"IF(ISNUMBER($L519),VALUE(OFFSET(Banco!$A$1,Composições!$L519-1,COLUMN(Composições!P519)-6)),0)","v":0},{"$f":"ROUND(F519*O519,2)","v":0},0]
[null,"SINAPI",88267,{"$f":"IF(ISNUMBER($L520),OFFSET(Banco!$A$1,Composições!$L520-1,COLUMN(Composições!D520)-1),\"\")","v":"ENCANADOR OU BOMBEIRO HIDRÁULICO COM ENCARGOS COMPLEMENTARES"},{"$f":"IF(ISNUMBER($L520),OFFSET(Banco!$A$1,Composições!$L520-1,COLUMN(Composições!E520)-1),\"\")","v":"H"},5.39,5.86,0.16209999999999999,{"$f":"IF(ISNUMBER($L520),VALUE(OFFSET(Banco!$A$1,Composições!$L520-1,COLUMN(Composições!I520)-4)),0)","v":33.26},{"$f":"IF(ISNUMBER($L520),VALUE(OFFSET(Banco!$A$1,Composições!$L520-1,COLUMN(Composições!J520)-4)),0)","v":36.17},{"$f":"COUNTA($A$1:$A520)-1","v":64},{"$f":"MATCH(CONCATENATE($B520,\" \",$C520),Banco!$A:$A,0)","v":13099},{"$f":"IF(OR(ISERROR($L520),$H520=\"\",$H520=0),\"\",OFFSET(M$1,MATCH($K520,$K$1:$K520,0)-1,0))","v":"F"},null,{"$f":"IF(ISNUMBER($L520),VALUE(OFFSET(Banco!$A$1,Composições!$L520-1,COLUMN(Composições!O520)-6)),0)","v":0},{"$f":"IF(ISNUMBER($L520),VALUE(OFFSET(Banco!$A$1,Composições!$L520-1,COLUMN(Composições!P520)-6)),0)","v":0},0,0]
[null,null,null,null,null,null,null,null,null,null,{"$f":"COUNTA($A$1:$A521)-1","v":64},null,{"$f":"IF(OFFSET($M$1,MATCH(OFFSET(K521,-1,0),$K$1:$K521,0)-1,0)=\"F\",\"F\",\"\")","v":"F"}]
[{"$f":"CONCATENATE($B522,\" \",$C522)","v":"Composição DROP.0009.01"},"Composição","DROP.0009.01","GUIA CHAPÉU EM CONCRETO FCK=20MPA 1,20 X 0,30 X 0,19M - FORNECIMENTO E INSTALAÇÃO","UN",{"$f":"IF($L522>0,SUM(OFFSET(F522,1,0,$L522),0))","v":121.98},126.94,null,{"$f":"IF(ISERROR(F522),0,F522)","v":121.98},126.94,{"$f":"COUNTA($A$1:$A522)-1","v":65},{"$f":"IF(MAX(K:K)=K522,MATCH(9999999,$K:$K)+1,MATCH(K522+1,K:K,0))-ROW(L522)-2","v":5},{"$f":"IF(AND(OR(I522<>0,J522<>0),N522=\"Sim\"),\"F\",\"\")","v":"F"},"Sim",{"$f":"IF(AND($L522>0,F522<>0),ROUND(SUM(OFFSET(Q522,1,0,$L522))/F522,4),0)","v":5.0000000000000001E-4},5.0000000000000001E-4]
[null,"SINAPI",96536,{"$f":"IF(ISNUMBER($L523),OFFSET(Banco!$A$1,Composições!$L523-1,COLUMN(Composições!D523)-1),\"\")","v":"FABRICAÇÃO, MONTAGEM E DESMONTAGEM DE FÔRMA PARA VIGA BALDRAME, EM MADEIRA SERRADA, E=25 MM, 4 UTILIZAÇÕES. AF_01/2024"},{"$f":"IF(ISNUMBER($L523),OFFSET(Banco!$A$1,Composições!$L523-1,COLUMN(Composições!E523)-1),\"\")","v":"M2"},{"$f":"ROUND($H523*ROUND(I523,2),2)","v":58.1},61.62,0.8,{"$f":"IF(ISNUMBER($L523),VALUE(OFFSET(Banco!$A$1,Composições!$L523-1,COLUMN(Composições!I523)-4)),0)","v":72.62},{"$f":"IF(ISNUMBER($L523),VALUE(OFFSET(Banco!$A$1,Composições!$L523-1,COLUMN(Composições!J523)-4)),0)","v":77.02},{"$f":"COUNTA($A$1:$A523)-1","v":65},{"$f":"MATCH(CONCATENATE($B523,\" \",$C523),Banco!$A:$A,0)","v":10102},{"$f":"IF(OR(ISERROR($L523),$H523=\"\",$H523=0),\"\",OFFSET(M$1,MATCH($K523,$K$1:$K523,0)-1,0))","v":"F"},null,{"$f":"IF(ISNUMBER($L523),VALUE(OFFSET(Banco!$A$1,Composições!$L523-1,COLUMN(Composições!O523)-6)),0)","v":0},{"$f":"IF(ISNUMBER($L523),VALUE(OFFSET(Banco!$A$1,Composições!$L523-1,COLUMN(Composições!P523)-6)),0)","v":0},{"$f":"ROUND(F523*O523,2)","v":0},0]
[null,"SINAPI",103670,{"$f":"IF(ISNUMBER($L524),OFFSET(Banco!$A$1,Composições!$L524-1,COLUMN(Composições!D524)-1),\"\")","v":"LANÇAMENTO COM USO DE BALDES, ADENSAMENTO E ACABAMENTO DE CONCRETO EM ESTRUTURAS. AF_02/2022"},{"$f":"IF(ISNUMBER($L524),OFFSET(Banco!$A$1,Composições!$L524-1,COLUMN(Composições!E524)-1),\"\")","v":"M3"},13.49,14.58,3.6999999999999998E-2,{"$f":"IF(ISNUMBER($L524),VALUE(OFFSET(Banco!$A$1,Composições!$L524-1,COLUMN(Composições!I524)-4)),0)","v":364.65},{"$f":"IF(ISNUMBER($L524),VALUE(OFFSET(Banco!$A$1,Composições!$L524-1,COLUMN(Composições!J524)-4)),0)","v":394.16},{"$f":"COUNTA($A$1:$A524)-1","v":65},{"$f":"MATCH(CONCATENATE($B524,\" \",$C524),Banco!$A:$A,0)","v":7392},{"$f":"IF(OR(ISERROR($L524),$H524=\"\",$H524=0),\"\",OFFSET(M$1,MATCH($K524,$K$1:$K524,0)-1,0))","v":"F"},null,{"$f":"IF(ISNUMBER($L524),VALUE(OFFSET(Banco!$A$1,Composições!$L524-1,COLUMN(Composições!O524)-6)),0)","v":4.4999999999999997E-3},{"$f":"IF(ISNUMBER($L524),VALUE(OFFSET(Banco!$A$1,Composições!$L524-1,COLUMN(Composições!P524)-6)),0)","v":4.1999999999999997E-3},0.06,0.06]
[null,"SINAPI",92800,{"$f":"IF(ISNUMBER($L525),OFFSET(Banco!$A$1,Composições!$L525-1,COLUMN(Composições!D525)-1),\"\")","v":"CORTE E DOBRA DE AÇO CA-60, DIÂMETRO DE 5,0 MM. AF_06/2022"},{"$f":"IF(ISNUMBER($L525),OFFSET(Banco!$A$1,Composições!$L525-1,COLUMN(Composições!E525)-1),\"\")","v":"KG"},2.69,2.74,0.26,{"$f":"IF(ISNUMBER($L525),VALUE(OFFSET(Banco!$A$1,Composições!$L525-1,COLUMN(Composições!I525)-4)),0)","v":10.34},{"$f":"IF(ISNUMBER($L525),VALUE(OFFSET(Banco!$A$1,Composições!$L525-1,COLUMN(Composições!J525)-4)),0)","v":10.52},{"$f":"COUNTA($A$1:$A525)-1","v":65},{"$f":"MATCH(CONCATENATE($B525,\" \",$C525),Banco!$A:$A,0)","v":6417},{"$f":"IF(OR(ISERROR($L525),$H525=\"\",$H525=0),\"\",OFFSET(M$1,MATCH($K525,$K$1:$K525,0)-1,0))","v":"F"},null,{"$f":"IF(ISNUMBER($L525),VALUE(OFFSET(Banco!$A$1,Composições!$L525-1,COLUMN(Composições!O525)-6)),0)","v":0},{"$f":"IF(ISNUMBER($L525),VALUE(OFFSET(Banco!$A$1,Composições!$L525-1,COLUMN(Composições!P525)-6)),0)","v":0},0,0]
[null,"SINAPI",92801,{"$f":"IF(ISNUMBER($L526),OFFSET(Banco!$A$1,Composições!$L526-1,COLUMN(Composições!D526)-1),\"\")","v":"CORTE E DOBRA DE AÇO CA-50, DIÂMETRO DE 6,3 MM. AF_06/2022"},{"$f":"IF(ISNUMBER($L526),OFFSET(Banco!$A$1,Composições!$L526-1,COLUMN(Composições!E526)-1),\"\")","v":"KG"},31,31.3,3.03,{"$f":"IF(ISNUMBER($L526),VALUE(OFFSET(Banco!$A$1,Composições!$L526-1,COLUMN(Composições!I526)-4)),0)","v":10.23},{"$f":"IF(ISNUMBER($L526),VALUE(OFFSET(Banco!$A$1,Composições!$L526-1,COLUMN(Composições!J526)-4)),0)","v":10.33},{"$f":"COUNTA($A$1:$A526)-1","v":65},{"$f":"MATCH(CONCATENATE($B526,\" \",$C526),Banco!$A:$A,0)","v":6414},{"$f":"IF(OR(ISERROR($L526),$H526=\"\",$H526=0),\"\",OFFSET(M$1,MATCH($K526,$K$1:$K526,0)-1,0))","v":"F"},null,{"$f":"IF(ISNUMBER($L526),VALUE(OFFSET(Banco!$A$1,Composições!$L526-1,COLUMN(Composições!O526)-6)),0)","v":0},{"$f":"IF(ISNUMBER($L526),VALUE(OFFSET(Banco!$A$1,Composições!$L526-1,COLUMN(Composições!P526)-6)),0)","v":0},0,0]
[null,"SINAPI-I",34492,{"$f":"IF(ISNUMBER($L527),OFFSET(Banco!$A$1,Composições!$L527-1,COLUMN(Composições!D527)-1),\"\")","v":"CONCRETO USINADO BOMBEAVEL, CLASSE DE RESISTENCIA C20, COM BRITA 0 E 1, SLUMP = 100 +/- 20 MM, EXCLUI SERVICO DE BOMBEAMENTO (NBR 8953)"},{"$f":"IF(ISNUMBER($L527),OFFSET(Banco!$A$1,Composições!$L527-1,COLUMN(Composições!E527)-1),\"\")","v":"M3"},16.7,16.7,3.6999999999999998E-2,{"$f":"IF(ISNUMBER($L527),VALUE(OFFSET(Banco!$A$1,Composições!$L527-1,COLUMN(Composições!I527)-4)),0)","v":451.33},{"$f":"IF(ISNUMBER($L527),VALUE(OFFSET(Banco!$A$1,Composições!$L527-1,COLUMN(Composições!J527)-4)),0)","v":451.33},{"$f":"COUNTA($A$1:$A527)-1","v":65},{"$f":"MATCH(CONCATENATE($B527,\" \",$C527),Banco!$A:$A,0)","v":1343},{"$f":"IF(OR(ISERROR($L527),$H527=\"\",$H527=0),\"\",OFFSET(M$1,MATCH($K527,$K$1:$K527,0)-1,0))","v":"F"},null,{"$f":"IF(ISNUMBER($L527),VALUE(OFFSET(Banco!$A$1,Composições!$L527-1,COLUMN(Composições!O527)-6)),0)","v":0},{"$f":"IF(ISNUMBER($L527),VALUE(OFFSET(Banco!$A$1,Composições!$L527-1,COLUMN(Composições!P527)-6)),0)","v":0},0,0]
[null,null,null,null,null,null,null,null,null,null,{"$f":"COUNTA($A$1:$A528)-1","v":65},null,{"$f":"IF(OFFSET($M$1,MATCH(OFFSET(K528,-1,0),$K$1:$K528,0)-1,0)=\"F\",\"F\",\"\")","v":"F"}]
[{"$f":"CONCATENATE($B529,\" \",$C529)","v":"Composição FUES.0052.01"},"Composição","FUES.0052.01","MURETA EM ALVENARIA PARA ENTRADA DE ENERGIA ELÉTRICA, COM DIMENSÕES 2,55 X 1,85 M E ESPESSURA DE 30CM, EXECUTADO CONFORME PROJETO, INCLUSIVE FUNDAÇÕES, ESTRUTURAS E ACABAMENTOS (REBOCO, PINTURA E DETALHES) - FORNECIMENTO E EXECUÇÃO","UN",{"$f":"IF($L529>0,SUM(OFFSET(F529,1,0,$L529),0))","v":3218.65},3374.76,null,{"$f":"IF(ISERROR(F529),0,F529)","v":3218.65},3374.76,{"$f":"COUNTA($A$1:$A529)-1","v":66},{"$f":"IF(MAX(K:K)=K529,MATCH(9999999,$K:$K)+1,MATCH(K529+1,K:K,0))-ROW(L529)-2","v":22},{"$f":"IF(AND(OR(I529<>0,J529<>0),N529=\"Sim\"),\"F\",\"\")","v":"F"},"Sim",{"$f":"IF(AND($L529>0,F529<>0),ROUND(SUM(OFFSET(Q529,1,0,$L529))/F529,4),0)","v":2.5000000000000001E-3},2.3999999999999998E-3]
[null,"COMPOSIÇÃO","FUES.0065.01",{"$f":"IF(ISNUMBER($L530),OFFSET(Banco!$A$1,Composições!$L530-1,COLUMN(Composições!D530)-1),\"\")","v":"ESTACA BROCA DE CONCRETO, DIÂMETRO DE 25CM, ESCAVAÇÃO MANUAL COM TRADO CONCHA, EXCETO ARMADURA"},{"$f":"IF(ISNUMBER($L530),OFFSET(Banco!$A$1,Composições!$L530-1,COLUMN(Composições!E530)-1),\"\")","v":"M"},{"$f":"ROUND($H530*ROUND(I530,2),2)","v":490.14},{"$f":"ROUND($H530*ROUND(J530,2),2)","v":519.17999999999995},6,{"$f":"IF(ISNUMBER($L530),VALUE(OFFSET(Banco!$A$1,Composições!$L530-1,COLUMN(Composições!I530)-4)),0)","v":81.69},{"$f":"IF(ISNUMBER($L530),VALUE(OFFSET(Banco!$A$1,Composições!$L530-1,COLUMN(Composições!J530)-4)),0)","v":86.53},{"$f":"COUNTA($A$1:$A530)-1","v":66},{"$f":"MATCH(CONCATENATE($B530,\" \",$C530),Banco!$A:$A,0)","v":69},{"$f":"IF(OR(ISERROR($L530),$H530=\"\",$H530=0),\"\",OFFSET(M$1,MATCH($K530,$K$1:$K530,0)-1,0))","v":"F"},null,{"$f":"IF(ISNUMBER($L530),VALUE(OFFSET(Banco!$A$1,Composições!$L530-1,COLUMN(Composições!O530)-6)),0)","v":0},{"$f":"IF(ISNUMBER($L530),VALUE(OFFSET(Banco!$A$1,Composições!$L530-1,COLUMN(Composições!P530)-6)),0)","v":0},{"$f":"ROUND(F530*O530,2)","v":0},{"$f":"ROUND(G530*P530,2)","v":0}]
[null,"SINAPI",95601,{"$f":"IF(ISNUMBER($L531),OFFSET(Banco!$A$1,Composições!$L531-1,COLUMN(Composições!D531)-1),\"\")","v":"ARRASAMENTO MECANICO DE ESTACA DE CONCRETO ARMADO, DIAMETROS DE ATÉ 40 CM. AF_05/2021"},{"$f":"IF(ISNUMBER($L531),OFFSET(Banco!$A$1,Composições!$L531-1,COLUMN(Composições!E531)-1),\"\")","v":"UN"},42.06,45.4,2,{"$f":"IF(ISNUMBER($L531),VALUE(OFFSET(Banco!$A$1,Composições!$L531-1,COLUMN(Composições!I531)-4)),0)","v":21.03},{"$f":"IF(ISNUMBER($L531),VALUE(OFFSET(Banco!$A$1,Composições!$L531-1,COLUMN(Composições!J531)-4)),0)","v":22.7},{"$f":"COUNTA($A$1:$A531)-1","v":66},{"$f":"MATCH(CONCATENATE($B531,\" \",$C531),Banco!$A:$A,0)","v":6422},{"$f":"IF(OR(ISERROR($L531),$H531=\"\",$H531=0),\"\",OFFSET(M$1,MATCH($K531,$K$1:$K531,0)-1,0))","v":"F"},null,{"$f":"IF(ISNUMBER($L531),VALUE(OFFSET(Banco!$A$1,Composições!$L531-1,COLUMN(Composições!O531)-6)),0)","v":0},{"$f":"IF(ISNUMBER($L531),VALUE(OFFSET(Banco!$A$1,Composições!$L531-1,COLUMN(Composições!P531)-6)),0)","v":0},0,0]
[null,"SINAPI",95577,{"$f":"IF(ISNUMBER($L532),OFFSET(Banco!$A$1,Composições!$L532-1,COLUMN(Composições!D532)-1),\"\")","v":"MONTAGEM DE ARMADURA DE ESTACAS, DIÂMETRO = 10,0 MM. AF_09/2021_PS"},{"$f":"IF(ISNUMBER($L532),OFFSET(Banco!$A$1,Composições!$L532-1,COLUMN(Composições!E532)-1),\"\")","v":"KG"},54.15,54.83,4.9000000000000004,{"$f":"IF(ISNUMBER($L532),VALUE(OFFSET(Banco!$A$1,Composições!$L532-1,COLUMN(Composições!I532)-4)),0)","v":11.05},{"$f":"IF(ISNUMBER($L532),VALUE(OFFSET(Banco!$A$1,Composições!$L532-1,COLUMN(Composições!J532)-4)),0)","v":11.19},{"$f":"COUNTA($A$1:$A532)-1","v":66},{"$f":"MATCH(CONCATENATE($B532,\" \",$C532),Banco!$A:$A,0)","v":6351},{"$f":"IF(OR(ISERROR($L532),$H532=\"\",$H532=0),\"\",OFFSET(M$1,MATCH($K532,$K$1:$K532,0)-1,0))","v":"F"},null,{"$f":"IF(ISNUMBER($L532),VALUE(OFFSET(Banco!$A$1,Composições!$L532-1,COLUMN(Composições!O532)-6)),0)","v":0.01},{"$f":"IF(ISNUMBER($L532),VALUE(OFFSET(Banco!$A$1,Composições!$L532-1,COLUMN(Composições!P532)-6)),0)","v":9.7999999999999997E-3},0.54,0.54]
[null,"SINAPI",95583,{"$f":"IF(ISNUMBER($L533),OFFSET(Banco!$A$1,Composições!$L533-1,COLUMN(Composições!D533)-1),\"\")","v":"MONTAGEM DE ARMADURA TRANSVERSAL DE ESTACAS DE SEÇÃO CIRCULAR, DIÂMETRO = 5,0 MM. AF_09/2021_PS"},{"$f":"IF(ISNUMBER($L533),OFFSET(Banco!$A$1,Composições!$L533-1,COLUMN(Composições!E533)-1),\"\")","v":"KG"},33.46,34.85,1.9,{"$f":"IF(ISNUMBER($L533),VALUE(OFFSET(Banco!$A$1,Composições!$L533-1,COLUMN(Composições!I533)-4)),0)","v":17.61},{"$f":"IF(ISNUMBER($L533),VALUE(OFFSET(Banco!$A$1,Composições!$L533-1,COLUMN(Composições!J533)-4)),0)","v":18.34},{"$f":"COUNTA($A$1:$A533)-1","v":66},{"$f":"MATCH(CONCATENATE($B533,\" \",$C533),Banco!$A:$A,0)","v":6358},{"$f":"IF(OR(ISERROR($L533),$H533=\"\",$H533=0),\"\",OFFSET(M$1,MATCH($K533,$K$1:$K533,0)-1,0))","v":"F"},null,{"$f":"IF(ISNUMBER($L533),VALUE(OFFSET(Banco!$A$1,Composições!$L533-1,COLUMN(Composições!O533)-6)),0)","v":1.4800000000000001E-2},{"$f":"IF(ISNUMBER($L533),VALUE(OFFSET(Banco!$A$1,Composições!$L533-1,COLUMN(Composições!P533)-6)),0)","v":1.4200000000000001E-2},0.5,0.49]
[null,"SINAPI",96527,{"$f":"IF(ISNUMBER($L534),OFFSET(Banco!$A$1,Composições!$L534-1,COLUMN(Composições!D534)-1),\"\")","v":"ESCAVAÇÃO MANUAL PARA VIGA BALDRAME OU SAPATA CORRIDA (INCLUINDO ESCAVAÇÃO PARA COLOCAÇÃO DE FÔRMAS). AF_01/2024"},{"$f":"IF(ISNUMBER($L534),OFFSET(Banco!$A$1,Composições!$L534-1,COLUMN(Composições!E534)-1),\"\")","v":"M3"},93.16,100.57,0.72899999999999998,{"$f":"IF(ISNUMBER($L534),VALUE(OFFSET(Banco!$A$1,Composições!$L534-1,COLUMN(Composições!I534)-4)),0)","v":127.79},{"$f":"IF(ISNUMBER($L534),VALUE(OFFSET(Banco!$A$1,Composições!$L534-1,COLUMN(Composições!J534)-4)),0)","v":137.96},{"$f":"COUNTA($A$1:$A534)-1","v":66},{"$f":"MATCH(CONCATENATE($B534,\" \",$C534),Banco!$A:$A,0)","v":10077},{"$f":"IF(OR(ISERROR($L534),$H534=\"\",$H534=0),\"\",OFFSET(M$1,MATCH($K534,$K$1:$K534,0)-1,0))","v":"F"},null,{"$f":"IF(ISNUMBER($L534),VALUE(OFFSET(Banco!$A$1,Composições!$L534-1,COLUMN(Composições!O534)-6)),0)","v":0},{"$f":"IF(ISNUMBER($L534),VALUE(OFFSET(Banco!$A$1,Composições!$L534-1,COLUMN(Composições!P534)-6)),0)","v":0},0,0]
[null,"SINAPI",104737,{"$f":"IF(ISNUMBER($L535),OFFSET(Banco!$A$1,Composições!$L535-1,COLUMN(Composições!D535)-1),\"\")","v":"REATERRO MANUAL DE VALAS, COM PLACA VIBRATÓRIA. AF_08/2023"},{"$f":"IF(ISNUMBER($L535),OFFSET(Banco!$A$1,Composições!$L535-1,COLUMN(Composições!E535)-1),\"\")","v":"M3"},12.76,13.66,0.48599999999999999,{"$f":"IF(ISNUMBER($L535),VALUE(OFFSET(Banco!$A$1,Composições!$L535-1,COLUMN(Composições!I535)-4)),0)","v":26.26},{"$f":"IF(ISNUMBER($L535),VALUE(OFFSET(Banco!$A$1,Composições!$L535-1,COLUMN(Composições!J535)-4)),0)","v":28.1},{"$f":"COUNTA($A$1:$A535)-1","v":66},{"$f":"MATCH(CONCATENATE($B535,\" \",$C535),Banco!$A:$A,0)","v":6818},{"$f":"IF(OR(ISERROR($L535),$H535=\"\",$H535=0),\"\",OFFSET(M$1,MATCH($K535,$K$1:$K535,0)-1,0))","v":"F"},null,{"$f":"IF(ISNUMBER($L535),VALUE(OFFSET(Banco!$A$1,Composições!$L535-1,COLUMN(Composições!O535)-6)),0)","v":2.5499999999999998E-2},{"$f":"IF(ISNUMBER($L535),VALUE(OFFSET(Banco!$A$1,Composições!$L535-1,COLUMN(Composições!P535)-6)),0)","v":2.3800000000000002E-2},0.33,0.33]
[null,"SINAPI",96616,{"$f":"IF(ISNUMBER($L536),OFFSET(Banco!$A$1,Composições!$L536-1,COLUMN(Composições!D536)-1),\"\")","v":"LASTRO DE CONCRETO MAGRO, APLICADO EM BLOCOS DE COROAMENTO OU SAPATAS. AF_01/2024"},{"$f":"IF(ISNUMBER($L536),OFFSET(Banco!$A$1,Composições!$L536-1,COLUMN(Composições!E536)-1),\"\")","v":"M3"},33.58,35.03,4.0500000000000001E-2,{"$f":"IF(ISNUMBER($L536),VALUE(OFFSET(Banco!$A$1,Composições!$L536-1,COLUMN(Composições!I536)-4)),0)","v":829.17},{"$f":"IF(ISNUMBER($L536),VALUE(OFFSET(Banco!$A$1,Composições!$L536-1,COLUMN(Composições!J536)-4)),0)","v":864.86},{"$f":"COUNTA($A$1:$A536)-1","v":66},{"$f":"MATCH(CONCATENATE($B536,\" \",$C536),Banco!$A:$A,0)","v":12770},{"$f":"IF(OR(ISERROR($L536),$H536=\"\",$H536=0),\"\",OFFSET(M$1,MATCH($K536,$K$1:$K536,0)-1,0))","v":"F"},null,{"$f":"IF(ISNUMBER($L536),VALUE(OFFSET(Banco!$A$1,Composições!$L536-1,COLUMN(Composições!O536)-6)),0)","v":0},{"$f":"IF(ISNUMBER($L536),VALUE(OFFSET(Banco!$A$1,Composições!$L536-1,COLUMN(Composições!P536)-6)),0)","v":0},0,0]
[null,"SINAPI",96536,{"$f":"IF(ISNUMBER($L537),OFFSET(Banco!$A$1,Composições!$L537-1,COLUMN(Composições!D537)-1),\"\")","v":"FABRICAÇÃO, MONTAGEM E DESMONTAGEM DE FÔRMA PARA VIGA BALDRAME, EM MADEIRA SERRADA, E=25 MM, 4 UTILIZAÇÕES. AF_01/2024"},{"$f":"IF(ISNUMBER($L537),OFFSET(Banco!$A$1,Composições!$L537-1,COLUMN(Composições!E537)-1),\"\")","v":"M2"},117.64,124.77,1.62,{"$f":"IF(ISNUMBER($L537),VALUE(OFFSET(Banco!$A$1,Composições!$L537-1,COLUMN(Composições!I537)-4)),0)","v":72.62},{"$f":"IF(ISNUMBER($L537),VALUE(OFFSET(Banco!$A$1,Composições!$L537-1,COLUMN(Composições!J537)-4)),0)","v":77.02},{"$f":"COUNTA($A$1:$A537)-1","v":66},{"$f":"MATCH(CONCATENATE($B537,\" \",$C537),Banco!$A:$A,0)","v":10102},{"$f":"IF(OR(ISERROR($L537),$H537=\"\",$H537=0),\"\",OFFSET(M$1,MATCH($K537,$K$1:$K537,0)-1,0))","v":"F"},null,{"$f":"IF(ISNUMBER($L537),VALUE(OFFSET(Banco!$A$1,Composições!$L537-1,COLUMN(Composições!O537)-6)),0)","v":0},{"$f":"IF(ISNUMBER($L537),VALUE(OFFSET(Banco!$A$1,Composições!$L537-1,COLUMN(Composições!P537)-6)),0)","v":0},0,0]
[null,"COMPOSIÇÃO","FUES.0008.01",{"$f":"IF(ISNUMBER($L538),OFFSET(Banco!$A$1,Composições!$L538-1,COLUMN(Composições!D538)-1),\"\")","v":"CONCRETAGEM DE BLOCOS DE COROAMENTO E VIGAS BALDRAME, FCK 25 MPA, COM USO DE BOMBA ? LANÇAMENTO, ADENSAMENTO E ACABAMENTO."},{"$f":"IF(ISNUMBER($L538),OFFSET(Banco!$A$1,Composições!$L538-1,COLUMN(Composições!E538)-1),\"\")","v":"M³"},147,147.52000000000001,0.24299999999999999,{"$f":"IF(ISNUMBER($L538),VALUE(OFFSET(Banco!$A$1,Composições!$L538-1,COLUMN(Composições!I538)-4)),0)","v":604.91999999999996},{"$f":"IF(ISNUMBER($L538),VALUE(OFFSET(Banco!$A$1,Composições!$L538-1,COLUMN(Composições!J538)-4)),0)","v":607.08000000000004},{"$f":"COUNTA($A$1:$A538)-1","v":66},{"$f":"MATCH(CONCATENATE($B538,\" \",$C538),Banco!$A:$A,0)","v":9},{"$f":"IF(OR(ISERROR($L538),$H538=\"\",$H538=0),\"\",OFFSET(M$1,MATCH($K538,$K$1:$K538,0)-1,0))","v":"F"},null,{"$f":"IF(ISNUMBER($L538),VALUE(OFFSET(Banco!$A$1,Composições!$L538-1,COLUMN(Composições!O538)-6)),0)","v":2.0000000000000001E-4},{"$f":"IF(ISNUMBER($L538),VALUE(OFFSET(Banco!$A$1,Composições!$L538-1,COLUMN(Composições!P538)-6)),0)","v":2.0000000000000001E-4},0.03,0.03]
[null,"SINAPI",96546,{"$f":"IF(ISNUMBER($L539),OFFSET(Banco!$A$1,Composições!$L539-1,COLUMN(Composições!D539)-1),\"\")","v":"ARMAÇÃO DE BLOCO UTILIZANDO AÇO CA-50 DE 10 MM - MONTAGEM. AF_01/2024"},{"$f":"IF(ISNUMBER($L539),OFFSET(Banco!$A$1,Composições!$L539-1,COLUMN(Composições!E539)-1),\"\")","v":"KG"},117.94,121.68,7.8,{"$f":"IF(ISNUMBER($L539),VALUE(OFFSET(Banco!$A$1,Composições!$L539-1,COLUMN(Composições!I539)-4)),0)","v":15.12},{"$f":"IF(ISNUMBER($L539),VALUE(OFFSET(Banco!$A$1,Composições!$L539-1,COLUMN(Composições!J539)-4)),0)","v":15.6},{"$f":"COUNTA($A$1:$A539)-1","v":66},{"$f":"MATCH(CONCATENATE($B539,\" \",$C539),Banco!$A:$A,0)","v":10058},{"$f":"IF(OR(ISERROR($L539),$H539=\"\",$H539=0),\"\",OFFSET(M$1,MATCH($K539,$K$1:$K539,0)-1,0))","v":"F"},null,{"$f":"IF(ISNUMBER($L539),VALUE(OFFSET(Banco!$A$1,Composições!$L539-1,COLUMN(Composições!O539)-6)),0)","v":6.6E-3},{"$f":"IF(ISNUMBER($L539),VALUE(OFFSET(Banco!$A$1,Composições!$L539-1,COLUMN(Composições!P539)-6)),0)","v":6.4000000000000003E-3},0.78,0.78]
[null,"SINAPI",96543,{"$f":"IF(ISNUMBER($L540),OFFSET(Banco!$A$1,Composições!$L540-1,COLUMN(Composições!D540)-1),\"\")","v":"ARMAÇÃO DE BLOCO UTILIZANDO AÇO CA-60 DE 5 MM - MONTAGEM. AF_01/2024"},{"$f":"IF(ISNUMBER($L540),OFFSET(Banco!$A$1,Composições!$L540-1,COLUMN(Composições!E540)-1),\"\")","v":"KG"},62.89,66.05,2.8,{"$f":"IF(ISNUMBER($L540),VALUE(OFFSET(Banco!$A$1,Composições!$L540-1,COLUMN(Composições!I540)-4)),0)","v":22.46},{"$f":"IF(ISNUMBER($L540),VALUE(OFFSET(Banco!$A$1,Composições!$L540-1,COLUMN(Composições!J540)-4)),0)","v":23.59},{"$f":"COUNTA($A$1:$A540)-1","v":66},{"$f":"MATCH(CONCATENATE($B540,\" \",$C540),Banco!$A:$A,0)","v":10061},{"$f":"IF(OR(ISERROR($L540),$H540=\"\",$H540=0),\"\",OFFSET(M$1,MATCH($K540,$K$1:$K540,0)-1,0))","v":"F"},null,{"$f":"IF(ISNUMBER($L540),VALUE(OFFSET(Banco!$A$1,Composições!$L540-1,COLUMN(Composições!O540)-6)),0)","v":1.11E-2},{"$f":"IF(ISNUMBER($L540),VALUE(OFFSET(Banco!$A$1,Composições!$L540-1,COLUMN(Composições!P540)-6)),0)","v":1.06E-2},0.7,0.7]
[null,"SINAPI",98557,{"$f":"IF(ISNUMBER($L541),OFFSET(Banco!$A$1,Composições!$L541-1,COLUMN(Composições!D541)-1),\"\")","v":"IMPERMEABILIZAÇÃO DE SUPERFÍCIE COM EMULSÃO ASFÁLTICA, 2 DEMÃOS. AF_09/2023"},{"$f":"IF(ISNUMBER($L541),OFFSET(Banco!$A$1,Composições!$L541-1,COLUMN(Composições!E541)-1),\"\")","v":"M2"},111.1,114.65,2.4300000000000002,{"$f":"IF(ISNUMBER($L541),VALUE(OFFSET(Banco!$A$1,Composições!$L541-1,COLUMN(Composições!I541)-4)),0)","v":45.72},{"$f":"IF(ISNUMBER($L541),VALUE(OFFSET(Banco!$A$1,Composições!$L541-1,COLUMN(Composições!J541)-4)),0)","v":47.18},{"$f":"COUNTA($A$1:$A541)-1","v":66},{"$f":"MATCH(CONCATENATE($B541,\" \",$C541),Banco!$A:$A,0)","v":10414},{"$f":"IF(OR(ISERROR($L541),$H541=\"\",$H541=0),\"\",OFFSET(M$1,MATCH($K541,$K$1:$K541,0)-1,0))","v":"F"},null,{"$f":"IF(ISNUMBER($L541),VALUE(OFFSET(Banco!$A$1,Composições!$L541-1,COLUMN(Composições!O541)-6)),0)","v":0},{"$f":"IF(ISNUMBER($L541),VALUE(OFFSET(Banco!$A$1,Composições!$L541-1,COLUMN(Composições!P541)-6)),0)","v":0},0,0]
[null,"SINAPI",92413,{"$f":"IF(ISNUMBER($L542),OFFSET(Banco!$A$1,Composições!$L542-1,COLUMN(Composições!D542)-1),\"\")","v":"MONTAGEM E DESMONTAGEM DE FÔRMA DE PILARES RETANGULARES E ESTRUTURAS SIMILARES, PÉ-DIREITO SIMPLES, EM MADEIRA SERRADA, 4 UTILIZAÇÕES. AF_09/2020"},{"$f":"IF(ISNUMBER($L542),OFFSET(Banco!$A$1,Composições!$L542-1,COLUMN(Composições!E542)-1),\"\")","v":"M2"},126.07,134.47,1.1100000000000001,{"$f":"IF(ISNUMBER($L542),VALUE(OFFSET(Banco!$A$1,Composições!$L542-1,COLUMN(Composições!I542)-4)),0)","v":113.58},{"$f":"IF(ISNUMBER($L542),VALUE(OFFSET(Banco!$A$1,Composições!$L542-1,COLUMN(Composições!J542)-4)),0)","v":121.14},{"$f":"COUNTA($A$1:$A542)-1","v":66},{"$f":"MATCH(CONCATENATE($B542,\" \",$C542),Banco!$A:$A,0)","v":10172},{"$f":"IF(OR(ISERROR($L542),$H542=\"\",$H542=0),\"\",OFFSET(M$1,MATCH($K542,$K$1:$K542,0)-1,0))","v":"F"},null,{"$f":"IF(ISNUMBER($L542),VALUE(OFFSET(Banco!$A$1,Composições!$L542-1,COLUMN(Composições!O542)-6)),0)","v":0},{"$f":"IF(ISNUMBER($L542),VALUE(OFFSET(Banco!$A$1,Composições!$L542-1,COLUMN(Composições!P542)-6)),0)","v":0},0,0]
[null,"SINAPI",103669,{"$f":"IF(ISNUMBER($L543),OFFSET(Banco!$A$1,Composições!$L543-1,COLUMN(Composições!D543)-1),\"\")","v":"CONCRETAGEM DE PILARES, FCK = 25 MPA, COM USO DE BALDES - LANÇAMENTO, ADENSAMENTO E ACABAMENTO. AF_02/2022"},{"$f":"IF(ISNUMBER($L543),OFFSET(Banco!$A$1,Composições!$L543-1,COLUMN(Composições!E543)-1),\"\")","v":"M3"},80.05,82.53,8.4000000000000005E-2,{"$f":"IF(ISNUMBER($L543),VALUE(OFFSET(Banco!$A$1,Composições!$L543-1,COLUMN(Composições!I543)-4)),0)","v":953.01},{"$f":"IF(ISNUMBER($L543),VALUE(OFFSET(Banco!$A$1,Composições!$L543-1,COLUMN(Composições!J543)-4)),0)","v":982.52},{"$f":"COUNTA($A$1:$A543)-1","v":66},{"$f":"MATCH(CONCATENATE($B543,\" \",$C543),Banco!$A:$A,0)","v":7376},{"$f":"IF(OR(ISERROR($L543),$H543=\"\",$H543=0),\"\",OFFSET(M$1,MATCH($K543,$K$1:$K543,0)-1,0))","v":"F"},null,{"$f":"IF(ISNUMBER($L543),VALUE(OFFSET(Banco!$A$1,Composições!$L543-1,COLUMN(Composições!O543)-6)),0)","v":1.6999999999999999E-3},{"$f":"IF(ISNUMBER($L543),VALUE(OFFSET(Banco!$A$1,Composições!$L543-1,COLUMN(Composições!P543)-6)),0)","v":1.6999999999999999E-3},0.14000000000000001,0.14000000000000001]
[null,"SINAPI",92762,{"$f":"IF(ISNUMBER($L544),OFFSET(Banco!$A$1,Composições!$L544-1,COLUMN(Composições!D544)-1),\"\")","v":"ARMAÇÃO DE PILAR OU VIGA DE ESTRUTURA CONVENCIONAL DE CONCRETO ARMADO UTILIZANDO AÇO CA-50 DE 10,0 MM - MONTAGEM. AF_06/2022"},{"$f":"IF(ISNUMBER($L544),OFFSET(Banco!$A$1,Composições!$L544-1,COLUMN(Composições!E544)-1),\"\")","v":"KG"},59.7,60.58,5.2,{"$f":"IF(ISNUMBER($L544),VALUE(OFFSET(Banco!$A$1,Composições!$L544-1,COLUMN(Composições!I544)-4)),0)","v":11.48},{"$f":"IF(ISNUMBER($L544),VALUE(OFFSET(Banco!$A$1,Composições!$L544-1,COLUMN(Composições!J544)-4)),0)","v":11.65},{"$f":"COUNTA($A$1:$A544)-1","v":66},{"$f":"MATCH(CONCATENATE($B544,\" \",$C544),Banco!$A:$A,0)","v":6379},{"$f":"IF(OR(ISERROR($L544),$H544=\"\",$H544=0),\"\",OFFSET(M$1,MATCH($K544,$K$1:$K544,0)-1,0))","v":"F"},null,{"$f":"IF(ISNUMBER($L544),VALUE(OFFSET(Banco!$A$1,Composições!$L544-1,COLUMN(Composições!O544)-6)),0)","v":9.5999999999999992E-3},{"$f":"IF(ISNUMBER($L544),VALUE(OFFSET(Banco!$A$1,Composições!$L544-1,COLUMN(Composições!P544)-6)),0)","v":9.4000000000000004E-3},0.56999999999999995,0.56999999999999995]
[null,"SINAPI",92759,{"$f":"IF(ISNUMBER($L545),OFFSET(Banco!$A$1,Composições!$L545-1,COLUMN(Composições!D545)-1),\"\")","v":"ARMAÇÃO DE PILAR OU VIGA DE ESTRUTURA CONVENCIONAL DE CONCRETO ARMADO UTILIZANDO AÇO CA-60 DE 5,0 MM - MONTAGEM. AF_06/2022"},{"$f":"IF(ISNUMBER($L545),OFFSET(Banco!$A$1,Composições!$L545-1,COLUMN(Composições!E545)-1),\"\")","v":"KG"},23.03,23.81,1.5,{"$f":"IF(ISNUMBER($L545),VALUE(OFFSET(Banco!$A$1,Composições!$L545-1,COLUMN(Composições!I545)-4)),0)","v":15.35},{"$f":"IF(ISNUMBER($L545),VALUE(OFFSET(Banco!$A$1,Composições!$L545-1,COLUMN(Composições!J545)-4)),0)","v":15.87},{"$f":"COUNTA($A$1:$A545)-1","v":66},{"$f":"MATCH(CONCATENATE($B545,\" \",$C545),Banco!$A:$A,0)","v":6387},{"$f":"IF(OR(ISERROR($L545),$H545=\"\",$H545=0),\"\",OFFSET(M$1,MATCH($K545,$K$1:$K545,0)-1,0))","v":"F"},null,{"$f":"IF(ISNUMBER($L545),VALUE(OFFSET(Banco!$A$1,Composições!$L545-1,COLUMN(Composições!O545)-6)),0)","v":1.6899999999999998E-2},{"$f":"IF(ISNUMBER($L545),VALUE(OFFSET(Banco!$A$1,Composições!$L545-1,COLUMN(Composições!P545)-6)),0)","v":1.6400000000000001E-2},0.39,0.39]
[null,"SINAPI",87894,{"$f":"IF(ISNUMBER($L546),OFFSET(Banco!$A$1,Composições!$L546-1,COLUMN(Composições!D546)-1),\"\")","v":"CHAPISCO APLICADO EM ALVENARIA (SEM PRESENÇA DE VÃOS) E ESTRUTURAS DE CONCRETO DE FACHADA, COM COLHER DE PEDREIRO. ARGAMASSA TRAÇO 1:3 COM PREPARO EM BETONEIRA 400L. AF_10/2022"},{"$f":"IF(ISNUMBER($L546),OFFSET(Banco!$A$1,Composições!$L546-1,COLUMN(Composições!E546)-1),\"\")","v":"M2"},59.29,63.38,7.43,{"$f":"IF(ISNUMBER($L546),VALUE(OFFSET(Banco!$A$1,Composições!$L546-1,COLUMN(Composições!I546)-4)),0)","v":7.98},{"$f":"IF(ISNUMBER($L546),VALUE(OFFSET(Banco!$A$1,Composições!$L546-1,COLUMN(Composições!J546)-4)),0)","v":8.5299999999999994},{"$f":"COUNTA($A$1:$A546)-1","v":66},{"$f":"MATCH(CONCATENATE($B546,\" \",$C546),Banco!$A:$A,0)","v":7354},{"$f":"IF(OR(ISERROR($L546),$H546=\"\",$H546=0),\"\",OFFSET(M$1,MATCH($K546,$K$1:$K546,0)-1,0))","v":"F"},null,{"$f":"IF(ISNUMBER($L546),VALUE(OFFSET(Banco!$A$1,Composições!$L546-1,COLUMN(Composições!O546)-6)),0)","v":0},{"$f":"IF(ISNUMBER($L546),VALUE(OFFSET(Banco!$A$1,Composições!$L546-1,COLUMN(Composições!P546)-6)),0)","v":0},0,0]
[null,"SINAPI",103318,{"$f":"IF(ISNUMBER($L547),OFFSET(Banco!$A$1,Composições!$L547-1,COLUMN(Composições!D547)-1),\"\")","v":"ALVENARIA DE VEDAÇÃO DE BLOCOS VAZADOS DE CONCRETO DE 14X19X39 CM (ESPESSURA 14 CM) E ARGAMASSA DE ASSENTAMENTO COM PREPARO EM BETONEIRA. AF_12/2021"},{"$f":"IF(ISNUMBER($L547),OFFSET(Banco!$A$1,Composições!$L547-1,COLUMN(Composições!E547)-1),\"\")","v":"M2"},908.64,945.27,9,{"$f":"IF(ISNUMBER($L547),VALUE(OFFSET(Banco!$A$1,Composições!$L547-1,COLUMN(Composições!I547)-4)),0)","v":100.96},{"$f":"IF(ISNUMBER($L547),VALUE(OFFSET(Banco!$A$1,Composições!$L547-1,COLUMN(Composições!J547)-4)),0)","v":105.03},{"$f":"COUNTA($A$1:$A547)-1","v":66},{"$f":"MATCH(CONCATENATE($B547,\" \",$C547),Banco!$A:$A,0)","v":6167},{"$f":"IF(OR(ISERROR($L547),$H547=\"\",$H547=0),\"\",OFFSET(M$1,MATCH($K547,$K$1:$K547,0)-1,0))","v":"F"},null,{"$f":"IF(ISNUMBER($L547),VALUE(OFFSET(Banco!$A$1,Composições!$L547-1,COLUMN(Composições!O547)-6)),0)","v":4.4000000000000003E-3},{"$f":"IF(ISNUMBER($L547),VALUE(OFFSET(Banco!$A$1,Composições!$L547-1,COLUMN(Composições!P547)-6)),0)","v":4.1999999999999997E-3},4,3.97]
[null,"SINAPI",87792,{"$f":"IF(ISNUMBER($L548),OFFSET(Banco!$A$1,Composições!$L548-1,COLUMN(Composições!D548)-1),\"\")","v":"EMBOÇO OU MASSA ÚNICA EM ARGAMASSA TRAÇO 1:2:8, PREPARO MECÂNICO COM BETONEIRA 400 L, APLICADA MANUALMENTE EM PANOS CEGOS DE FACHADA (SEM PRESENÇA DE VÃOS), ESPESSURA DE 25 MM. AF_08/2022"},{"$f":"IF(ISNUMBER($L548),OFFSET(Banco!$A$1,Composições!$L548-1,COLUMN(Composições!E548)-1),\"\")","v":"M2"},327.81,345.57,7.43,{"$f":"IF(ISNUMBER($L548),VALUE(OFFSET(Banco!$A$1,Composições!$L548-1,COLUMN(Composições!I548)-4)),0)","v":44.12},{"$f":"IF(ISNUMBER($L548),VALUE(OFFSET(Banco!$A$1,Composições!$L548-1,COLUMN(Composições!J548)-4)),0)","v":46.51},{"$f":"COUNTA($A$1:$A548)-1","v":66},{"$f":"MATCH(CONCATENATE($B548,\" \",$C548),Banco!$A:$A,0)","v":13451},{"$f":"IF(OR(ISERROR($L548),$H548=\"\",$H548=0),\"\",OFFSET(M$1,MATCH($K548,$K$1:$K548,0)-1,0))","v":"F"},null,{"$f":"IF(ISNUMBER($L548),VALUE(OFFSET(Banco!$A$1,Composições!$L548-1,COLUMN(Composições!O548)-6)),0)","v":0},{"$f":"IF(ISNUMBER($L548),VALUE(OFFSET(Banco!$A$1,Composições!$L548-1,COLUMN(Composições!P548)-6)),0)","v":0},0,0]
[null,"SINAPI",88489,{"$f":"IF(ISNUMBER($L549),OFFSET(Banco!$A$1,Composições!$L549-1,COLUMN(Composições!D549)-1),\"\")","v":"PINTURA LÁTEX ACRÍLICA PREMIUM, APLICAÇÃO MANUAL EM PAREDES, DUAS DEMÃOS. AF_04/2023"},{"$f":"IF(ISNUMBER($L549),OFFSET(Banco!$A$1,Composições!$L549-1,COLUMN(Composições!E549)-1),\"\")","v":"M2"},101.27,105.65,7.43,{"$f":"IF(ISNUMBER($L549),VALUE(OFFSET(Banco!$A$1,Composições!$L549-1,COLUMN(Composições!I549)-4)),0)","v":13.63},{"$f":"IF(ISNUMBER($L549),VALUE(OFFSET(Banco!$A$1,Composições!$L549-1,COLUMN(Composições!J549)-4)),0)","v":14.22},{"$f":"COUNTA($A$1:$A549)-1","v":66},{"$f":"MATCH(CONCATENATE($B549,\" \",$C549),Banco!$A:$A,0)","v":13939},{"$f":"IF(OR(ISERROR($L549),$H549=\"\",$H549=0),\"\",OFFSET(M$1,MATCH($K549,$K$1:$K549,0)-1,0))","v":"F"},null,{"$f":"IF(ISNUMBER($L549),VALUE(OFFSET(Banco!$A$1,Composições!$L549-1,COLUMN(Composições!O549)-6)),0)","v":0},{"$f":"IF(ISNUMBER($L549),VALUE(OFFSET(Banco!$A$1,Composições!$L549-1,COLUMN(Composições!P549)-6)),0)","v":0},0,0]
[null,"SINAPI",90458,{"$f":"IF(ISNUMBER($L550),OFFSET(Banco!$A$1,Composições!$L550-1,COLUMN(Composições!D550)-1),\"\")","v":"QUEBRA EM ALVENARIA PARA INSTALAÇÃO DE QUADRO DISTRIBUIÇÃO GRANDE (76X40 CM). AF_09/2023"},{"$f":"IF(ISNUMBER($L550),OFFSET(Banco!$A$1,Composições!$L550-1,COLUMN(Composições!E550)-1),\"\")","v":"UN"},171.76,186.32,4,{"$f":"IF(ISNUMBER($L550),VALUE(OFFSET(Banco!$A$1,Composições!$L550-1,COLUMN(Composições!I550)-4)),0)","v":42.94},{"$f":"IF(ISNUMBER($L550),VALUE(OFFSET(Banco!$A$1,Composições!$L550-1,COLUMN(Composições!J550)-4)),0)","v":46.58},{"$f":"COUNTA($A$1:$A550)-1","v":66},{"$f":"MATCH(CONCATENATE($B550,\" \",$C550),Banco!$A:$A,0)","v":14541},{"$f":"IF(OR(ISERROR($L550),$H550=\"\",$H550=0),\"\",OFFSET(M$1,MATCH($K550,$K$1:$K550,0)-1,0))","v":"F"},null,{"$f":"IF(ISNUMBER($L550),VALUE(OFFSET(Banco!$A$1,Composições!$L550-1,COLUMN(Composições!O550)-6)),0)","v":0},{"$f":"IF(ISNUMBER($L550),VALUE(OFFSET(Banco!$A$1,Composições!$L550-1,COLUMN(Composições!P550)-6)),0)","v":0},0,0]
[null,"SINAPI",90457,{"$f":"IF(ISNUMBER($L551),OFFSET(Banco!$A$1,Composições!$L551-1,COLUMN(Composições!D551)-1),\"\")","v":"QUEBRA EM ALVENARIA PARA INSTALAÇÃO DE QUADRO DISTRIBUIÇÃO PEQUENO (19X25 CM). AF_09/2023"},{"$f":"IF(ISNUMBER($L551),OFFSET(Banco!$A$1,Composições!$L551-1,COLUMN(Composições!E551)-1),\"\")","v":"UN"},45.15,48.99,3,{"$f":"IF(ISNUMBER($L551),VALUE(OFFSET(Banco!$A$1,Composições!$L551-1,COLUMN(Composições!I551)-4)),0)","v":15.05},{"$f":"IF(ISNUMBER($L551),VALUE(OFFSET(Banco!$A$1,Composições!$L551-1,COLUMN(Composições!J551)-4)),0)","v":16.329999999999998},{"$f":"COUNTA($A$1:$A551)-1","v":66},{"$f":"MATCH(CONCATENATE($B551,\" \",$C551),Banco!$A:$A,0)","v":14542},{"$f":"IF(OR(ISERROR($L551),$H551=\"\",$H551=0),\"\",OFFSET(M$1,MATCH($K551,$K$1:$K551,0)-1,0))","v":"F"},null,{"$f":"IF(ISNUMBER($L551),VALUE(OFFSET(Banco!$A$1,Composições!$L551-1,COLUMN(Composições!O551)-6)),0)","v":0},{"$f":"IF(ISNUMBER($L551),VALUE(OFFSET(Banco!$A$1,Composições!$L551-1,COLUMN(Composições!P551)-6)),0)","v":0},0,0]
[null,null,null,null,null,null,null,null,null,null,{"$f":"COUNTA($A$1:$A552)-1","v":66},null,{"$f":"IF(OFFSET($M$1,MATCH(OFFSET(K552,-1,0),$K$1:$K552,0)-1,0)=\"F\",\"F\",\"\")","v":"F"}]
[{"$f":"CONCATENATE($B553,\" \",$C553)","v":"Composição ESQV.0029.01"},"Composição","ESQV.0029.01","PORTÃO COM QUADRO DE CANTONEIRA EM AÇO GALVANIZADO 1''X1/8'' E FECHAMENTO TELA DE ARAME GALVANIZADO ONDULADA MALHA 5X5 CM FIO 2,77MM – FORNECIMENTO E INSTALAÇÃO","m²",{"$f":"IF($L553>0,SUM(OFFSET(F553,1,0,$L553),0))","v":645.97000000000014},674.58,null,{"$f":"IF(ISERROR(F553),0,F553)","v":645.97000000000014},674.58,{"$f":"COUNTA($A$1:$A553)-1","v":67},{"$f":"IF(MAX(K:K)=K553,MATCH(9999999,$K:$K)+1,MATCH(K553+1,K:K,0))-ROW(L553)-2","v":8},{"$f":"IF(AND(OR(I553<>0,J553<>0),N553=\"Sim\"),\"F\",\"\")","v":"F"},"Sim",{"$f":"IF(AND($L553>0,F553<>0),ROUND(SUM(OFFSET(Q553,1,0,$L553))/F553,4),0)","v":0},0]
[null,"SINAPI",88316,{"$f":"IF(ISNUMBER($L554),OFFSET(Banco!$A$1,Composições!$L554-1,COLUMN(Composições!D554)-1),\"\")","v":"SERVENTE COM ENCARGOS COMPLEMENTARES"},{"$f":"IF(ISNUMBER($L554),OFFSET(Banco!$A$1,Composições!$L554-1,COLUMN(Composições!E554)-1),\"\")","v":"H"},{"$f":"ROUND($H554*ROUND(I554,2),2)","v":153.24},165.08,5.75,{"$f":"IF(ISNUMBER($L554),VALUE(OFFSET(Banco!$A$1,Composições!$L554-1,COLUMN(Composições!I554)-4)),0)","v":26.65},{"$f":"IF(ISNUMBER($L554),VALUE(OFFSET(Banco!$A$1,Composições!$L554-1,COLUMN(Composições!J554)-4)),0)","v":28.71},{"$f":"COUNTA($A$1:$A554)-1","v":67},{"$f":"MATCH(CONCATENATE($B554,\" \",$C554),Banco!$A:$A,0)","v":13198},{"$f":"IF(OR(ISERROR($L554),$H554=\"\",$H554=0),\"\",OFFSET(M$1,MATCH($K554,$K$1:$K554,0)-1,0))","v":"F"},null,{"$f":"IF(ISNUMBER($L554),VALUE(OFFSET(Banco!$A$1,Composições!$L554-1,COLUMN(Composições!O554)-6)),0)","v":0},{"$f":"IF(ISNUMBER($L554),VALUE(OFFSET(Banco!$A$1,Composições!$L554-1,COLUMN(Composições!P554)-6)),0)","v":0},{"$f":"ROUND(F554*O554,2)","v":0},0]
[null,"SINAPI",88315,{"$f":"IF(ISNUMBER($L555),OFFSET(Banco!$A$1,Composições!$L555-1,COLUMN(Composições!D555)-1),\"\")","v":"SERRALHEIRO COM ENCARGOS COMPLEMENTARES"},{"$f":"IF(ISNUMBER($L555),OFFSET(Banco!$A$1,Composições!$L555-1,COLUMN(Composições!E555)-1),\"\")","v":"H"},118.13,128.28,3.5,{"$f":"IF(ISNUMBER($L555),VALUE(OFFSET(Banco!$A$1,Composições!$L555-1,COLUMN(Composições!I555)-4)),0)","v":33.75},{"$f":"IF(ISNUMBER($L555),VALUE(OFFSET(Banco!$A$1,Composições!$L555-1,COLUMN(Composições!J555)-4)),0)","v":36.65},{"$f":"COUNTA($A$1:$A555)-1","v":67},{"$f":"MATCH(CONCATENATE($B555,\" \",$C555),Banco!$A:$A,0)","v":13196},{"$f":"IF(OR(ISERROR($L555),$H555=\"\",$H555=0),\"\",OFFSET(M$1,MATCH($K555,$K$1:$K555,0)-1,0))","v":"F"},null,{"$f":"IF(ISNUMBER($L555),VALUE(OFFSET(Banco!$A$1,Composições!$L555-1,COLUMN(Composições!O555)-6)),0)","v":0},{"$f":"IF(ISNUMBER($L555),VALUE(OFFSET(Banco!$A$1,Composições!$L555-1,COLUMN(Composições!P555)-6)),0)","v":0},0,0]
[null,"SINAPI",88317,{"$f":"IF(ISNUMBER($L556),OFFSET(Banco!$A$1,Composições!$L556-1,COLUMN(Composições!D556)-1),\"\")","v":"SOLDADOR COM ENCARGOS COMPLEMENTARES"},{"$f":"IF(ISNUMBER($L556),OFFSET(Banco!$A$1,Composições!$L556-1,COLUMN(Composições!E556)-1),\"\")","v":"H"},78.84,85.46,2.25,{"$f":"IF(ISNUMBER($L556),VALUE(OFFSET(Banco!$A$1,Composições!$L556-1,COLUMN(Composições!I556)-4)),0)","v":35.04},{"$f":"IF(ISNUMBER($L556),VALUE(OFFSET(Banco!$A$1,Composições!$L556-1,COLUMN(Composições!J556)-4)),0)","v":37.979999999999997},{"$f":"COUNTA($A$1:$A556)-1","v":67},{"$f":"MATCH(CONCATENATE($B556,\" \",$C556),Banco!$A:$A,0)","v":13202},{"$f":"IF(OR(ISERROR($L556),$H556=\"\",$H556=0),\"\",OFFSET(M$1,MATCH($K556,$K$1:$K556,0)-1,0))","v":"F"},null,{"$f":"IF(ISNUMBER($L556),VALUE(OFFSET(Banco!$A$1,Composições!$L556-1,COLUMN(Composições!O556)-6)),0)","v":0},{"$f":"IF(ISNUMBER($L556),VALUE(OFFSET(Banco!$A$1,Composições!$L556-1,COLUMN(Composições!P556)-6)),0)","v":0},0,0]
[null,"SINAPI",98764,{"$f":"IF(ISNUMBER($L557),OFFSET(Banco!$A$1,Composições!$L557-1,COLUMN(Composições!D557)-1),\"\")","v":"INVERSOR DE SOLDA MONOFÁSICO DE 160 A, POTÊNCIA DE 5400 W, TENSÃO DE 220 V, PARA SOLDA COM ELETRODOS DE 2,0 A 4,0 MM E PROCESSO TIG - CHP DIURNO. AF_06/2018"},{"$f":"IF(ISNUMBER($L557),OFFSET(Banco!$A$1,Composições!$L557-1,COLUMN(Composições!E557)-1),\"\")","v":"CHP"},13.14,13.14,3.82,{"$f":"IF(ISNUMBER($L557),VALUE(OFFSET(Banco!$A$1,Composições!$L557-1,COLUMN(Composições!I557)-4)),0)","v":3.44},{"$f":"IF(ISNUMBER($L557),VALUE(OFFSET(Banco!$A$1,Composições!$L557-1,COLUMN(Composições!J557)-4)),0)","v":3.44},{"$f":"COUNTA($A$1:$A557)-1","v":67},{"$f":"MATCH(CONCATENATE($B557,\" \",$C557),Banco!$A:$A,0)","v":7714},{"$f":"IF(OR(ISERROR($L557),$H557=\"\",$H557=0),\"\",OFFSET(M$1,MATCH($K557,$K$1:$K557,0)-1,0))","v":"F"},null,{"$f":"IF(ISNUMBER($L557),VALUE(OFFSET(Banco!$A$1,Composições!$L557-1,COLUMN(Composições!O557)-6)),0)","v":0},{"$f":"IF(ISNUMBER($L557),VALUE(OFFSET(Banco!$A$1,Composições!$L557-1,COLUMN(Composições!P557)-6)),0)","v":0},0,0]
[null,"SINAPI",98765,{"$f":"IF(ISNUMBER($L558),OFFSET(Banco!$A$1,Composições!$L558-1,COLUMN(Composições!D558)-1),\"\")","v":"INVERSOR DE SOLDA MONOFÁSICO DE 160 A, POTÊNCIA DE 5400 W, TENSÃO DE 220 V, PARA SOLDA COM ELETRODOS DE 2,0 A 4,0 MM E PROCESSO TIG - CHI DIURNO. AF_06/2018"},{"$f":"IF(ISNUMBER($L558),OFFSET(Banco!$A$1,Composições!$L558-1,COLUMN(Composições!E558)-1),\"\")","v":"CHI"},0.05,0.05,0.67,{"$f":"IF(ISNUMBER($L558),VALUE(OFFSET(Banco!$A$1,Composições!$L558-1,COLUMN(Composições!I558)-4)),0)","v":7.0000000000000007E-2},{"$f":"IF(ISNUMBER($L558),VALUE(OFFSET(Banco!$A$1,Composições!$L558-1,COLUMN(Composições!J558)-4)),0)","v":7.0000000000000007E-2},{"$f":"COUNTA($A$1:$A558)-1","v":67},{"$f":"MATCH(CONCATENATE($B558,\" \",$C558),Banco!$A:$A,0)","v":7713},{"$f":"IF(OR(ISERROR($L558),$H558=\"\",$H558=0),\"\",OFFSET(M$1,MATCH($K558,$K$1:$K558,0)-1,0))","v":"F"},null,{"$f":"IF(ISNUMBER($L558),VALUE(OFFSET(Banco!$A$1,Composições!$L558-1,COLUMN(Composições!O558)-6)),0)","v":0},{"$f":"IF(ISNUMBER($L558),VALUE(OFFSET(Banco!$A$1,Composições!$L558-1,COLUMN(Composições!P558)-6)),0)","v":0},0,0]
[null,"SINAPI-I",7164,{"$f":"IF(ISNUMBER($L559),OFFSET(Banco!$A$1,Composições!$L559-1,COLUMN(Composições!D559)-1),\"\")","v":"TELA DE ARAME ONDULADA, FIO *2,77* MM (12 BWG), MALHA 5 X 5 CM, H = 2 M"},{"$f":"IF(ISNUMBER($L559),OFFSET(Banco!$A$1,Composições!$L559-1,COLUMN(Composições!E559)-1),\"\")","v":"M2"},51.16,51.16,1.05,{"$f":"IF(ISNUMBER($L559),VALUE(OFFSET(Banco!$A$1,Composições!$L559-1,COLUMN(Composições!I559)-4)),0)","v":48.72},{"$f":"IF(ISNUMBER($L559),VALUE(OFFSET(Banco!$A$1,Composições!$L559-1,COLUMN(Composições!J559)-4)),0)","v":48.72},{"$f":"COUNTA($A$1:$A559)-1","v":67},{"$f":"MATCH(CONCATENATE($B559,\" \",$C559),Banco!$A:$A,0)","v":4302},{"$f":"IF(OR(ISERROR($L559),$H559=\"\",$H559=0),\"\",OFFSET(M$1,MATCH($K559,$K$1:$K559,0)-1,0))","v":"F"},null,{"$f":"IF(ISNUMBER($L559),VALUE(OFFSET(Banco!$A$1,Composições!$L559-1,COLUMN(Composições!O559)-6)),0)","v":0},{"$f":"IF(ISNUMBER($L559),VALUE(OFFSET(Banco!$A$1,Composições!$L559-1,COLUMN(Composições!P559)-6)),0)","v":0},0,0]
[null,"SINAPI-I",567,{"$f":"IF(ISNUMBER($L560),OFFSET(Banco!$A$1,Composições!$L560-1,COLUMN(Composições!D560)-1),\"\")","v":"CANTONEIRA (ABAS IGUAIS) EM ACO CARBONO, 25,4 MM X 3,17 MM (L X E), 1,27KG/M"},{"$f":"IF(ISNUMBER($L560),OFFSET(Banco!$A$1,Composições!$L560-1,COLUMN(Composições!E560)-1),\"\")","v":"M"},100.82,100.82,8.17,{"$f":"IF(ISNUMBER($L560),VALUE(OFFSET(Banco!$A$1,Composições!$L560-1,COLUMN(Composições!I560)-4)),0)","v":12.34},{"$f":"IF(ISNUMBER($L560),VALUE(OFFSET(Banco!$A$1,Composições!$L560-1,COLUMN(Composições!J560)-4)),0)","v":12.34},{"$f":"COUNTA($A$1:$A560)-1","v":67},{"$f":"MATCH(CONCATENATE($B560,\" \",$C560),Banco!$A:$A,0)","v":1116},{"$f":"IF(OR(ISERROR($L560),$H560=\"\",$H560=0),\"\",OFFSET(M$1,MATCH($K560,$K$1:$K560,0)-1,0))","v":"F"},null,{"$f":"IF(ISNUMBER($L560),VALUE(OFFSET(Banco!$A$1,Composições!$L560-1,COLUMN(Composições!O560)-6)),0)","v":0},{"$f":"IF(ISNUMBER($L560),VALUE(OFFSET(Banco!$A$1,Composições!$L560-1,COLUMN(Composições!P560)-6)),0)","v":0},0,0]
[null,"SINAPI-I",10997,{"$f":"IF(ISNUMBER($L561),OFFSET(Banco!$A$1,Composições!$L561-1,COLUMN(Composições!D561)-1),\"\")","v":"ELETRODO REVESTIDO AWS - E7018, DIAMETRO IGUAL A 4,00 MM"},{"$f":"IF(ISNUMBER($L561),OFFSET(Banco!$A$1,Composições!$L561-1,COLUMN(Composições!E561)-1),\"\")","v":"KG"},130.59,130.59,3.37,{"$f":"IF(ISNUMBER($L561),VALUE(OFFSET(Banco!$A$1,Composições!$L561-1,COLUMN(Composições!I561)-4)),0)","v":38.75},{"$f":"IF(ISNUMBER($L561),VALUE(OFFSET(Banco!$A$1,Composições!$L561-1,COLUMN(Composições!J561)-4)),0)","v":38.75},{"$f":"COUNTA($A$1:$A561)-1","v":67},{"$f":"MATCH(CONCATENATE($B561,\" \",$C561),Banco!$A:$A,0)","v":1937},{"$f":"IF(OR(ISERROR($L561),$H561=\"\",$H561=0),\"\",OFFSET(M$1,MATCH($K561,$K$1:$K561,0)-1,0))","v":"F"},null,{"$f":"IF(ISNUMBER($L561),VALUE(OFFSET(Banco!$A$1,Composições!$L561-1,COLUMN(Composições!O561)-6)),0)","v":0},{"$f":"IF(ISNUMBER($L561),VALUE(OFFSET(Banco!$A$1,Composições!$L561-1,COLUMN(Composições!P561)-6)),0)","v":0},0,0]
[null,null,null,null,null,null,null,null,null,null,{"$f":"COUNTA($A$1:$A562)-1","v":67},null,{"$f":"IF(OFFSET($M$1,MATCH(OFFSET(K562,-1,0),$K$1:$K562,0)-1,0)=\"F\",\"F\",\"\")","v":"F"}]
[{"$f":"CONCATENATE($B563,\" \",$C563)","v":"Composição INEL.0441.01"},"Composição","INEL.0441.01","SUPORTE PARA FIXAÇÃO DE ELETROCALHA LISA OU PERFURADA COM LARGURA DE ATÉ 200MM E ALTURA DE ATÉ 100MM, POR METRO DE ELETROCALHA FIXADA - FORNECIMENTO E INSTALAÇÃO","M",{"$f":"IF($L563>0,SUM(OFFSET(F563,1,0,$L563),0))","v":36.880000000000003},38.840000000000003,null,{"$f":"IF(ISERROR(F563),0,F563)","v":36.880000000000003},38.840000000000003,{"$f":"COUNTA($A$1:$A563)-1","v":68},{"$f":"IF(MAX(K:K)=K563,MATCH(9999999,$K:$K)+1,MATCH(K563+1,K:K,0))-ROW(L563)-2","v":1},{"$f":"IF(AND(OR(I563<>0,J563<>0),N563=\"Sim\"),\"F\",\"\")","v":"F"},"Sim",{"$f":"IF(AND($L563>0,F563<>0),ROUND(SUM(OFFSET(Q563,1,0,$L563))/F563,4),0)","v":0},0]
[null,"COMPOSIÇÃO","INEL.0312.12",{"$f":"IF(ISNUMBER($L564),OFFSET(Banco!$A$1,Composições!$L564-1,COLUMN(Composições!D564)-1),\"\")","v":"SUPORTE VERTICAL PARA SUSPENSÃO DE ELETROCALHA 200X100MM COM PARAFUSOS DE FIXAÇÃO, INCLUSIVE CANTONEIRA ZZ E BARRA ROSCADA . - FORNECIMENTO E INSTALAÇÃO."},{"$f":"IF(ISNUMBER($L564),OFFSET(Banco!$A$1,Composições!$L564-1,COLUMN(Composições!E564)-1),\"\")","v":"UND."},{"$f":"ROUND($H564*ROUND(I564,2),2)","v":36.880000000000003},38.840000000000003,0.83333000000000002,{"$f":"IF(ISNUMBER($L564),VALUE(OFFSET(Banco!$A$1,Composições!$L564-1,COLUMN(Composições!I564)-4)),0)","v":44.260000000000005},{"$f":"IF(ISNUMBER($L564),VALUE(OFFSET(Banco!$A$1,Composições!$L564-1,COLUMN(Composições!J564)-4)),0)","v":46.61},{"$f":"COUNTA($A$1:$A564)-1","v":68},{"$f":"MATCH(CONCATENATE($B564,\" \",$C564),Banco!$A:$A,0)","v":76},{"$f":"IF(OR(ISERROR($L564),$H564=\"\",$H564=0),\"\",OFFSET(M$1,MATCH($K564,$K$1:$K564,0)-1,0))","v":"F"},null,{"$f":"IF(ISNUMBER($L564),VALUE(OFFSET(Banco!$A$1,Composições!$L564-1,COLUMN(Composições!O564)-6)),0)","v":0},{"$f":"IF(ISNUMBER($L564),VALUE(OFFSET(Banco!$A$1,Composições!$L564-1,COLUMN(Composições!P564)-6)),0)","v":0},{"$f":"ROUND(F564*O564,2)","v":0},0]
[null,null,null,null,null,null,null,null,null,null,{"$f":"COUNTA($A$1:$A565)-1","v":68},null,{"$f":"IF(OFFSET($M$1,MATCH(OFFSET(K565,-1,0),$K$1:$K565,0)-1,0)=\"F\",\"F\",\"\")","v":"F"}]
[{"$f":"CONCATENATE($B566,\" \",$C566)","v":"Composição INEL.0440.12"},"Composição","INEL.0440.12","SUPORTE VERTICAL (IGREJINHA) PARA ELETROCALHA 200X100 - APENAS INSUMO","UN",{"$f":"IF($L566>0,SUM(OFFSET(F566,1,0,$L566),0))","v":7.9},7.9,null,{"$f":"IF(ISERROR(F566),0,F566)","v":7.9},7.9,{"$f":"COUNTA($A$1:$A566)-1","v":69},{"$f":"IF(MAX(K:K)=K566,MATCH(9999999,$K:$K)+1,MATCH(K566+1,K:K,0))-ROW(L566)-2","v":1},{"$f":"IF(AND(OR(I566<>0,J566<>0),N566=\"Sim\"),\"F\",\"\")","v":"F"},"Sim",{"$f":"IF(AND($L566>0,F566<>0),ROUND(SUM(OFFSET(Q566,1,0,$L566))/F566,4),0)","v":0},0]
[null,"COTAÇÃO",11049,{"$f":"IF(ISNUMBER($L567),OFFSET(Banco!$A$1,Composições!$L567-1,COLUMN(Composições!D567)-1),\"\")","v":"CHAPA DE ACO GALVANIZADA BITOLA GSG 22, E = 0,80 MM (6,40 KG/M2)"},{"$f":"IF(ISNUMBER($L567),OFFSET(Banco!$A$1,Composições!$L567-1,COLUMN(Composições!E567)-1),\"\")","v":"KG"},{"$f":"ROUND($H567*ROUND(I567,2),2)","v":7.9},7.9,0.73089999999999999,{"$f":"IF(ISNUMBER($L567),VALUE(OFFSET(Banco!$A$1,Composições!$L567-1,COLUMN(Composições!I567)-4)),0)","v":10.81},{"$f":"IF(ISNUMBER($L567),VALUE(OFFSET(Banco!$A$1,Composições!$L567-1,COLUMN(Composições!J567)-4)),0)","v":10.81},{"$f":"COUNTA($A$1:$A567)-1","v":69},{"$f":"MATCH(CONCATENATE($B567,\" \",$C567),Banco!$A:$A,0)","v":116},{"$f":"IF(OR(ISERROR($L567),$H567=\"\",$H567=0),\"\",OFFSET(M$1,MATCH($K567,$K$1:$K567,0)-1,0))","v":"F"},null,{"$f":"IF(ISNUMBER($L567),VALUE(OFFSET(Banco!$A$1,Composições!$L567-1,COLUMN(Composições!O567)-6)),0)","v":0},{"$f":"IF(ISNUMBER($L567),VALUE(OFFSET(Banco!$A$1,Composições!$L567-1,COLUMN(Composições!P567)-6)),0)","v":0},{"$f":"ROUND(F567*O567,2)","v":0},0]
[null,null,null,null,null,null,null,null,null,null,{"$f":"COUNTA($A$1:$A568)-1","v":69},null,{"$f":"IF(OFFSET($M$1,MATCH(OFFSET(K568,-1,0),$K$1:$K568,0)-1,0)=\"F\",\"F\",\"\")","v":"F"}]
[{"$f":"CONCATENATE($B569,\" \",$C569)","v":"Composição INEL.0312.12"},"Composição","INEL.0312.12","SUPORTE VERTICAL PARA SUSPENSÃO DE ELETROCALHA 200X100MM COM PARAFUSOS DE FIXAÇÃO, INCLUSIVE CANTONEIRA ZZ E BARRA ROSCADA . - FORNECIMENTO E INSTALAÇÃO.","UND.",{"$f":"IF($L569>0,SUM(OFFSET(F569,1,0,$L569),0))","v":44.260000000000005},46.61,null,{"$f":"IF(ISERROR(F569),0,F569)","v":44.260000000000005},46.61,{"$f":"COUNTA($A$1:$A569)-1","v":70},{"$f":"IF(MAX(K:K)=K569,MATCH(9999999,$K:$K)+1,MATCH(K569+1,K:K,0))-ROW(L569)-2","v":8},{"$f":"IF(AND(OR(I569<>0,J569<>0),N569=\"Sim\"),\"F\",\"\")","v":"F"},"Sim",{"$f":"IF(AND($L569>0,F569<>0),ROUND(SUM(OFFSET(Q569,1,0,$L569))/F569,4),0)","v":0},0]
[null,"SINAPI",88264,{"$f":"IF(ISNUMBER($L570),OFFSET(Banco!$A$1,Composições!$L570-1,COLUMN(Composições!D570)-1),\"\")","v":"ELETRICISTA COM ENCARGOS COMPLEMENTARES"},{"$f":"IF(ISNUMBER($L570),OFFSET(Banco!$A$1,Composições!$L570-1,COLUMN(Composições!E570)-1),\"\")","v":"H"},{"$f":"ROUND($H570*ROUND(I570,2),2)","v":8.6},9.34,0.25,{"$f":"IF(ISNUMBER($L570),VALUE(OFFSET(Banco!$A$1,Composições!$L570-1,COLUMN(Composições!I570)-4)),0)","v":34.409999999999997},{"$f":"IF(ISNUMBER($L570),VALUE(OFFSET(Banco!$A$1,Composições!$L570-1,COLUMN(Composições!J570)-4)),0)","v":37.369999999999997},{"$f":"COUNTA($A$1:$A570)-1","v":70},{"$f":"MATCH(CONCATENATE($B570,\" \",$C570),Banco!$A:$A,0)","v":13095},{"$f":"IF(OR(ISERROR($L570),$H570=\"\",$H570=0),\"\",OFFSET(M$1,MATCH($K570,$K$1:$K570,0)-1,0))","v":"F"},null,{"$f":"IF(ISNUMBER($L570),VALUE(OFFSET(Banco!$A$1,Composições!$L570-1,COLUMN(Composições!O570)-6)),0)","v":0},{"$f":"IF(ISNUMBER($L570),VALUE(OFFSET(Banco!$A$1,Composições!$L570-1,COLUMN(Composições!P570)-6)),0)","v":0},{"$f":"ROUND(F570*O570,2)","v":0},0]
[null,"SINAPI",88247,{"$f":"IF(ISNUMBER($L571),OFFSET(Banco!$A$1,Composições!$L571-1,COLUMN(Composições!D571)-1),\"\")","v":"AUXILIAR DE ELETRICISTA COM ENCARGOS COMPLEMENTARES"},{"$f":"IF(ISNUMBER($L571),OFFSET(Banco!$A$1,Composições!$L571-1,COLUMN(Composições!E571)-1),\"\")","v":"H"},7.13,7.7,0.25,{"$f":"IF(ISNUMBER($L571),VALUE(OFFSET(Banco!$A$1,Composições!$L571-1,COLUMN(Composições!I571)-4)),0)","v":28.53},{"$f":"IF(ISNUMBER($L571),VALUE(OFFSET(Banco!$A$1,Composições!$L571-1,COLUMN(Composições!J571)-4)),0)","v":30.8},{"$f":"COUNTA($A$1:$A571)-1","v":70},{"$f":"MATCH(CONCATENATE($B571,\" \",$C571),Banco!$A:$A,0)","v":12875},{"$f":"IF(OR(ISERROR($L571),$H571=\"\",$H571=0),\"\",OFFSET(M$1,MATCH($K571,$K$1:$K571,0)-1,0))","v":"F"},null,{"$f":"IF(ISNUMBER($L571),VALUE(OFFSET(Banco!$A$1,Composições!$L571-1,COLUMN(Composições!O571)-6)),0)","v":0},{"$f":"IF(ISNUMBER($L571),VALUE(OFFSET(Banco!$A$1,Composições!$L571-1,COLUMN(Composições!P571)-6)),0)","v":0},0,0]
[null,"COMPOSIÇÃO","INEL.0440.12",{"$f":"IF(ISNUMBER($L572),OFFSET(Banco!$A$1,Composições!$L572-1,COLUMN(Composições!D572)-1),\"\")","v":"SUPORTE VERTICAL (IGREJINHA) PARA ELETROCALHA 200X100 - APENAS INSUMO"},{"$f":"IF(ISNUMBER($L572),OFFSET(Banco!$A$1,Composições!$L572-1,COLUMN(Composições!E572)-1),\"\")","v":"UN"},7.9,7.9,1,{"$f":"IF(ISNUMBER($L572),VALUE(OFFSET(Banco!$A$1,Composições!$L572-1,COLUMN(Composições!I572)-4)),0)","v":7.9},{"$f":"IF(ISNUMBER($L572),VALUE(OFFSET(Banco!$A$1,Composições!$L572-1,COLUMN(Composições!J572)-4)),0)","v":7.9},{"$f":"COUNTA($A$1:$A572)-1","v":70},{"$f":"MATCH(CONCATENATE($B572,\" \",$C572),Banco!$A:$A,0)","v":75},{"$f":"IF(OR(ISERROR($L572),$H572=\"\",$H572=0),\"\",OFFSET(M$1,MATCH($K572,$K$1:$K572,0)-1,0))","v":"F"},null,{"$f":"IF(ISNUMBER($L572),VALUE(OFFSET(Banco!$A$1,Composições!$L572-1,COLUMN(Composições!O572)-6)),0)","v":0},{"$f":"IF(ISNUMBER($L572),VALUE(OFFSET(Banco!$A$1,Composições!$L572-1,COLUMN(Composições!P572)-6)),0)","v":0},0,0]
[null,"COMPOSIÇÃO","INEL.0440.17",{"$f":"IF(ISNUMBER($L573),OFFSET(Banco!$A$1,Composições!$L573-1,COLUMN(Composições!D573)-1),\"\")","v":"CANTONEIRA ZZ ALTA 38X38MM - APENAS INSUMO"},{"$f":"IF(ISNUMBER($L573),OFFSET(Banco!$A$1,Composições!$L573-1,COLUMN(Composições!E573)-1),\"\")","v":"UN"},2.39,2.39,1,{"$f":"IF(ISNUMBER($L573),VALUE(OFFSET(Banco!$A$1,Composições!$L573-1,COLUMN(Composições!I573)-4)),0)","v":2.39},{"$f":"IF(ISNUMBER($L573),VALUE(OFFSET(Banco!$A$1,Composições!$L573-1,COLUMN(Composições!J573)-4)),0)","v":2.39},{"$f":"COUNTA($A$1:$A573)-1","v":70},{"$f":"MATCH(CONCATENATE($B573,\" \",$C573),Banco!$A:$A,0)","v":65},{"$f":"IF(OR(ISERROR($L573),$H573=\"\",$H573=0),\"\",OFFSET(M$1,MATCH($K573,$K$1:$K573,0)-1,0))","v":"F"},null,{"$f":"IF(ISNUMBER($L573),VALUE(OFFSET(Banco!$A$1,Composições!$L573-1,COLUMN(Composições!O573)-6)),0)","v":0},{"$f":"IF(ISNUMBER($L573),VALUE(OFFSET(Banco!$A$1,Composições!$L573-1,COLUMN(Composições!P573)-6)),0)","v":0},0,0]
[null,"COMPOSIÇÃO","INHI.0216.01",{"$f":"IF(ISNUMBER($L574),OFFSET(Banco!$A$1,Composições!$L574-1,COLUMN(Composições!D574)-1),\"\")","v":"FIXAÇÃO UTILIZANDO PARAFUSO E BUCHA DE NYLON, SOMENTE MÃO DE OBRA"},{"$f":"IF(ISNUMBER($L574),OFFSET(Banco!$A$1,Composições!$L574-1,COLUMN(Composições!E574)-1),\"\")","v":"UN"},12.02,13.06,2,{"$f":"IF(ISNUMBER($L574),VALUE(OFFSET(Banco!$A$1,Composições!$L574-1,COLUMN(Composições!I574)-4)),0)","v":6.01},{"$f":"IF(ISNUMBER($L574),VALUE(OFFSET(Banco!$A$1,Composições!$L574-1,COLUMN(Composições!J574)-4)),0)","v":6.53},{"$f":"COUNTA($A$1:$A574)-1","v":70},{"$f":"MATCH(CONCATENATE($B574,\" \",$C574),Banco!$A:$A,0)","v":70},{"$f":"IF(OR(ISERROR($L574),$H574=\"\",$H574=0),\"\",OFFSET(M$1,MATCH($K574,$K$1:$K574,0)-1,0))","v":"F"},null,{"$f":"IF(ISNUMBER($L574),VALUE(OFFSET(Banco!$A$1,Composições!$L574-1,COLUMN(Composições!O574)-6)),0)","v":0},{"$f":"IF(ISNUMBER($L574),VALUE(OFFSET(Banco!$A$1,Composições!$L574-1,COLUMN(Composições!P574)-6)),0)","v":0},0,0]
[null,"SINAPI-I",39996,{"$f":"IF(ISNUMBER($L575),OFFSET(Banco!$A$1,Composições!$L575-1,COLUMN(Composições!D575)-1),\"\")","v":"VERGALHAO ZINCADO ROSCA TOTAL, 1/4\" (6,3 MM)"},{"$f":"IF(ISNUMBER($L575),OFFSET(Banco!$A$1,Composições!$L575-1,COLUMN(Composições!E575)-1),\"\")","v":"M"},4.4000000000000004,4.4000000000000004,1,{"$f":"IF(ISNUMBER($L575),VALUE(OFFSET(Banco!$A$1,Composições!$L575-1,COLUMN(Composições!I575)-4)),0)","v":4.4000000000000004},{"$f":"IF(ISNUMBER($L575),VALUE(OFFSET(Banco!$A$1,Composições!$L575-1,COLUMN(Composições!J575)-4)),0)","v":4.4000000000000004},{"$f":"COUNTA($A$1:$A575)-1","v":70},{"$f":"MATCH(CONCATENATE($B575,\" \",$C575),Banco!$A:$A,0)","v":4944},{"$f":"IF(OR(ISERROR($L575),$H575=\"\",$H575=0),\"\",OFFSET(M$1,MATCH($K575,$K$1:$K575,0)-1,0))","v":"F"},null,{"$f":"IF(ISNUMBER($L575),VALUE(OFFSET(Banco!$A$1,Composições!$L575-1,COLUMN(Composições!O575)-6)),0)","v":0},{"$f":"IF(ISNUMBER($L575),VALUE(OFFSET(Banco!$A$1,Composições!$L575-1,COLUMN(Composições!P575)-6)),0)","v":0},0,0]
[null,"SINAPI-I",39997,{"$f":"IF(ISNUMBER($L576),OFFSET(Banco!$A$1,Composições!$L576-1,COLUMN(Composições!D576)-1),\"\")","v":"PORCA ZINCADA, SEXTAVADA, DIAMETRO 1/4\""},{"$f":"IF(ISNUMBER($L576),OFFSET(Banco!$A$1,Composições!$L576-1,COLUMN(Composições!E576)-1),\"\")","v":"UN"},1.08,1.08,4,{"$f":"IF(ISNUMBER($L576),VALUE(OFFSET(Banco!$A$1,Composições!$L576-1,COLUMN(Composições!I576)-4)),0)","v":0.27},{"$f":"IF(ISNUMBER($L576),VALUE(OFFSET(Banco!$A$1,Composições!$L576-1,COLUMN(Composições!J576)-4)),0)","v":0.27},{"$f":"COUNTA($A$1:$A576)-1","v":70},{"$f":"MATCH(CONCATENATE($B576,\" \",$C576),Banco!$A:$A,0)","v":3581},{"$f":"IF(OR(ISERROR($L576),$H576=\"\",$H576=0),\"\",OFFSET(M$1,MATCH($K576,$K$1:$K576,0)-1,0))","v":"F"},null,{"$f":"IF(ISNUMBER($L576),VALUE(OFFSET(Banco!$A$1,Composições!$L576-1,COLUMN(Composições!O576)-6)),0)","v":0},{"$f":"IF(ISNUMBER($L576),VALUE(OFFSET(Banco!$A$1,Composições!$L576-1,COLUMN(Composições!P576)-6)),0)","v":0},0,0]
[null,"SINAPI-I",7583,{"$f":"IF(ISNUMBER($L577),OFFSET(Banco!$A$1,Composições!$L577-1,COLUMN(Composições!D577)-1),\"\")","v":"BUCHA DE NYLON SEM ABA S8, COM PARAFUSO DE 4,80 X 50 MM EM ACO ZINCADO COM ROSCA SOBERBA, CABECA CHATA E FENDA PHILLIPS"},{"$f":"IF(ISNUMBER($L577),OFFSET(Banco!$A$1,Composições!$L577-1,COLUMN(Composições!E577)-1),\"\")","v":"UN"},0.74,0.74,2,{"$f":"IF(ISNUMBER($L577),VALUE(OFFSET(Banco!$A$1,Composições!$L577-1,COLUMN(Composições!I577)-4)),0)","v":0.37},{"$f":"IF(ISNUMBER($L577),VALUE(OFFSET(Banco!$A$1,Composições!$L577-1,COLUMN(Composições!J577)-4)),0)","v":0.37},{"$f":"COUNTA($A$1:$A577)-1","v":70},{"$f":"MATCH(CONCATENATE($B577,\" \",$C577),Banco!$A:$A,0)","v":721},{"$f":"IF(OR(ISERROR($L577),$H577=\"\",$H577=0),\"\",OFFSET(M$1,MATCH($K577,$K$1:$K577,0)-1,0))","v":"F"},null,{"$f":"IF(ISNUMBER($L577),VALUE(OFFSET(Banco!$A$1,Composições!$L577-1,COLUMN(Composições!O577)-6)),0)","v":0},{"$f":"IF(ISNUMBER($L577),VALUE(OFFSET(Banco!$A$1,Composições!$L577-1,COLUMN(Composições!P577)-6)),0)","v":0},0,0]
[null,null,null,null,null,null,null,null,null,null,{"$f":"COUNTA($A$1:$A578)-1","v":70},null,{"$f":"IF(OFFSET($M$1,MATCH(OFFSET(K578,-1,0),$K$1:$K578,0)-1,0)=\"F\",\"F\",\"\")","v":"F"}]
[{"$f":"CONCATENATE($B579,\" \",$C579)","v":"Composição INHI.0016.01"},"Composição","INHI.0016.01","VÁLVULA EM METAL CROMADO 1\" PARA TANQUE OU LAVATÓRIO, COM OU SEM LADRÃO - FORNECIMENTO E INSTALAÇÃO.","UN",{"$f":"IF($L579>0,SUM(OFFSET(F579,1,0,$L579),0))","v":74.650000000000006},75.260000000000005,null,{"$f":"IF(ISERROR(F579),0,F579)","v":74.650000000000006},75.260000000000005,{"$f":"COUNTA($A$1:$A579)-1","v":71},{"$f":"IF(MAX(K:K)=K579,MATCH(9999999,$K:$K)+1,MATCH(K579+1,K:K,0))-ROW(L579)-2","v":4},{"$f":"IF(AND(OR(I579<>0,J579<>0),N579=\"Sim\"),\"F\",\"\")","v":"F"},"Sim",{"$f":"IF(AND($L579>0,F579<>0),ROUND(SUM(OFFSET(Q579,1,0,$L579))/F579,4),0)","v":0},0]
[null,"SINAPI",88267,{"$f":"IF(ISNUMBER($L580),OFFSET(Banco!$A$1,Composições!$L580-1,COLUMN(Composições!D580)-1),\"\")","v":"ENCANADOR OU BOMBEIRO HIDRÁULICO COM ENCARGOS COMPLEMENTARES"},{"$f":"IF(ISNUMBER($L580),OFFSET(Banco!$A$1,Composições!$L580-1,COLUMN(Composições!E580)-1),\"\")","v":"H"},{"$f":"ROUND($H580*ROUND(I580,2),2)","v":5.65},6.15,0.17,{"$f":"IF(ISNUMBER($L580),VALUE(OFFSET(Banco!$A$1,Composições!$L580-1,COLUMN(Composições!I580)-4)),0)","v":33.26},{"$f":"IF(ISNUMBER($L580),VALUE(OFFSET(Banco!$A$1,Composições!$L580-1,COLUMN(Composições!J580)-4)),0)","v":36.17},{"$f":"COUNTA($A$1:$A580)-1","v":71},{"$f":"MATCH(CONCATENATE($B580,\" \",$C580),Banco!$A:$A,0)","v":13099},{"$f":"IF(OR(ISERROR($L580),$H580=\"\",$H580=0),\"\",OFFSET(M$1,MATCH($K580,$K$1:$K580,0)-1,0))","v":"F"},null,{"$f":"IF(ISNUMBER($L580),VALUE(OFFSET(Banco!$A$1,Composições!$L580-1,COLUMN(Composições!O580)-6)),0)","v":0},{"$f":"IF(ISNUMBER($L580),VALUE(OFFSET(Banco!$A$1,Composições!$L580-1,COLUMN(Composições!P580)-6)),0)","v":0},{"$f":"ROUND(F580*O580,2)","v":0},0]
[null,"SINAPI",88316,{"$f":"IF(ISNUMBER($L581),OFFSET(Banco!$A$1,Composições!$L581-1,COLUMN(Composições!D581)-1),\"\")","v":"SERVENTE COM ENCARGOS COMPLEMENTARES"},{"$f":"IF(ISNUMBER($L581),OFFSET(Banco!$A$1,Composições!$L581-1,COLUMN(Composições!E581)-1),\"\")","v":"H"},1.33,1.44,0.05,{"$f":"IF(ISNUMBER($L581),VALUE(OFFSET(Banco!$A$1,Composições!$L581-1,COLUMN(Composições!I581)-4)),0)","v":26.65},{"$f":"IF(ISNUMBER($L581),VALUE(OFFSET(Banco!$A$1,Composições!$L581-1,COLUMN(Composições!J581)-4)),0)","v":28.71},{"$f":"COUNTA($A$1:$A581)-1","v":71},{"$f":"MATCH(CONCATENATE($B581,\" \",$C581),Banco!$A:$A,0)","v":13198},{"$f":"IF(OR(ISERROR($L581),$H581=\"\",$H581=0),\"\",OFFSET(M$1,MATCH($K581,$K$1:$K581,0)-1,0))","v":"F"},null,{"$f":"IF(ISNUMBER($L581),VALUE(OFFSET(Banco!$A$1,Composições!$L581-1,COLUMN(Composições!O581)-6)),0)","v":0},{"$f":"IF(ISNUMBER($L581),VALUE(OFFSET(Banco!$A$1,Composições!$L581-1,COLUMN(Composições!P581)-6)),0)","v":0},0,0]
[null,"SINAPI-I",3146,{"$f":"IF(ISNUMBER($L582),OFFSET(Banco!$A$1,Composições!$L582-1,COLUMN(Composições!D582)-1),\"\")","v":"FITA VEDA ROSCA, EM PTFE, ROLO DE 18 MM X 10 M (L X C)"},{"$f":"IF(ISNUMBER($L582),OFFSET(Banco!$A$1,Composições!$L582-1,COLUMN(Composições!E582)-1),\"\")","v":"UN"},0.2,0.2,0.04,{"$f":"IF(ISNUMBER($L582),VALUE(OFFSET(Banco!$A$1,Composições!$L582-1,COLUMN(Composições!I582)-4)),0)","v":5},{"$f":"IF(ISNUMBER($L582),VALUE(OFFSET(Banco!$A$1,Composições!$L582-1,COLUMN(Composições!J582)-4)),0)","v":5},{"$f":"COUNTA($A$1:$A582)-1","v":71},{"$f":"MATCH(CONCATENATE($B582,\" \",$C582),Banco!$A:$A,0)","v":2214},{"$f":"IF(OR(ISERROR($L582),$H582=\"\",$H582=0),\"\",OFFSET(M$1,MATCH($K582,$K$1:$K582,0)-1,0))","v":"F"},null,{"$f":"IF(ISNUMBER($L582),VALUE(OFFSET(Banco!$A$1,Composições!$L582-1,COLUMN(Composições!O582)-6)),0)","v":0},{"$f":"IF(ISNUMBER($L582),VALUE(OFFSET(Banco!$A$1,Composições!$L582-1,COLUMN(Composições!P582)-6)),0)","v":0},0,0]
[null,"SINAPI-I",38643,{"$f":"IF(ISNUMBER($L583),OFFSET(Banco!$A$1,Composições!$L583-1,COLUMN(Composições!D583)-1),\"\")","v":"VALVULA EM METAL CROMADO PARA LAVATORIO, 1\" SEM LADRAO"},{"$f":"IF(ISNUMBER($L583),OFFSET(Banco!$A$1,Composições!$L583-1,COLUMN(Composições!E583)-1),\"\")","v":"UN"},67.47,67.47,1,{"$f":"IF(ISNUMBER($L583),VALUE(OFFSET(Banco!$A$1,Composições!$L583-1,COLUMN(Composições!I583)-4)),0)","v":67.47},{"$f":"IF(ISNUMBER($L583),VALUE(OFFSET(Banco!$A$1,Composições!$L583-1,COLUMN(Composições!J583)-4)),0)","v":67.47},{"$f":"COUNTA($A$1:$A583)-1","v":71},{"$f":"MATCH(CONCATENATE($B583,\" \",$C583),Banco!$A:$A,0)","v":4924},{"$f":"IF(OR(ISERROR($L583),$H583=\"\",$H583=0),\"\",OFFSET(M$1,MATCH($K583,$K$1:$K583,0)-1,0))","v":"F"},null,{"$f":"IF(ISNUMBER($L583),VALUE(OFFSET(Banco!$A$1,Composições!$L583-1,COLUMN(Composições!O583)-6)),0)","v":0},{"$f":"IF(ISNUMBER($L583),VALUE(OFFSET(Banco!$A$1,Composições!$L583-1,COLUMN(Composições!P583)-6)),0)","v":0},0,0]
[null,null,null,null,null,null,null,null,null,null,{"$f":"COUNTA($A$1:$A584)-1","v":71},null,{"$f":"IF(OFFSET($M$1,MATCH(OFFSET(K584,-1,0),$K$1:$K584,0)-1,0)=\"F\",\"F\",\"\")","v":"F"}]
[{"$f":"CONCATENATE($B585,\" \",$C585)","v":"Composição ESQV.0081.01"},"Composição","ESQV.0081.01","ESPELHO CRISTAL, ESPESSURA 4MM, COM PARAFUSOS DE FIXACAO, SEM MOLDURA - FORNECIMENTO E INSTALAÇÃO","M2",{"$f":"IF($L585>0,SUM(OFFSET(F585,1,0,$L585),0))","v":504.77},511.48999999999995,null,{"$f":"IF(ISERROR(F585),0,F585)","v":504.77},511.48999999999995,{"$f":"COUNTA($A$1:$A585)-1","v":72},{"$f":"IF(MAX(K:K)=K585,MATCH(9999999,$K:$K)+1,MATCH(K585+1,K:K,0))-ROW(L585)-2","v":4},{"$f":"IF(AND(OR(I585<>0,J585<>0),N585=\"Sim\"),\"F\",\"\")","v":"F"},"Sim",{"$f":"IF(AND($L585>0,F585<>0),ROUND(SUM(OFFSET(Q585,1,0,$L585))/F585,4),0)","v":0},0]
[null,"SINAPI",88316,{"$f":"IF(ISNUMBER($L586),OFFSET(Banco!$A$1,Composições!$L586-1,COLUMN(Composições!D586)-1),\"\")","v":"SERVENTE COM ENCARGOS COMPLEMENTARES"},{"$f":"IF(ISNUMBER($L586),OFFSET(Banco!$A$1,Composições!$L586-1,COLUMN(Composições!E586)-1),\"\")","v":"H"},{"$f":"ROUND($H586*ROUND(I586,2),2)","v":10.66},11.48,0.4,{"$f":"IF(ISNUMBER($L586),VALUE(OFFSET(Banco!$A$1,Composições!$L586-1,COLUMN(Composições!I586)-4)),0)","v":26.65},{"$f":"IF(ISNUMBER($L586),VALUE(OFFSET(Banco!$A$1,Composições!$L586-1,COLUMN(Composições!J586)-4)),0)","v":28.71},{"$f":"COUNTA($A$1:$A586)-1","v":72},{"$f":"MATCH(CONCATENATE($B586,\" \",$C586),Banco!$A:$A,0)","v":13198},{"$f":"IF(OR(ISERROR($L586),$H586=\"\",$H586=0),\"\",OFFSET(M$1,MATCH($K586,$K$1:$K586,0)-1,0))","v":"F"},null,{"$f":"IF(ISNUMBER($L586),VALUE(OFFSET(Banco!$A$1,Composições!$L586-1,COLUMN(Composições!O586)-6)),0)","v":0},{"$f":"IF(ISNUMBER($L586),VALUE(OFFSET(Banco!$A$1,Composições!$L586-1,COLUMN(Composições!P586)-6)),0)","v":0},{"$f":"ROUND(F586*O586,2)","v":0},0]
[null,"SINAPI",88325,{"$f":"IF(ISNUMBER($L587),OFFSET(Banco!$A$1,Composições!$L587-1,COLUMN(Composições!D587)-1),\"\")","v":"VIDRACEIRO COM ENCARGOS COMPLEMENTARES"},{"$f":"IF(ISNUMBER($L587),OFFSET(Banco!$A$1,Composições!$L587-1,COLUMN(Composições!E587)-1),\"\")","v":"H"},68.400000000000006,74.3,2,{"$f":"IF(ISNUMBER($L587),VALUE(OFFSET(Banco!$A$1,Composições!$L587-1,COLUMN(Composições!I587)-4)),0)","v":34.200000000000003},{"$f":"IF(ISNUMBER($L587),VALUE(OFFSET(Banco!$A$1,Composições!$L587-1,COLUMN(Composições!J587)-4)),0)","v":37.15},{"$f":"COUNTA($A$1:$A587)-1","v":72},{"$f":"MATCH(CONCATENATE($B587,\" \",$C587),Banco!$A:$A,0)","v":13218},{"$f":"IF(OR(ISERROR($L587),$H587=\"\",$H587=0),\"\",OFFSET(M$1,MATCH($K587,$K$1:$K587,0)-1,0))","v":"F"},null,{"$f":"IF(ISNUMBER($L587),VALUE(OFFSET(Banco!$A$1,Composições!$L587-1,COLUMN(Composições!O587)-6)),0)","v":0},{"$f":"IF(ISNUMBER($L587),VALUE(OFFSET(Banco!$A$1,Composições!$L587-1,COLUMN(Composições!P587)-6)),0)","v":0},0,0]
[null,"SINAPI-I",11186,{"$f":"IF(ISNUMBER($L588),OFFSET(Banco!$A$1,Composições!$L588-1,COLUMN(Composições!D588)-1),\"\")","v":"ESPELHO CRISTAL E = 4 MM"},{"$f":"IF(ISNUMBER($L588),OFFSET(Banco!$A$1,Composições!$L588-1,COLUMN(Composições!E588)-1),\"\")","v":"M2"},397.03,397.03,1,{"$f":"IF(ISNUMBER($L588),VALUE(OFFSET(Banco!$A$1,Composições!$L588-1,COLUMN(Composições!I588)-4)),0)","v":397.03},{"$f":"IF(ISNUMBER($L588),VALUE(OFFSET(Banco!$A$1,Composições!$L588-1,COLUMN(Composições!J588)-4)),0)","v":397.03},{"$f":"COUNTA($A$1:$A588)-1","v":72},{"$f":"MATCH(CONCATENATE($B588,\" \",$C588),Banco!$A:$A,0)","v":2082},{"$f":"IF(OR(ISERROR($L588),$H588=\"\",$H588=0),\"\",OFFSET(M$1,MATCH($K588,$K$1:$K588,0)-1,0))","v":"F"},null,{"$f":"IF(ISNUMBER($L588),VALUE(OFFSET(Banco!$A$1,Composições!$L588-1,COLUMN(Composições!O588)-6)),0)","v":0},{"$f":"IF(ISNUMBER($L588),VALUE(OFFSET(Banco!$A$1,Composições!$L588-1,COLUMN(Composições!P588)-6)),0)","v":0},0,0]
[null,"COTAÇÃO",442,{"$f":"IF(ISNUMBER($L589),OFFSET(Banco!$A$1,Composições!$L589-1,COLUMN(Composições!D589)-1),\"\")","v":"PARAFUSO FRANCES M16 EM ACO GALVANIZADO, COMPRIMENTO = 45 MM, DIAMETRO = 16 MM, CABECA ABAULADA"},{"$f":"IF(ISNUMBER($L589),OFFSET(Banco!$A$1,Composições!$L589-1,COLUMN(Composições!E589)-1),\"\")","v":"UN"},28.68,28.68,4,{"$f":"IF(ISNUMBER($L589),VALUE(OFFSET(Banco!$A$1,Composições!$L589-1,COLUMN(Composições!I589)-4)),0)","v":7.17},{"$f":"IF(ISNUMBER($L589),VALUE(OFFSET(Banco!$A$1,Composições!$L589-1,COLUMN(Composições!J589)-4)),0)","v":7.17},{"$f":"COUNTA($A$1:$A589)-1","v":72},{"$f":"MATCH(CONCATENATE($B589,\" \",$C589),Banco!$A:$A,0)","v":102},{"$f":"IF(OR(ISERROR($L589),$H589=\"\",$H589=0),\"\",OFFSET(M$1,MATCH($K589,$K$1:$K589,0)-1,0))","v":"F"},null,{"$f":"IF(ISNUMBER($L589),VALUE(OFFSET(Banco!$A$1,Composições!$L589-1,COLUMN(Composições!O589)-6)),0)","v":0},{"$f":"IF(ISNUMBER($L589),VALUE(OFFSET(Banco!$A$1,Composições!$L589-1,COLUMN(Composições!P589)-6)),0)","v":0},0,0]
[null,null,null,null,null,null,null,null,null,null,{"$f":"COUNTA($A$1:$A590)-1","v":72},null,{"$f":"IF(OFFSET($M$1,MATCH(OFFSET(K590,-1,0),$K$1:$K590,0)-1,0)=\"F\",\"F\",\"\")","v":"F"}]
[{"$f":"CONCATENATE($B591,\" \",$C591)","v":"Composição INHI.0241.01"},"Composição","INHI.0241.01","(COMPOSIÇÃO REPRESENTATIVA) DO SERVIÇO DE INSTALAÇÃO DE TUBOS DE PVC, SÉRIE R, ÁGUA PLUVIAL, DN 150 MM (INSTALADO EM CONDUTORES VERTICAIS), INCLUSIVE CONEXÕES, CORTES E FIXAÇÕES, PARA PRÉDIOS.","M",{"$f":"IF($L591>0,SUM(OFFSET(F591,1,0,$L591),0))","v":74.78},75.69,null,{"$f":"IF(ISERROR(F591),0,F591)","v":74.78},75.69,{"$f":"COUNTA($A$1:$A591)-1","v":73},{"$f":"IF(MAX(K:K)=K591,MATCH(9999999,$K:$K)+1,MATCH(K591+1,K:K,0))-ROW(L591)-2","v":6},{"$f":"IF(AND(OR(I591<>0,J591<>0),N591=\"Sim\"),\"F\",\"\")","v":"F"},"Sim",{"$f":"IF(AND($L591>0,F591<>0),ROUND(SUM(OFFSET(Q591,1,0,$L591))/F591,4),0)","v":6.9999999999999999E-4},6.9999999999999999E-4]
[null,"SINAPI",91187,{"$f":"IF(ISNUMBER($L592),OFFSET(Banco!$A$1,Composições!$L592-1,COLUMN(Composições!D592)-1),\"\")","v":"FIXAÇÃO DE TUBOS HORIZONTAIS DE PVC ÁGUA, PVC ESGOTO, PVC ÁGUA PLUVIAL, CPVC, PPR, COBRE OU AÇO, DIÂMETROS MAIORES QUE 75 MM E MENORES OU IGUAIS A 100 MM, COM ABRAÇADEIRA METÁLICA FLEXÍVEL 18 MM, FIXADA DIRETAMENTE NA LAJE. AF_09/2023"},{"$f":"IF(ISNUMBER($L592),OFFSET(Banco!$A$1,Composições!$L592-1,COLUMN(Composições!E592)-1),\"\")","v":"M"},{"$f":"ROUND($H592*ROUND(I592,2),2)","v":1.27},1.37,4.4299999999999999E-2,{"$f":"IF(ISNUMBER($L592),VALUE(OFFSET(Banco!$A$1,Composições!$L592-1,COLUMN(Composições!I592)-4)),0)","v":28.76},{"$f":"IF(ISNUMBER($L592),VALUE(OFFSET(Banco!$A$1,Composições!$L592-1,COLUMN(Composições!J592)-4)),0)","v":31.03},{"$f":"COUNTA($A$1:$A592)-1","v":73},{"$f":"MATCH(CONCATENATE($B592,\" \",$C592),Banco!$A:$A,0)","v":14497},{"$f":"IF(OR(ISERROR($L592),$H592=\"\",$H592=0),\"\",OFFSET(M$1,MATCH($K592,$K$1:$K592,0)-1,0))","v":"F"},null,{"$f":"IF(ISNUMBER($L592),VALUE(OFFSET(Banco!$A$1,Composições!$L592-1,COLUMN(Composições!O592)-6)),0)","v":3.9600000000000003E-2},{"$f":"IF(ISNUMBER($L592),VALUE(OFFSET(Banco!$A$1,Composições!$L592-1,COLUMN(Composições!P592)-6)),0)","v":3.6700000000000003E-2},{"$f":"ROUND(F592*O592,2)","v":0.05},0.05]
[null,"SINAPI",90438,{"$f":"IF(ISNUMBER($L593),OFFSET(Banco!$A$1,Composições!$L593-1,COLUMN(Composições!D593)-1),\"\")","v":"FURO MANUAL EM ALVENARIA, PARA INSTALAÇÕES HIDRÁULICAS, DIÂMETROS MAIORES QUE 75 MM E MENORES OU IGUAIS A 100 MM. AF_09/2023"},{"$f":"IF(ISNUMBER($L593),OFFSET(Banco!$A$1,Composições!$L593-1,COLUMN(Composições!E593)-1),\"\")","v":"UN"},0.15,0.16,2.0999999999999999E-3,{"$f":"IF(ISNUMBER($L593),VALUE(OFFSET(Banco!$A$1,Composições!$L593-1,COLUMN(Composições!I593)-4)),0)","v":69.7},{"$f":"IF(ISNUMBER($L593),VALUE(OFFSET(Banco!$A$1,Composições!$L593-1,COLUMN(Composições!J593)-4)),0)","v":75.72},{"$f":"COUNTA($A$1:$A593)-1","v":73},{"$f":"MATCH(CONCATENATE($B593,\" \",$C593),Banco!$A:$A,0)","v":14511},{"$f":"IF(OR(ISERROR($L593),$H593=\"\",$H593=0),\"\",OFFSET(M$1,MATCH($K593,$K$1:$K593,0)-1,0))","v":"F"},null,{"$f":"IF(ISNUMBER($L593),VALUE(OFFSET(Banco!$A$1,Composições!$L593-1,COLUMN(Composições!O593)-6)),0)","v":0},{"$f":"IF(ISNUMBER($L593),VALUE(OFFSET(Banco!$A$1,Composições!$L593-1,COLUMN(Composições!P593)-6)),0)","v":0},0,0]
[null,"SINAPI",89591,{"$f":"IF(ISNUMBER($L594),OFFSET(Banco!$A$1,Composições!$L594-1,COLUMN(Composições!D594)-1),\"\")","v":"JOELHO 45 GRAUS, PVC, SERIE R, ÁGUA PLUVIAL, DN 150 MM, JUNTA ELÁSTICA, FORNECIDO E INSTALADO EM CONDUTORES VERTICAIS DE ÁGUAS PLUVIAIS. AF_06/2022"},{"$f":"IF(ISNUMBER($L594),OFFSET(Banco!$A$1,Composições!$L594-1,COLUMN(Composições!E594)-1),\"\")","v":"UN"},0.66,0.67,5.1000000000000004E-3,{"$f":"IF(ISNUMBER($L594),VALUE(OFFSET(Banco!$A$1,Composições!$L594-1,COLUMN(Composições!I594)-4)),0)","v":128.91},{"$f":"IF(ISNUMBER($L594),VALUE(OFFSET(Banco!$A$1,Composições!$L594-1,COLUMN(Composições!J594)-4)),0)","v":131.33000000000001},{"$f":"COUNTA($A$1:$A594)-1","v":73},{"$f":"MATCH(CONCATENATE($B594,\" \",$C594),Banco!$A:$A,0)","v":11928},{"$f":"IF(OR(ISERROR($L594),$H594=\"\",$H594=0),\"\",OFFSET(M$1,MATCH($K594,$K$1:$K594,0)-1,0))","v":"F"},null,{"$f":"IF(ISNUMBER($L594),VALUE(OFFSET(Banco!$A$1,Composições!$L594-1,COLUMN(Composições!O594)-6)),0)","v":0},{"$f":"IF(ISNUMBER($L594),VALUE(OFFSET(Banco!$A$1,Composições!$L594-1,COLUMN(Composições!P594)-6)),0)","v":0},0,0]
[null,"SINAPI",89590,{"$f":"IF(ISNUMBER($L595),OFFSET(Banco!$A$1,Composições!$L595-1,COLUMN(Composições!D595)-1),\"\")","v":"JOELHO 90 GRAUS, PVC, SERIE R, ÁGUA PLUVIAL, DN 150 MM, JUNTA ELÁSTICA, FORNECIDO E INSTALADO EM CONDUTORES VERTICAIS DE ÁGUAS PLUVIAIS. AF_06/2022"},{"$f":"IF(ISNUMBER($L595),OFFSET(Banco!$A$1,Composições!$L595-1,COLUMN(Composições!E595)-1),\"\")","v":"UN"},0.54,0.55000000000000004,4.1000000000000003E-3,{"$f":"IF(ISNUMBER($L595),VALUE(OFFSET(Banco!$A$1,Composições!$L595-1,COLUMN(Composições!I595)-4)),0)","v":131.93},{"$f":"IF(ISNUMBER($L595),VALUE(OFFSET(Banco!$A$1,Composições!$L595-1,COLUMN(Composições!J595)-4)),0)","v":134.35},{"$f":"COUNTA($A$1:$A595)-1","v":73},{"$f":"MATCH(CONCATENATE($B595,\" \",$C595),Banco!$A:$A,0)","v":11936},{"$f":"IF(OR(ISERROR($L595),$H595=\"\",$H595=0),\"\",OFFSET(M$1,MATCH($K595,$K$1:$K595,0)-1,0))","v":"F"},null,{"$f":"IF(ISNUMBER($L595),VALUE(OFFSET(Banco!$A$1,Composições!$L595-1,COLUMN(Composições!O595)-6)),0)","v":0},{"$f":"IF(ISNUMBER($L595),VALUE(OFFSET(Banco!$A$1,Composições!$L595-1,COLUMN(Composições!P595)-6)),0)","v":0},0,0]
[null,"SINAPI",89677,{"$f":"IF(ISNUMBER($L596),OFFSET(Banco!$A$1,Composições!$L596-1,COLUMN(Composições!D596)-1),\"\")","v":"LUVA SIMPLES, PVC, SERIE R, ÁGUA PLUVIAL, DN 150 MM, JUNTA ELÁSTICA, FORNECIDO E INSTALADO EM CONDUTORES VERTICAIS DE ÁGUAS PLUVIAIS. AF_06/2022"},{"$f":"IF(ISNUMBER($L596),OFFSET(Banco!$A$1,Composições!$L596-1,COLUMN(Composições!E596)-1),\"\")","v":"UN"},4.88,4.9800000000000004,6.2600000000000003E-2,{"$f":"IF(ISNUMBER($L596),VALUE(OFFSET(Banco!$A$1,Composições!$L596-1,COLUMN(Composições!I596)-4)),0)","v":77.92},{"$f":"IF(ISNUMBER($L596),VALUE(OFFSET(Banco!$A$1,Composições!$L596-1,COLUMN(Composições!J596)-4)),0)","v":79.53},{"$f":"COUNTA($A$1:$A596)-1","v":73},{"$f":"MATCH(CONCATENATE($B596,\" \",$C596),Banco!$A:$A,0)","v":11963},{"$f":"IF(OR(ISERROR($L596),$H596=\"\",$H596=0),\"\",OFFSET(M$1,MATCH($K596,$K$1:$K596,0)-1,0))","v":"F"},null,{"$f":"IF(ISNUMBER($L596),VALUE(OFFSET(Banco!$A$1,Composições!$L596-1,COLUMN(Composições!O596)-6)),0)","v":0},{"$f":"IF(ISNUMBER($L596),VALUE(OFFSET(Banco!$A$1,Composições!$L596-1,COLUMN(Composições!P596)-6)),0)","v":0},0,0]
[null,"SINAPI",89580,{"$f":"IF(ISNUMBER($L597),OFFSET(Banco!$A$1,Composições!$L597-1,COLUMN(Composições!D597)-1),\"\")","v":"TUBO PVC, SÉRIE R, ÁGUA PLUVIAL, DN 150 MM, FORNECIDO E INSTALADO EM CONDUTORES VERTICAIS DE ÁGUAS PLUVIAIS. AF_06/2022"},{"$f":"IF(ISNUMBER($L597),OFFSET(Banco!$A$1,Composições!$L597-1,COLUMN(Composições!E597)-1),\"\")","v":"M"},67.28,67.959999999999994,1,{"$f":"IF(ISNUMBER($L597),VALUE(OFFSET(Banco!$A$1,Composições!$L597-1,COLUMN(Composições!I597)-4)),0)","v":67.28},{"$f":"IF(ISNUMBER($L597),VALUE(OFFSET(Banco!$A$1,Composições!$L597-1,COLUMN(Composições!J597)-4)),0)","v":67.959999999999994},{"$f":"COUNTA($A$1:$A597)-1","v":73},{"$f":"MATCH(CONCATENATE($B597,\" \",$C597),Banco!$A:$A,0)","v":11977},{"$f":"IF(OR(ISERROR($L597),$H597=\"\",$H597=0),\"\",OFFSET(M$1,MATCH($K597,$K$1:$K597,0)-1,0))","v":"F"},null,{"$f":"IF(ISNUMBER($L597),VALUE(OFFSET(Banco!$A$1,Composições!$L597-1,COLUMN(Composições!O597)-6)),0)","v":0},{"$f":"IF(ISNUMBER($L597),VALUE(OFFSET(Banco!$A$1,Composições!$L597-1,COLUMN(Composições!P597)-6)),0)","v":0},0,0]
[null,null,null,null,null,null,null,null,null,null,{"$f":"COUNTA($A$1:$A598)-1","v":73},null,{"$f":"IF(OFFSET($M$1,MATCH(OFFSET(K598,-1,0),$K$1:$K598,0)-1,0)=\"F\",\"F\",\"\")","v":"F"}]
[{"$f":"CONCATENATE($B599,\" \",$C599)","v":"Composição CANT.0005.01"},"Composição","CANT.0005.01","LOCACAO DE CONTAINER COM 1 SANITARIO, PARA ESCRITORIO, COMPLETO, SEM DIVISORIAS INTERNAS (INCLUSIVE MOBILIZAÇÃO E DESMOBILIZAÇÃO)","MÊS",{"$f":"IF($L599>0,SUM(OFFSET(F599,1,0,$L599),0))","v":754.05000000000007},754.88,null,{"$f":"IF(ISERROR(F599),0,F599)","v":754.05000000000007},754.88,{"$f":"COUNTA($A$1:$A599)-1","v":74},{"$f":"IF(MAX(K:K)=K599,MATCH(9999999,$K:$K)+1,MATCH(K599+1,K:K,0))-ROW(L599)-2","v":3},{"$f":"IF(AND(OR(I599<>0,J599<>0),N599=\"Sim\"),\"F\",\"\")","v":"F"},"Sim",{"$f":"IF(AND($L599>0,F599<>0),ROUND(SUM(OFFSET(Q599,1,0,$L599))/F599,4),0)","v":2.4E-2},2.4E-2]
[null,"SINAPI-I",10775,{"$f":"IF(ISNUMBER($L600),OFFSET(Banco!$A$1,Composições!$L600-1,COLUMN(Composições!D600)-1),\"\")","v":"LOCACAO DE CONTAINER 2,30 X 6,00 M, ALT. 2,50 M, COM 1 SANITARIO, PARA ESCRITORIO, COMPLETO, SEM DIVISORIAS INTERNAS (NAO INCLUI MOBILIZACAO/DESMOBILIZACAO)"},{"$f":"IF(ISNUMBER($L600),OFFSET(Banco!$A$1,Composições!$L600-1,COLUMN(Composições!E600)-1),\"\")","v":"MES"},{"$f":"ROUND($H600*ROUND(I600,2),2)","v":700},700,1,{"$f":"IF(ISNUMBER($L600),VALUE(OFFSET(Banco!$A$1,Composições!$L600-1,COLUMN(Composições!I600)-4)),0)","v":700},{"$f":"IF(ISNUMBER($L600),VALUE(OFFSET(Banco!$A$1,Composições!$L600-1,COLUMN(Composições!J600)-4)),0)","v":700},{"$f":"COUNTA($A$1:$A600)-1","v":74},{"$f":"MATCH(CONCATENATE($B600,\" \",$C600),Banco!$A:$A,0)","v":2709},{"$f":"IF(OR(ISERROR($L600),$H600=\"\",$H600=0),\"\",OFFSET(M$1,MATCH($K600,$K$1:$K600,0)-1,0))","v":"F"},null,{"$f":"IF(ISNUMBER($L600),VALUE(OFFSET(Banco!$A$1,Composições!$L600-1,COLUMN(Composições!O600)-6)),0)","v":0},{"$f":"IF(ISNUMBER($L600),VALUE(OFFSET(Banco!$A$1,Composições!$L600-1,COLUMN(Composições!P600)-6)),0)","v":0},{"$f":"ROUND(F600*O600,2)","v":0},0]
[null,"SINAPI",5930,{"$f":"IF(ISNUMBER($L601),OFFSET(Banco!$A$1,Composições!$L601-1,COLUMN(Composições!D601)-1),\"\")","v":"GUINDAUTO HIDRÁULICO, CAPACIDADE MÁXIMA DE CARGA 6200 KG, MOMENTO MÁXIMO DE CARGA 11,7 TM, ALCANCE MÁXIMO HORIZONTAL 9,70 M, INCLUSIVE CAMINHÃO TOCO PBT 16.000 KG, POTÊNCIA DE 189 CV - CHI DIURNO. AF_06/2014"},{"$f":"IF(ISNUMBER($L601),OFFSET(Banco!$A$1,Composições!$L601-1,COLUMN(Composições!E601)-1),\"\")","v":"CHI"},5.73,5.98,7.3599999999999999E-2,{"$f":"IF(ISNUMBER($L601),VALUE(OFFSET(Banco!$A$1,Composições!$L601-1,COLUMN(Composições!I601)-4)),0)","v":77.84},{"$f":"IF(ISNUMBER($L601),VALUE(OFFSET(Banco!$A$1,Composições!$L601-1,COLUMN(Composições!J601)-4)),0)","v":81.209999999999994},{"$f":"COUNTA($A$1:$A601)-1","v":74},{"$f":"MATCH(CONCATENATE($B601,\" \",$C601),Banco!$A:$A,0)","v":7705},{"$f":"IF(OR(ISERROR($L601),$H601=\"\",$H601=0),\"\",OFFSET(M$1,MATCH($K601,$K$1:$K601,0)-1,0))","v":"F"},null,{"$f":"IF(ISNUMBER($L601),VALUE(OFFSET(Banco!$A$1,Composições!$L601-1,COLUMN(Composições!O601)-6)),0)","v":0.53200000000000003},{"$f":"IF(ISNUMBER($L601),VALUE(OFFSET(Banco!$A$1,Composições!$L601-1,COLUMN(Composições!P601)-6)),0)","v":0.50990000000000002},3.05,3.05]
[null,"SINAPI",5928,{"$f":"IF(ISNUMBER($L602),OFFSET(Banco!$A$1,Composições!$L602-1,COLUMN(Composições!D602)-1),\"\")","v":"GUINDAUTO HIDRÁULICO, CAPACIDADE MÁXIMA DE CARGA 6200 KG, MOMENTO MÁXIMO DE CARGA 11,7 TM, ALCANCE MÁXIMO HORIZONTAL 9,70 M, INCLUSIVE CAMINHÃO TOCO PBT 16.000 KG, POTÊNCIA DE 189 CV - CHP DIURNO. AF_06/2014"},{"$f":"IF(ISNUMBER($L602),OFFSET(Banco!$A$1,Composições!$L602-1,COLUMN(Composições!E602)-1),\"\")","v":"CHP"},48.32,48.9,0.17172499999999999,{"$f":"IF(ISNUMBER($L602),VALUE(OFFSET(Banco!$A$1,Composições!$L602-1,COLUMN(Composições!I602)-4)),0)","v":281.37},{"$f":"IF(ISNUMBER($L602),VALUE(OFFSET(Banco!$A$1,Composições!$L602-1,COLUMN(Composições!J602)-4)),0)","v":284.74},{"$f":"COUNTA($A$1:$A602)-1","v":74},{"$f":"MATCH(CONCATENATE($B602,\" \",$C602),Banco!$A:$A,0)","v":7706},{"$f":"IF(OR(ISERROR($L602),$H602=\"\",$H602=0),\"\",OFFSET(M$1,MATCH($K602,$K$1:$K602,0)-1,0))","v":"F"},null,{"$f":"IF(ISNUMBER($L602),VALUE(OFFSET(Banco!$A$1,Composições!$L602-1,COLUMN(Composições!O602)-6)),0)","v":0.31169999999999998},{"$f":"IF(ISNUMBER($L602),VALUE(OFFSET(Banco!$A$1,Composições!$L602-1,COLUMN(Composições!P602)-6)),0)","v":0.308},15.06,15.06]
[null,null,null,null,null,null,null,null,null,null,{"$f":"COUNTA($A$1:$A603)-1","v":74},null,{"$f":"IF(OFFSET($M$1,MATCH(OFFSET(K603,-1,0),$K$1:$K603,0)-1,0)=\"F\",\"F\",\"\")","v":"F"}]
[{"$f":"CONCATENATE($B604,\" \",$C604)","v":"Composição INHI.0212.01"},"Composição","INHI.0212.01","(COMPOSIÇÃO REPRESENTATIVA) DO SERVIÇO DE INSTALAÇÃO DE TUBO DE PVC, SÉRIE NORMAL, ESGOTO PREDIAL, DN 40 MM (INSTALADO EM RAMAL DE DESCARGA OU RAMAL DE ESGOTO SANITÁRIO), INCLUSIVE CONEXÕES, CORTES E FIXAÇÕES, PARA PRÉDIOS.","M",{"$f":"IF($L604>0,SUM(OFFSET(F604,1,0,$L604),0))","v":90.57},96.54,null,{"$f":"IF(ISERROR(F604),0,F604)","v":90.57},96.54,{"$f":"COUNTA($A$1:$A604)-1","v":75},{"$f":"IF(MAX(K:K)=K604,MATCH(9999999,$K:$K)+1,MATCH(K604+1,K:K,0))-ROW(L604)-2","v":11},{"$f":"IF(AND(OR(I604<>0,J604<>0),N604=\"Sim\"),\"F\",\"\")","v":"F"},"Sim",{"$f":"IF(AND($L604>0,F604<>0),ROUND(SUM(OFFSET(Q604,1,0,$L604))/F604,4),0)","v":8.0999999999999996E-3},7.6E-3]
[null,"SINAPI",90466,{"$f":"IF(ISNUMBER($L605),OFFSET(Banco!$A$1,Composições!$L605-1,COLUMN(Composições!D605)-1),\"\")","v":"CHUMBAMENTO LINEAR EM ALVENARIA PARA RAMAIS/DISTRIBUIÇÃO DE INSTALAÇÕES HIDRÁULICAS COM DIÂMETROS MENORES OU IGUAIS A 40 MM. AF_09/2023"},{"$f":"IF(ISNUMBER($L605),OFFSET(Banco!$A$1,Composições!$L605-1,COLUMN(Composições!E605)-1),\"\")","v":"M"},{"$f":"ROUND($H605*ROUND(I605,2),2)","v":4.68},{"$f":"ROUND($H605*ROUND(J605,2),2)","v":5.03},0.26090000000000002,{"$f":"IF(ISNUMBER($L605),VALUE(OFFSET(Banco!$A$1,Composições!$L605-1,COLUMN(Composições!I605)-4)),0)","v":17.940000000000001},{"$f":"IF(ISNUMBER($L605),VALUE(OFFSET(Banco!$A$1,Composições!$L605-1,COLUMN(Composições!J605)-4)),0)","v":19.28},{"$f":"COUNTA($A$1:$A605)-1","v":75},{"$f":"MATCH(CONCATENATE($B605,\" \",$C605),Banco!$A:$A,0)","v":14479},{"$f":"IF(OR(ISERROR($L605),$H605=\"\",$H605=0),\"\",OFFSET(M$1,MATCH($K605,$K$1:$K605,0)-1,0))","v":"F"},null,{"$f":"IF(ISNUMBER($L605),VALUE(OFFSET(Banco!$A$1,Composições!$L605-1,COLUMN(Composições!O605)-6)),0)","v":0},{"$f":"IF(ISNUMBER($L605),VALUE(OFFSET(Banco!$A$1,Composições!$L605-1,COLUMN(Composições!P605)-6)),0)","v":0},{"$f":"ROUND(F605*O605,2)","v":0},{"$f":"ROUND(G605*P605,2)","v":0}]
[null,"SINAPI",91190,{"$f":"IF(ISNUMBER($L606),OFFSET(Banco!$A$1,Composições!$L606-1,COLUMN(Composições!D606)-1),\"\")","v":"CHUMBAMENTO PONTUAL EM PASSAGEM DE TUBO COM DIÂMETRO MENOR OU IGUAL A 40 MM. AF_09/2023"},{"$f":"IF(ISNUMBER($L606),OFFSET(Banco!$A$1,Composições!$L606-1,COLUMN(Composições!E606)-1),\"\")","v":"UN"},3.13,3.34,0.2596,{"$f":"IF(ISNUMBER($L606),VALUE(OFFSET(Banco!$A$1,Composições!$L606-1,COLUMN(Composições!I606)-4)),0)","v":12.07},{"$f":"IF(ISNUMBER($L606),VALUE(OFFSET(Banco!$A$1,Composições!$L606-1,COLUMN(Composições!J606)-4)),0)","v":12.85},{"$f":"COUNTA($A$1:$A606)-1","v":75},{"$f":"MATCH(CONCATENATE($B606,\" \",$C606),Banco!$A:$A,0)","v":14486},{"$f":"IF(OR(ISERROR($L606),$H606=\"\",$H606=0),\"\",OFFSET(M$1,MATCH($K606,$K$1:$K606,0)-1,0))","v":"F"},null,{"$f":"IF(ISNUMBER($L606),VALUE(OFFSET(Banco!$A$1,Composições!$L606-1,COLUMN(Composições!O606)-6)),0)","v":0},{"$f":"IF(ISNUMBER($L606),VALUE(OFFSET(Banco!$A$1,Composições!$L606-1,COLUMN(Composições!P606)-6)),0)","v":0},0,0]
[null,"SINAPI",91185,{"$f":"IF(ISNUMBER($L607),OFFSET(Banco!$A$1,Composições!$L607-1,COLUMN(Composições!D607)-1),\"\")","v":"FIXAÇÃO DE TUBOS HORIZONTAIS DE PVC ÁGUA, PVC ESGOTO, PVC ÁGUA PLUVIAL, CPVC, PPR, COBRE OU AÇO, DIÂMETROS MENORES OU IGUAIS A 40 MM, COM ABRAÇADEIRA METÁLICA FLEXÍVEL 18 MM, FIXADA DIRETAMENTE NA LAJE. AF_09/2023"},{"$f":"IF(ISNUMBER($L607),OFFSET(Banco!$A$1,Composições!$L607-1,COLUMN(Composições!E607)-1),\"\")","v":"M"},23.15,24.94,0.80220000000000002,{"$f":"IF(ISNUMBER($L607),VALUE(OFFSET(Banco!$A$1,Composições!$L607-1,COLUMN(Composições!I607)-4)),0)","v":28.86},{"$f":"IF(ISNUMBER($L607),VALUE(OFFSET(Banco!$A$1,Composições!$L607-1,COLUMN(Composições!J607)-4)),0)","v":31.09},{"$f":"COUNTA($A$1:$A607)-1","v":75},{"$f":"MATCH(CONCATENATE($B607,\" \",$C607),Banco!$A:$A,0)","v":14499},{"$f":"IF(OR(ISERROR($L607),$H607=\"\",$H607=0),\"\",OFFSET(M$1,MATCH($K607,$K$1:$K607,0)-1,0))","v":"F"},null,{"$f":"IF(ISNUMBER($L607),VALUE(OFFSET(Banco!$A$1,Composições!$L607-1,COLUMN(Composições!O607)-6)),0)","v":3.15E-2},{"$f":"IF(ISNUMBER($L607),VALUE(OFFSET(Banco!$A$1,Composições!$L607-1,COLUMN(Composições!P607)-6)),0)","v":2.93E-2},0.73,0.73]
[null,"SINAPI",90436,{"$f":"IF(ISNUMBER($L608),OFFSET(Banco!$A$1,Composições!$L608-1,COLUMN(Composições!D608)-1),\"\")","v":"FURO MANUAL EM ALVENARIA, PARA INSTALAÇÕES HIDRÁULICAS, DIÂMETROS MENORES OU IGUAIS A 40 MM. AF_09/2023"},{"$f":"IF(ISNUMBER($L608),OFFSET(Banco!$A$1,Composições!$L608-1,COLUMN(Composições!E608)-1),\"\")","v":"UN"},4.6500000000000004,5.05,0.2596,{"$f":"IF(ISNUMBER($L608),VALUE(OFFSET(Banco!$A$1,Composições!$L608-1,COLUMN(Composições!I608)-4)),0)","v":17.899999999999999},{"$f":"IF(ISNUMBER($L608),VALUE(OFFSET(Banco!$A$1,Composições!$L608-1,COLUMN(Composições!J608)-4)),0)","v":19.45},{"$f":"COUNTA($A$1:$A608)-1","v":75},{"$f":"MATCH(CONCATENATE($B608,\" \",$C608),Banco!$A:$A,0)","v":14512},{"$f":"IF(OR(ISERROR($L608),$H608=\"\",$H608=0),\"\",OFFSET(M$1,MATCH($K608,$K$1:$K608,0)-1,0))","v":"F"},null,{"$f":"IF(ISNUMBER($L608),VALUE(OFFSET(Banco!$A$1,Composições!$L608-1,COLUMN(Composições!O608)-6)),0)","v":0},{"$f":"IF(ISNUMBER($L608),VALUE(OFFSET(Banco!$A$1,Composições!$L608-1,COLUMN(Composições!P608)-6)),0)","v":0},0,0]
[null,"SINAPI",89726,{"$f":"IF(ISNUMBER($L609),OFFSET(Banco!$A$1,Composições!$L609-1,COLUMN(Composições!D609)-1),\"\")","v":"JOELHO 45 GRAUS, PVC, SERIE NORMAL, ESGOTO PREDIAL, DN 40 MM, JUNTA SOLDÁVEL, FORNECIDO E INSTALADO EM RAMAL DE DESCARGA OU RAMAL DE ESGOTO SANITÁRIO. AF_08/2022"},{"$f":"IF(ISNUMBER($L609),OFFSET(Banco!$A$1,Composições!$L609-1,COLUMN(Composições!E609)-1),\"\")","v":"UN"},9.18,9.68,0.76910000000000001,{"$f":"IF(ISNUMBER($L609),VALUE(OFFSET(Banco!$A$1,Composições!$L609-1,COLUMN(Composições!I609)-4)),0)","v":11.94},{"$f":"IF(ISNUMBER($L609),VALUE(OFFSET(Banco!$A$1,Composições!$L609-1,COLUMN(Composições!J609)-4)),0)","v":12.59},{"$f":"COUNTA($A$1:$A609)-1","v":75},{"$f":"MATCH(CONCATENATE($B609,\" \",$C609),Banco!$A:$A,0)","v":11473},{"$f":"IF(OR(ISERROR($L609),$H609=\"\",$H609=0),\"\",OFFSET(M$1,MATCH($K609,$K$1:$K609,0)-1,0))","v":"F"},null,{"$f":"IF(ISNUMBER($L609),VALUE(OFFSET(Banco!$A$1,Composições!$L609-1,COLUMN(Composições!O609)-6)),0)","v":0},{"$f":"IF(ISNUMBER($L609),VALUE(OFFSET(Banco!$A$1,Composições!$L609-1,COLUMN(Composições!P609)-6)),0)","v":0},0,0]
[null,"SINAPI",89724,{"$f":"IF(ISNUMBER($L610),OFFSET(Banco!$A$1,Composições!$L610-1,COLUMN(Composições!D610)-1),\"\")","v":"JOELHO 90 GRAUS, PVC, SERIE NORMAL, ESGOTO PREDIAL, DN 40 MM, JUNTA SOLDÁVEL, FORNECIDO E INSTALADO EM RAMAL DE DESCARGA OU RAMAL DE ESGOTO SANITÁRIO. AF_08/2022"},{"$f":"IF(ISNUMBER($L610),OFFSET(Banco!$A$1,Composições!$L610-1,COLUMN(Composições!E610)-1),\"\")","v":"UN"},10.06,10.62,0.85840000000000005,{"$f":"IF(ISNUMBER($L610),VALUE(OFFSET(Banco!$A$1,Composições!$L610-1,COLUMN(Composições!I610)-4)),0)","v":11.72},{"$f":"IF(ISNUMBER($L610),VALUE(OFFSET(Banco!$A$1,Composições!$L610-1,COLUMN(Composições!J610)-4)),0)","v":12.37},{"$f":"COUNTA($A$1:$A610)-1","v":75},{"$f":"MATCH(CONCATENATE($B610,\" \",$C610),Banco!$A:$A,0)","v":11482},{"$f":"IF(OR(ISERROR($L610),$H610=\"\",$H610=0),\"\",OFFSET(M$1,MATCH($K610,$K$1:$K610,0)-1,0))","v":"F"},null,{"$f":"IF(ISNUMBER($L610),VALUE(OFFSET(Banco!$A$1,Composições!$L610-1,COLUMN(Composições!O610)-6)),0)","v":0},{"$f":"IF(ISNUMBER($L610),VALUE(OFFSET(Banco!$A$1,Composições!$L610-1,COLUMN(Composições!P610)-6)),0)","v":0},0,0]
[null,"SINAPI",89783,{"$f":"IF(ISNUMBER($L611),OFFSET(Banco!$A$1,Composições!$L611-1,COLUMN(Composições!D611)-1),\"\")","v":"JUNÇÃO SIMPLES, PVC, SERIE NORMAL, ESGOTO PREDIAL, DN 40 MM, JUNTA SOLDÁVEL, FORNECIDO E INSTALADO EM RAMAL DE DESCARGA OU RAMAL DE ESGOTO SANITÁRIO. AF_08/2022"},{"$f":"IF(ISNUMBER($L611),OFFSET(Banco!$A$1,Composições!$L611-1,COLUMN(Composições!E611)-1),\"\")","v":"UN"},5.26,5.53,0.31159999999999999,{"$f":"IF(ISNUMBER($L611),VALUE(OFFSET(Banco!$A$1,Composições!$L611-1,COLUMN(Composições!I611)-4)),0)","v":16.89},{"$f":"IF(ISNUMBER($L611),VALUE(OFFSET(Banco!$A$1,Composições!$L611-1,COLUMN(Composições!J611)-4)),0)","v":17.760000000000002},{"$f":"COUNTA($A$1:$A611)-1","v":75},{"$f":"MATCH(CONCATENATE($B611,\" \",$C611),Banco!$A:$A,0)","v":11496},{"$f":"IF(OR(ISERROR($L611),$H611=\"\",$H611=0),\"\",OFFSET(M$1,MATCH($K611,$K$1:$K611,0)-1,0))","v":"F"},null,{"$f":"IF(ISNUMBER($L611),VALUE(OFFSET(Banco!$A$1,Composições!$L611-1,COLUMN(Composições!O611)-6)),0)","v":0},{"$f":"IF(ISNUMBER($L611),VALUE(OFFSET(Banco!$A$1,Composições!$L611-1,COLUMN(Composições!P611)-6)),0)","v":0},0,0]
[null,"SINAPI",89752,{"$f":"IF(ISNUMBER($L612),OFFSET(Banco!$A$1,Composições!$L612-1,COLUMN(Composições!D612)-1),\"\")","v":"LUVA SIMPLES, PVC, SERIE NORMAL, ESGOTO PREDIAL, DN 40 MM, JUNTA SOLDÁVEL, FORNECIDO E INSTALADO EM RAMAL DE DESCARGA OU RAMAL DE ESGOTO SANITÁRIO. AF_08/2022"},{"$f":"IF(ISNUMBER($L612),OFFSET(Banco!$A$1,Composições!$L612-1,COLUMN(Composições!E612)-1),\"\")","v":"UN"},2.5299999999999998,2.65,0.29239999999999999,{"$f":"IF(ISNUMBER($L612),VALUE(OFFSET(Banco!$A$1,Composições!$L612-1,COLUMN(Composições!I612)-4)),0)","v":8.64},{"$f":"IF(ISNUMBER($L612),VALUE(OFFSET(Banco!$A$1,Composições!$L612-1,COLUMN(Composições!J612)-4)),0)","v":9.07},{"$f":"COUNTA($A$1:$A612)-1","v":75},{"$f":"MATCH(CONCATENATE($B612,\" \",$C612),Banco!$A:$A,0)","v":11511},{"$f":"IF(OR(ISERROR($L612),$H612=\"\",$H612=0),\"\",OFFSET(M$1,MATCH($K612,$K$1:$K612,0)-1,0))","v":"F"},null,{"$f":"IF(ISNUMBER($L612),VALUE(OFFSET(Banco!$A$1,Composições!$L612-1,COLUMN(Composições!O612)-6)),0)","v":0},{"$f":"IF(ISNUMBER($L612),VALUE(OFFSET(Banco!$A$1,Composições!$L612-1,COLUMN(Composições!P612)-6)),0)","v":0},0,0]
[null,"SINAPI",90453,{"$f":"IF(ISNUMBER($L613),OFFSET(Banco!$A$1,Composições!$L613-1,COLUMN(Composições!D613)-1),\"\")","v":"PASSANTE TIPO TUBO COM DIÂMETRO DE 40 MM, FIXADO EM LAJE, PARA PASSAGEM DE TUBULAÇÕES COM NO MÁXIMO 32 MM DE DIÂMETRO. AF_09/2023"},{"$f":"IF(ISNUMBER($L613),OFFSET(Banco!$A$1,Composições!$L613-1,COLUMN(Composições!E613)-1),\"\")","v":"UN"},0.98,1.03,0.22220000000000001,{"$f":"IF(ISNUMBER($L613),VALUE(OFFSET(Banco!$A$1,Composições!$L613-1,COLUMN(Composições!I613)-4)),0)","v":4.4000000000000004},{"$f":"IF(ISNUMBER($L613),VALUE(OFFSET(Banco!$A$1,Composições!$L613-1,COLUMN(Composições!J613)-4)),0)","v":4.6399999999999997},{"$f":"COUNTA($A$1:$A613)-1","v":75},{"$f":"MATCH(CONCATENATE($B613,\" \",$C613),Banco!$A:$A,0)","v":14536},{"$f":"IF(OR(ISERROR($L613),$H613=\"\",$H613=0),\"\",OFFSET(M$1,MATCH($K613,$K$1:$K613,0)-1,0))","v":"F"},null,{"$f":"IF(ISNUMBER($L613),VALUE(OFFSET(Banco!$A$1,Composições!$L613-1,COLUMN(Composições!O613)-6)),0)","v":0},{"$f":"IF(ISNUMBER($L613),VALUE(OFFSET(Banco!$A$1,Composições!$L613-1,COLUMN(Composições!P613)-6)),0)","v":0},0,0]
[null,"SINAPI",90443,{"$f":"IF(ISNUMBER($L614),OFFSET(Banco!$A$1,Composições!$L614-1,COLUMN(Composições!D614)-1),\"\")","v":"RASGO LINEAR MANUAL EM ALVENARIA, PARA RAMAIS/ DISTRIBUIÇÃO DE INSTALAÇÕES HIDRÁULICAS, DIÂMETROS MENORES OU IGUAIS A 40 MM. AF_09/2023"},{"$f":"IF(ISNUMBER($L614),OFFSET(Banco!$A$1,Composições!$L614-1,COLUMN(Composições!E614)-1),\"\")","v":"M"},2.5099999999999998,2.73,0.26090000000000002,{"$f":"IF(ISNUMBER($L614),VALUE(OFFSET(Banco!$A$1,Composições!$L614-1,COLUMN(Composições!I614)-4)),0)","v":9.61},{"$f":"IF(ISNUMBER($L614),VALUE(OFFSET(Banco!$A$1,Composições!$L614-1,COLUMN(Composições!J614)-4)),0)","v":10.45},{"$f":"COUNTA($A$1:$A614)-1","v":75},{"$f":"MATCH(CONCATENATE($B614,\" \",$C614),Banco!$A:$A,0)","v":14545},{"$f":"IF(OR(ISERROR($L614),$H614=\"\",$H614=0),\"\",OFFSET(M$1,MATCH($K614,$K$1:$K614,0)-1,0))","v":"F"},null,{"$f":"IF(ISNUMBER($L614),VALUE(OFFSET(Banco!$A$1,Composições!$L614-1,COLUMN(Composições!O614)-6)),0)","v":0},{"$f":"IF(ISNUMBER($L614),VALUE(OFFSET(Banco!$A$1,Composições!$L614-1,COLUMN(Composições!P614)-6)),0)","v":0},0,0]
[null,"SINAPI",89711,{"$f":"IF(ISNUMBER($L615),OFFSET(Banco!$A$1,Composições!$L615-1,COLUMN(Composições!D615)-1),\"\")","v":"TUBO PVC, SERIE NORMAL, ESGOTO PREDIAL, DN 40 MM, FORNECIDO E INSTALADO EM RAMAL DE DESCARGA OU RAMAL DE ESGOTO SANITÁRIO. AF_08/2022"},{"$f":"IF(ISNUMBER($L615),OFFSET(Banco!$A$1,Composições!$L615-1,COLUMN(Composições!E615)-1),\"\")","v":"M"},24.44,25.94,1,{"$f":"IF(ISNUMBER($L615),VALUE(OFFSET(Banco!$A$1,Composições!$L615-1,COLUMN(Composições!I615)-4)),0)","v":24.44},{"$f":"IF(ISNUMBER($L615),VALUE(OFFSET(Banco!$A$1,Composições!$L615-1,COLUMN(Composições!J615)-4)),0)","v":25.94},{"$f":"COUNTA($A$1:$A615)-1","v":75},{"$f":"MATCH(CONCATENATE($B615,\" \",$C615),Banco!$A:$A,0)","v":11536},{"$f":"IF(OR(ISERROR($L615),$H615=\"\",$H615=0),\"\",OFFSET(M$1,MATCH($K615,$K$1:$K615,0)-1,0))","v":"F"},null,{"$f":"IF(ISNUMBER($L615),VALUE(OFFSET(Banco!$A$1,Composições!$L615-1,COLUMN(Composições!O615)-6)),0)","v":0},{"$f":"IF(ISNUMBER($L615),VALUE(OFFSET(Banco!$A$1,Composições!$L615-1,COLUMN(Composições!P615)-6)),0)","v":0},0,0]
[null,null,null,null,null,null,null,null,null,null,{"$f":"COUNTA($A$1:$A616)-1","v":75},null,{"$f":"IF(OFFSET($M$1,MATCH(OFFSET(K616,-1,0),$K$1:$K616,0)-1,0)=\"F\",\"F\",\"\")","v":"F"}]
[{"$f":"CONCATENATE($B617,\" \",$C617)","v":"Composição INHI.0213.01"},"Composição","INHI.0213.01","(COMPOSIÇÃO REPRESENTATIVA) DO SERVIÇO DE INSTALAÇÃO DE TUBO DE PVC, SÉRIE NORMAL, ESGOTO PREDIAL, DN 50 MM (INSTALADO EM RAMAL DE DESCARGA OU RAMAL DE ESGOTO SANITÁRIO), INCLUSIVE CONEXÕES, CORTES E FIXAÇÕES PARA, PRÉDIOS.","M",{"$f":"IF($L617>0,SUM(OFFSET(F617,1,0,$L617),0))","v":110.19},115.84,null,{"$f":"IF(ISERROR(F617),0,F617)","v":110.19},115.84,{"$f":"COUNTA($A$1:$A617)-1","v":76},{"$f":"IF(MAX(K:K)=K617,MATCH(9999999,$K:$K)+1,MATCH(K617+1,K:K,0))-ROW(L617)-2","v":12},{"$f":"IF(AND(OR(I617<>0,J617<>0),N617=\"Sim\"),\"F\",\"\")","v":"F"},"Sim",{"$f":"IF(AND($L617>0,F617<>0),ROUND(SUM(OFFSET(Q617,1,0,$L617))/F617,4),0)","v":4.0000000000000002E-4},2.9999999999999997E-4]
[null,"SINAPI",90467,{"$f":"IF(ISNUMBER($L618),OFFSET(Banco!$A$1,Composições!$L618-1,COLUMN(Composições!D618)-1),\"\")","v":"CHUMBAMENTO LINEAR EM ALVENARIA PARA RAMAIS/DISTRIBUIÇÃO DE INSTALAÇÕES HIDRÁULICAS COM DIÂMETROS MAIORES QUE 40 MM E MENORES OU IGUAIS A 75 MM. AF_09/2023"},{"$f":"IF(ISNUMBER($L618),OFFSET(Banco!$A$1,Composições!$L618-1,COLUMN(Composições!E618)-1),\"\")","v":"M"},{"$f":"ROUND($H618*ROUND(I618,2),2)","v":2.9},{"$f":"ROUND($H618*ROUND(J618,2),2)","v":3.11},0.1074,{"$f":"IF(ISNUMBER($L618),VALUE(OFFSET(Banco!$A$1,Composições!$L618-1,COLUMN(Composições!I618)-4)),0)","v":26.96},{"$f":"IF(ISNUMBER($L618),VALUE(OFFSET(Banco!$A$1,Composições!$L618-1,COLUMN(Composições!J618)-4)),0)","v":28.96},{"$f":"COUNTA($A$1:$A618)-1","v":76},{"$f":"MATCH(CONCATENATE($B618,\" \",$C618),Banco!$A:$A,0)","v":14478},{"$f":"IF(OR(ISERROR($L618),$H618=\"\",$H618=0),\"\",OFFSET(M$1,MATCH($K618,$K$1:$K618,0)-1,0))","v":"F"},null,{"$f":"IF(ISNUMBER($L618),VALUE(OFFSET(Banco!$A$1,Composições!$L618-1,COLUMN(Composições!O618)-6)),0)","v":0},{"$f":"IF(ISNUMBER($L618),VALUE(OFFSET(Banco!$A$1,Composições!$L618-1,COLUMN(Composições!P618)-6)),0)","v":0},{"$f":"ROUND(F618*O618,2)","v":0},{"$f":"ROUND(G618*P618,2)","v":0}]
[null,"SINAPI",91191,{"$f":"IF(ISNUMBER($L619),OFFSET(Banco!$A$1,Composições!$L619-1,COLUMN(Composições!D619)-1),\"\")","v":"CHUMBAMENTO PONTUAL EM PASSAGEM DE TUBO COM DIÂMETROS ENTRE 40 MM E 75 MM. AF_09/2023"},{"$f":"IF(ISNUMBER($L619),OFFSET(Banco!$A$1,Composições!$L619-1,COLUMN(Composições!E619)-1),\"\")","v":"UN"},2.81,2.97,0.17180000000000001,{"$f":"IF(ISNUMBER($L619),VALUE(OFFSET(Banco!$A$1,Composições!$L619-1,COLUMN(Composições!I619)-4)),0)","v":16.34},{"$f":"IF(ISNUMBER($L619),VALUE(OFFSET(Banco!$A$1,Composições!$L619-1,COLUMN(Composições!J619)-4)),0)","v":17.28},{"$f":"COUNTA($A$1:$A619)-1","v":76},{"$f":"MATCH(CONCATENATE($B619,\" \",$C619),Banco!$A:$A,0)","v":14487},{"$f":"IF(OR(ISERROR($L619),$H619=\"\",$H619=0),\"\",OFFSET(M$1,MATCH($K619,$K$1:$K619,0)-1,0))","v":"F"},null,{"$f":"IF(ISNUMBER($L619),VALUE(OFFSET(Banco!$A$1,Composições!$L619-1,COLUMN(Composições!O619)-6)),0)","v":0},{"$f":"IF(ISNUMBER($L619),VALUE(OFFSET(Banco!$A$1,Composições!$L619-1,COLUMN(Composições!P619)-6)),0)","v":0},0,0]
[null,"SINAPI",91186,{"$f":"IF(ISNUMBER($L620),OFFSET(Banco!$A$1,Composições!$L620-1,COLUMN(Composições!D620)-1),\"\")","v":"FIXAÇÃO DE TUBOS HORIZONTAIS DE PVC ÁGUA, PVC ESGOTO, PVC ÁGUA PLUVIAL, CPVC, PPR, COBRE OU AÇO, DIÂMETROS MAIORES QUE 40 MM E MENORES OU IGUAIS A 75 MM, COM ABRAÇADEIRA METÁLICA FLEXÍVEL 18 MM, FIXADA DIRETAMENTE NA LAJE. AF_09/2023"},{"$f":"IF(ISNUMBER($L620),OFFSET(Banco!$A$1,Composições!$L620-1,COLUMN(Composições!E620)-1),\"\")","v":"M"},1.1299999999999999,1.21,3.5299999999999998E-2,{"$f":"IF(ISNUMBER($L620),VALUE(OFFSET(Banco!$A$1,Composições!$L620-1,COLUMN(Composições!I620)-4)),0)","v":31.9},{"$f":"IF(ISNUMBER($L620),VALUE(OFFSET(Banco!$A$1,Composições!$L620-1,COLUMN(Composições!J620)-4)),0)","v":34.369999999999997},{"$f":"COUNTA($A$1:$A620)-1","v":76},{"$f":"MATCH(CONCATENATE($B620,\" \",$C620),Banco!$A:$A,0)","v":14495},{"$f":"IF(OR(ISERROR($L620),$H620=\"\",$H620=0),\"\",OFFSET(M$1,MATCH($K620,$K$1:$K620,0)-1,0))","v":"F"},null,{"$f":"IF(ISNUMBER($L620),VALUE(OFFSET(Banco!$A$1,Composições!$L620-1,COLUMN(Composições!O620)-6)),0)","v":3.73E-2},{"$f":"IF(ISNUMBER($L620),VALUE(OFFSET(Banco!$A$1,Composições!$L620-1,COLUMN(Composições!P620)-6)),0)","v":3.4599999999999999E-2},0.04,0.04]
[null,"SINAPI",90437,{"$f":"IF(ISNUMBER($L621),OFFSET(Banco!$A$1,Composições!$L621-1,COLUMN(Composições!D621)-1),\"\")","v":"FURO MANUAL EM ALVENARIA, PARA INSTALAÇÕES HIDRÁULICAS, DIÂMETROS MAIORES QUE 40 MM E MENORES OU IGUAIS A 75 MM. AF_09/2023"},{"$f":"IF(ISNUMBER($L621),OFFSET(Banco!$A$1,Composições!$L621-1,COLUMN(Composições!E621)-1),\"\")","v":"UN"},8.1999999999999993,8.91,0.17180000000000001,{"$f":"IF(ISNUMBER($L621),VALUE(OFFSET(Banco!$A$1,Composições!$L621-1,COLUMN(Composições!I621)-4)),0)","v":47.73},{"$f":"IF(ISNUMBER($L621),VALUE(OFFSET(Banco!$A$1,Composições!$L621-1,COLUMN(Composições!J621)-4)),0)","v":51.84},{"$f":"COUNTA($A$1:$A621)-1","v":76},{"$f":"MATCH(CONCATENATE($B621,\" \",$C621),Banco!$A:$A,0)","v":14510},{"$f":"IF(OR(ISERROR($L621),$H621=\"\",$H621=0),\"\",OFFSET(M$1,MATCH($K621,$K$1:$K621,0)-1,0))","v":"F"},null,{"$f":"IF(ISNUMBER($L621),VALUE(OFFSET(Banco!$A$1,Composições!$L621-1,COLUMN(Composições!O621)-6)),0)","v":0},{"$f":"IF(ISNUMBER($L621),VALUE(OFFSET(Banco!$A$1,Composições!$L621-1,COLUMN(Composições!P621)-6)),0)","v":0},0,0]
[null,"SINAPI",89732,{"$f":"IF(ISNUMBER($L622),OFFSET(Banco!$A$1,Composições!$L622-1,COLUMN(Composições!D622)-1),\"\")","v":"JOELHO 45 GRAUS, PVC, SERIE NORMAL, ESGOTO PREDIAL, DN 50 MM, JUNTA ELÁSTICA, FORNECIDO E INSTALADO EM RAMAL DE DESCARGA OU RAMAL DE ESGOTO SANITÁRIO. AF_08/2022"},{"$f":"IF(ISNUMBER($L622),OFFSET(Banco!$A$1,Composições!$L622-1,COLUMN(Composições!E622)-1),\"\")","v":"UN"},25.23,26.28,1.4991000000000001,{"$f":"IF(ISNUMBER($L622),VALUE(OFFSET(Banco!$A$1,Composições!$L622-1,COLUMN(Composições!I622)-4)),0)","v":16.829999999999998},{"$f":"IF(ISNUMBER($L622),VALUE(OFFSET(Banco!$A$1,Composições!$L622-1,COLUMN(Composições!J622)-4)),0)","v":17.53},{"$f":"COUNTA($A$1:$A622)-1","v":76},{"$f":"MATCH(CONCATENATE($B622,\" \",$C622),Banco!$A:$A,0)","v":11475},{"$f":"IF(OR(ISERROR($L622),$H622=\"\",$H622=0),\"\",OFFSET(M$1,MATCH($K622,$K$1:$K622,0)-1,0))","v":"F"},null,{"$f":"IF(ISNUMBER($L622),VALUE(OFFSET(Banco!$A$1,Composições!$L622-1,COLUMN(Composições!O622)-6)),0)","v":0},{"$f":"IF(ISNUMBER($L622),VALUE(OFFSET(Banco!$A$1,Composições!$L622-1,COLUMN(Composições!P622)-6)),0)","v":0},0,0]
[null,"SINAPI",89731,{"$f":"IF(ISNUMBER($L623),OFFSET(Banco!$A$1,Composições!$L623-1,COLUMN(Composições!D623)-1),\"\")","v":"JOELHO 90 GRAUS, PVC, SERIE NORMAL, ESGOTO PREDIAL, DN 50 MM, JUNTA ELÁSTICA, FORNECIDO E INSTALADO EM RAMAL DE DESCARGA OU RAMAL DE ESGOTO SANITÁRIO. AF_08/2022"},{"$f":"IF(ISNUMBER($L623),OFFSET(Banco!$A$1,Composições!$L623-1,COLUMN(Composições!E623)-1),\"\")","v":"UN"},22.94,23.94,1.4222999999999999,{"$f":"IF(ISNUMBER($L623),VALUE(OFFSET(Banco!$A$1,Composições!$L623-1,COLUMN(Composições!I623)-4)),0)","v":16.13},{"$f":"IF(ISNUMBER($L623),VALUE(OFFSET(Banco!$A$1,Composições!$L623-1,COLUMN(Composições!J623)-4)),0)","v":16.829999999999998},{"$f":"COUNTA($A$1:$A623)-1","v":76},{"$f":"MATCH(CONCATENATE($B623,\" \",$C623),Banco!$A:$A,0)","v":11484},{"$f":"IF(OR(ISERROR($L623),$H623=\"\",$H623=0),\"\",OFFSET(M$1,MATCH($K623,$K$1:$K623,0)-1,0))","v":"F"},null,{"$f":"IF(ISNUMBER($L623),VALUE(OFFSET(Banco!$A$1,Composições!$L623-1,COLUMN(Composições!O623)-6)),0)","v":0},{"$f":"IF(ISNUMBER($L623),VALUE(OFFSET(Banco!$A$1,Composições!$L623-1,COLUMN(Composições!P623)-6)),0)","v":0},0,0]
[null,"SINAPI",89813,{"$f":"IF(ISNUMBER($L624),OFFSET(Banco!$A$1,Composições!$L624-1,COLUMN(Composições!D624)-1),\"\")","v":"LUVA SIMPLES, PVC, SERIE NORMAL, ESGOTO PREDIAL, DN 50 MM, JUNTA ELÁSTICA, FORNECIDO E INSTALADO EM PRUMADA DE ESGOTO SANITÁRIO OU VENTILAÇÃO. AF_08/2022"},{"$f":"IF(ISNUMBER($L624),OFFSET(Banco!$A$1,Composições!$L624-1,COLUMN(Composições!E624)-1),\"\")","v":"UN"},0.17,0.17,2.7799999999999998E-2,{"$f":"IF(ISNUMBER($L624),VALUE(OFFSET(Banco!$A$1,Composições!$L624-1,COLUMN(Composições!I624)-4)),0)","v":6.01},{"$f":"IF(ISNUMBER($L624),VALUE(OFFSET(Banco!$A$1,Composições!$L624-1,COLUMN(Composições!J624)-4)),0)","v":6.13},{"$f":"COUNTA($A$1:$A624)-1","v":76},{"$f":"MATCH(CONCATENATE($B624,\" \",$C624),Banco!$A:$A,0)","v":11512},{"$f":"IF(OR(ISERROR($L624),$H624=\"\",$H624=0),\"\",OFFSET(M$1,MATCH($K624,$K$1:$K624,0)-1,0))","v":"F"},null,{"$f":"IF(ISNUMBER($L624),VALUE(OFFSET(Banco!$A$1,Composições!$L624-1,COLUMN(Composições!O624)-6)),0)","v":0},{"$f":"IF(ISNUMBER($L624),VALUE(OFFSET(Banco!$A$1,Composições!$L624-1,COLUMN(Composições!P624)-6)),0)","v":0},0,0]
[null,"SINAPI",89753,{"$f":"IF(ISNUMBER($L625),OFFSET(Banco!$A$1,Composições!$L625-1,COLUMN(Composições!D625)-1),\"\")","v":"LUVA SIMPLES, PVC, SERIE NORMAL, ESGOTO PREDIAL, DN 50 MM, JUNTA ELÁSTICA, FORNECIDO E INSTALADO EM RAMAL DE DESCARGA OU RAMAL DE ESGOTO SANITÁRIO. AF_08/2022"},{"$f":"IF(ISNUMBER($L625),OFFSET(Banco!$A$1,Composições!$L625-1,COLUMN(Composições!E625)-1),\"\")","v":"UN"},13.29,13.91,1.2919,{"$f":"IF(ISNUMBER($L625),VALUE(OFFSET(Banco!$A$1,Composições!$L625-1,COLUMN(Composições!I625)-4)),0)","v":10.29},{"$f":"IF(ISNUMBER($L625),VALUE(OFFSET(Banco!$A$1,Composições!$L625-1,COLUMN(Composições!J625)-4)),0)","v":10.77},{"$f":"COUNTA($A$1:$A625)-1","v":76},{"$f":"MATCH(CONCATENATE($B625,\" \",$C625),Banco!$A:$A,0)","v":11513},{"$f":"IF(OR(ISERROR($L625),$H625=\"\",$H625=0),\"\",OFFSET(M$1,MATCH($K625,$K$1:$K625,0)-1,0))","v":"F"},null,{"$f":"IF(ISNUMBER($L625),VALUE(OFFSET(Banco!$A$1,Composições!$L625-1,COLUMN(Composições!O625)-6)),0)","v":0},{"$f":"IF(ISNUMBER($L625),VALUE(OFFSET(Banco!$A$1,Composições!$L625-1,COLUMN(Composições!P625)-6)),0)","v":0},0,0]
[null,"SINAPI",90454,{"$f":"IF(ISNUMBER($L626),OFFSET(Banco!$A$1,Composições!$L626-1,COLUMN(Composições!D626)-1),\"\")","v":"PASSANTE TIPO TUBO COM DIÂMETRO DE 75 MM, FIXADO EM LAJE, PARA PASSAGEM DE TUBULAÇÕES COM NO MÁXIMO 50 MM DE DIÂMETRO. AF_09/2023"},{"$f":"IF(ISNUMBER($L626),OFFSET(Banco!$A$1,Composições!$L626-1,COLUMN(Composições!E626)-1),\"\")","v":"UN"},0.28999999999999998,0.31,4.2099999999999999E-2,{"$f":"IF(ISNUMBER($L626),VALUE(OFFSET(Banco!$A$1,Composições!$L626-1,COLUMN(Composições!I626)-4)),0)","v":6.99},{"$f":"IF(ISNUMBER($L626),VALUE(OFFSET(Banco!$A$1,Composições!$L626-1,COLUMN(Composições!J626)-4)),0)","v":7.36},{"$f":"COUNTA($A$1:$A626)-1","v":76},{"$f":"MATCH(CONCATENATE($B626,\" \",$C626),Banco!$A:$A,0)","v":14538},{"$f":"IF(OR(ISERROR($L626),$H626=\"\",$H626=0),\"\",OFFSET(M$1,MATCH($K626,$K$1:$K626,0)-1,0))","v":"F"},null,{"$f":"IF(ISNUMBER($L626),VALUE(OFFSET(Banco!$A$1,Composições!$L626-1,COLUMN(Composições!O626)-6)),0)","v":0},{"$f":"IF(ISNUMBER($L626),VALUE(OFFSET(Banco!$A$1,Composições!$L626-1,COLUMN(Composições!P626)-6)),0)","v":0},0,0]
[null,"SINAPI",91222,{"$f":"IF(ISNUMBER($L627),OFFSET(Banco!$A$1,Composições!$L627-1,COLUMN(Composições!D627)-1),\"\")","v":"RASGO LINEAR MANUAL EM ALVENARIA, PARA RAMAIS/ DISTRIBUIÇÃO DE INSTALAÇÕES HIDRÁULICAS, DIÂMETROS MAIORES QUE 40 MM E MENORES OU IGUAIS A 75 MM. AF_09/2023"},{"$f":"IF(ISNUMBER($L627),OFFSET(Banco!$A$1,Composições!$L627-1,COLUMN(Composições!E627)-1),\"\")","v":"M"},1.1499999999999999,1.25,0.1074,{"$f":"IF(ISNUMBER($L627),VALUE(OFFSET(Banco!$A$1,Composições!$L627-1,COLUMN(Composições!I627)-4)),0)","v":10.68},{"$f":"IF(ISNUMBER($L627),VALUE(OFFSET(Banco!$A$1,Composições!$L627-1,COLUMN(Composições!J627)-4)),0)","v":11.61},{"$f":"COUNTA($A$1:$A627)-1","v":76},{"$f":"MATCH(CONCATENATE($B627,\" \",$C627),Banco!$A:$A,0)","v":14544},{"$f":"IF(OR(ISERROR($L627),$H627=\"\",$H627=0),\"\",OFFSET(M$1,MATCH($K627,$K$1:$K627,0)-1,0))","v":"F"},null,{"$f":"IF(ISNUMBER($L627),VALUE(OFFSET(Banco!$A$1,Composições!$L627-1,COLUMN(Composições!O627)-6)),0)","v":0},{"$f":"IF(ISNUMBER($L627),VALUE(OFFSET(Banco!$A$1,Composições!$L627-1,COLUMN(Composições!P627)-6)),0)","v":0},0,0]
[null,"SINAPI",89784,{"$f":"IF(ISNUMBER($L628),OFFSET(Banco!$A$1,Composições!$L628-1,COLUMN(Composições!D628)-1),\"\")","v":"TE, PVC, SERIE NORMAL, ESGOTO PREDIAL, DN 50 X 50 MM, JUNTA ELÁSTICA, FORNECIDO E INSTALADO EM RAMAL DE DESCARGA OU RAMAL DE ESGOTO SANITÁRIO. AF_08/2022"},{"$f":"IF(ISNUMBER($L628),OFFSET(Banco!$A$1,Composições!$L628-1,COLUMN(Composições!E628)-1),\"\")","v":"UN"},1.79,1.86,7.0000000000000007E-2,{"$f":"IF(ISNUMBER($L628),VALUE(OFFSET(Banco!$A$1,Composições!$L628-1,COLUMN(Composições!I628)-4)),0)","v":25.62},{"$f":"IF(ISNUMBER($L628),VALUE(OFFSET(Banco!$A$1,Composições!$L628-1,COLUMN(Composições!J628)-4)),0)","v":26.57},{"$f":"COUNTA($A$1:$A628)-1","v":76},{"$f":"MATCH(CONCATENATE($B628,\" \",$C628),Banco!$A:$A,0)","v":11522},{"$f":"IF(OR(ISERROR($L628),$H628=\"\",$H628=0),\"\",OFFSET(M$1,MATCH($K628,$K$1:$K628,0)-1,0))","v":"F"},null,{"$f":"IF(ISNUMBER($L628),VALUE(OFFSET(Banco!$A$1,Composições!$L628-1,COLUMN(Composições!O628)-6)),0)","v":0},{"$f":"IF(ISNUMBER($L628),VALUE(OFFSET(Banco!$A$1,Composições!$L628-1,COLUMN(Composições!P628)-6)),0)","v":0},0,0]
[null,"SINAPI",89712,{"$f":"IF(ISNUMBER($L629),OFFSET(Banco!$A$1,Composições!$L629-1,COLUMN(Composições!D629)-1),\"\")","v":"TUBO PVC, SERIE NORMAL, ESGOTO PREDIAL, DN 50 MM, FORNECIDO E INSTALADO EM RAMAL DE DESCARGA OU RAMAL DE ESGOTO SANITÁRIO. AF_08/2022"},{"$f":"IF(ISNUMBER($L629),OFFSET(Banco!$A$1,Composições!$L629-1,COLUMN(Composições!E629)-1),\"\")","v":"M"},30.29,31.92,1,{"$f":"IF(ISNUMBER($L629),VALUE(OFFSET(Banco!$A$1,Composições!$L629-1,COLUMN(Composições!I629)-4)),0)","v":30.29},{"$f":"IF(ISNUMBER($L629),VALUE(OFFSET(Banco!$A$1,Composições!$L629-1,COLUMN(Composições!J629)-4)),0)","v":31.92},{"$f":"COUNTA($A$1:$A629)-1","v":76},{"$f":"MATCH(CONCATENATE($B629,\" \",$C629),Banco!$A:$A,0)","v":11538},{"$f":"IF(OR(ISERROR($L629),$H629=\"\",$H629=0),\"\",OFFSET(M$1,MATCH($K629,$K$1:$K629,0)-1,0))","v":"F"},null,{"$f":"IF(ISNUMBER($L629),VALUE(OFFSET(Banco!$A$1,Composições!$L629-1,COLUMN(Composições!O629)-6)),0)","v":0},{"$f":"IF(ISNUMBER($L629),VALUE(OFFSET(Banco!$A$1,Composições!$L629-1,COLUMN(Composições!P629)-6)),0)","v":0},0,0]
[null,null,null,null,null,null,null,null,null,null,{"$f":"COUNTA($A$1:$A630)-1","v":76},null,{"$f":"IF(OFFSET($M$1,MATCH(OFFSET(K630,-1,0),$K$1:$K630,0)-1,0)=\"F\",\"F\",\"\")","v":"F"}]
[{"$f":"CONCATENATE($B631,\" \",$C631)","v":"Composição INHI.0210.01"},"Composição","INHI.0210.01","(COMPOSIÇÃO REPRESENTATIVA) DO SERVIÇO DE INSTALAÇÃO DE TUBOS DE PVC, SOLDÁVEL, ÁGUA FRIA, DN 25 MM (INSTALADO EM RAMAL, SUB-RAMAL, RAMAL DE DISTRIBUIÇÃO OU PRUMADA), INCLUSIVE CONEXÕES, CORTES E FIXAÇÕES, PARA PRÉDIOS.","M",{"$f":"IF($L631>0,SUM(OFFSET(F631,1,0,$L631),0))","v":52.25},55.820000000000007,null,{"$f":"IF(ISERROR(F631),0,F631)","v":52.25},55.820000000000007,{"$f":"COUNTA($A$1:$A631)-1","v":77},{"$f":"IF(MAX(K:K)=K631,MATCH(9999999,$K:$K)+1,MATCH(K631+1,K:K,0))-ROW(L631)-2","v":25},{"$f":"IF(AND(OR(I631<>0,J631<>0),N631=\"Sim\"),\"F\",\"\")","v":"F"},"Sim",{"$f":"IF(AND($L631>0,F631<>0),ROUND(SUM(OFFSET(Q631,1,0,$L631))/F631,4),0)","v":2.0000000000000001E-4},2.0000000000000001E-4]
[null,"SINAPI",89383,{"$f":"IF(ISNUMBER($L632),OFFSET(Banco!$A$1,Composições!$L632-1,COLUMN(Composições!D632)-1),\"\")","v":"ADAPTADOR CURTO COM BOLSA E ROSCA PARA REGISTRO, PVC, SOLDÁVEL, DN 25MM X 3/4, INSTALADO EM RAMAL OU SUB-RAMAL DE ÁGUA - FORNECIMENTO E INSTALAÇÃO. AF_06/2022"},{"$f":"IF(ISNUMBER($L632),OFFSET(Banco!$A$1,Composições!$L632-1,COLUMN(Composições!E632)-1),\"\")","v":"UN"},{"$f":"ROUND($H632*ROUND(I632,2),2)","v":4.97},{"$f":"ROUND($H632*ROUND(J632,2),2)","v":5.29},0.6522,{"$f":"IF(ISNUMBER($L632),VALUE(OFFSET(Banco!$A$1,Composições!$L632-1,COLUMN(Composições!I632)-4)),0)","v":7.62},{"$f":"IF(ISNUMBER($L632),VALUE(OFFSET(Banco!$A$1,Composições!$L632-1,COLUMN(Composições!J632)-4)),0)","v":8.11},{"$f":"COUNTA($A$1:$A632)-1","v":77},{"$f":"MATCH(CONCATENATE($B632,\" \",$C632),Banco!$A:$A,0)","v":11543},{"$f":"IF(OR(ISERROR($L632),$H632=\"\",$H632=0),\"\",OFFSET(M$1,MATCH($K632,$K$1:$K632,0)-1,0))","v":"F"},null,{"$f":"IF(ISNUMBER($L632),VALUE(OFFSET(Banco!$A$1,Composições!$L632-1,COLUMN(Composições!O632)-6)),0)","v":0},{"$f":"IF(ISNUMBER($L632),VALUE(OFFSET(Banco!$A$1,Composições!$L632-1,COLUMN(Composições!P632)-6)),0)","v":0},{"$f":"ROUND(F632*O632,2)","v":0},{"$f":"ROUND(G632*P632,2)","v":0}]
[null,"SINAPI",90466,{"$f":"IF(ISNUMBER($L633),OFFSET(Banco!$A$1,Composições!$L633-1,COLUMN(Composições!D633)-1),\"\")","v":"CHUMBAMENTO LINEAR EM ALVENARIA PARA RAMAIS/DISTRIBUIÇÃO DE INSTALAÇÕES HIDRÁULICAS COM DIÂMETROS MENORES OU IGUAIS A 40 MM. AF_09/2023"},{"$f":"IF(ISNUMBER($L633),OFFSET(Banco!$A$1,Composições!$L633-1,COLUMN(Composições!E633)-1),\"\")","v":"M"},3.6,3.87,0.2006,{"$f":"IF(ISNUMBER($L633),VALUE(OFFSET(Banco!$A$1,Composições!$L633-1,COLUMN(Composições!I633)-4)),0)","v":17.940000000000001},{"$f":"IF(ISNUMBER($L633),VALUE(OFFSET(Banco!$A$1,Composições!$L633-1,COLUMN(Composições!J633)-4)),0)","v":19.28},{"$f":"COUNTA($A$1:$A633)-1","v":77},{"$f":"MATCH(CONCATENATE($B633,\" \",$C633),Banco!$A:$A,0)","v":14479},{"$f":"IF(OR(ISERROR($L633),$H633=\"\",$H633=0),\"\",OFFSET(M$1,MATCH($K633,$K$1:$K633,0)-1,0))","v":"F"},null,{"$f":"IF(ISNUMBER($L633),VALUE(OFFSET(Banco!$A$1,Composições!$L633-1,COLUMN(Composições!O633)-6)),0)","v":0},{"$f":"IF(ISNUMBER($L633),VALUE(OFFSET(Banco!$A$1,Composições!$L633-1,COLUMN(Composições!P633)-6)),0)","v":0},0,0]
[null,"SINAPI",91190,{"$f":"IF(ISNUMBER($L634),OFFSET(Banco!$A$1,Composições!$L634-1,COLUMN(Composições!D634)-1),\"\")","v":"CHUMBAMENTO PONTUAL EM PASSAGEM DE TUBO COM DIÂMETRO MENOR OU IGUAL A 40 MM. AF_09/2023"},{"$f":"IF(ISNUMBER($L634),OFFSET(Banco!$A$1,Composições!$L634-1,COLUMN(Composições!E634)-1),\"\")","v":"UN"},0.1,0.11,8.3000000000000001E-3,{"$f":"IF(ISNUMBER($L634),VALUE(OFFSET(Banco!$A$1,Composições!$L634-1,COLUMN(Composições!I634)-4)),0)","v":12.07},{"$f":"IF(ISNUMBER($L634),VALUE(OFFSET(Banco!$A$1,Composições!$L634-1,COLUMN(Composições!J634)-4)),0)","v":12.85},{"$f":"COUNTA($A$1:$A634)-1","v":77},{"$f":"MATCH(CONCATENATE($B634,\" \",$C634),Banco!$A:$A,0)","v":14486},{"$f":"IF(OR(ISERROR($L634),$H634=\"\",$H634=0),\"\",OFFSET(M$1,MATCH($K634,$K$1:$K634,0)-1,0))","v":"F"},null,{"$f":"IF(ISNUMBER($L634),VALUE(OFFSET(Banco!$A$1,Composições!$L634-1,COLUMN(Composições!O634)-6)),0)","v":0},{"$f":"IF(ISNUMBER($L634),VALUE(OFFSET(Banco!$A$1,Composições!$L634-1,COLUMN(Composições!P634)-6)),0)","v":0},0,0]
[null,"SINAPI",91185,{"$f":"IF(ISNUMBER($L635),OFFSET(Banco!$A$1,Composições!$L635-1,COLUMN(Composições!D635)-1),\"\")","v":"FIXAÇÃO DE TUBOS HORIZONTAIS DE PVC ÁGUA, PVC ESGOTO, PVC ÁGUA PLUVIAL, CPVC, PPR, COBRE OU AÇO, DIÂMETROS MENORES OU IGUAIS A 40 MM, COM ABRAÇADEIRA METÁLICA FLEXÍVEL 18 MM, FIXADA DIRETAMENTE NA LAJE. AF_09/2023"},{"$f":"IF(ISNUMBER($L635),OFFSET(Banco!$A$1,Composições!$L635-1,COLUMN(Composições!E635)-1),\"\")","v":"M"},0.27,0.28999999999999998,9.1999999999999998E-3,{"$f":"IF(ISNUMBER($L635),VALUE(OFFSET(Banco!$A$1,Composições!$L635-1,COLUMN(Composições!I635)-4)),0)","v":28.86},{"$f":"IF(ISNUMBER($L635),VALUE(OFFSET(Banco!$A$1,Composições!$L635-1,COLUMN(Composições!J635)-4)),0)","v":31.09},{"$f":"COUNTA($A$1:$A635)-1","v":77},{"$f":"MATCH(CONCATENATE($B635,\" \",$C635),Banco!$A:$A,0)","v":14499},{"$f":"IF(OR(ISERROR($L635),$H635=\"\",$H635=0),\"\",OFFSET(M$1,MATCH($K635,$K$1:$K635,0)-1,0))","v":"F"},null,{"$f":"IF(ISNUMBER($L635),VALUE(OFFSET(Banco!$A$1,Composições!$L635-1,COLUMN(Composições!O635)-6)),0)","v":3.15E-2},{"$f":"IF(ISNUMBER($L635),VALUE(OFFSET(Banco!$A$1,Composições!$L635-1,COLUMN(Composições!P635)-6)),0)","v":2.93E-2},0.01,0.01]
[null,"SINAPI",90436,{"$f":"IF(ISNUMBER($L636),OFFSET(Banco!$A$1,Composições!$L636-1,COLUMN(Composições!D636)-1),\"\")","v":"FURO MANUAL EM ALVENARIA, PARA INSTALAÇÕES HIDRÁULICAS, DIÂMETROS MENORES OU IGUAIS A 40 MM. AF_09/2023"},{"$f":"IF(ISNUMBER($L636),OFFSET(Banco!$A$1,Composições!$L636-1,COLUMN(Composições!E636)-1),\"\")","v":"UN"},0.15,0.16,8.3000000000000001E-3,{"$f":"IF(ISNUMBER($L636),VALUE(OFFSET(Banco!$A$1,Composições!$L636-1,COLUMN(Composições!I636)-4)),0)","v":17.899999999999999},{"$f":"IF(ISNUMBER($L636),VALUE(OFFSET(Banco!$A$1,Composições!$L636-1,COLUMN(Composições!J636)-4)),0)","v":19.45},{"$f":"COUNTA($A$1:$A636)-1","v":77},{"$f":"MATCH(CONCATENATE($B636,\" \",$C636),Banco!$A:$A,0)","v":14512},{"$f":"IF(OR(ISERROR($L636),$H636=\"\",$H636=0),\"\",OFFSET(M$1,MATCH($K636,$K$1:$K636,0)-1,0))","v":"F"},null,{"$f":"IF(ISNUMBER($L636),VALUE(OFFSET(Banco!$A$1,Composições!$L636-1,COLUMN(Composições!O636)-6)),0)","v":0},{"$f":"IF(ISNUMBER($L636),VALUE(OFFSET(Banco!$A$1,Composições!$L636-1,COLUMN(Composições!P636)-6)),0)","v":0},0,0]
[null,"SINAPI",89366,{"$f":"IF(ISNUMBER($L637),OFFSET(Banco!$A$1,Composições!$L637-1,COLUMN(Composições!D637)-1),\"\")","v":"JOELHO 90 GRAUS COM BUCHA DE LATÃO, PVC, SOLDÁVEL, DN 25MM, X 3/4 INSTALADO EM RAMAL OU SUB-RAMAL DE ÁGUA - FORNECIMENTO E INSTALAÇÃO. AF_06/2022"},{"$f":"IF(ISNUMBER($L637),OFFSET(Banco!$A$1,Composições!$L637-1,COLUMN(Composições!E637)-1),\"\")","v":"UN"},2.9,3.03,0.1694,{"$f":"IF(ISNUMBER($L637),VALUE(OFFSET(Banco!$A$1,Composições!$L637-1,COLUMN(Composições!I637)-4)),0)","v":17.14},{"$f":"IF(ISNUMBER($L637),VALUE(OFFSET(Banco!$A$1,Composições!$L637-1,COLUMN(Composições!J637)-4)),0)","v":17.87},{"$f":"COUNTA($A$1:$A637)-1","v":77},{"$f":"MATCH(CONCATENATE($B637,\" \",$C637),Banco!$A:$A,0)","v":11634},{"$f":"IF(OR(ISERROR($L637),$H637=\"\",$H637=0),\"\",OFFSET(M$1,MATCH($K637,$K$1:$K637,0)-1,0))","v":"F"},null,{"$f":"IF(ISNUMBER($L637),VALUE(OFFSET(Banco!$A$1,Composições!$L637-1,COLUMN(Composições!O637)-6)),0)","v":0},{"$f":"IF(ISNUMBER($L637),VALUE(OFFSET(Banco!$A$1,Composições!$L637-1,COLUMN(Composições!P637)-6)),0)","v":0},0,0]
[null,"SINAPI",89481,{"$f":"IF(ISNUMBER($L638),OFFSET(Banco!$A$1,Composições!$L638-1,COLUMN(Composições!D638)-1),\"\")","v":"JOELHO 90 GRAUS, PVC, SOLDÁVEL, DN 25MM, INSTALADO EM PRUMADA DE ÁGUA - FORNECIMENTO E INSTALAÇÃO. AF_06/2022"},{"$f":"IF(ISNUMBER($L638),OFFSET(Banco!$A$1,Composições!$L638-1,COLUMN(Composições!E638)-1),\"\")","v":"UN"},0.41,0.44,6.7000000000000004E-2,{"$f":"IF(ISNUMBER($L638),VALUE(OFFSET(Banco!$A$1,Composições!$L638-1,COLUMN(Composições!I638)-4)),0)","v":6.15},{"$f":"IF(ISNUMBER($L638),VALUE(OFFSET(Banco!$A$1,Composições!$L638-1,COLUMN(Composições!J638)-4)),0)","v":6.51},{"$f":"COUNTA($A$1:$A638)-1","v":77},{"$f":"MATCH(CONCATENATE($B638,\" \",$C638),Banco!$A:$A,0)","v":11637},{"$f":"IF(OR(ISERROR($L638),$H638=\"\",$H638=0),\"\",OFFSET(M$1,MATCH($K638,$K$1:$K638,0)-1,0))","v":"F"},null,{"$f":"IF(ISNUMBER($L638),VALUE(OFFSET(Banco!$A$1,Composições!$L638-1,COLUMN(Composições!O638)-6)),0)","v":0},{"$f":"IF(ISNUMBER($L638),VALUE(OFFSET(Banco!$A$1,Composições!$L638-1,COLUMN(Composições!P638)-6)),0)","v":0},0,0]
[null,"SINAPI",89408,{"$f":"IF(ISNUMBER($L639),OFFSET(Banco!$A$1,Composições!$L639-1,COLUMN(Composições!D639)-1),\"\")","v":"JOELHO 90 GRAUS, PVC, SOLDÁVEL, DN 25MM, INSTALADO EM RAMAL DE DISTRIBUIÇÃO DE ÁGUA - FORNECIMENTO E INSTALAÇÃO. AF_06/2022"},{"$f":"IF(ISNUMBER($L639),OFFSET(Banco!$A$1,Composições!$L639-1,COLUMN(Composições!E639)-1),\"\")","v":"UN"},0.08,0.08,7.6E-3,{"$f":"IF(ISNUMBER($L639),VALUE(OFFSET(Banco!$A$1,Composições!$L639-1,COLUMN(Composições!I639)-4)),0)","v":10.17},{"$f":"IF(ISNUMBER($L639),VALUE(OFFSET(Banco!$A$1,Composições!$L639-1,COLUMN(Composições!J639)-4)),0)","v":10.86},{"$f":"COUNTA($A$1:$A639)-1","v":77},{"$f":"MATCH(CONCATENATE($B639,\" \",$C639),Banco!$A:$A,0)","v":11638},{"$f":"IF(OR(ISERROR($L639),$H639=\"\",$H639=0),\"\",OFFSET(M$1,MATCH($K639,$K$1:$K639,0)-1,0))","v":"F"},null,{"$f":"IF(ISNUMBER($L639),VALUE(OFFSET(Banco!$A$1,Composições!$L639-1,COLUMN(Composições!O639)-6)),0)","v":0},{"$f":"IF(ISNUMBER($L639),VALUE(OFFSET(Banco!$A$1,Composições!$L639-1,COLUMN(Composições!P639)-6)),0)","v":0},0,0]
[null,"SINAPI",89362,{"$f":"IF(ISNUMBER($L640),OFFSET(Banco!$A$1,Composições!$L640-1,COLUMN(Composições!D640)-1),\"\")","v":"JOELHO 90 GRAUS, PVC, SOLDÁVEL, DN 25MM, INSTALADO EM RAMAL OU SUB-RAMAL DE ÁGUA - FORNECIMENTO E INSTALAÇÃO. AF_06/2022"},{"$f":"IF(ISNUMBER($L640),OFFSET(Banco!$A$1,Composições!$L640-1,COLUMN(Composições!E640)-1),\"\")","v":"UN"},7.29,7.8,0.65429999999999999,{"$f":"IF(ISNUMBER($L640),VALUE(OFFSET(Banco!$A$1,Composições!$L640-1,COLUMN(Composições!I640)-4)),0)","v":11.14},{"$f":"IF(ISNUMBER($L640),VALUE(OFFSET(Banco!$A$1,Composições!$L640-1,COLUMN(Composições!J640)-4)),0)","v":11.92},{"$f":"COUNTA($A$1:$A640)-1","v":77},{"$f":"MATCH(CONCATENATE($B640,\" \",$C640),Banco!$A:$A,0)","v":11639},{"$f":"IF(OR(ISERROR($L640),$H640=\"\",$H640=0),\"\",OFFSET(M$1,MATCH($K640,$K$1:$K640,0)-1,0))","v":"F"},null,{"$f":"IF(ISNUMBER($L640),VALUE(OFFSET(Banco!$A$1,Composições!$L640-1,COLUMN(Composições!O640)-6)),0)","v":0},{"$f":"IF(ISNUMBER($L640),VALUE(OFFSET(Banco!$A$1,Composições!$L640-1,COLUMN(Composições!P640)-6)),0)","v":0},0,0]
[null,"SINAPI",89532,{"$f":"IF(ISNUMBER($L641),OFFSET(Banco!$A$1,Composições!$L641-1,COLUMN(Composições!D641)-1),\"\")","v":"LUVA DE REDUÇÃO, PVC, SOLDÁVEL, DN 32MM X 25MM, INSTALADO EM PRUMADA DE ÁGUA - FORNECIMENTO E INSTALAÇÃO. AF_06/2022"},{"$f":"IF(ISNUMBER($L641),OFFSET(Banco!$A$1,Composições!$L641-1,COLUMN(Composições!E641)-1),\"\")","v":"UN"},0.34,0.36,4.6100000000000002E-2,{"$f":"IF(ISNUMBER($L641),VALUE(OFFSET(Banco!$A$1,Composições!$L641-1,COLUMN(Composições!I641)-4)),0)","v":7.47},{"$f":"IF(ISNUMBER($L641),VALUE(OFFSET(Banco!$A$1,Composições!$L641-1,COLUMN(Composições!J641)-4)),0)","v":7.73},{"$f":"COUNTA($A$1:$A641)-1","v":77},{"$f":"MATCH(CONCATENATE($B641,\" \",$C641),Banco!$A:$A,0)","v":11680},{"$f":"IF(OR(ISERROR($L641),$H641=\"\",$H641=0),\"\",OFFSET(M$1,MATCH($K641,$K$1:$K641,0)-1,0))","v":"F"},null,{"$f":"IF(ISNUMBER($L641),VALUE(OFFSET(Banco!$A$1,Composições!$L641-1,COLUMN(Composições!O641)-6)),0)","v":0},{"$f":"IF(ISNUMBER($L641),VALUE(OFFSET(Banco!$A$1,Composições!$L641-1,COLUMN(Composições!P641)-6)),0)","v":0},0,0]
[null,"SINAPI",89528,{"$f":"IF(ISNUMBER($L642),OFFSET(Banco!$A$1,Composições!$L642-1,COLUMN(Composições!D642)-1),\"\")","v":"LUVA, PVC, SOLDÁVEL, DN 25MM, INSTALADO EM PRUMADA DE ÁGUA - FORNECIMENTO E INSTALAÇÃO. AF_06/2022"},{"$f":"IF(ISNUMBER($L642),OFFSET(Banco!$A$1,Composições!$L642-1,COLUMN(Composições!E642)-1),\"\")","v":"UN"},0.06,7.0000000000000007E-2,1.35E-2,{"$f":"IF(ISNUMBER($L642),VALUE(OFFSET(Banco!$A$1,Composições!$L642-1,COLUMN(Composições!I642)-4)),0)","v":4.8099999999999996},{"$f":"IF(ISNUMBER($L642),VALUE(OFFSET(Banco!$A$1,Composições!$L642-1,COLUMN(Composições!J642)-4)),0)","v":5.05},{"$f":"COUNTA($A$1:$A642)-1","v":77},{"$f":"MATCH(CONCATENATE($B642,\" \",$C642),Banco!$A:$A,0)","v":11695},{"$f":"IF(OR(ISERROR($L642),$H642=\"\",$H642=0),\"\",OFFSET(M$1,MATCH($K642,$K$1:$K642,0)-1,0))","v":"F"},null,{"$f":"IF(ISNUMBER($L642),VALUE(OFFSET(Banco!$A$1,Composições!$L642-1,COLUMN(Composições!O642)-6)),0)","v":0},{"$f":"IF(ISNUMBER($L642),VALUE(OFFSET(Banco!$A$1,Composições!$L642-1,COLUMN(Composições!P642)-6)),0)","v":0},0,0]
[null,"SINAPI",89424,{"$f":"IF(ISNUMBER($L643),OFFSET(Banco!$A$1,Composições!$L643-1,COLUMN(Composições!D643)-1),\"\")","v":"LUVA, PVC, SOLDÁVEL, DN 25MM, INSTALADO EM RAMAL DE DISTRIBUIÇÃO DE ÁGUA - FORNECIMENTO E INSTALAÇÃO. AF_06/2022"},{"$f":"IF(ISNUMBER($L643),OFFSET(Banco!$A$1,Composições!$L643-1,COLUMN(Composições!E643)-1),\"\")","v":"UN"},0.1,0.11,1.35E-2,{"$f":"IF(ISNUMBER($L643),VALUE(OFFSET(Banco!$A$1,Composições!$L643-1,COLUMN(Composições!I643)-4)),0)","v":7.51},{"$f":"IF(ISNUMBER($L643),VALUE(OFFSET(Banco!$A$1,Composições!$L643-1,COLUMN(Composições!J643)-4)),0)","v":7.97},{"$f":"COUNTA($A$1:$A643)-1","v":77},{"$f":"MATCH(CONCATENATE($B643,\" \",$C643),Banco!$A:$A,0)","v":11696},{"$f":"IF(OR(ISERROR($L643),$H643=\"\",$H643=0),\"\",OFFSET(M$1,MATCH($K643,$K$1:$K643,0)-1,0))","v":"F"},null,{"$f":"IF(ISNUMBER($L643),VALUE(OFFSET(Banco!$A$1,Composições!$L643-1,COLUMN(Composições!O643)-6)),0)","v":0},{"$f":"IF(ISNUMBER($L643),VALUE(OFFSET(Banco!$A$1,Composições!$L643-1,COLUMN(Composições!P643)-6)),0)","v":0},0,0]
[null,"SINAPI",89378,{"$f":"IF(ISNUMBER($L644),OFFSET(Banco!$A$1,Composições!$L644-1,COLUMN(Composições!D644)-1),\"\")","v":"LUVA, PVC, SOLDÁVEL, DN 25MM, INSTALADO EM RAMAL OU SUB-RAMAL DE ÁGUA - FORNECIMENTO E INSTALAÇÃO. AF_06/2022"},{"$f":"IF(ISNUMBER($L644),OFFSET(Banco!$A$1,Composições!$L644-1,COLUMN(Composições!E644)-1),\"\")","v":"UN"},0.63,0.67,7.7299999999999994E-2,{"$f":"IF(ISNUMBER($L644),VALUE(OFFSET(Banco!$A$1,Composições!$L644-1,COLUMN(Composições!I644)-4)),0)","v":8.15},{"$f":"IF(ISNUMBER($L644),VALUE(OFFSET(Banco!$A$1,Composições!$L644-1,COLUMN(Composições!J644)-4)),0)","v":8.68},{"$f":"COUNTA($A$1:$A644)-1","v":77},{"$f":"MATCH(CONCATENATE($B644,\" \",$C644),Banco!$A:$A,0)","v":11697},{"$f":"IF(OR(ISERROR($L644),$H644=\"\",$H644=0),\"\",OFFSET(M$1,MATCH($K644,$K$1:$K644,0)-1,0))","v":"F"},null,{"$f":"IF(ISNUMBER($L644),VALUE(OFFSET(Banco!$A$1,Composições!$L644-1,COLUMN(Composições!O644)-6)),0)","v":0},{"$f":"IF(ISNUMBER($L644),VALUE(OFFSET(Banco!$A$1,Composições!$L644-1,COLUMN(Composições!P644)-6)),0)","v":0},0,0]
[null,"SINAPI",90453,{"$f":"IF(ISNUMBER($L645),OFFSET(Banco!$A$1,Composições!$L645-1,COLUMN(Composições!D645)-1),\"\")","v":"PASSANTE TIPO TUBO COM DIÂMETRO DE 40 MM, FIXADO EM LAJE, PARA PASSAGEM DE TUBULAÇÕES COM NO MÁXIMO 32 MM DE DIÂMETRO. AF_09/2023"},{"$f":"IF(ISNUMBER($L645),OFFSET(Banco!$A$1,Composições!$L645-1,COLUMN(Composições!E645)-1),\"\")","v":"UN"},0.03,0.03,7.1000000000000004E-3,{"$f":"IF(ISNUMBER($L645),VALUE(OFFSET(Banco!$A$1,Composições!$L645-1,COLUMN(Composições!I645)-4)),0)","v":4.4000000000000004},{"$f":"IF(ISNUMBER($L645),VALUE(OFFSET(Banco!$A$1,Composições!$L645-1,COLUMN(Composições!J645)-4)),0)","v":4.6399999999999997},{"$f":"COUNTA($A$1:$A645)-1","v":77},{"$f":"MATCH(CONCATENATE($B645,\" \",$C645),Banco!$A:$A,0)","v":14536},{"$f":"IF(OR(ISERROR($L645),$H645=\"\",$H645=0),\"\",OFFSET(M$1,MATCH($K645,$K$1:$K645,0)-1,0))","v":"F"},null,{"$f":"IF(ISNUMBER($L645),VALUE(OFFSET(Banco!$A$1,Composições!$L645-1,COLUMN(Composições!O645)-6)),0)","v":0},{"$f":"IF(ISNUMBER($L645),VALUE(OFFSET(Banco!$A$1,Composições!$L645-1,COLUMN(Composições!P645)-6)),0)","v":0},0,0]
[null,"SINAPI",90443,{"$f":"IF(ISNUMBER($L646),OFFSET(Banco!$A$1,Composições!$L646-1,COLUMN(Composições!D646)-1),\"\")","v":"RASGO LINEAR MANUAL EM ALVENARIA, PARA RAMAIS/ DISTRIBUIÇÃO DE INSTALAÇÕES HIDRÁULICAS, DIÂMETROS MENORES OU IGUAIS A 40 MM. AF_09/2023"},{"$f":"IF(ISNUMBER($L646),OFFSET(Banco!$A$1,Composições!$L646-1,COLUMN(Composições!E646)-1),\"\")","v":"M"},1.93,2.1,0.2006,{"$f":"IF(ISNUMBER($L646),VALUE(OFFSET(Banco!$A$1,Composições!$L646-1,COLUMN(Composições!I646)-4)),0)","v":9.61},{"$f":"IF(ISNUMBER($L646),VALUE(OFFSET(Banco!$A$1,Composições!$L646-1,COLUMN(Composições!J646)-4)),0)","v":10.45},{"$f":"COUNTA($A$1:$A646)-1","v":77},{"$f":"MATCH(CONCATENATE($B646,\" \",$C646),Banco!$A:$A,0)","v":14545},{"$f":"IF(OR(ISERROR($L646),$H646=\"\",$H646=0),\"\",OFFSET(M$1,MATCH($K646,$K$1:$K646,0)-1,0))","v":"F"},null,{"$f":"IF(ISNUMBER($L646),VALUE(OFFSET(Banco!$A$1,Composições!$L646-1,COLUMN(Composições!O646)-6)),0)","v":0},{"$f":"IF(ISNUMBER($L646),VALUE(OFFSET(Banco!$A$1,Composições!$L646-1,COLUMN(Composições!P646)-6)),0)","v":0},0,0]
[null,"SINAPI",89396,{"$f":"IF(ISNUMBER($L647),OFFSET(Banco!$A$1,Composições!$L647-1,COLUMN(Composições!D647)-1),\"\")","v":"TÊ COM BUCHA DE LATÃO NA BOLSA CENTRAL, PVC, SOLDÁVEL, DN 25MM X 1/2, INSTALADO EM RAMAL OU SUB-RAMAL DE ÁGUA - FORNECIMENTO E INSTALAÇÃO. AF_06/2022"},{"$f":"IF(ISNUMBER($L647),OFFSET(Banco!$A$1,Composições!$L647-1,COLUMN(Composições!E647)-1),\"\")","v":"UN"},0.36,0.38,1.6799999999999999E-2,{"$f":"IF(ISNUMBER($L647),VALUE(OFFSET(Banco!$A$1,Composições!$L647-1,COLUMN(Composições!I647)-4)),0)","v":21.5},{"$f":"IF(ISNUMBER($L647),VALUE(OFFSET(Banco!$A$1,Composições!$L647-1,COLUMN(Composições!J647)-4)),0)","v":22.4},{"$f":"COUNTA($A$1:$A647)-1","v":77},{"$f":"MATCH(CONCATENATE($B647,\" \",$C647),Banco!$A:$A,0)","v":11745},{"$f":"IF(OR(ISERROR($L647),$H647=\"\",$H647=0),\"\",OFFSET(M$1,MATCH($K647,$K$1:$K647,0)-1,0))","v":"F"},null,{"$f":"IF(ISNUMBER($L647),VALUE(OFFSET(Banco!$A$1,Composições!$L647-1,COLUMN(Composições!O647)-6)),0)","v":0},{"$f":"IF(ISNUMBER($L647),VALUE(OFFSET(Banco!$A$1,Composições!$L647-1,COLUMN(Composições!P647)-6)),0)","v":0},0,0]
[null,"SINAPI",89622,{"$f":"IF(ISNUMBER($L648),OFFSET(Banco!$A$1,Composições!$L648-1,COLUMN(Composições!D648)-1),\"\")","v":"TÊ DE REDUÇÃO, PVC, SOLDÁVEL, DN 32MM X 25MM, INSTALADO EM PRUMADA DE ÁGUA - FORNECIMENTO E INSTALAÇÃO. AF_06/2022"},{"$f":"IF(ISNUMBER($L648),OFFSET(Banco!$A$1,Composições!$L648-1,COLUMN(Composições!E648)-1),\"\")","v":"UN"},0.56999999999999995,0.59,3.85E-2,{"$f":"IF(ISNUMBER($L648),VALUE(OFFSET(Banco!$A$1,Composições!$L648-1,COLUMN(Composições!I648)-4)),0)","v":14.68},{"$f":"IF(ISNUMBER($L648),VALUE(OFFSET(Banco!$A$1,Composições!$L648-1,COLUMN(Composições!J648)-4)),0)","v":15.22},{"$f":"COUNTA($A$1:$A648)-1","v":77},{"$f":"MATCH(CONCATENATE($B648,\" \",$C648),Banco!$A:$A,0)","v":11751},{"$f":"IF(OR(ISERROR($L648),$H648=\"\",$H648=0),\"\",OFFSET(M$1,MATCH($K648,$K$1:$K648,0)-1,0))","v":"F"},null,{"$f":"IF(ISNUMBER($L648),VALUE(OFFSET(Banco!$A$1,Composições!$L648-1,COLUMN(Composições!O648)-6)),0)","v":0},{"$f":"IF(ISNUMBER($L648),VALUE(OFFSET(Banco!$A$1,Composições!$L648-1,COLUMN(Composições!P648)-6)),0)","v":0},0,0]
[null,"SINAPI",89445,{"$f":"IF(ISNUMBER($L649),OFFSET(Banco!$A$1,Composições!$L649-1,COLUMN(Composições!D649)-1),\"\")","v":"TÊ DE REDUÇÃO, PVC, SOLDÁVEL, DN 32MM X 25MM, INSTALADO EM RAMAL DE DISTRIBUIÇÃO DE ÁGUA - FORNECIMENTO E INSTALAÇÃO. AF_06/2022"},{"$f":"IF(ISNUMBER($L649),OFFSET(Banco!$A$1,Composições!$L649-1,COLUMN(Composições!E649)-1),\"\")","v":"UN"},7.0000000000000007E-2,7.0000000000000007E-2,3.3999999999999998E-3,{"$f":"IF(ISNUMBER($L649),VALUE(OFFSET(Banco!$A$1,Composições!$L649-1,COLUMN(Composições!I649)-4)),0)","v":20.47},{"$f":"IF(ISNUMBER($L649),VALUE(OFFSET(Banco!$A$1,Composições!$L649-1,COLUMN(Composições!J649)-4)),0)","v":21.49},{"$f":"COUNTA($A$1:$A649)-1","v":77},{"$f":"MATCH(CONCATENATE($B649,\" \",$C649),Banco!$A:$A,0)","v":11752},{"$f":"IF(OR(ISERROR($L649),$H649=\"\",$H649=0),\"\",OFFSET(M$1,MATCH($K649,$K$1:$K649,0)-1,0))","v":"F"},null,{"$f":"IF(ISNUMBER($L649),VALUE(OFFSET(Banco!$A$1,Composições!$L649-1,COLUMN(Composições!O649)-6)),0)","v":0},{"$f":"IF(ISNUMBER($L649),VALUE(OFFSET(Banco!$A$1,Composições!$L649-1,COLUMN(Composições!P649)-6)),0)","v":0},0,0]
[null,"SINAPI",89400,{"$f":"IF(ISNUMBER($L650),OFFSET(Banco!$A$1,Composições!$L650-1,COLUMN(Composições!D650)-1),\"\")","v":"TÊ DE REDUÇÃO, PVC, SOLDÁVEL, DN 32MM X 25MM, INSTALADO EM RAMAL OU SUB-RAMAL DE ÁGUA - FORNECIMENTO E INSTALAÇÃO. AF_06/2022"},{"$f":"IF(ISNUMBER($L650),OFFSET(Banco!$A$1,Composições!$L650-1,COLUMN(Composições!E650)-1),\"\")","v":"UN"},0.25,0.27,1.15E-2,{"$f":"IF(ISNUMBER($L650),VALUE(OFFSET(Banco!$A$1,Composições!$L650-1,COLUMN(Composições!I650)-4)),0)","v":21.9},{"$f":"IF(ISNUMBER($L650),VALUE(OFFSET(Banco!$A$1,Composições!$L650-1,COLUMN(Composições!J650)-4)),0)","v":23.05},{"$f":"COUNTA($A$1:$A650)-1","v":77},{"$f":"MATCH(CONCATENATE($B650,\" \",$C650),Banco!$A:$A,0)","v":11753},{"$f":"IF(OR(ISERROR($L650),$H650=\"\",$H650=0),\"\",OFFSET(M$1,MATCH($K650,$K$1:$K650,0)-1,0))","v":"F"},null,{"$f":"IF(ISNUMBER($L650),VALUE(OFFSET(Banco!$A$1,Composições!$L650-1,COLUMN(Composições!O650)-6)),0)","v":0},{"$f":"IF(ISNUMBER($L650),VALUE(OFFSET(Banco!$A$1,Composições!$L650-1,COLUMN(Composições!P650)-6)),0)","v":0},0,0]
[null,"SINAPI",89627,{"$f":"IF(ISNUMBER($L651),OFFSET(Banco!$A$1,Composições!$L651-1,COLUMN(Composições!D651)-1),\"\")","v":"TÊ DE REDUÇÃO, PVC, SOLDÁVEL, DN 50MM X 25MM, INSTALADO EM PRUMADA DE ÁGUA - FORNECIMENTO E INSTALAÇÃO. AF_06/2022"},{"$f":"IF(ISNUMBER($L651),OFFSET(Banco!$A$1,Composições!$L651-1,COLUMN(Composições!E651)-1),\"\")","v":"UN"},0.06,7.0000000000000007E-2,3.0999999999999999E-3,{"$f":"IF(ISNUMBER($L651),VALUE(OFFSET(Banco!$A$1,Composições!$L651-1,COLUMN(Composições!I651)-4)),0)","v":20.65},{"$f":"IF(ISNUMBER($L651),VALUE(OFFSET(Banco!$A$1,Composições!$L651-1,COLUMN(Composições!J651)-4)),0)","v":21.32},{"$f":"COUNTA($A$1:$A651)-1","v":77},{"$f":"MATCH(CONCATENATE($B651,\" \",$C651),Banco!$A:$A,0)","v":11756},{"$f":"IF(OR(ISERROR($L651),$H651=\"\",$H651=0),\"\",OFFSET(M$1,MATCH($K651,$K$1:$K651,0)-1,0))","v":"F"},null,{"$f":"IF(ISNUMBER($L651),VALUE(OFFSET(Banco!$A$1,Composições!$L651-1,COLUMN(Composições!O651)-6)),0)","v":0},{"$f":"IF(ISNUMBER($L651),VALUE(OFFSET(Banco!$A$1,Composições!$L651-1,COLUMN(Composições!P651)-6)),0)","v":0},0,0]
[null,"SINAPI",89440,{"$f":"IF(ISNUMBER($L652),OFFSET(Banco!$A$1,Composições!$L652-1,COLUMN(Composições!D652)-1),\"\")","v":"TE, PVC, SOLDÁVEL, DN 25MM, INSTALADO EM RAMAL DE DISTRIBUIÇÃO DE ÁGUA - FORNECIMENTO E INSTALAÇÃO. AF_06/2022"},{"$f":"IF(ISNUMBER($L652),OFFSET(Banco!$A$1,Composições!$L652-1,COLUMN(Composições!E652)-1),\"\")","v":"UN"},0.02,0.03,1.6999999999999999E-3,{"$f":"IF(ISNUMBER($L652),VALUE(OFFSET(Banco!$A$1,Composições!$L652-1,COLUMN(Composições!I652)-4)),0)","v":13.97},{"$f":"IF(ISNUMBER($L652),VALUE(OFFSET(Banco!$A$1,Composições!$L652-1,COLUMN(Composições!J652)-4)),0)","v":14.9},{"$f":"COUNTA($A$1:$A652)-1","v":77},{"$f":"MATCH(CONCATENATE($B652,\" \",$C652),Banco!$A:$A,0)","v":11717},{"$f":"IF(OR(ISERROR($L652),$H652=\"\",$H652=0),\"\",OFFSET(M$1,MATCH($K652,$K$1:$K652,0)-1,0))","v":"F"},null,{"$f":"IF(ISNUMBER($L652),VALUE(OFFSET(Banco!$A$1,Composições!$L652-1,COLUMN(Composições!O652)-6)),0)","v":0},{"$f":"IF(ISNUMBER($L652),VALUE(OFFSET(Banco!$A$1,Composições!$L652-1,COLUMN(Composições!P652)-6)),0)","v":0},0,0]
[null,"SINAPI",89395,{"$f":"IF(ISNUMBER($L653),OFFSET(Banco!$A$1,Composições!$L653-1,COLUMN(Composições!D653)-1),\"\")","v":"TE, PVC, SOLDÁVEL, DN 25MM, INSTALADO EM RAMAL OU SUB-RAMAL DE ÁGUA - FORNECIMENTO E INSTALAÇÃO. AF_06/2022"},{"$f":"IF(ISNUMBER($L653),OFFSET(Banco!$A$1,Composições!$L653-1,COLUMN(Composições!E653)-1),\"\")","v":"UN"},4.6399999999999997,4.96,0.30370000000000003,{"$f":"IF(ISNUMBER($L653),VALUE(OFFSET(Banco!$A$1,Composições!$L653-1,COLUMN(Composições!I653)-4)),0)","v":15.27},{"$f":"IF(ISNUMBER($L653),VALUE(OFFSET(Banco!$A$1,Composições!$L653-1,COLUMN(Composições!J653)-4)),0)","v":16.32},{"$f":"COUNTA($A$1:$A653)-1","v":77},{"$f":"MATCH(CONCATENATE($B653,\" \",$C653),Banco!$A:$A,0)","v":11718},{"$f":"IF(OR(ISERROR($L653),$H653=\"\",$H653=0),\"\",OFFSET(M$1,MATCH($K653,$K$1:$K653,0)-1,0))","v":"F"},null,{"$f":"IF(ISNUMBER($L653),VALUE(OFFSET(Banco!$A$1,Composições!$L653-1,COLUMN(Composições!O653)-6)),0)","v":0},{"$f":"IF(ISNUMBER($L653),VALUE(OFFSET(Banco!$A$1,Composições!$L653-1,COLUMN(Composições!P653)-6)),0)","v":0},0,0]
[null,"SINAPI",89446,{"$f":"IF(ISNUMBER($L654),OFFSET(Banco!$A$1,Composições!$L654-1,COLUMN(Composições!D654)-1),\"\")","v":"TUBO, PVC, SOLDÁVEL, DE 25MM, INSTALADO EM PRUMADA DE ÁGUA - FORNECIMENTO E INSTALAÇÃO. AF_06/2022"},{"$f":"IF(ISNUMBER($L654),OFFSET(Banco!$A$1,Composições!$L654-1,COLUMN(Composições!E654)-1),\"\")","v":"M"},0.67,0.68,0.128,{"$f":"IF(ISNUMBER($L654),VALUE(OFFSET(Banco!$A$1,Composições!$L654-1,COLUMN(Composições!I654)-4)),0)","v":5.21},{"$f":"IF(ISNUMBER($L654),VALUE(OFFSET(Banco!$A$1,Composições!$L654-1,COLUMN(Composições!J654)-4)),0)","v":5.31},{"$f":"COUNTA($A$1:$A654)-1","v":77},{"$f":"MATCH(CONCATENATE($B654,\" \",$C654),Banco!$A:$A,0)","v":11731},{"$f":"IF(OR(ISERROR($L654),$H654=\"\",$H654=0),\"\",OFFSET(M$1,MATCH($K654,$K$1:$K654,0)-1,0))","v":"F"},null,{"$f":"IF(ISNUMBER($L654),VALUE(OFFSET(Banco!$A$1,Composições!$L654-1,COLUMN(Composições!O654)-6)),0)","v":0},{"$f":"IF(ISNUMBER($L654),VALUE(OFFSET(Banco!$A$1,Composições!$L654-1,COLUMN(Composições!P654)-6)),0)","v":0},0,0]
[null,"SINAPI",89402,{"$f":"IF(ISNUMBER($L655),OFFSET(Banco!$A$1,Composições!$L655-1,COLUMN(Composições!D655)-1),\"\")","v":"TUBO, PVC, SOLDÁVEL, DE 25MM, INSTALADO EM RAMAL DE DISTRIBUIÇÃO DE ÁGUA - FORNECIMENTO E INSTALAÇÃO. AF_06/2022"},{"$f":"IF(ISNUMBER($L655),OFFSET(Banco!$A$1,Composições!$L655-1,COLUMN(Composições!E655)-1),\"\")","v":"M"},1.07,1.1299999999999999,7.8E-2,{"$f":"IF(ISNUMBER($L655),VALUE(OFFSET(Banco!$A$1,Composições!$L655-1,COLUMN(Composições!I655)-4)),0)","v":13.73},{"$f":"IF(ISNUMBER($L655),VALUE(OFFSET(Banco!$A$1,Composições!$L655-1,COLUMN(Composições!J655)-4)),0)","v":14.55},{"$f":"COUNTA($A$1:$A655)-1","v":77},{"$f":"MATCH(CONCATENATE($B655,\" \",$C655),Banco!$A:$A,0)","v":11732},{"$f":"IF(OR(ISERROR($L655),$H655=\"\",$H655=0),\"\",OFFSET(M$1,MATCH($K655,$K$1:$K655,0)-1,0))","v":"F"},null,{"$f":"IF(ISNUMBER($L655),VALUE(OFFSET(Banco!$A$1,Composições!$L655-1,COLUMN(Composições!O655)-6)),0)","v":0},{"$f":"IF(ISNUMBER($L655),VALUE(OFFSET(Banco!$A$1,Composições!$L655-1,COLUMN(Composições!P655)-6)),0)","v":0},0,0]
[null,"SINAPI",89356,{"$f":"IF(ISNUMBER($L656),OFFSET(Banco!$A$1,Composições!$L656-1,COLUMN(Composições!D656)-1),\"\")","v":"TUBO, PVC, SOLDÁVEL, DE 25MM, INSTALADO EM RAMAL OU SUB-RAMAL DE ÁGUA - FORNECIMENTO E INSTALAÇÃO. AF_06/2022"},{"$f":"IF(ISNUMBER($L656),OFFSET(Banco!$A$1,Composições!$L656-1,COLUMN(Composições!E656)-1),\"\")","v":"M"},21.68,23.23,0.79400000000000004,{"$f":"IF(ISNUMBER($L656),VALUE(OFFSET(Banco!$A$1,Composições!$L656-1,COLUMN(Composições!I656)-4)),0)","v":27.3},{"$f":"IF(ISNUMBER($L656),VALUE(OFFSET(Banco!$A$1,Composições!$L656-1,COLUMN(Composições!J656)-4)),0)","v":29.26},{"$f":"COUNTA($A$1:$A656)-1","v":77},{"$f":"MATCH(CONCATENATE($B656,\" \",$C656),Banco!$A:$A,0)","v":11733},{"$f":"IF(OR(ISERROR($L656),$H656=\"\",$H656=0),\"\",OFFSET(M$1,MATCH($K656,$K$1:$K656,0)-1,0))","v":"F"},null,{"$f":"IF(ISNUMBER($L656),VALUE(OFFSET(Banco!$A$1,Composições!$L656-1,COLUMN(Composições!O656)-6)),0)","v":0},{"$f":"IF(ISNUMBER($L656),VALUE(OFFSET(Banco!$A$1,Composições!$L656-1,COLUMN(Composições!P656)-6)),0)","v":0},0,0]
[null,null,null,null,null,null,null,null,null,null,{"$f":"COUNTA($A$1:$A657)-1","v":77},null,{"$f":"IF(OFFSET($M$1,MATCH(OFFSET(K657,-1,0),$K$1:$K657,0)-1,0)=\"F\",\"F\",\"\")","v":"F"}]
[{"$f":"CONCATENATE($B658,\" \",$C658)","v":"Composição INHI.0242.01"},"Composição","INHI.0242.01","(COMPOSIÇÃO REPRESENTATIVA) DO SERVIÇO DE INSTALAÇÃO DE TUBOS DE PVC, SOLDÁVEL, ÁGUA FRIA, DN 40 MM (INSTALADO EM PRUMADA), INCLUSIVE CONEXÕES, CORTES E FIXAÇÕES, PARA PRÉDIOS.","M",{"$f":"IF($L658>0,SUM(OFFSET(F658,1,0,$L658),0))","v":34.57},35.369999999999997,null,{"$f":"IF(ISERROR(F658),0,F658)","v":34.57},35.369999999999997,{"$f":"COUNTA($A$1:$A658)-1","v":78},{"$f":"IF(MAX(K:K)=K658,MATCH(9999999,$K:$K)+1,MATCH(K658+1,K:K,0))-ROW(L658)-2","v":13},{"$f":"IF(AND(OR(I658<>0,J658<>0),N658=\"Sim\"),\"F\",\"\")","v":"F"},"Sim",{"$f":"IF(AND($L658>0,F658<>0),ROUND(SUM(OFFSET(Q658,1,0,$L658))/F658,4),0)","v":1.1999999999999999E-3},1.1000000000000001E-3]
[null,"SINAPI",89436,{"$f":"IF(ISNUMBER($L659),OFFSET(Banco!$A$1,Composições!$L659-1,COLUMN(Composições!D659)-1),\"\")","v":"ADAPTADOR CURTO COM BOLSA E ROSCA PARA REGISTRO, PVC, SOLDÁVEL, DN 32MM X 1, INSTALADO EM RAMAL DE DISTRIBUIÇÃO DE ÁGUA - FORNECIMENTO E INSTALAÇÃO. AF_06/2022"},{"$f":"IF(ISNUMBER($L659),OFFSET(Banco!$A$1,Composições!$L659-1,COLUMN(Composições!E659)-1),\"\")","v":"UN"},{"$f":"ROUND($H659*ROUND(I659,2),2)","v":0.02},{"$f":"ROUND($H659*ROUND(J659,2),2)","v":0.03},2.7000000000000001E-3,{"$f":"IF(ISNUMBER($L659),VALUE(OFFSET(Banco!$A$1,Composições!$L659-1,COLUMN(Composições!I659)-4)),0)","v":9.15},{"$f":"IF(ISNUMBER($L659),VALUE(OFFSET(Banco!$A$1,Composições!$L659-1,COLUMN(Composições!J659)-4)),0)","v":9.66},{"$f":"COUNTA($A$1:$A659)-1","v":78},{"$f":"MATCH(CONCATENATE($B659,\" \",$C659),Banco!$A:$A,0)","v":11545},{"$f":"IF(OR(ISERROR($L659),$H659=\"\",$H659=0),\"\",OFFSET(M$1,MATCH($K659,$K$1:$K659,0)-1,0))","v":"F"},null,{"$f":"IF(ISNUMBER($L659),VALUE(OFFSET(Banco!$A$1,Composições!$L659-1,COLUMN(Composições!O659)-6)),0)","v":0},{"$f":"IF(ISNUMBER($L659),VALUE(OFFSET(Banco!$A$1,Composições!$L659-1,COLUMN(Composições!P659)-6)),0)","v":0},{"$f":"ROUND(F659*O659,2)","v":0},{"$f":"ROUND(G659*P659,2)","v":0}]
[null,"SINAPI",89570,{"$f":"IF(ISNUMBER($L660),OFFSET(Banco!$A$1,Composições!$L660-1,COLUMN(Composições!D660)-1),\"\")","v":"ADAPTADOR CURTO COM BOLSA E ROSCA PARA REGISTRO, PVC, SOLDÁVEL, DN 40MM X 1.1/2, INSTALADO EM PRUMADA DE ÁGUA - FORNECIMENTO E INSTALAÇÃO. AF_06/2022"},{"$f":"IF(ISNUMBER($L660),OFFSET(Banco!$A$1,Composições!$L660-1,COLUMN(Composições!E660)-1),\"\")","v":"UN"},0.66,0.68,5.67E-2,{"$f":"IF(ISNUMBER($L660),VALUE(OFFSET(Banco!$A$1,Composições!$L660-1,COLUMN(Composições!I660)-4)),0)","v":11.61},{"$f":"IF(ISNUMBER($L660),VALUE(OFFSET(Banco!$A$1,Composições!$L660-1,COLUMN(Composições!J660)-4)),0)","v":11.94},{"$f":"COUNTA($A$1:$A660)-1","v":78},{"$f":"MATCH(CONCATENATE($B660,\" \",$C660),Banco!$A:$A,0)","v":11548},{"$f":"IF(OR(ISERROR($L660),$H660=\"\",$H660=0),\"\",OFFSET(M$1,MATCH($K660,$K$1:$K660,0)-1,0))","v":"F"},null,{"$f":"IF(ISNUMBER($L660),VALUE(OFFSET(Banco!$A$1,Composições!$L660-1,COLUMN(Composições!O660)-6)),0)","v":0},{"$f":"IF(ISNUMBER($L660),VALUE(OFFSET(Banco!$A$1,Composições!$L660-1,COLUMN(Composições!P660)-6)),0)","v":0},0,0]
[null,"SINAPI",89572,{"$f":"IF(ISNUMBER($L661),OFFSET(Banco!$A$1,Composições!$L661-1,COLUMN(Composições!D661)-1),\"\")","v":"ADAPTADOR CURTO COM BOLSA E ROSCA PARA REGISTRO, PVC, SOLDÁVEL, DN 40MM X 1.1/4, INSTALADO EM PRUMADA DE ÁGUA - FORNECIMENTO E INSTALAÇÃO. AF_06/2022"},{"$f":"IF(ISNUMBER($L661),OFFSET(Banco!$A$1,Composições!$L661-1,COLUMN(Composições!E661)-1),\"\")","v":"UN"},0.26,0.27,2.8899999999999999E-2,{"$f":"IF(ISNUMBER($L661),VALUE(OFFSET(Banco!$A$1,Composições!$L661-1,COLUMN(Composições!I661)-4)),0)","v":9.1199999999999992},{"$f":"IF(ISNUMBER($L661),VALUE(OFFSET(Banco!$A$1,Composições!$L661-1,COLUMN(Composições!J661)-4)),0)","v":9.44},{"$f":"COUNTA($A$1:$A661)-1","v":78},{"$f":"MATCH(CONCATENATE($B661,\" \",$C661),Banco!$A:$A,0)","v":11550},{"$f":"IF(OR(ISERROR($L661),$H661=\"\",$H661=0),\"\",OFFSET(M$1,MATCH($K661,$K$1:$K661,0)-1,0))","v":"F"},null,{"$f":"IF(ISNUMBER($L661),VALUE(OFFSET(Banco!$A$1,Composições!$L661-1,COLUMN(Composições!O661)-6)),0)","v":0},{"$f":"IF(ISNUMBER($L661),VALUE(OFFSET(Banco!$A$1,Composições!$L661-1,COLUMN(Composições!P661)-6)),0)","v":0},0,0]
[null,"SINAPI",91190,{"$f":"IF(ISNUMBER($L662),OFFSET(Banco!$A$1,Composições!$L662-1,COLUMN(Composições!D662)-1),\"\")","v":"CHUMBAMENTO PONTUAL EM PASSAGEM DE TUBO COM DIÂMETRO MENOR OU IGUAL A 40 MM. AF_09/2023"},{"$f":"IF(ISNUMBER($L662),OFFSET(Banco!$A$1,Composições!$L662-1,COLUMN(Composições!E662)-1),\"\")","v":"UN"},0.04,0.04,3.0000000000000001E-3,{"$f":"IF(ISNUMBER($L662),VALUE(OFFSET(Banco!$A$1,Composições!$L662-1,COLUMN(Composições!I662)-4)),0)","v":12.07},{"$f":"IF(ISNUMBER($L662),VALUE(OFFSET(Banco!$A$1,Composições!$L662-1,COLUMN(Composições!J662)-4)),0)","v":12.85},{"$f":"COUNTA($A$1:$A662)-1","v":78},{"$f":"MATCH(CONCATENATE($B662,\" \",$C662),Banco!$A:$A,0)","v":14486},{"$f":"IF(OR(ISERROR($L662),$H662=\"\",$H662=0),\"\",OFFSET(M$1,MATCH($K662,$K$1:$K662,0)-1,0))","v":"F"},null,{"$f":"IF(ISNUMBER($L662),VALUE(OFFSET(Banco!$A$1,Composições!$L662-1,COLUMN(Composições!O662)-6)),0)","v":0},{"$f":"IF(ISNUMBER($L662),VALUE(OFFSET(Banco!$A$1,Composições!$L662-1,COLUMN(Composições!P662)-6)),0)","v":0},0,0]
[null,"SINAPI",91185,{"$f":"IF(ISNUMBER($L663),OFFSET(Banco!$A$1,Composições!$L663-1,COLUMN(Composições!D663)-1),\"\")","v":"FIXAÇÃO DE TUBOS HORIZONTAIS DE PVC ÁGUA, PVC ESGOTO, PVC ÁGUA PLUVIAL, CPVC, PPR, COBRE OU AÇO, DIÂMETROS MENORES OU IGUAIS A 40 MM, COM ABRAÇADEIRA METÁLICA FLEXÍVEL 18 MM, FIXADA DIRETAMENTE NA LAJE. AF_09/2023"},{"$f":"IF(ISNUMBER($L663),OFFSET(Banco!$A$1,Composições!$L663-1,COLUMN(Composições!E663)-1),\"\")","v":"M"},1.29,1.39,4.48E-2,{"$f":"IF(ISNUMBER($L663),VALUE(OFFSET(Banco!$A$1,Composições!$L663-1,COLUMN(Composições!I663)-4)),0)","v":28.86},{"$f":"IF(ISNUMBER($L663),VALUE(OFFSET(Banco!$A$1,Composições!$L663-1,COLUMN(Composições!J663)-4)),0)","v":31.09},{"$f":"COUNTA($A$1:$A663)-1","v":78},{"$f":"MATCH(CONCATENATE($B663,\" \",$C663),Banco!$A:$A,0)","v":14499},{"$f":"IF(OR(ISERROR($L663),$H663=\"\",$H663=0),\"\",OFFSET(M$1,MATCH($K663,$K$1:$K663,0)-1,0))","v":"F"},null,{"$f":"IF(ISNUMBER($L663),VALUE(OFFSET(Banco!$A$1,Composições!$L663-1,COLUMN(Composições!O663)-6)),0)","v":3.15E-2},{"$f":"IF(ISNUMBER($L663),VALUE(OFFSET(Banco!$A$1,Composições!$L663-1,COLUMN(Composições!P663)-6)),0)","v":2.93E-2},0.04,0.04]
[null,"SINAPI",89498,{"$f":"IF(ISNUMBER($L664),OFFSET(Banco!$A$1,Composições!$L664-1,COLUMN(Composições!D664)-1),\"\")","v":"JOELHO 45 GRAUS, PVC, SOLDÁVEL, DN 40MM, INSTALADO EM PRUMADA DE ÁGUA - FORNECIMENTO E INSTALAÇÃO. AF_06/2022"},{"$f":"IF(ISNUMBER($L664),OFFSET(Banco!$A$1,Composições!$L664-1,COLUMN(Composições!E664)-1),\"\")","v":"UN"},0.63,0.65,4.5100000000000001E-2,{"$f":"IF(ISNUMBER($L664),VALUE(OFFSET(Banco!$A$1,Composições!$L664-1,COLUMN(Composições!I664)-4)),0)","v":13.92},{"$f":"IF(ISNUMBER($L664),VALUE(OFFSET(Banco!$A$1,Composições!$L664-1,COLUMN(Composições!J664)-4)),0)","v":14.46},{"$f":"COUNTA($A$1:$A664)-1","v":78},{"$f":"MATCH(CONCATENATE($B664,\" \",$C664),Banco!$A:$A,0)","v":11626},{"$f":"IF(OR(ISERROR($L664),$H664=\"\",$H664=0),\"\",OFFSET(M$1,MATCH($K664,$K$1:$K664,0)-1,0))","v":"F"},null,{"$f":"IF(ISNUMBER($L664),VALUE(OFFSET(Banco!$A$1,Composições!$L664-1,COLUMN(Composições!O664)-6)),0)","v":0},{"$f":"IF(ISNUMBER($L664),VALUE(OFFSET(Banco!$A$1,Composições!$L664-1,COLUMN(Composições!P664)-6)),0)","v":0},0,0]
[null,"SINAPI",89497,{"$f":"IF(ISNUMBER($L665),OFFSET(Banco!$A$1,Composições!$L665-1,COLUMN(Composições!D665)-1),\"\")","v":"JOELHO 90 GRAUS, PVC, SOLDÁVEL, DN 40MM, INSTALADO EM PRUMADA DE ÁGUA - FORNECIMENTO E INSTALAÇÃO. AF_06/2022"},{"$f":"IF(ISNUMBER($L665),OFFSET(Banco!$A$1,Composições!$L665-1,COLUMN(Composições!E665)-1),\"\")","v":"UN"},2.42,2.5099999999999998,0.17430000000000001,{"$f":"IF(ISNUMBER($L665),VALUE(OFFSET(Banco!$A$1,Composições!$L665-1,COLUMN(Composições!I665)-4)),0)","v":13.87},{"$f":"IF(ISNUMBER($L665),VALUE(OFFSET(Banco!$A$1,Composições!$L665-1,COLUMN(Composições!J665)-4)),0)","v":14.41},{"$f":"COUNTA($A$1:$A665)-1","v":78},{"$f":"MATCH(CONCATENATE($B665,\" \",$C665),Banco!$A:$A,0)","v":11644},{"$f":"IF(OR(ISERROR($L665),$H665=\"\",$H665=0),\"\",OFFSET(M$1,MATCH($K665,$K$1:$K665,0)-1,0))","v":"F"},null,{"$f":"IF(ISNUMBER($L665),VALUE(OFFSET(Banco!$A$1,Composições!$L665-1,COLUMN(Composições!O665)-6)),0)","v":0},{"$f":"IF(ISNUMBER($L665),VALUE(OFFSET(Banco!$A$1,Composições!$L665-1,COLUMN(Composições!P665)-6)),0)","v":0},0,0]
[null,"SINAPI",89558,{"$f":"IF(ISNUMBER($L666),OFFSET(Banco!$A$1,Composições!$L666-1,COLUMN(Composições!D666)-1),\"\")","v":"LUVA, PVC, SOLDÁVEL, DN 40MM, INSTALADO EM PRUMADA DE ÁGUA - FORNECIMENTO E INSTALAÇÃO. AF_06/2022"},{"$f":"IF(ISNUMBER($L666),OFFSET(Banco!$A$1,Composições!$L666-1,COLUMN(Composições!E666)-1),\"\")","v":"UN"},1.26,1.31,0.124,{"$f":"IF(ISNUMBER($L666),VALUE(OFFSET(Banco!$A$1,Composições!$L666-1,COLUMN(Composições!I666)-4)),0)","v":10.19},{"$f":"IF(ISNUMBER($L666),VALUE(OFFSET(Banco!$A$1,Composições!$L666-1,COLUMN(Composições!J666)-4)),0)","v":10.56},{"$f":"COUNTA($A$1:$A666)-1","v":78},{"$f":"MATCH(CONCATENATE($B666,\" \",$C666),Banco!$A:$A,0)","v":11701},{"$f":"IF(OR(ISERROR($L666),$H666=\"\",$H666=0),\"\",OFFSET(M$1,MATCH($K666,$K$1:$K666,0)-1,0))","v":"F"},null,{"$f":"IF(ISNUMBER($L666),VALUE(OFFSET(Banco!$A$1,Composições!$L666-1,COLUMN(Composições!O666)-6)),0)","v":0},{"$f":"IF(ISNUMBER($L666),VALUE(OFFSET(Banco!$A$1,Composições!$L666-1,COLUMN(Composições!P666)-6)),0)","v":0},0,0]
[null,"SINAPI",90453,{"$f":"IF(ISNUMBER($L667),OFFSET(Banco!$A$1,Composições!$L667-1,COLUMN(Composições!D667)-1),\"\")","v":"PASSANTE TIPO TUBO COM DIÂMETRO DE 40 MM, FIXADO EM LAJE, PARA PASSAGEM DE TUBULAÇÕES COM NO MÁXIMO 32 MM DE DIÂMETRO. AF_09/2023"},{"$f":"IF(ISNUMBER($L667),OFFSET(Banco!$A$1,Composições!$L667-1,COLUMN(Composições!E667)-1),\"\")","v":"UN"},0.16,0.17,3.6499999999999998E-2,{"$f":"IF(ISNUMBER($L667),VALUE(OFFSET(Banco!$A$1,Composições!$L667-1,COLUMN(Composições!I667)-4)),0)","v":4.4000000000000004},{"$f":"IF(ISNUMBER($L667),VALUE(OFFSET(Banco!$A$1,Composições!$L667-1,COLUMN(Composições!J667)-4)),0)","v":4.6399999999999997},{"$f":"COUNTA($A$1:$A667)-1","v":78},{"$f":"MATCH(CONCATENATE($B667,\" \",$C667),Banco!$A:$A,0)","v":14536},{"$f":"IF(OR(ISERROR($L667),$H667=\"\",$H667=0),\"\",OFFSET(M$1,MATCH($K667,$K$1:$K667,0)-1,0))","v":"F"},null,{"$f":"IF(ISNUMBER($L667),VALUE(OFFSET(Banco!$A$1,Composições!$L667-1,COLUMN(Composições!O667)-6)),0)","v":0},{"$f":"IF(ISNUMBER($L667),VALUE(OFFSET(Banco!$A$1,Composições!$L667-1,COLUMN(Composições!P667)-6)),0)","v":0},0,0]
[null,"SINAPI",89626,{"$f":"IF(ISNUMBER($L668),OFFSET(Banco!$A$1,Composições!$L668-1,COLUMN(Composições!D668)-1),\"\")","v":"TÊ DE REDUÇÃO, PVC, SOLDÁVEL, DN 50MM X 40MM, INSTALADO EM PRUMADA DE ÁGUA - FORNECIMENTO E INSTALAÇÃO. AF_06/2022"},{"$f":"IF(ISNUMBER($L668),OFFSET(Banco!$A$1,Composições!$L668-1,COLUMN(Composições!E668)-1),\"\")","v":"UN"},1.18,1.21,3.9300000000000002E-2,{"$f":"IF(ISNUMBER($L668),VALUE(OFFSET(Banco!$A$1,Composições!$L668-1,COLUMN(Composições!I668)-4)),0)","v":30.01},{"$f":"IF(ISNUMBER($L668),VALUE(OFFSET(Banco!$A$1,Composições!$L668-1,COLUMN(Composições!J668)-4)),0)","v":30.8},{"$f":"COUNTA($A$1:$A668)-1","v":78},{"$f":"MATCH(CONCATENATE($B668,\" \",$C668),Banco!$A:$A,0)","v":11758},{"$f":"IF(OR(ISERROR($L668),$H668=\"\",$H668=0),\"\",OFFSET(M$1,MATCH($K668,$K$1:$K668,0)-1,0))","v":"F"},null,{"$f":"IF(ISNUMBER($L668),VALUE(OFFSET(Banco!$A$1,Composições!$L668-1,COLUMN(Composições!O668)-6)),0)","v":0},{"$f":"IF(ISNUMBER($L668),VALUE(OFFSET(Banco!$A$1,Composições!$L668-1,COLUMN(Composições!P668)-6)),0)","v":0},0,0]
[null,"SINAPI",89623,{"$f":"IF(ISNUMBER($L669),OFFSET(Banco!$A$1,Composições!$L669-1,COLUMN(Composições!D669)-1),\"\")","v":"TE, PVC, SOLDÁVEL, DN 40MM, INSTALADO EM PRUMADA DE ÁGUA - FORNECIMENTO E INSTALAÇÃO. AF_06/2022"},{"$f":"IF(ISNUMBER($L669),OFFSET(Banco!$A$1,Composições!$L669-1,COLUMN(Composições!E669)-1),\"\")","v":"UN"},7.75,8.0299999999999994,0.38529999999999998,{"$f":"IF(ISNUMBER($L669),VALUE(OFFSET(Banco!$A$1,Composições!$L669-1,COLUMN(Composições!I669)-4)),0)","v":20.12},{"$f":"IF(ISNUMBER($L669),VALUE(OFFSET(Banco!$A$1,Composições!$L669-1,COLUMN(Composições!J669)-4)),0)","v":20.85},{"$f":"COUNTA($A$1:$A669)-1","v":78},{"$f":"MATCH(CONCATENATE($B669,\" \",$C669),Banco!$A:$A,0)","v":11722},{"$f":"IF(OR(ISERROR($L669),$H669=\"\",$H669=0),\"\",OFFSET(M$1,MATCH($K669,$K$1:$K669,0)-1,0))","v":"F"},null,{"$f":"IF(ISNUMBER($L669),VALUE(OFFSET(Banco!$A$1,Composições!$L669-1,COLUMN(Composições!O669)-6)),0)","v":0},{"$f":"IF(ISNUMBER($L669),VALUE(OFFSET(Banco!$A$1,Composições!$L669-1,COLUMN(Composições!P669)-6)),0)","v":0},0,0]
[null,"SINAPI",89448,{"$f":"IF(ISNUMBER($L670),OFFSET(Banco!$A$1,Composições!$L670-1,COLUMN(Composições!D670)-1),\"\")","v":"TUBO, PVC, SOLDÁVEL, DE 40MM, INSTALADO EM PRUMADA DE ÁGUA - FORNECIMENTO E INSTALAÇÃO. AF_06/2022"},{"$f":"IF(ISNUMBER($L670),OFFSET(Banco!$A$1,Composições!$L670-1,COLUMN(Composições!E670)-1),\"\")","v":"M"},15.4,15.54,1,{"$f":"IF(ISNUMBER($L670),VALUE(OFFSET(Banco!$A$1,Composições!$L670-1,COLUMN(Composições!I670)-4)),0)","v":15.4},{"$f":"IF(ISNUMBER($L670),VALUE(OFFSET(Banco!$A$1,Composições!$L670-1,COLUMN(Composições!J670)-4)),0)","v":15.54},{"$f":"COUNTA($A$1:$A670)-1","v":78},{"$f":"MATCH(CONCATENATE($B670,\" \",$C670),Banco!$A:$A,0)","v":11737},{"$f":"IF(OR(ISERROR($L670),$H670=\"\",$H670=0),\"\",OFFSET(M$1,MATCH($K670,$K$1:$K670,0)-1,0))","v":"F"},null,{"$f":"IF(ISNUMBER($L670),VALUE(OFFSET(Banco!$A$1,Composições!$L670-1,COLUMN(Composições!O670)-6)),0)","v":0},{"$f":"IF(ISNUMBER($L670),VALUE(OFFSET(Banco!$A$1,Composições!$L670-1,COLUMN(Composições!P670)-6)),0)","v":0},0,0]
[null,"SINAPI",89568,{"$f":"IF(ISNUMBER($L671),OFFSET(Banco!$A$1,Composições!$L671-1,COLUMN(Composições!D671)-1),\"\")","v":"UNIÃO, PVC, SOLDÁVEL, DN 40MM, INSTALADO EM PRUMADA DE ÁGUA - FORNECIMENTO E INSTALAÇÃO. AF_06/2022"},{"$f":"IF(ISNUMBER($L671),OFFSET(Banco!$A$1,Composições!$L671-1,COLUMN(Composições!E671)-1),\"\")","v":"UN"},3.5,3.54,0.11559999999999999,{"$f":"IF(ISNUMBER($L671),VALUE(OFFSET(Banco!$A$1,Composições!$L671-1,COLUMN(Composições!I671)-4)),0)","v":30.24},{"$f":"IF(ISNUMBER($L671),VALUE(OFFSET(Banco!$A$1,Composições!$L671-1,COLUMN(Composições!J671)-4)),0)","v":30.61},{"$f":"COUNTA($A$1:$A671)-1","v":78},{"$f":"MATCH(CONCATENATE($B671,\" \",$C671),Banco!$A:$A,0)","v":11769},{"$f":"IF(OR(ISERROR($L671),$H671=\"\",$H671=0),\"\",OFFSET(M$1,MATCH($K671,$K$1:$K671,0)-1,0))","v":"F"},null,{"$f":"IF(ISNUMBER($L671),VALUE(OFFSET(Banco!$A$1,Composições!$L671-1,COLUMN(Composições!O671)-6)),0)","v":0},{"$f":"IF(ISNUMBER($L671),VALUE(OFFSET(Banco!$A$1,Composições!$L671-1,COLUMN(Composições!P671)-6)),0)","v":0},0,0]
[null,null,null,null,null,null,null,null,null,null,{"$f":"COUNTA($A$1:$A672)-1","v":78},null,{"$f":"IF(OFFSET($M$1,MATCH(OFFSET(K672,-1,0),$K$1:$K672,0)-1,0)=\"F\",\"F\",\"\")","v":"F"}]
[{"$f":"CONCATENATE($B673,\" \",$C673)","v":"Composição INEL.0107.01"},"Composição","INEL.0107.01","CABO DE COBRE NÚ 16mm². - FORNECIMENTO E INSTALAÇÃO","M",{"$f":"IF($L673>0,SUM(OFFSET(F673,1,0,$L673),0))","v":28.12},28.91,null,{"$f":"IF(ISERROR(F673),0,F673)","v":28.12},28.91,{"$f":"COUNTA($A$1:$A673)-1","v":79},{"$f":"IF(MAX(K:K)=K673,MATCH(9999999,$K:$K)+1,MATCH(K673+1,K:K,0))-ROW(L673)-2","v":3},{"$f":"IF(AND(OR(I673<>0,J673<>0),N673=\"Sim\"),\"F\",\"\")","v":"F"},"Sim",{"$f":"IF(AND($L673>0,F673<>0),ROUND(SUM(OFFSET(Q673,1,0,$L673))/F673,4),0)","v":0},0]
[null,"SINAPI",88247,{"$f":"IF(ISNUMBER($L674),OFFSET(Banco!$A$1,Composições!$L674-1,COLUMN(Composições!D674)-1),\"\")","v":"AUXILIAR DE ELETRICISTA COM ENCARGOS COMPLEMENTARES"},{"$f":"IF(ISNUMBER($L674),OFFSET(Banco!$A$1,Composições!$L674-1,COLUMN(Composições!E674)-1),\"\")","v":"H"},{"$f":"ROUND($H674*ROUND(I674,2),2)","v":4.28},4.62,0.15,{"$f":"IF(ISNUMBER($L674),VALUE(OFFSET(Banco!$A$1,Composições!$L674-1,COLUMN(Composições!I674)-4)),0)","v":28.53},{"$f":"IF(ISNUMBER($L674),VALUE(OFFSET(Banco!$A$1,Composições!$L674-1,COLUMN(Composições!J674)-4)),0)","v":30.8},{"$f":"COUNTA($A$1:$A674)-1","v":79},{"$f":"MATCH(CONCATENATE($B674,\" \",$C674),Banco!$A:$A,0)","v":12875},{"$f":"IF(OR(ISERROR($L674),$H674=\"\",$H674=0),\"\",OFFSET(M$1,MATCH($K674,$K$1:$K674,0)-1,0))","v":"F"},null,{"$f":"IF(ISNUMBER($L674),VALUE(OFFSET(Banco!$A$1,Composições!$L674-1,COLUMN(Composições!O674)-6)),0)","v":0},{"$f":"IF(ISNUMBER($L674),VALUE(OFFSET(Banco!$A$1,Composições!$L674-1,COLUMN(Composições!P674)-6)),0)","v":0},{"$f":"ROUND(F674*O674,2)","v":0},0]
[null,"SINAPI",88264,{"$f":"IF(ISNUMBER($L675),OFFSET(Banco!$A$1,Composições!$L675-1,COLUMN(Composições!D675)-1),\"\")","v":"ELETRICISTA COM ENCARGOS COMPLEMENTARES"},{"$f":"IF(ISNUMBER($L675),OFFSET(Banco!$A$1,Composições!$L675-1,COLUMN(Composições!E675)-1),\"\")","v":"H"},5.16,5.61,0.15,{"$f":"IF(ISNUMBER($L675),VALUE(OFFSET(Banco!$A$1,Composições!$L675-1,COLUMN(Composições!I675)-4)),0)","v":34.409999999999997},{"$f":"IF(ISNUMBER($L675),VALUE(OFFSET(Banco!$A$1,Composições!$L675-1,COLUMN(Composições!J675)-4)),0)","v":37.369999999999997},{"$f":"COUNTA($A$1:$A675)-1","v":79},{"$f":"MATCH(CONCATENATE($B675,\" \",$C675),Banco!$A:$A,0)","v":13095},{"$f":"IF(OR(ISERROR($L675),$H675=\"\",$H675=0),\"\",OFFSET(M$1,MATCH($K675,$K$1:$K675,0)-1,0))","v":"F"},null,{"$f":"IF(ISNUMBER($L675),VALUE(OFFSET(Banco!$A$1,Composições!$L675-1,COLUMN(Composições!O675)-6)),0)","v":0},{"$f":"IF(ISNUMBER($L675),VALUE(OFFSET(Banco!$A$1,Composições!$L675-1,COLUMN(Composições!P675)-6)),0)","v":0},0,0]
[null,"SINAPI-I",857,{"$f":"IF(ISNUMBER($L676),OFFSET(Banco!$A$1,Composições!$L676-1,COLUMN(Composições!D676)-1),\"\")","v":"CABO DE COBRE NU 16 MM2 MEIO-DURO"},{"$f":"IF(ISNUMBER($L676),OFFSET(Banco!$A$1,Composições!$L676-1,COLUMN(Composições!E676)-1),\"\")","v":"M"},18.68,18.68,1,{"$f":"IF(ISNUMBER($L676),VALUE(OFFSET(Banco!$A$1,Composições!$L676-1,COLUMN(Composições!I676)-4)),0)","v":18.68},{"$f":"IF(ISNUMBER($L676),VALUE(OFFSET(Banco!$A$1,Composições!$L676-1,COLUMN(Composições!J676)-4)),0)","v":18.68},{"$f":"COUNTA($A$1:$A676)-1","v":79},{"$f":"MATCH(CONCATENATE($B676,\" \",$C676),Banco!$A:$A,0)","v":857},{"$f":"IF(OR(ISERROR($L676),$H676=\"\",$H676=0),\"\",OFFSET(M$1,MATCH($K676,$K$1:$K676,0)-1,0))","v":"F"},null,{"$f":"IF(ISNUMBER($L676),VALUE(OFFSET(Banco!$A$1,Composições!$L676-1,COLUMN(Composições!O676)-6)),0)","v":0},{"$f":"IF(ISNUMBER($L676),VALUE(OFFSET(Banco!$A$1,Composições!$L676-1,COLUMN(Composições!P676)-6)),0)","v":0},0,0]
[null,null,null,null,null,null,null,null,null,null,{"$f":"COUNTA($A$1:$A677)-1","v":79},null,{"$f":"IF(OFFSET($M$1,MATCH(OFFSET(K677,-1,0),$K$1:$K677,0)-1,0)=\"F\",\"F\",\"\")","v":"F"}]
[{"$f":"CONCATENATE($B678,\" \",$C678)","v":"Composição INEL.0503.01"},"Composição","INEL.0503.01","CABO DE COBRE NÚ 25mm². - FORNECIMENTO E INSTALAÇÃO","M     ",{"$f":"IF($L678>0,SUM(OFFSET(F678,1,0,$L678),0))","v":36.06},36.85,null,{"$f":"IF(ISERROR(F678),0,F678)","v":36.06},36.85,{"$f":"COUNTA($A$1:$A678)-1","v":80},{"$f":"IF(MAX(K:K)=K678,MATCH(9999999,$K:$K)+1,MATCH(K678+1,K:K,0))-ROW(L678)-2","v":3},{"$f":"IF(AND(OR(I678<>0,J678<>0),N678=\"Sim\"),\"F\",\"\")","v":"F"},"Sim",{"$f":"IF(AND($L678>0,F678<>0),ROUND(SUM(OFFSET(Q678,1,0,$L678))/F678,4),0)","v":0},0]
[null,"SINAPI",88247,{"$f":"IF(ISNUMBER($L679),OFFSET(Banco!$A$1,Composições!$L679-1,COLUMN(Composições!D679)-1),\"\")","v":"AUXILIAR DE ELETRICISTA COM ENCARGOS COMPLEMENTARES"},{"$f":"IF(ISNUMBER($L679),OFFSET(Banco!$A$1,Composições!$L679-1,COLUMN(Composições!E679)-1),\"\")","v":"H"},{"$f":"ROUND($H679*ROUND(I679,2),2)","v":4.28},4.62,0.15,{"$f":"IF(ISNUMBER($L679),VALUE(OFFSET(Banco!$A$1,Composições!$L679-1,COLUMN(Composições!I679)-4)),0)","v":28.53},{"$f":"IF(ISNUMBER($L679),VALUE(OFFSET(Banco!$A$1,Composições!$L679-1,COLUMN(Composições!J679)-4)),0)","v":30.8},{"$f":"COUNTA($A$1:$A679)-1","v":80},{"$f":"MATCH(CONCATENATE($B679,\" \",$C679),Banco!$A:$A,0)","v":12875},{"$f":"IF(OR(ISERROR($L679),$H679=\"\",$H679=0),\"\",OFFSET(M$1,MATCH($K679,$K$1:$K679,0)-1,0))","v":"F"},null,{"$f":"IF(ISNUMBER($L679),VALUE(OFFSET(Banco!$A$1,Composições!$L679-1,COLUMN(Composições!O679)-6)),0)","v":0},{"$f":"IF(ISNUMBER($L679),VALUE(OFFSET(Banco!$A$1,Composições!$L679-1,COLUMN(Composições!P679)-6)),0)","v":0},{"$f":"ROUND(F679*O679,2)","v":0},0]
[null,"SINAPI",88264,{"$f":"IF(ISNUMBER($L680),OFFSET(Banco!$A$1,Composições!$L680-1,COLUMN(Composições!D680)-1),\"\")","v":"ELETRICISTA COM ENCARGOS COMPLEMENTARES"},{"$f":"IF(ISNUMBER($L680),OFFSET(Banco!$A$1,Composições!$L680-1,COLUMN(Composições!E680)-1),\"\")","v":"H"},5.16,5.61,0.15,{"$f":"IF(ISNUMBER($L680),VALUE(OFFSET(Banco!$A$1,Composições!$L680-1,COLUMN(Composições!I680)-4)),0)","v":34.409999999999997},{"$f":"IF(ISNUMBER($L680),VALUE(OFFSET(Banco!$A$1,Composições!$L680-1,COLUMN(Composições!J680)-4)),0)","v":37.369999999999997},{"$f":"COUNTA($A$1:$A680)-1","v":80},{"$f":"MATCH(CONCATENATE($B680,\" \",$C680),Banco!$A:$A,0)","v":13095},{"$f":"IF(OR(ISERROR($L680),$H680=\"\",$H680=0),\"\",OFFSET(M$1,MATCH($K680,$K$1:$K680,0)-1,0))","v":"F"},null,{"$f":"IF(ISNUMBER($L680),VALUE(OFFSET(Banco!$A$1,Composições!$L680-1,COLUMN(Composições!O680)-6)),0)","v":0},{"$f":"IF(ISNUMBER($L680),VALUE(OFFSET(Banco!$A$1,Composições!$L680-1,COLUMN(Composições!P680)-6)),0)","v":0},0,0]
[null,"SINAPI-I",868,{"$f":"IF(ISNUMBER($L681),OFFSET(Banco!$A$1,Composições!$L681-1,COLUMN(Composições!D681)-1),\"\")","v":"CABO DE COBRE NU 25 MM2 MEIO-DURO"},{"$f":"IF(ISNUMBER($L681),OFFSET(Banco!$A$1,Composições!$L681-1,COLUMN(Composições!E681)-1),\"\")","v":"M"},26.62,26.62,1,{"$f":"IF(ISNUMBER($L681),VALUE(OFFSET(Banco!$A$1,Composições!$L681-1,COLUMN(Composições!I681)-4)),0)","v":26.62},{"$f":"IF(ISNUMBER($L681),VALUE(OFFSET(Banco!$A$1,Composições!$L681-1,COLUMN(Composições!J681)-4)),0)","v":26.62},{"$f":"COUNTA($A$1:$A681)-1","v":80},{"$f":"MATCH(CONCATENATE($B681,\" \",$C681),Banco!$A:$A,0)","v":859},{"$f":"IF(OR(ISERROR($L681),$H681=\"\",$H681=0),\"\",OFFSET(M$1,MATCH($K681,$K$1:$K681,0)-1,0))","v":"F"},null,{"$f":"IF(ISNUMBER($L681),VALUE(OFFSET(Banco!$A$1,Composições!$L681-1,COLUMN(Composições!O681)-6)),0)","v":0},{"$f":"IF(ISNUMBER($L681),VALUE(OFFSET(Banco!$A$1,Composições!$L681-1,COLUMN(Composições!P681)-6)),0)","v":0},0,0]
[null,null,null,null,null,null,null,null,null,null,{"$f":"COUNTA($A$1:$A682)-1","v":80},null,{"$f":"IF(OFFSET($M$1,MATCH(OFFSET(K682,-1,0),$K$1:$K682,0)-1,0)=\"F\",\"F\",\"\")","v":"F"}]
[{"$f":"CONCATENATE($B683,\" \",$C683)","v":"Composição INEL.0407.01"},"Composição","INEL.0407.01","BARRA CHATA EM ALUMÍNIO 5/8\"X1/8\" COM FUROS, COM FIXAÇÃO POR ISOLADOR/SUPORTE GUIA D=44M H=50MM (REF. GELCAM), COM PARAFUSOS DE FIXAÇÃO EM AÇO INOX 1/4\"X7/8\". - FORNECIMENTO E INSTALAÇÃO.","M",{"$f":"IF($L683>0,SUM(OFFSET(F683,1,0,$L683),0))","v":30.240000000000002},31.28,null,{"$f":"IF(ISERROR(F683),0,F683)","v":30.240000000000002},31.28,{"$f":"COUNTA($A$1:$A683)-1","v":81},{"$f":"IF(MAX(K:K)=K683,MATCH(9999999,$K:$K)+1,MATCH(K683+1,K:K,0))-ROW(L683)-2","v":5},{"$f":"IF(AND(OR(I683<>0,J683<>0),N683=\"Sim\"),\"F\",\"\")","v":"F"},"Sim",{"$f":"IF(AND($L683>0,F683<>0),ROUND(SUM(OFFSET(Q683,1,0,$L683))/F683,4),0)","v":0},0]
[null,"SINAPI",88247,{"$f":"IF(ISNUMBER($L684),OFFSET(Banco!$A$1,Composições!$L684-1,COLUMN(Composições!D684)-1),\"\")","v":"AUXILIAR DE ELETRICISTA COM ENCARGOS COMPLEMENTARES"},{"$f":"IF(ISNUMBER($L684),OFFSET(Banco!$A$1,Composições!$L684-1,COLUMN(Composições!E684)-1),\"\")","v":"H"},{"$f":"ROUND($H684*ROUND(I684,2),2)","v":5.71},6.16,0.2,{"$f":"IF(ISNUMBER($L684),VALUE(OFFSET(Banco!$A$1,Composições!$L684-1,COLUMN(Composições!I684)-4)),0)","v":28.53},{"$f":"IF(ISNUMBER($L684),VALUE(OFFSET(Banco!$A$1,Composições!$L684-1,COLUMN(Composições!J684)-4)),0)","v":30.8},{"$f":"COUNTA($A$1:$A684)-1","v":81},{"$f":"MATCH(CONCATENATE($B684,\" \",$C684),Banco!$A:$A,0)","v":12875},{"$f":"IF(OR(ISERROR($L684),$H684=\"\",$H684=0),\"\",OFFSET(M$1,MATCH($K684,$K$1:$K684,0)-1,0))","v":"F"},null,{"$f":"IF(ISNUMBER($L684),VALUE(OFFSET(Banco!$A$1,Composições!$L684-1,COLUMN(Composições!O684)-6)),0)","v":0},{"$f":"IF(ISNUMBER($L684),VALUE(OFFSET(Banco!$A$1,Composições!$L684-1,COLUMN(Composições!P684)-6)),0)","v":0},{"$f":"ROUND(F684*O684,2)","v":0},0]
[null,"SINAPI",88264,{"$f":"IF(ISNUMBER($L685),OFFSET(Banco!$A$1,Composições!$L685-1,COLUMN(Composições!D685)-1),\"\")","v":"ELETRICISTA COM ENCARGOS COMPLEMENTARES"},{"$f":"IF(ISNUMBER($L685),OFFSET(Banco!$A$1,Composições!$L685-1,COLUMN(Composições!E685)-1),\"\")","v":"H"},6.88,7.47,0.2,{"$f":"IF(ISNUMBER($L685),VALUE(OFFSET(Banco!$A$1,Composições!$L685-1,COLUMN(Composições!I685)-4)),0)","v":34.409999999999997},{"$f":"IF(ISNUMBER($L685),VALUE(OFFSET(Banco!$A$1,Composições!$L685-1,COLUMN(Composições!J685)-4)),0)","v":37.369999999999997},{"$f":"COUNTA($A$1:$A685)-1","v":81},{"$f":"MATCH(CONCATENATE($B685,\" \",$C685),Banco!$A:$A,0)","v":13095},{"$f":"IF(OR(ISERROR($L685),$H685=\"\",$H685=0),\"\",OFFSET(M$1,MATCH($K685,$K$1:$K685,0)-1,0))","v":"F"},null,{"$f":"IF(ISNUMBER($L685),VALUE(OFFSET(Banco!$A$1,Composições!$L685-1,COLUMN(Composições!O685)-6)),0)","v":0},{"$f":"IF(ISNUMBER($L685),VALUE(OFFSET(Banco!$A$1,Composições!$L685-1,COLUMN(Composições!P685)-6)),0)","v":0},0,0]
[null,"COTAÇÃO","I.INEL.0209.01",{"$f":"IF(ISNUMBER($L686),OFFSET(Banco!$A$1,Composições!$L686-1,COLUMN(Composições!D686)-1),\"\")","v":"BARRA CHATA EM ALUMÍNIO 7/8\"X1/8\"X 3METROS, COM FUROS"},{"$f":"IF(ISNUMBER($L686),OFFSET(Banco!$A$1,Composições!$L686-1,COLUMN(Composições!E686)-1),\"\")","v":"PÇ"},7.53,7.53,0.25,{"$f":"IF(ISNUMBER($L686),VALUE(OFFSET(Banco!$A$1,Composições!$L686-1,COLUMN(Composições!I686)-4)),0)","v":30.127500000000001},{"$f":"IF(ISNUMBER($L686),VALUE(OFFSET(Banco!$A$1,Composições!$L686-1,COLUMN(Composições!J686)-4)),0)","v":30.127500000000001},{"$f":"COUNTA($A$1:$A686)-1","v":81},{"$f":"MATCH(CONCATENATE($B686,\" \",$C686),Banco!$A:$A,0)","v":98},{"$f":"IF(OR(ISERROR($L686),$H686=\"\",$H686=0),\"\",OFFSET(M$1,MATCH($K686,$K$1:$K686,0)-1,0))","v":"F"},null,{"$f":"IF(ISNUMBER($L686),VALUE(OFFSET(Banco!$A$1,Composições!$L686-1,COLUMN(Composições!O686)-6)),0)","v":0},{"$f":"IF(ISNUMBER($L686),VALUE(OFFSET(Banco!$A$1,Composições!$L686-1,COLUMN(Composições!P686)-6)),0)","v":0},0,0]
[null,"COTAÇÃO","I.INEL.0211.01",{"$f":"IF(ISNUMBER($L687),OFFSET(Banco!$A$1,Composições!$L687-1,COLUMN(Composições!D687)-1),\"\")","v":"ISOLADOR/SUPORTE GUIA D=44MM E H=50MM, PARA BARRA DE ALUMÍNIO 7/8\"X1/8\" 15X15CM, PARA SPDA. (REFERÊNCIA: GELCAM)."},{"$f":"IF(ISNUMBER($L687),OFFSET(Banco!$A$1,Composições!$L687-1,COLUMN(Composições!E687)-1),\"\")","v":"UNIDADE"},9.3000000000000007,9.3000000000000007,1,{"$f":"IF(ISNUMBER($L687),VALUE(OFFSET(Banco!$A$1,Composições!$L687-1,COLUMN(Composições!I687)-4)),0)","v":9.3000000000000007},{"$f":"IF(ISNUMBER($L687),VALUE(OFFSET(Banco!$A$1,Composições!$L687-1,COLUMN(Composições!J687)-4)),0)","v":9.3000000000000007},{"$f":"COUNTA($A$1:$A687)-1","v":81},{"$f":"MATCH(CONCATENATE($B687,\" \",$C687),Banco!$A:$A,0)","v":99},{"$f":"IF(OR(ISERROR($L687),$H687=\"\",$H687=0),\"\",OFFSET(M$1,MATCH($K687,$K$1:$K687,0)-1,0))","v":"F"},null,{"$f":"IF(ISNUMBER($L687),VALUE(OFFSET(Banco!$A$1,Composições!$L687-1,COLUMN(Composições!O687)-6)),0)","v":0},{"$f":"IF(ISNUMBER($L687),VALUE(OFFSET(Banco!$A$1,Composições!$L687-1,COLUMN(Composições!P687)-6)),0)","v":0},0,0]
[null,"COTAÇÃO","I.INEL.0212.01",{"$f":"IF(ISNUMBER($L688),OFFSET(Banco!$A$1,Composições!$L688-1,COLUMN(Composições!D688)-1),\"\")","v":"PARAFUSO E PORCA EM INOX 1/4\"X 7/8\""},{"$f":"IF(ISNUMBER($L688),OFFSET(Banco!$A$1,Composições!$L688-1,COLUMN(Composições!E688)-1),\"\")","v":"UNIDADE"},0.82,0.82,1.35,{"$f":"IF(ISNUMBER($L688),VALUE(OFFSET(Banco!$A$1,Composições!$L688-1,COLUMN(Composições!I688)-4)),0)","v":0.61},{"$f":"IF(ISNUMBER($L688),VALUE(OFFSET(Banco!$A$1,Composições!$L688-1,COLUMN(Composições!J688)-4)),0)","v":0.61},{"$f":"COUNTA($A$1:$A688)-1","v":81},{"$f":"MATCH(CONCATENATE($B688,\" \",$C688),Banco!$A:$A,0)","v":100},{"$f":"IF(OR(ISERROR($L688),$H688=\"\",$H688=0),\"\",OFFSET(M$1,MATCH($K688,$K$1:$K688,0)-1,0))","v":"F"},null,{"$f":"IF(ISNUMBER($L688),VALUE(OFFSET(Banco!$A$1,Composições!$L688-1,COLUMN(Composições!O688)-6)),0)","v":0},{"$f":"IF(ISNUMBER($L688),VALUE(OFFSET(Banco!$A$1,Composições!$L688-1,COLUMN(Composições!P688)-6)),0)","v":0},0,0]
[null,null,null,null,null,null,null,null,null,null,{"$f":"COUNTA($A$1:$A689)-1","v":81},null,{"$f":"IF(OFFSET($M$1,MATCH(OFFSET(K689,-1,0),$K$1:$K689,0)-1,0)=\"F\",\"F\",\"\")","v":"F"}]
[{"$f":"CONCATENATE($B690,\" \",$C690)","v":"Composição INEL.0423.01"},"Composição","INEL.0423.01","HASTE DE ATERRAMENTO, DIÂMETRO 3/8\", COM 2,4 METROS - FORNECIMENTO E INSTALAÇÃO. AF_08/2023","UN    ",{"$f":"IF($L690>0,SUM(OFFSET(F690,1,0,$L690),0))","v":48.97},50.26,null,{"$f":"IF(ISERROR(F690),0,F690)","v":48.97},50.26,{"$f":"COUNTA($A$1:$A690)-1","v":82},{"$f":"IF(MAX(K:K)=K690,MATCH(9999999,$K:$K)+1,MATCH(K690+1,K:K,0))-ROW(L690)-2","v":3},{"$f":"IF(AND(OR(I690<>0,J690<>0),N690=\"Sim\"),\"F\",\"\")","v":"F"},"Sim",{"$f":"IF(AND($L690>0,F690<>0),ROUND(SUM(OFFSET(Q690,1,0,$L690))/F690,4),0)","v":0},0]
[null,"COTAÇÃO","I.INEL.0583.01",{"$f":"IF(ISNUMBER($L691),OFFSET(Banco!$A$1,Composições!$L691-1,COLUMN(Composições!D691)-1),\"\")","v":"haste de aterramento 3/8\"x 2,40 m "},{"$f":"IF(ISNUMBER($L691),OFFSET(Banco!$A$1,Composições!$L691-1,COLUMN(Composições!E691)-1),\"\")","v":"UNIDADE"},{"$f":"ROUND($H691*ROUND(I691,2),2)","v":33.33},33.33,1,{"$f":"IF(ISNUMBER($L691),VALUE(OFFSET(Banco!$A$1,Composições!$L691-1,COLUMN(Composições!I691)-4)),0)","v":33.33},{"$f":"IF(ISNUMBER($L691),VALUE(OFFSET(Banco!$A$1,Composições!$L691-1,COLUMN(Composições!J691)-4)),0)","v":33.33},{"$f":"COUNTA($A$1:$A691)-1","v":82},{"$f":"MATCH(CONCATENATE($B691,\" \",$C691),Banco!$A:$A,0)","v":101},{"$f":"IF(OR(ISERROR($L691),$H691=\"\",$H691=0),\"\",OFFSET(M$1,MATCH($K691,$K$1:$K691,0)-1,0))","v":"F"},null,{"$f":"IF(ISNUMBER($L691),VALUE(OFFSET(Banco!$A$1,Composições!$L691-1,COLUMN(Composições!O691)-6)),0)","v":0},{"$f":"IF(ISNUMBER($L691),VALUE(OFFSET(Banco!$A$1,Composições!$L691-1,COLUMN(Composições!P691)-6)),0)","v":0},{"$f":"ROUND(F691*O691,2)","v":0},0]
[null,"SINAPI",88247,{"$f":"IF(ISNUMBER($L692),OFFSET(Banco!$A$1,Composições!$L692-1,COLUMN(Composições!D692)-1),\"\")","v":"AUXILIAR DE ELETRICISTA COM ENCARGOS COMPLEMENTARES"},{"$f":"IF(ISNUMBER($L692),OFFSET(Banco!$A$1,Composições!$L692-1,COLUMN(Composições!E692)-1),\"\")","v":"H"},7.09,7.65,0.24840000000000001,{"$f":"IF(ISNUMBER($L692),VALUE(OFFSET(Banco!$A$1,Composições!$L692-1,COLUMN(Composições!I692)-4)),0)","v":28.53},{"$f":"IF(ISNUMBER($L692),VALUE(OFFSET(Banco!$A$1,Composições!$L692-1,COLUMN(Composições!J692)-4)),0)","v":30.8},{"$f":"COUNTA($A$1:$A692)-1","v":82},{"$f":"MATCH(CONCATENATE($B692,\" \",$C692),Banco!$A:$A,0)","v":12875},{"$f":"IF(OR(ISERROR($L692),$H692=\"\",$H692=0),\"\",OFFSET(M$1,MATCH($K692,$K$1:$K692,0)-1,0))","v":"F"},null,{"$f":"IF(ISNUMBER($L692),VALUE(OFFSET(Banco!$A$1,Composições!$L692-1,COLUMN(Composições!O692)-6)),0)","v":0},{"$f":"IF(ISNUMBER($L692),VALUE(OFFSET(Banco!$A$1,Composições!$L692-1,COLUMN(Composições!P692)-6)),0)","v":0},0,0]
[null,"SINAPI",88264,{"$f":"IF(ISNUMBER($L693),OFFSET(Banco!$A$1,Composições!$L693-1,COLUMN(Composições!D693)-1),\"\")","v":"ELETRICISTA COM ENCARGOS COMPLEMENTARES"},{"$f":"IF(ISNUMBER($L693),OFFSET(Banco!$A$1,Composições!$L693-1,COLUMN(Composições!E693)-1),\"\")","v":"H"},8.5500000000000007,9.2799999999999994,0.24840000000000001,{"$f":"IF(ISNUMBER($L693),VALUE(OFFSET(Banco!$A$1,Composições!$L693-1,COLUMN(Composições!I693)-4)),0)","v":34.409999999999997},{"$f":"IF(ISNUMBER($L693),VALUE(OFFSET(Banco!$A$1,Composições!$L693-1,COLUMN(Composições!J693)-4)),0)","v":37.369999999999997},{"$f":"COUNTA($A$1:$A693)-1","v":82},{"$f":"MATCH(CONCATENATE($B693,\" \",$C693),Banco!$A:$A,0)","v":13095},{"$f":"IF(OR(ISERROR($L693),$H693=\"\",$H693=0),\"\",OFFSET(M$1,MATCH($K693,$K$1:$K693,0)-1,0))","v":"F"},null,{"$f":"IF(ISNUMBER($L693),VALUE(OFFSET(Banco!$A$1,Composições!$L693-1,COLUMN(Composições!O693)-6)),0)","v":0},{"$f":"IF(ISNUMBER($L693),VALUE(OFFSET(Banco!$A$1,Composições!$L693-1,COLUMN(Composições!P693)-6)),0)","v":0},0,0]
[null,null,null,null,null,null,null,null,null,null,{"$f":"COUNTA($A$1:$A694)-1","v":82},null,{"$f":"IF(OFFSET($M$1,MATCH(OFFSET(K694,-1,0),$K$1:$K694,0)-1,0)=\"F\",\"F\",\"\")","v":"F"}]
[{"$f":"CONCATENATE($B695,\" \",$C695)","v":"Composição COBE.0078.01"},"Composição","COBE.0078.01","TELHAMENTO COM TELHA METÁLICA TRAPÉZIO 40, ESP. 0,5 MM PRÉ-PINTADA DE FÁBRICA, INCLUINDO ACESSORIOS DE FIXACAO.","M2",{"$f":"IF($L695>0,SUM(OFFSET(F695,1,0,$L695),0))","v":102},102.67999999999999,null,{"$f":"IF(ISERROR(F695),0,F695)","v":102},102.67999999999999,{"$f":"COUNTA($A$1:$A695)-1","v":83},{"$f":"IF(MAX(K:K)=K695,MATCH(9999999,$K:$K)+1,MATCH(K695+1,K:K,0))-ROW(L695)-2","v":7},{"$f":"IF(AND(OR(I695<>0,J695<>0),N695=\"Sim\"),\"F\",\"\")","v":"F"},"Sim",{"$f":"IF(AND($L695>0,F695<>0),ROUND(SUM(OFFSET(Q695,1,0,$L695))/F695,4),0)","v":0},0]
[null,"SINAPI",93282,{"$f":"IF(ISNUMBER($L696),OFFSET(Banco!$A$1,Composições!$L696-1,COLUMN(Composições!D696)-1),\"\")","v":"GUINCHO ELÉTRICO DE COLUNA, CAPACIDADE 400 KG, COM MOTO FREIO, MOTOR TRIFÁSICO DE 1,25 CV - CHI DIURNO. AF_03/2016"},{"$f":"IF(ISNUMBER($L696),OFFSET(Banco!$A$1,Composições!$L696-1,COLUMN(Composições!E696)-1),\"\")","v":"CHI"},{"$f":"ROUND($H696*ROUND(I696,2),2)","v":0.04},0.05,1.2999999999999999E-3,{"$f":"IF(ISNUMBER($L696),VALUE(OFFSET(Banco!$A$1,Composições!$L696-1,COLUMN(Composições!I696)-4)),0)","v":31.89},{"$f":"IF(ISNUMBER($L696),VALUE(OFFSET(Banco!$A$1,Composições!$L696-1,COLUMN(Composições!J696)-4)),0)","v":34.68},{"$f":"COUNTA($A$1:$A696)-1","v":83},{"$f":"MATCH(CONCATENATE($B696,\" \",$C696),Banco!$A:$A,0)","v":7685},{"$f":"IF(OR(ISERROR($L696),$H696=\"\",$H696=0),\"\",OFFSET(M$1,MATCH($K696,$K$1:$K696,0)-1,0))","v":"F"},null,{"$f":"IF(ISNUMBER($L696),VALUE(OFFSET(Banco!$A$1,Composições!$L696-1,COLUMN(Composições!O696)-6)),0)","v":0},{"$f":"IF(ISNUMBER($L696),VALUE(OFFSET(Banco!$A$1,Composições!$L696-1,COLUMN(Composições!P696)-6)),0)","v":0},{"$f":"ROUND(F696*O696,2)","v":0},0]
[null,"SINAPI",93281,{"$f":"IF(ISNUMBER($L697),OFFSET(Banco!$A$1,Composições!$L697-1,COLUMN(Composições!D697)-1),\"\")","v":"GUINCHO ELÉTRICO DE COLUNA, CAPACIDADE 400 KG, COM MOTO FREIO, MOTOR TRIFÁSICO DE 1,25 CV - CHP DIURNO. AF_03/2016"},{"$f":"IF(ISNUMBER($L697),OFFSET(Banco!$A$1,Composições!$L697-1,COLUMN(Composições!E697)-1),\"\")","v":"CHP"},0.03,0.03,8.9999999999999998E-4,{"$f":"IF(ISNUMBER($L697),VALUE(OFFSET(Banco!$A$1,Composições!$L697-1,COLUMN(Composições!I697)-4)),0)","v":32.68},{"$f":"IF(ISNUMBER($L697),VALUE(OFFSET(Banco!$A$1,Composições!$L697-1,COLUMN(Composições!J697)-4)),0)","v":35.47},{"$f":"COUNTA($A$1:$A697)-1","v":83},{"$f":"MATCH(CONCATENATE($B697,\" \",$C697),Banco!$A:$A,0)","v":7686},{"$f":"IF(OR(ISERROR($L697),$H697=\"\",$H697=0),\"\",OFFSET(M$1,MATCH($K697,$K$1:$K697,0)-1,0))","v":"F"},null,{"$f":"IF(ISNUMBER($L697),VALUE(OFFSET(Banco!$A$1,Composições!$L697-1,COLUMN(Composições!O697)-6)),0)","v":0},{"$f":"IF(ISNUMBER($L697),VALUE(OFFSET(Banco!$A$1,Composições!$L697-1,COLUMN(Composições!P697)-6)),0)","v":0},0,0]
[null,"SINAPI",88323,{"$f":"IF(ISNUMBER($L698),OFFSET(Banco!$A$1,Composições!$L698-1,COLUMN(Composições!D698)-1),\"\")","v":"TELHADISTA COM ENCARGOS COMPLEMENTARES"},{"$f":"IF(ISNUMBER($L698),OFFSET(Banco!$A$1,Composições!$L698-1,COLUMN(Composições!E698)-1),\"\")","v":"H"},3.02,3.29,9.0999999999999998E-2,{"$f":"IF(ISNUMBER($L698),VALUE(OFFSET(Banco!$A$1,Composições!$L698-1,COLUMN(Composições!I698)-4)),0)","v":33.24},{"$f":"IF(ISNUMBER($L698),VALUE(OFFSET(Banco!$A$1,Composições!$L698-1,COLUMN(Composições!J698)-4)),0)","v":36.1},{"$f":"COUNTA($A$1:$A698)-1","v":83},{"$f":"MATCH(CONCATENATE($B698,\" \",$C698),Banco!$A:$A,0)","v":13207},{"$f":"IF(OR(ISERROR($L698),$H698=\"\",$H698=0),\"\",OFFSET(M$1,MATCH($K698,$K$1:$K698,0)-1,0))","v":"F"},null,{"$f":"IF(ISNUMBER($L698),VALUE(OFFSET(Banco!$A$1,Composições!$L698-1,COLUMN(Composições!O698)-6)),0)","v":0},{"$f":"IF(ISNUMBER($L698),VALUE(OFFSET(Banco!$A$1,Composições!$L698-1,COLUMN(Composições!P698)-6)),0)","v":0},0,0]
[null,"SINAPI",88316,{"$f":"IF(ISNUMBER($L699),OFFSET(Banco!$A$1,Composições!$L699-1,COLUMN(Composições!D699)-1),\"\")","v":"SERVENTE COM ENCARGOS COMPLEMENTARES"},{"$f":"IF(ISNUMBER($L699),OFFSET(Banco!$A$1,Composições!$L699-1,COLUMN(Composições!E699)-1),\"\")","v":"H"},2.59,2.78,9.7000000000000003E-2,{"$f":"IF(ISNUMBER($L699),VALUE(OFFSET(Banco!$A$1,Composições!$L699-1,COLUMN(Composições!I699)-4)),0)","v":26.65},{"$f":"IF(ISNUMBER($L699),VALUE(OFFSET(Banco!$A$1,Composições!$L699-1,COLUMN(Composições!J699)-4)),0)","v":28.71},{"$f":"COUNTA($A$1:$A699)-1","v":83},{"$f":"MATCH(CONCATENATE($B699,\" \",$C699),Banco!$A:$A,0)","v":13198},{"$f":"IF(OR(ISERROR($L699),$H699=\"\",$H699=0),\"\",OFFSET(M$1,MATCH($K699,$K$1:$K699,0)-1,0))","v":"F"},null,{"$f":"IF(ISNUMBER($L699),VALUE(OFFSET(Banco!$A$1,Composições!$L699-1,COLUMN(Composições!O699)-6)),0)","v":0},{"$f":"IF(ISNUMBER($L699),VALUE(OFFSET(Banco!$A$1,Composições!$L699-1,COLUMN(Composições!P699)-6)),0)","v":0},0,0]
[null,"SINAPI-I",11029,{"$f":"IF(ISNUMBER($L700),OFFSET(Banco!$A$1,Composições!$L700-1,COLUMN(Composições!D700)-1),\"\")","v":"HASTE RETA PARA GANCHO DE FERRO GALVANIZADO, COM ROSCA 1/4\" X 30 CM PARA FIXACAO DE TELHA METALICA, INCLUI PORCA E ARRUELAS DE VEDACAO"},{"$f":"IF(ISNUMBER($L700),OFFSET(Banco!$A$1,Composições!$L700-1,COLUMN(Composições!E700)-1),\"\")","v":"CJ"},5.56,5.56,4.1500000000000004,{"$f":"IF(ISNUMBER($L700),VALUE(OFFSET(Banco!$A$1,Composições!$L700-1,COLUMN(Composições!I700)-4)),0)","v":1.34},{"$f":"IF(ISNUMBER($L700),VALUE(OFFSET(Banco!$A$1,Composições!$L700-1,COLUMN(Composições!J700)-4)),0)","v":1.34},{"$f":"COUNTA($A$1:$A700)-1","v":83},{"$f":"MATCH(CONCATENATE($B700,\" \",$C700),Banco!$A:$A,0)","v":2379},{"$f":"IF(OR(ISERROR($L700),$H700=\"\",$H700=0),\"\",OFFSET(M$1,MATCH($K700,$K$1:$K700,0)-1,0))","v":"F"},null,{"$f":"IF(ISNUMBER($L700),VALUE(OFFSET(Banco!$A$1,Composições!$L700-1,COLUMN(Composições!O700)-6)),0)","v":0},{"$f":"IF(ISNUMBER($L700),VALUE(OFFSET(Banco!$A$1,Composições!$L700-1,COLUMN(Composições!P700)-6)),0)","v":0},0,0]
[null,"COTAÇÃO",7243,{"$f":"IF(ISNUMBER($L701),OFFSET(Banco!$A$1,Composições!$L701-1,COLUMN(Composições!D701)-1),\"\")","v":"TELHA TRAPEZOIDAL EM ACO ZINCADO, SEM PINTURA, ALTURA DE APROXIMADAMENTE 40 MM, ESPESSURA DE 0,50 MM E LARGURA UTIL DE 980 MM"},{"$f":"IF(ISNUMBER($L701),OFFSET(Banco!$A$1,Composições!$L701-1,COLUMN(Composições!E701)-1),\"\")","v":"M2"},58.11,58.11,1.1659999999999999,{"$f":"IF(ISNUMBER($L701),VALUE(OFFSET(Banco!$A$1,Composições!$L701-1,COLUMN(Composições!I701)-4)),0)","v":49.84},{"$f":"IF(ISNUMBER($L701),VALUE(OFFSET(Banco!$A$1,Composições!$L701-1,COLUMN(Composições!J701)-4)),0)","v":49.84},{"$f":"COUNTA($A$1:$A701)-1","v":83},{"$f":"MATCH(CONCATENATE($B701,\" \",$C701),Banco!$A:$A,0)","v":109},{"$f":"IF(OR(ISERROR($L701),$H701=\"\",$H701=0),\"\",OFFSET(M$1,MATCH($K701,$K$1:$K701,0)-1,0))","v":"F"},null,{"$f":"IF(ISNUMBER($L701),VALUE(OFFSET(Banco!$A$1,Composições!$L701-1,COLUMN(Composições!O701)-6)),0)","v":0},{"$f":"IF(ISNUMBER($L701),VALUE(OFFSET(Banco!$A$1,Composições!$L701-1,COLUMN(Composições!P701)-6)),0)","v":0},0,0]
[null,"SINAPI",100727,{"$f":"IF(ISNUMBER($L702),OFFSET(Banco!$A$1,Composições!$L702-1,COLUMN(Composições!D702)-1),\"\")","v":"PINTURA COM TINTA EPOXÍDICA DE FUNDO PULVERIZADA SOBRE PERFIL METÁLICO EXECUTADO EM FÁBRICA (POR DEMÃO). AF_01/2020_PE"},{"$f":"IF(ISNUMBER($L702),OFFSET(Banco!$A$1,Composições!$L702-1,COLUMN(Composições!E702)-1),\"\")","v":"M2"},32.65,32.86,1.1659999999999999,{"$f":"IF(ISNUMBER($L702),VALUE(OFFSET(Banco!$A$1,Composições!$L702-1,COLUMN(Composições!I702)-4)),0)","v":28},{"$f":"IF(ISNUMBER($L702),VALUE(OFFSET(Banco!$A$1,Composições!$L702-1,COLUMN(Composições!J702)-4)),0)","v":28.18},{"$f":"COUNTA($A$1:$A702)-1","v":83},{"$f":"MATCH(CONCATENATE($B702,\" \",$C702),Banco!$A:$A,0)","v":14029},{"$f":"IF(OR(ISERROR($L702),$H702=\"\",$H702=0),\"\",OFFSET(M$1,MATCH($K702,$K$1:$K702,0)-1,0))","v":"F"},null,{"$f":"IF(ISNUMBER($L702),VALUE(OFFSET(Banco!$A$1,Composições!$L702-1,COLUMN(Composições!O702)-6)),0)","v":0},{"$f":"IF(ISNUMBER($L702),VALUE(OFFSET(Banco!$A$1,Composições!$L702-1,COLUMN(Composições!P702)-6)),0)","v":0},0,0]
[null,null,null,null,null,null,null,null,null,null,{"$f":"COUNTA($A$1:$A703)-1","v":83},null,{"$f":"IF(OFFSET($M$1,MATCH(OFFSET(K703,-1,0),$K$1:$K703,0)-1,0)=\"F\",\"F\",\"\")","v":"F"}]
[{"$f":"CONCATENATE($B704,\" \",$C704)","v":"Composição CANT.0006.01"},"Composição","CANT.0006.01","LOCACAO DE CONTAINER 2,30 X 4,30 M, ALT. 2,50 M, PARA SANITARIO, COM 3 BACIAS, 4 CHUVEIROS, 1 LAVATORIO E 1 MICTORIO (INCLUSIVE MOBILIZAÇÃO E DESMOBILIZAÇÃO)","MÊS",{"$f":"IF($L704>0,SUM(OFFSET(F704,1,0,$L704),0))","v":848.84},849.67,null,{"$f":"IF(ISERROR(F704),0,F704)","v":848.84},849.67,{"$f":"COUNTA($A$1:$A704)-1","v":84},{"$f":"IF(MAX(K:K)=K704,MATCH(9999999,$K:$K)+1,MATCH(K704+1,K:K,0))-ROW(L704)-2","v":3},{"$f":"IF(AND(OR(I704<>0,J704<>0),N704=\"Sim\"),\"F\",\"\")","v":"F"},"Sim",{"$f":"IF(AND($L704>0,F704<>0),ROUND(SUM(OFFSET(Q704,1,0,$L704))/F704,4),0)","v":2.1299999999999999E-2},2.1299999999999999E-2]
[null,"SINAPI-I",10777,{"$f":"IF(ISNUMBER($L705),OFFSET(Banco!$A$1,Composições!$L705-1,COLUMN(Composições!D705)-1),\"\")","v":"LOCACAO DE CONTAINER 2,30 X 4,30 M, ALT. 2,50 M, PARA SANITARIO, COM 3 BACIAS, 4 CHUVEIROS, 1 LAVATORIO E 1 MICTORIO (NAO INCLUI MOBILIZACAO/DESMOBILIZACAO)"},{"$f":"IF(ISNUMBER($L705),OFFSET(Banco!$A$1,Composições!$L705-1,COLUMN(Composições!E705)-1),\"\")","v":"MES"},{"$f":"ROUND($H705*ROUND(I705,2),2)","v":794.79},794.79,1,{"$f":"IF(ISNUMBER($L705),VALUE(OFFSET(Banco!$A$1,Composições!$L705-1,COLUMN(Composições!I705)-4)),0)","v":794.79},{"$f":"IF(ISNUMBER($L705),VALUE(OFFSET(Banco!$A$1,Composições!$L705-1,COLUMN(Composições!J705)-4)),0)","v":794.79},{"$f":"COUNTA($A$1:$A705)-1","v":84},{"$f":"MATCH(CONCATENATE($B705,\" \",$C705),Banco!$A:$A,0)","v":2708},{"$f":"IF(OR(ISERROR($L705),$H705=\"\",$H705=0),\"\",OFFSET(M$1,MATCH($K705,$K$1:$K705,0)-1,0))","v":"F"},null,{"$f":"IF(ISNUMBER($L705),VALUE(OFFSET(Banco!$A$1,Composições!$L705-1,COLUMN(Composições!O705)-6)),0)","v":0},{"$f":"IF(ISNUMBER($L705),VALUE(OFFSET(Banco!$A$1,Composições!$L705-1,COLUMN(Composições!P705)-6)),0)","v":0},{"$f":"ROUND(F705*O705,2)","v":0},0]
[null,"SINAPI",5930,{"$f":"IF(ISNUMBER($L706),OFFSET(Banco!$A$1,Composições!$L706-1,COLUMN(Composições!D706)-1),\"\")","v":"GUINDAUTO HIDRÁULICO, CAPACIDADE MÁXIMA DE CARGA 6200 KG, MOMENTO MÁXIMO DE CARGA 11,7 TM, ALCANCE MÁXIMO HORIZONTAL 9,70 M, INCLUSIVE CAMINHÃO TOCO PBT 16.000 KG, POTÊNCIA DE 189 CV - CHI DIURNO. AF_06/2014"},{"$f":"IF(ISNUMBER($L706),OFFSET(Banco!$A$1,Composições!$L706-1,COLUMN(Composições!E706)-1),\"\")","v":"CHI"},5.73,5.98,7.3599999999999999E-2,{"$f":"IF(ISNUMBER($L706),VALUE(OFFSET(Banco!$A$1,Composições!$L706-1,COLUMN(Composições!I706)-4)),0)","v":77.84},{"$f":"IF(ISNUMBER($L706),VALUE(OFFSET(Banco!$A$1,Composições!$L706-1,COLUMN(Composições!J706)-4)),0)","v":81.209999999999994},{"$f":"COUNTA($A$1:$A706)-1","v":84},{"$f":"MATCH(CONCATENATE($B706,\" \",$C706),Banco!$A:$A,0)","v":7705},{"$f":"IF(OR(ISERROR($L706),$H706=\"\",$H706=0),\"\",OFFSET(M$1,MATCH($K706,$K$1:$K706,0)-1,0))","v":"F"},null,{"$f":"IF(ISNUMBER($L706),VALUE(OFFSET(Banco!$A$1,Composições!$L706-1,COLUMN(Composições!O706)-6)),0)","v":0.53200000000000003},{"$f":"IF(ISNUMBER($L706),VALUE(OFFSET(Banco!$A$1,Composições!$L706-1,COLUMN(Composições!P706)-6)),0)","v":0.50990000000000002},3.05,3.05]
[null,"SINAPI",5928,{"$f":"IF(ISNUMBER($L707),OFFSET(Banco!$A$1,Composições!$L707-1,COLUMN(Composições!D707)-1),\"\")","v":"GUINDAUTO HIDRÁULICO, CAPACIDADE MÁXIMA DE CARGA 6200 KG, MOMENTO MÁXIMO DE CARGA 11,7 TM, ALCANCE MÁXIMO HORIZONTAL 9,70 M, INCLUSIVE CAMINHÃO TOCO PBT 16.000 KG, POTÊNCIA DE 189 CV - CHP DIURNO. AF_06/2014"},{"$f":"IF(ISNUMBER($L707),OFFSET(Banco!$A$1,Composições!$L707-1,COLUMN(Composições!E707)-1),\"\")","v":"CHP"},48.32,48.9,0.17172499999999999,{"$f":"IF(ISNUMBER($L707),VALUE(OFFSET(Banco!$A$1,Composições!$L707-1,COLUMN(Composições!I707)-4)),0)","v":281.37},{"$f":"IF(ISNUMBER($L707),VALUE(OFFSET(Banco!$A$1,Composições!$L707-1,COLUMN(Composições!J707)-4)),0)","v":284.74},{"$f":"COUNTA($A$1:$A707)-1","v":84},{"$f":"MATCH(CONCATENATE($B707,\" \",$C707),Banco!$A:$A,0)","v":7706},{"$f":"IF(OR(ISERROR($L707),$H707=\"\",$H707=0),\"\",OFFSET(M$1,MATCH($K707,$K$1:$K707,0)-1,0))","v":"F"},null,{"$f":"IF(ISNUMBER($L707),VALUE(OFFSET(Banco!$A$1,Composições!$L707-1,COLUMN(Composições!O707)-6)),0)","v":0.31169999999999998},{"$f":"IF(ISNUMBER($L707),VALUE(OFFSET(Banco!$A$1,Composições!$L707-1,COLUMN(Composições!P707)-6)),0)","v":0.308},15.06,15.06]
[null,null,null,null,null,null,null,null,null,null,{"$f":"COUNTA($A$1:$A708)-1","v":84},null,{"$f":"IF(OFFSET($M$1,MATCH(OFFSET(K708,-1,0),$K$1:$K708,0)-1,0)=\"F\",\"F\",\"\")","v":"F"}]
[{"$f":"CONCATENATE($B709,\" \",$C709)","v":"Composição CANT.0007.01"},"Composição","CANT.0007.01","LOCACAO DE CONTAINER ALMOXARIFADO, COMPLETO, SEM DIVISORIAS INTERNAS  (INCLUSIVE MOBILIZAÇÃO E DESMOBILIZAÇÃO)","MÊS",{"$f":"IF($L709>0,SUM(OFFSET(F709,1,0,$L709),0))","v":754.05000000000007},754.88,null,{"$f":"IF(ISERROR(F709),0,F709)","v":754.05000000000007},754.88,{"$f":"COUNTA($A$1:$A709)-1","v":85},{"$f":"IF(MAX(K:K)=K709,MATCH(9999999,$K:$K)+1,MATCH(K709+1,K:K,0))-ROW(L709)-2","v":3},{"$f":"IF(AND(OR(I709<>0,J709<>0),N709=\"Sim\"),\"F\",\"\")","v":"F"},"Sim",{"$f":"IF(AND($L709>0,F709<>0),ROUND(SUM(OFFSET(Q709,1,0,$L709))/F709,4),0)","v":2.4E-2},2.4E-2]
[null,"SINAPI-I",10775,{"$f":"IF(ISNUMBER($L710),OFFSET(Banco!$A$1,Composições!$L710-1,COLUMN(Composições!D710)-1),\"\")","v":"LOCACAO DE CONTAINER 2,30 X 6,00 M, ALT. 2,50 M, COM 1 SANITARIO, PARA ESCRITORIO, COMPLETO, SEM DIVISORIAS INTERNAS (NAO INCLUI MOBILIZACAO/DESMOBILIZACAO)"},{"$f":"IF(ISNUMBER($L710),OFFSET(Banco!$A$1,Composições!$L710-1,COLUMN(Composições!E710)-1),\"\")","v":"MES"},{"$f":"ROUND($H710*ROUND(I710,2),2)","v":700},700,1,{"$f":"IF(ISNUMBER($L710),VALUE(OFFSET(Banco!$A$1,Composições!$L710-1,COLUMN(Composições!I710)-4)),0)","v":700},{"$f":"IF(ISNUMBER($L710),VALUE(OFFSET(Banco!$A$1,Composições!$L710-1,COLUMN(Composições!J710)-4)),0)","v":700},{"$f":"COUNTA($A$1:$A710)-1","v":85},{"$f":"MATCH(CONCATENATE($B710,\" \",$C710),Banco!$A:$A,0)","v":2709},{"$f":"IF(OR(ISERROR($L710),$H710=\"\",$H710=0),\"\",OFFSET(M$1,MATCH($K710,$K$1:$K710,0)-1,0))","v":"F"},null,{"$f":"IF(ISNUMBER($L710),VALUE(OFFSET(Banco!$A$1,Composições!$L710-1,COLUMN(Composições!O710)-6)),0)","v":0},{"$f":"IF(ISNUMBER($L710),VALUE(OFFSET(Banco!$A$1,Composições!$L710-1,COLUMN(Composições!P710)-6)),0)","v":0},{"$f":"ROUND(F710*O710,2)","v":0},0]
[null,"SINAPI",5930,{"$f":"IF(ISNUMBER($L711),OFFSET(Banco!$A$1,Composições!$L711-1,COLUMN(Composições!D711)-1),\"\")","v":"GUINDAUTO HIDRÁULICO, CAPACIDADE MÁXIMA DE CARGA 6200 KG, MOMENTO MÁXIMO DE CARGA 11,7 TM, ALCANCE MÁXIMO HORIZONTAL 9,70 M, INCLUSIVE CAMINHÃO TOCO PBT 16.000 KG, POTÊNCIA DE 189 CV - CHI DIURNO. AF_06/2014"},{"$f":"IF(ISNUMBER($L711),OFFSET(Banco!$A$1,Composições!$L711-1,COLUMN(Composições!E711)-1),\"\")","v":"CHI"},5.73,5.98,7.3599999999999999E-2,{"$f":"IF(ISNUMBER($L711),VALUE(OFFSET(Banco!$A$1,Composições!$L711-1,COLUMN(Composições!I711)-4)),0)","v":77.84},{"$f":"IF(ISNUMBER($L711),VALUE(OFFSET(Banco!$A$1,Composições!$L711-1,COLUMN(Composições!J711)-4)),0)","v":81.209999999999994},{"$f":"COUNTA($A$1:$A711)-1","v":85},{"$f":"MATCH(CONCATENATE($B711,\" \",$C711),Banco!$A:$A,0)","v":7705},{"$f":"IF(OR(ISERROR($L711),$H711=\"\",$H711=0),\"\",OFFSET(M$1,MATCH($K711,$K$1:$K711,0)-1,0))","v":"F"},null,{"$f":"IF(ISNUMBER($L711),VALUE(OFFSET(Banco!$A$1,Composições!$L711-1,COLUMN(Composições!O711)-6)),0)","v":0.53200000000000003},{"$f":"IF(ISNUMBER($L711),VALUE(OFFSET(Banco!$A$1,Composições!$L711-1,COLUMN(Composições!P711)-6)),0)","v":0.50990000000000002},3.05,3.05]
[null,"SINAPI",5928,{"$f":"IF(ISNUMBER($L712),OFFSET(Banco!$A$1,Composições!$L712-1,COLUMN(Composições!D712)-1),\"\")","v":"GUINDAUTO HIDRÁULICO, CAPACIDADE MÁXIMA DE CARGA 6200 KG, MOMENTO MÁXIMO DE CARGA 11,7 TM, ALCANCE MÁXIMO HORIZONTAL 9,70 M, INCLUSIVE CAMINHÃO TOCO PBT 16.000 KG, POTÊNCIA DE 189 CV - CHP DIURNO. AF_06/2014"},{"$f":"IF(ISNUMBER($L712),OFFSET(Banco!$A$1,Composições!$L712-1,COLUMN(Composições!E712)-1),\"\")","v":"CHP"},48.32,48.9,0.17172499999999999,{"$f":"IF(ISNUMBER($L712),VALUE(OFFSET(Banco!$A$1,Composições!$L712-1,COLUMN(Composições!I712)-4)),0)","v":281.37},{"$f":"IF(ISNUMBER($L712),VALUE(OFFSET(Banco!$A$1,Composições!$L712-1,COLUMN(Composições!J712)-4)),0)","v":284.74},{"$f":"COUNTA($A$1:$A712)-1","v":85},{"$f":"MATCH(CONCATENATE($B712,\" \",$C712),Banco!$A:$A,0)","v":7706},{"$f":"IF(OR(ISERROR($L712),$H712=\"\",$H712=0),\"\",OFFSET(M$1,MATCH($K712,$K$1:$K712,0)-1,0))","v":"F"},null,{"$f":"IF(ISNUMBER($L712),VALUE(OFFSET(Banco!$A$1,Composições!$L712-1,COLUMN(Composições!O712)-6)),0)","v":0.31169999999999998},{"$f":"IF(ISNUMBER($L712),VALUE(OFFSET(Banco!$A$1,Composições!$L712-1,COLUMN(Composições!P712)-6)),0)","v":0.308},15.06,15.06]
[null,null,null,null,null,null,null,null,null,null,{"$f":"COUNTA($A$1:$A713)-1","v":85},null,{"$f":"IF(OFFSET($M$1,MATCH(OFFSET(K713,-1,0),$K$1:$K713,0)-1,0)=\"F\",\"F\",\"\")","v":"F"}]
["###","2025-06-23",null,null,null,null,null,null,null,null,null,null,"F"]
[null,"Data",null,null,"Responsável Técnico:",null,null,null,"ENG. CIVIL SARAH J R RANCY",null,null,null,"F"]
[null,null,null,null,"CREA/CAU:",null,null,null,"137.245/D",null,null,null,"F"]

{"sheet":"Cotações","index":4,"n_rows":309,"n_cols":19,"rows_kept":309,"cut":false,"hidden":false,"merged":[[305,3,305,8],[303,3,303,4],[303,5,303,6],[303,7,303,8],[304,3,304,4],[304,5,304,6],[304,7,304,8],[297,3,297,8],[299,5,299,6],[299,7,299,8],[300,5,300,6],[300,7,300,8],[301,3,301,4],[301,5,301,6],[301,7,301,8],[302,3,302,4],[302,5,302,6],[302,7,302,8],[291,3,291,8],[293,5,293,6],[293,7,293,8],[294,5,294,6],[294,7,294,8],[295,3,295,4],[295,5,295,6],[295,7,295,8],[296,3,296,4],[296,5,296,6],[296,7,296,8],[285,3,285,8],[287,5,287,6],[287,7,287,8],[288,5,288,6],[288,7,288,8],[289,3,289,4],[289,5,289,6],[289,7,289,8],[290,3,290,4],[290,5,290,6],[290,7,290,8],[279,3,279,8],[281,5,281,6],[281,7,281,8],[282,5,282,6],[282,7,282,8],[283,3,283,4],[283,5,283,6],[283,7,283,8],[284,3,284,4],[284,5,284,6],[284,7,284,8],[273,3,273,8],[275,5,275,6],[275,7,275,8],[276,5,276,6],[276,7,276,8],[277,3,277,4],[277,5,277,6],[277,7,277,8],[278,3,278,4],[278,5,278,6],[278,7,278,8],[267,3,267,8],[269,5,269,6],[269,7,269,8],[270,5,270,6],[270,7,270,8],[271,3,271,4],[271,5,271,6],[271,7,271,8],[272,3,272,4],[272,5,272,6],[272,7,272,8],[261,3,261,8],[263,5,263,6],[263,7,263,8],[264,5,264,6],[264,7,264,8],[265,3,265,4],[265,5,265,6],[265,7,265,8],[266,3,266,4],[266,5,266,6],[266,7,266,8],[255,3,255,8],[257,5,257,6],[257,7,257,8],[258,5,258,6],[258,7,258,8],[259,3,259,4],[259,5,259,6],[259,7,259,8],[260,3,260,4],[260,5,260,6],[260,7,260,8],[249,3,249,8],[251,5,251,6],[251,7,251,8],[252,5,252,6],[252,7,252,8],[253,3,253,4],[253,5,253,6],[253,7,253,8],[254,3,254,4],[254,5,254,6],[254,7,254,8],[243,3,243,8],[245,5,245,6],[245,7,245,8],[246,5,246,6],[246,7,246,8],[247,3,247,4],[247,5,247,6],[247,7,247,8],[248,3,248,4],[248,5,248,6],[248,7,248,8],[237,3,237,8],[239,5,239,6],[239,7,239,8],[240,5,240,6],[240,7,240,8],[241,3,241,4],[241,5,241,6],[241,7,241,8],[242,3,242,4],[242,5,242,6],[242,7,242,8],[231,3,231,8],[233,5,233,6],[233,7,233,8],[234,5,234,6],[234,7,234,8],[235,3,235,4],[235,5,235,6],[235,7,235,8],[236,3,236,4],[236,5,236,6],[236,7,236,8],[225,3,225,8],[227,5,227,6],[227,7,227,8],[228,5,228,6],[228,7,228,8],[229,3,229,4],[229,5,229,6],[229,7,229,8],[230,3,230,4],[230,5,230,6],[230,7,230,8],[219,3,219,8],[221,5,221,6],[221,7,221,8],[222,5,222,6],[222,7,222,8],[223,3,223,4],[223,5,223,6],[223,7,223,8],[224,3,224,4],[224,5,224,6],[224,7,224,8],[213,3,213,8],[215,5,215,6],[215,7,215,8],[216,5,216,6],[216,7,216,8],[217,3,217,4],[217,5,217,6],[217,7,217,8],[218,3,218,4],[218,5,218,6],[218,7,218,8],[207,3,207,8],[209,5,209,6],[209,7,209,8],[210,5,210,6],[210,7,210,8],[211,3,211,4],[211,5,211,6],[211,7,211,8],[212,3,212,4],[212,5,212,6],[212,7,212,8],[201,3,201,8],[203,5,203,6],[203,7,203,8],[204,5,204,6],[204,7,204,8],[205,3,205,4],[205,5,205,6],[205,7,205,8],[206,3,206,4],[206,5,206,6],[206,7,206,8],[195,3,195,8],[197,5,197,6],[197,7,197,8],[198,5,198,6],[198,7,198,8],[199,3,199,4],[199,5,199,6],[199,7,199,8],[200,3,200,4],[200,5,200,6],[200,7,200,8],[189,3,189,8],[191,5,191,6],[191,7,191,8],[192,5,192,6],[192,7,192,8],[193,3,193,4],[193,5,193,6],[193,7,193,8],[194,3,194,4],[194,5,194,6],[194,7,194,8],[183,3,183,8],[185,5,185,6],[185,7,185,8],[186,5,186,6],[186,7,186,8],[187,3,187,4],[187,5,187,6],[187,7,187,8],[188,3,188,4],[188,5,188,6],[188,7,188,8],[177,3,177,8],[179,5,179,6],[179,7,179,8],[180,5,180,6],[180,7,180,8],[181,3,181,4],[181,5,181,6],[181,7,181,8],[182,3,182,4],[182,5,182,6],[182,7,182,8],[171,3,171,8],[173,5,173,6],[173,7,173,8],[174,5,174,6],[174,7,174,8],[175,3,175,4],[175,5,175,6],[175,7,175,8],[176,3,176,4],[176,5,176,6],[176,7,176,8],[165,3,165,8],[167,5,167,6],[167,7,167,8],[168,5,168,6],[168,7,168,8],[169,3,169,4],[169,5,169,6],[169,7,169,8],[170,3,170,4],[170,5,170,6],[170,7,170,8],[159,3,159,8],[161,5,161,6],[161,7,161,8],[162,5,162,6],[162,7,162,8],[163,3,163,4],[163,5,163,6],[163,7,163,8],[164,3,164,4],[164,5,164,6],[164,7,164,8],[153,3,153,8],[155,5,155,6],[155,7,155,8],[156,5,156,6],[156,7,156,8],[157,3,157,4],[157,5,157,6],[157,7,157,8],[158,3,158,4],[158,5,158,6],[158,7,158,8],[147,3,147,8],[149,5,149,6],[149,7,149,8],[150,5,150,6],[150,7,150,8],[151,3,151,4],[151,5,151,6],[151,7,151,8],[152,3,152,4],[152,5,152,6],[152,7,152,8],[143,5,143,6],[143,7,143,8],[144,5,144,6],[144,7,144,8],[145,3,145,4],[145,5,145,6],[145,7,145,8],[146,3,146,4],[146,5,146,6],[146,7,146,8],[136,5,136,6],[136,7,136,8],[137,3,137,4],[137,5,137,6],[137,7,137,8],[138,3,138,4],[138,5,138,6],[138,7,138,8],[141,3,141,8],[139,3,139,4],[139,5,139,6],[139,7,139,8],[140,3,140,4],[140,5,140,6],[140,7,140,8],[133,3,133,8],[131,3,131,4],[131,5,131,6],[131,7,131,8],[132,3,132,4],[132,5,132,6],[132,7,132,8],[135,5,135,6],[135,7,135,8],[127,5,127,6],[127,7,127,8],[128,5,128,6],[128,7,128,8],[129,3,129,4],[129,5,129,6],[129,7,129,8],[130,3,130,4],[130,5,130,6],[130,7,130,8],[120,5,120,6],[120,7,120,8],[121,3,121,4],[121,5,121,6],[121,7,121,8],[122,3,122,4],[122,5,122,6],[122,7,122,8],[125,3,125,8],[123,3,123,4],[123,5,123,6],[123,7,123,8],[124,3,124,4],[124,5,124,6],[124,7,124,8],[117,3,117,8],[115,3,115,4],[115,5,115,6],[115,7,115,8],[116,3,116,4],[116,5,116,6],[116,7,116,8],[119,5,119,6],[119,7,119,8],[111,5,111,6],[111,7,111,8],[112,5,112,6],[112,7,112,8],[113,3,113,4],[113,5,113,6],[113,7,113,8],[114,3,114,4],[114,5,114,6],[114,7,114,8],[104,5,104,6],[104,7,104,8],[105,3,105,4],[105,5,105,6],[105,7,105,8],[106,3,106,4],[106,5,106,6],[106,7,106,8],[109,3,109,8],[107,3,107,4],[107,5,107,6],[107,7,107,8],[108,3,108,4],[108,5,108,6],[108,7,108,8],[101,3,101,8],[99,3,99,4],[99,5,99,6],[99,7,99,8],[100,3,100,4],[100,5,100,6],[100,7,100,8],[103,5,103,6],[103,7,103,8],[95,5,95,6],[95,7,95,8],[96,5,96,6],[96,7,96,8],[97,3,97,4],[97,5,97,6],[97,7,97,8],[98,3,98,4],[98,5,98,6],[98,7,98,8],[88,5,88,6],[88,7,88,8],[89,3,89,4],[89,5,89,6],[89,7,89,8],[90,3,90,4],[90,5,90,6],[90,7,90,8],[93,3,93,8],[91,3,91,4],[91,5,91,6],[91,7,91,8],[92,3,92,4],[92,5,92,6],[92,7,92,8],[85,3,85,8],[83,3,83,4],[83,5,83,6],[83,7,83,8],[84,3,84,4],[84,5,84,6],[84,7,84,8],[87,5,87,6],[87,7,87,8],[79,5,79,6],[79,7,79,8],[80,5,80,6],[80,7,80,8],[81,3,81,4],[81,5,81,6],[81,7,81,8],[82,3,82,4],[82,5,82,6],[82,7,82,8],[72,5,72,6],[72,7,72,8],[73,3,73,4],[73,5,73,6],[73,7,73,8],[74,3,74,4],[74,5,74,6],[74,7,74,8],[77,3,77,8],[75,3,75,4],[75,5,75,6],[75,7,75,8],[76,3,76,4],[76,5,76,6],[76,7,76,8],[69,3,69,8],[67,3,67,4],[67,5,67,6],[67,7,67,8],[68,3,68,4],[68,5,68,6],[68,7,68,8],[71,5,71,6],[71,7,71,8],[63,5,63,6],[63,7,63,8],[64,5,64,6],[64,7,64,8],[65,3,65,4],[65,5,65,6],[65,7,65,8],[66,3,66,4],[66,5,66,6],[66,7,66,8],[59,3,59,4],[59,5,59,6],[59,7,59,8],[60,3,60,4],[60,5,60,6],[60,7,60,8],[61,3,61,4],[61,5,61,6],[61,7,61,8],[56,3,56,4],[56,5,56,6],[56,7,56,8],[57,3,57,4],[57,5,57,6],[57,7,57,8],[58,3,58,4],[58,5,58,6],[58,7,58,8],[53,3,53,4],[53,5,53,6],[53,7,53,8],[54,3,54,4],[54,5,54,6],[54,7,54,8],[55,3,55,4],[55,5,55,6],[55,7,55,8],[50,3,50,4],[50,5,50,6],[50,7,50,8],[51,3,51,4],[51,5,51,6],[51,7,51,8],[52,3,52,4],[52,5,52,6],[52,7,52,8],[47,3,47,4],[47,5,47,6],[47,7,47,8],[48,3,48,4],[48,5,48,6],[48,7,48,8],[49,3,49,4],[49,5,49,6],[49,7,49,8],[44,3,44,4],[44,5,44,6],[44,7,44,8],[45,3,45,4],[45,5,45,6],[45,7,45,8],[46,3,46,4],[46,5,46,6],[46,7,46,8],[41,3,41,4],[41,5,41,6],[41,7,41,8],[42,3,42,4],[42,5,42,6],[42,7,42,8],[43,3,43,4],[43,5,43,6],[43,7,43,8],[38,3,38,4],[38,5,38,6],[38,7,38,8],[39,3,39,4],[39,5,39,6],[39,7,39,8],[40,3,40,4],[40,5,40,6],[40,7,40,8],[35,3,35,4],[35,5,35,6],[35,7,35,8],[36,3,36,4],[36,5,36,6],[36,7,36,8],[37,3,37,4],[37,5,37,6],[37,7,37,8],[32,3,32,4],[32,5,32,6],[32,7,32,8],[33,3,33,4],[33,5,33,6],[33,7,33,8],[34,3,34,4],[34,5,34,6],[34,7,34,8],[29,3,29,4],[29,5,29,6],[29,7,29,8],[30,3,30,4],[30,5,30,6],[30,7,30,8],[31,3,31,4],[31,5,31,6],[31,7,31,8],[308,6,308,8],[308,4,308,5],[307,1,307,2],[0,1,0,7],[9,5,9,6],[9,7,9,8],[11,5,11,6],[11,7,11,8],[9,3,9,4],[14,3,14,4],[13,3,13,4],[15,3,15,8],[12,5,12,6],[12,7,12,8],[13,5,13,6],[14,5,14,6],[14,7,14,8],[13,7,13,8],[27,3,27,4],[27,5,27,6],[27,7,27,8],[28,3,28,4],[28,5,28,6],[28,7,28,8]]}
[null,"COTAÇÕES",null,null,null,null,null,null,null,null,"Mediana",null,null,null,null,null,"Cores das células:"]
[null,null,null,null,null,null,null,null,null,null,"Média",null,null,null,null,null,null,null,"Fundo amarelo: células para preencher"]
[null,null,null,null,null,null,null,null,null,null,1]
[null,null,null,null,null,null,null,null,null,null,null,null,null,null,null,null,null,null,"Fundo azul: células para seleção de opções"]
[]
[null,{"$f":"OFFSET(Cotações!$A$1,MATCH(COUNTIF($H$1:$H6,\"Cotações\"),Cotações!$J:$J,0)-1,COLUMN(Banco!B$6)-1)","v":"Cotação"},{"$f":"OFFSET(Cotações!$A$1,MATCH(COUNTIF($H$1:$H6,\"Cotações\"),Cotações!$J:$J,0)-1,COLUMN(Banco!C$6)-1)","v":"I.INEL.0145.01"},{"$f":"IF(COUNTIF(OFFSET(Banco!$A$6,1+NCOMPOSICOES,0,NCOTACOES),$A6)>1,\"CÓDIGO REPETIDO\",OFFSET(Cotações!$A$1,MATCH(COUNTIF($H$1:$H6,\"Cotações\"),Cotações!$J:$J,0)-1,COLUMN(Banco!D$6)-1))","v":"REFLETOR LED, COM POTÊNCIA NA FAIXA DE 100W, FLUXO LUMINOSO MÍNIMO DE 11.000 LUMENS, EFICIÊNCIA LUMINOSA MÍNIMA DE 110LM/W, INDICE DE PROTEÇÃO MÍNIMO IP66, BRANCO FRIO 5.700K, FATOR DE POTÊNCIA MÍNIMO DE 0,95, ÍNDICE DE REPRODUÇÃO DE CORES 70%, ÂNGULO DE ABERTURA DE 60º, VIDA ÚTIL MÍNIMA DE 50.000H GARANTIDA PELO FABRICANTE COM CERTIFICAÇÃO"},{"$f":"OFFSET(Cotações!$A$1,MATCH(COUNTIF($H$1:$H6,\"Cotações\"),Cotações!$J:$J,0)-1,COLUMN(Banco!E$6)-1)","v":"PÇ"},{"$f":"OFFSET(Cotações!$A$1,MATCH(COUNTIF($H$1:$H6,\"Cotações\"),Cotações!$J:$J,0)-1,COLUMN(Banco!F$6)-1)","v":582.71130000000005},{"$f":"OFFSET(Cotações!$A$1,MATCH(COUNTIF($H$1:$H6,\"Cotações\"),Cotações!$J:$J,0)-1,COLUMN(Banco!F$6)-1)","v":582.71130000000005},"Cotações"]
[]
[null,"I001",null,null,null,null,null,null,{"$f":"F8/H8","v":{"$error":"#DIV/0!"}},"I",null,{"$f":"IF(ISNUMBER(I8),IF(I8<>0,\"F\",\"\"),\"\")","v":""}]
[]
[null,"E001",null,null,null,null,null,null,null,"E",null,{"$f":"IF(COUNTA(C10:I10)>0,\"F\",\"\")","v":""}]
[]
[null,"FONTE","CÓDIGO","DESCRIÇÃO","UNIDADE",{"$f":"CHOOSE($K$3,\"MEDIANA\",\"MÉDIA\")&IF(H13=\"\",\"\",\" RETROAGIDA\")","v":"MEDIANA"},null,"ÍNDICE RETROAÇÃO",null,null,null,{"$f":"IF(AND(ISNUMBER(F13),M13=\"Sim\"),\"F\",\"\")","v":"F"}]
[{"$f":"CONCATENATE($B13,\" \",$C13)","v":"Cotação "},"Cotação",null,null,null,{"$f":"IFERROR(CHOOSE($K$3,MEDIAN(OFFSET(F14,1,0,ROW(C16)-ROW(C14)-1)),AVERAGE(OFFSET(F14,1,0,ROW(C16)-ROW(C14)-1)))*IF(H13=\"\",1,VLOOKUP(H13,INDICES,8)),0)","v":0},null,null,null,{"$f":"COUNTA($A$1:$A13)-1","v":0},{"$f":"ROW(C16)-ROW(C14)-1","v":1},{"$f":"IF(AND(ISNUMBER(F13),M13=\"Sim\"),\"F\",\"\")","v":"F"},"Sim"]
[null,null,"EMPRESA","NOME DA EMPRESA",null,"COTAÇÕES",null,"DATA COTAÇÃO",null,"C",null,{"$f":"IF(AND(ISNUMBER(F13),M13=\"Sim\"),\"F\",\"\")","v":"F"}]
[null,null,null,{"$f":"IF(C15<>\"\",VLOOKUP(C15,EMPRESAS,3,FALSE),\"\")","v":""},null,null,null,null,null,"C",null,{"$f":"IF(AND(ISNUMBER(OFFSET($F$1,MATCH(MAX($J$1:$J15),$J$1:$J15,0)-1,0)),ISNUMBER(F15),INDEX($M$1:$M15,MATCH(\"ZZZZ\",$M$1:$M15))=\"Sim\"),\"F\",\"\")","v":""}]
[null,null,"OBSERVAÇÕES:",null,null,null,null,null,null,null,null,{"$f":"IF(AND(ISNUMBER(F13),M13=\"Sim\"),\"F\",\"\")","v":"F"}]
[null,null,null,null,null,null,null,null,null,null,null,{"$f":"IF(AND(ISNUMBER(F13),M13=\"Sim\"),\"F\",\"\")","v":"F"}]
[null,null,null,null,null,null,null,null,null,null,null,"FILTRO","IMPRIMIR"]
[null,"ÍNDICES DE RETROAÇÃO:",null,null,null,null,null,null,null,null,null,{"$f":"IF(NINDICES>0,\"F\",\"\")","v":"F"}]
[null,"ÍNDICE","NOME DO ÍNDICE","DESCRIÇÃO","DATA BASE","ÍNDICE DT BASE","DT COTAÇÃO","ÍNDICE DT COT.","COEFICIENTE","I",null,{"$f":"IF(NINDICES>0,\"F\",\"\")","v":"F"}]
[null,"I001",null,null,null,null,null,null,{"$f":"F21/H21","v":{"$error":"#DIV/0!"}},"I",null,{"$f":"IF(ISNUMBER(I21),IF(I21<>0,\"F\",\"\"),\"\")","v":""}]
[null,"I002",null,null,null,null,null,null,{"$error":"#DIV/0!"},"I",null,""]
[null,"I003",null,null,null,null,null,null,{"$error":"#DIV/0!"},"I",null,""]
[null,"I004","","","",null,"",null,{"$error":"#DIV/0!"},"I",null,""]
[null,"I005","","","",null,"",null,{"$error":"#DIV/0!"},"I",null,""]
[null,"I006","","","",null,"",null,{"$error":"#DIV/0!"},"I",null,""]
[null,"EMPRESAS FORNECEDORAS:",null,null,null,null,null,null,null,null,null,{"$f":"IF(NEMPRESAS>0,\"F\",\"\")","v":"F"}]
[null,"EMPRESAS","CNPJ","NOME",null,"FONE",null,"CONTATO",null,"E",null,{"$f":"IF(NEMPRESAS>0,\"F\",\"\")","v":"F"}]
[null,"E016","","ROTOVAC",null,"",null,"EMAIL",null,"E",null,{"$f":"IF(COUNTA(C29:I29)>0,\"F\",\"\")","v":"F"}]
[null,"E017","","BRIGHTLUX",null,"",null,"EMAIL",null,"E",null,"F"]
[null,"E018","","CONEXLED",null,"",null,"EMAIL",null,"E",null,"F"]
[null,"E019","","Ecosoli sustentabilidade",null,"",null,"SITE",null,"E",null,"F"]
[null,"E020","","Ecosustentavel.eng.br",null,"",null,"SITE",null,"E",null,"F"]
[null,"E021","","Chuvia.com.br",null,"",null,"SITE",null,"E",null,"F"]
[null,"E022","","MAGAZINE LUIZA",null,"",null,"SITE",null,"E",null,"F"]
[null,"E023","","MEGATHOR",null,"",null,"SITE",null,"E",null,"F"]
[null,"E024","","CONTRAINCÊNDIO.COM.BR",null,"",null,"SITE",null,"E",null,"F"]
[null,"E025","","Ferramentaskennedy.com.br",null,"",null,"SITE",null,"E",null,"F"]
[null,"E026","","amazon.com.br",null,"",null,"SITE",null,"E",null,"F"]
[null,"E027","","Depósito Santo Antonio",null,"",null,"SITE",null,"E",null,"F"]
[null,"E028","","SÓ TELHAS",null,"",null,"WHATSAPP",null,"E",null,"F"]
[null,"E029","","DISOESTE",null,"",null,"WHATSAPP",null,"E",null,"F"]
[null,"E030","","GALVO TELHAS",null,"",null,"WHATSAPP",null,"E",null,"F"]
[null,"E031","","DIVULGUE",null,"",null,"WHATSAPP",null,"E",null,"F"]
[null,"E032","","PROJETA",null,"",null,"WHATSAPP",null,"E",null,"F"]
[null,"E033","","MIDIAFLIX",null,"",null,"TELEFONE",null,"E",null,"F"]
[null,"E034","","MONERETTOLUZ",null,"",null,"SITE",null,"E",null,"F"]
[null,"E035","","ELETRO FM",null,"",null,"SITE",null,"E",null,"F"]
[null,"E036","","100% METAIS",null,"",null,"SITE",null,"E",null,"F"]
[null,"E037","","MULTISEG",null,"",null,"SITE",null,"E",null,"F"]
[null,"E038","","SERPAL",null,"",null,"SITE",null,"E",null,"F"]
[null,"E039","","ELETROSUL",null,"",null,"SITE",null,"E",null,"F"]
[null,"E040","","PARAFUSOSONLINE",null,"",null,"SITE",null,"E",null,"F"]
[null,"E041","","EBFIX COMERCIAL",null,"",null,"SITE",null,"E",null,"F"]
[null,"E042","","PARAFUTRECOS COML",null,"",null,"SITE",null,"E",null,"F"]
[null,"E043","","FERAMENTAS KENNEDY",null,"",null,"SITE",null,"E",null,"F"]
[null,"E044","","HOMECENTER CASTELO FORTE",null,"",null,"SITE",null,"E",null,"F"]
[null,"E045","","SKR PARAFUSOS",null,"",null,"SITE",null,"E",null,"F"]
[null,"E046","","SINAPI SP",null,"",null,"SINAPI-SP",null,"E",null,"F"]
[null,"E047","","RAMACRISNA",null,"",null,"SITE",null,"E",null,"F"]
[null,"E048","","WIREMARKET",null,"",null,"SITE",null,"E",null,"F"]
[null,"E049","","TELAS CASCAVEL",null,"",null,"TELEFONE",null,"E",null,"F"]
[null,"COTAÇÕES:",null,null,null,null,null,null,null,null,null,{"$f":"IF(NCOTACOES>0,\"F\",\"\")","v":"F"}]
[null,"FONTE","CÓDIGO","DESCRIÇÃO","UNIDADE",{"$f":"CHOOSE($K$3,\"MEDIANA\",\"MÉDIA\")&IF(H65=\"\",\"\",\" RETROAGIDA\")","v":"MEDIANA"},null,"ÍNDICE RETROAÇÃO",null,null,null,{"$f":"IF(AND(ISNUMBER(F65),M65=\"Sim\"),\"F\",\"\")","v":"F"}]
[{"$f":"CONCATENATE($B65,\" \",$C65)","v":"Cotação I.INEL.0145.01"},"Cotação","I.INEL.0145.01","REFLETOR LED, COM POTÊNCIA NA FAIXA DE 100W, FLUXO LUMINOSO MÍNIMO DE 11.000 LUMENS, EFICIÊNCIA LUMINOSA MÍNIMA DE 110LM/W, INDICE DE PROTEÇÃO MÍNIMO IP66, BRANCO FRIO 5.700K, FATOR DE POTÊNCIA MÍNIMO DE 0,95, ÍNDICE DE REPRODUÇÃO DE CORES 70%, ÂNGULO DE ABERTURA DE 60º, VIDA ÚTIL MÍNIMA DE 50.000H GARANTIDA PELO FABRICANTE COM CERTIFICAÇÃO","PÇ",{"$f":"IFERROR(CHOOSE($K$3,MEDIAN(OFFSET(F66,1,0,ROW(C70)-ROW(C66)-1)),AVERAGE(OFFSET(F66,1,0,ROW(C70)-ROW(C66)-1)))*IF(H65=\"\",1,VLOOKUP(H65,INDICES,8)),0)","v":582.71130000000005},null,"",null,{"$f":"COUNTA($A$1:$A65)-1","v":1},{"$f":"ROW(C70)-ROW(C66)-1","v":3},{"$f":"IF(AND(ISNUMBER(F65),M65=\"Sim\"),\"F\",\"\")","v":"F"},"Sim"]
[null,null,"EMPRESA","NOME DA EMPRESA",null,"COTAÇÕES",null,"DATA COTAÇÃO",null,"C",null,{"$f":"IF(AND(ISNUMBER(F65),M65=\"Sim\"),\"F\",\"\")","v":"F"}]
[null,null,"E016",{"$f":"IF(C67<>\"\",VLOOKUP(C67,EMPRESAS,3,FALSE),\"\")","v":"ROTOVAC"},null,624.31600000000003,null,"23/06/2025",null,"C",null,{"$f":"IF(AND(ISNUMBER(OFFSET($F$1,MATCH(MAX($J$1:$J67),$J$1:$J67,0)-1,0)),ISNUMBER(F67),INDEX($M$1:$M67,MATCH(\"ZZZZ\",$M$1:$M67))=\"Sim\"),\"F\",\"\")","v":"F"}]
[null,null,"E017",{"$f":"IF(C68<>\"\",VLOOKUP(C68,EMPRESAS,3,FALSE),\"\")","v":"BRIGHTLUX"},null,582.71130000000005,null,"23/06/2025",null,"C",null,{"$f":"IF(AND(ISNUMBER(OFFSET($F$1,MATCH(MAX($J$1:$J68),$J$1:$J68,0)-1,0)),ISNUMBER(F68),INDEX($M$1:$M68,MATCH(\"ZZZZ\",$M$1:$M68))=\"Sim\"),\"F\",\"\")","v":"F"}]
[null,null,"E018",{"$f":"IF(C69<>\"\",VLOOKUP(C69,EMPRESAS,3,FALSE),\"\")","v":"CONEXLED"},null,361.32320000000004,null,"23/06/2025",null,"C",null,{"$f":"IF(AND(ISNUMBER(OFFSET($F$1,MATCH(MAX($J$1:$J69),$J$1:$J69,0)-1,0)),ISNUMBER(F69),INDEX($M$1:$M69,MATCH(\"ZZZZ\",$M$1:$M69))=\"Sim\"),\"F\",\"\")","v":"F"}]
[null,null,"OBSERVAÇÕES:","",null,null,null,null,null,null,null,{"$f":"IF(AND(ISNUMBER(F65),M65=\"Sim\"),\"F\",\"\")","v":"F"}]
[null,null,null,null,null,null,null,null,null,null,null,{"$f":"IF(AND(ISNUMBER(F65),M65=\"Sim\"),\"F\",\"\")","v":"F"}]
[null,"FONTE","CÓDIGO","DESCRIÇÃO","UNIDADE",{"$f":"CHOOSE($K$3,\"MEDIANA\",\"MÉDIA\")&IF(H73=\"\",\"\",\" RETROAGIDA\")","v":"MEDIANA"},null,"ÍNDICE RETROAÇÃO",null,null,null,{"$f":"IF(AND(ISNUMBER(F73),M73=\"Sim\"),\"F\",\"\")","v":"F"}]
[{"$f":"CONCATENATE($B73,\" \",$C73)","v":"Cotação I.INHI.0007.01"},"Cotação","I.INHI.0007.01","FILTRO VOLUMÉTRICO PARA REAPROVEITAMENTO DE ÁGUA DE CHUVA (MODELO DIN 1989-2)","UNIDADE",{"$f":"IFERROR(CHOOSE($K$3,MEDIAN(OFFSET(F74,1,0,ROW(C78)-ROW(C74)-1)),AVERAGE(OFFSET(F74,1,0,ROW(C78)-ROW(C74)-1)))*IF(H73=\"\",1,VLOOKUP(H73,INDICES,8)),0)","v":1480},null,"",null,{"$f":"COUNTA($A$1:$A73)-1","v":2},{"$f":"ROW(C78)-ROW(C74)-1","v":3},{"$f":"IF(AND(ISNUMBER(F73),M73=\"Sim\"),\"F\",\"\")","v":"F"},"Sim"]
[null,null,"EMPRESA","NOME DA EMPRESA",null,"COTAÇÕES",null,"DATA COTAÇÃO",null,"C",null,{"$f":"IF(AND(ISNUMBER(F73),M73=\"Sim\"),\"F\",\"\")","v":"F"}]
[null,null,"E019",{"$f":"IF(C75<>\"\",VLOOKUP(C75,EMPRESAS,3,FALSE),\"\")","v":"Ecosoli sustentabilidade"},null,2089.91,null,"23/06/2025",null,"C",null,{"$f":"IF(AND(ISNUMBER(OFFSET($F$1,MATCH(MAX($J$1:$J75),$J$1:$J75,0)-1,0)),ISNUMBER(F75),INDEX($M$1:$M75,MATCH(\"ZZZZ\",$M$1:$M75))=\"Sim\"),\"F\",\"\")","v":"F"}]
[null,null,"E020",{"$f":"IF(C76<>\"\",VLOOKUP(C76,EMPRESAS,3,FALSE),\"\")","v":"Ecosustentavel.eng.br"},null,1422,null,"23/06/2025",null,"C",null,{"$f":"IF(AND(ISNUMBER(OFFSET($F$1,MATCH(MAX($J$1:$J76),$J$1:$J76,0)-1,0)),ISNUMBER(F76),INDEX($M$1:$M76,MATCH(\"ZZZZ\",$M$1:$M76))=\"Sim\"),\"F\",\"\")","v":"F"}]
[null,null,"E021",{"$f":"IF(C77<>\"\",VLOOKUP(C77,EMPRESAS,3,FALSE),\"\")","v":"Chuvia.com.br"},null,1480,null,"23/06/2025",null,"C",null,{"$f":"IF(AND(ISNUMBER(OFFSET($F$1,MATCH(MAX($J$1:$J77),$J$1:$J77,0)-1,0)),ISNUMBER(F77),INDEX($M$1:$M77,MATCH(\"ZZZZ\",$M$1:$M77))=\"Sim\"),\"F\",\"\")","v":"F"}]
[null,null,"OBSERVAÇÕES:","",null,null,null,null,null,null,null,{"$f":"IF(AND(ISNUMBER(F73),M73=\"Sim\"),\"F\",\"\")","v":"F"}]
[null,null,null,null,null,null,null,null,null,null,null,{"$f":"IF(AND(ISNUMBER(F73),M73=\"Sim\"),\"F\",\"\")","v":"F"}]
[null,"FONTE","CÓDIGO","DESCRIÇÃO","UNIDADE",{"$f":"CHOOSE($K$3,\"MEDIANA\",\"MÉDIA\")&IF(H81=\"\",\"\",\" RETROAGIDA\")","v":"MEDIANA"},null,"ÍNDICE RETROAÇÃO",null,null,null,{"$f":"IF(AND(ISNUMBER(F81),M81=\"Sim\"),\"F\",\"\")","v":"F"}]
[{"$f":"CONCATENATE($B81,\" \",$C81)","v":"Cotação I.INES.0001.01"},"Cotação","I.INES.0001.01","EXTINTOR DE INCÊNDIO PORTÁTIL COM CARGA DE PÓ QUÍMICO SECO (PQS) DE 4 KG, CLASSE ABC","UNIDADE",{"$f":"IFERROR(CHOOSE($K$3,MEDIAN(OFFSET(F82,1,0,ROW(C86)-ROW(C82)-1)),AVERAGE(OFFSET(F82,1,0,ROW(C86)-ROW(C82)-1)))*IF(H81=\"\",1,VLOOKUP(H81,INDICES,8)),0)","v":200.53},null,"",null,{"$f":"COUNTA($A$1:$A81)-1","v":3},{"$f":"ROW(C86)-ROW(C82)-1","v":3},{"$f":"IF(AND(ISNUMBER(F81),M81=\"Sim\"),\"F\",\"\")","v":"F"},"Sim"]
[null,null,"EMPRESA","NOME DA EMPRESA",null,"COTAÇÕES",null,"DATA COTAÇÃO",null,"C",null,{"$f":"IF(AND(ISNUMBER(F81),M81=\"Sim\"),\"F\",\"\")","v":"F"}]
[null,null,"E022",{"$f":"IF(C83<>\"\",VLOOKUP(C83,EMPRESAS,3,FALSE),\"\")","v":"MAGAZINE LUIZA"},null,200.53,null,"23/06/2025",null,"C",null,{"$f":"IF(AND(ISNUMBER(OFFSET($F$1,MATCH(MAX($J$1:$J83),$J$1:$J83,0)-1,0)),ISNUMBER(F83),INDEX($M$1:$M83,MATCH(\"ZZZZ\",$M$1:$M83))=\"Sim\"),\"F\",\"\")","v":"F"}]
[null,null,"E023",{"$f":"IF(C84<>\"\",VLOOKUP(C84,EMPRESAS,3,FALSE),\"\")","v":"MEGATHOR"},null,161.79,null,"23/06/2025",null,"C",null,{"$f":"IF(AND(ISNUMBER(OFFSET($F$1,MATCH(MAX($J$1:$J84),$J$1:$J84,0)-1,0)),ISNUMBER(F84),INDEX($M$1:$M84,MATCH(\"ZZZZ\",$M$1:$M84))=\"Sim\"),\"F\",\"\")","v":"F"}]
[null,null,"E024",{"$f":"IF(C85<>\"\",VLOOKUP(C85,EMPRESAS,3,FALSE),\"\")","v":"CONTRAINCÊNDIO.COM.BR"},null,258.8,null,"23/06/2025",null,"C",null,{"$f":"IF(AND(ISNUMBER(OFFSET($F$1,MATCH(MAX($J$1:$J85),$J$1:$J85,0)-1,0)),ISNUMBER(F85),INDEX($M$1:$M85,MATCH(\"ZZZZ\",$M$1:$M85))=\"Sim\"),\"F\",\"\")","v":"F"}]
[null,null,"OBSERVAÇÕES:","",null,null,null,null,null,null,null,{"$f":"IF(AND(ISNUMBER(F81),M81=\"Sim\"),\"F\",\"\")","v":"F"}]
[null,null,null,null,null,null,null,null,null,null,null,{"$f":"IF(AND(ISNUMBER(F81),M81=\"Sim\"),\"F\",\"\")","v":"F"}]
[null,"FONTE","CÓDIGO","DESCRIÇÃO","UNIDADE",{"$f":"CHOOSE($K$3,\"MEDIANA\",\"MÉDIA\")&IF(H89=\"\",\"\",\" RETROAGIDA\")","v":"MEDIANA"},null,"ÍNDICE RETROAÇÃO",null,null,null,{"$f":"IF(AND(ISNUMBER(F89),M89=\"Sim\"),\"F\",\"\")","v":"F"}]
[{"$f":"CONCATENATE($B89,\" \",$C89)","v":"Cotação I.ESQV.0003.01"},"Cotação","I.ESQV.0003.01","SPRAY PARA GALVANIZAÇÃO A FRIO","L",{"$f":"IFERROR(CHOOSE($K$3,MEDIAN(OFFSET(F90,1,0,ROW(C94)-ROW(C90)-1)),AVERAGE(OFFSET(F90,1,0,ROW(C94)-ROW(C90)-1)))*IF(H89=\"\",1,VLOOKUP(H89,INDICES,8)),0)","v":226.33},null,"",null,{"$f":"COUNTA($A$1:$A89)-1","v":4},{"$f":"ROW(C94)-ROW(C90)-1","v":3},{"$f":"IF(AND(ISNUMBER(F89),M89=\"Sim\"),\"F\",\"\")","v":"F"},"Sim"]
[null,null,"EMPRESA","NOME DA EMPRESA",null,"COTAÇÕES",null,"DATA COTAÇÃO",null,"C",null,{"$f":"IF(AND(ISNUMBER(F89),M89=\"Sim\"),\"F\",\"\")","v":"F"}]
[null,null,"E025",{"$f":"IF(C91<>\"\",VLOOKUP(C91,EMPRESAS,3,FALSE),\"\")","v":"Ferramentaskennedy.com.br"},null,226.33,null,"23/06/2025",null,"C",null,{"$f":"IF(AND(ISNUMBER(OFFSET($F$1,MATCH(MAX($J$1:$J91),$J$1:$J91,0)-1,0)),ISNUMBER(F91),INDEX($M$1:$M91,MATCH(\"ZZZZ\",$M$1:$M91))=\"Sim\"),\"F\",\"\")","v":"F"}]
[null,null,"E026",{"$f":"IF(C92<>\"\",VLOOKUP(C92,EMPRESAS,3,FALSE),\"\")","v":"amazon.com.br"},null,176.53,null,"23/06/2025",null,"C",null,{"$f":"IF(AND(ISNUMBER(OFFSET($F$1,MATCH(MAX($J$1:$J92),$J$1:$J92,0)-1,0)),ISNUMBER(F92),INDEX($M$1:$M92,MATCH(\"ZZZZ\",$M$1:$M92))=\"Sim\"),\"F\",\"\")","v":"F"}]
[null,null,"E022",{"$f":"IF(C93<>\"\",VLOOKUP(C93,EMPRESAS,3,FALSE),\"\")","v":"MAGAZINE LUIZA"},null,{"$f":"75.82/0.3","v":252.73333333333332},null,"23/06/2025",null,"C",null,{"$f":"IF(AND(ISNUMBER(OFFSET($F$1,MATCH(MAX($J$1:$J93),$J$1:$J93,0)-1,0)),ISNUMBER(F93),INDEX($M$1:$M93,MATCH(\"ZZZZ\",$M$1:$M93))=\"Sim\"),\"F\",\"\")","v":"F"}]
[null,null,"OBSERVAÇÕES:","",null,null,null,null,null,null,null,{"$f":"IF(AND(ISNUMBER(F89),M89=\"Sim\"),\"F\",\"\")","v":"F"}]
[null,null,null,null,null,null,null,null,null,null,null,{"$f":"IF(AND(ISNUMBER(F89),M89=\"Sim\"),\"F\",\"\")","v":"F"}]
[null,"FONTE","CÓDIGO","DESCRIÇÃO","UNIDADE",{"$f":"CHOOSE($K$3,\"MEDIANA\",\"MÉDIA\")&IF(H97=\"\",\"\",\" RETROAGIDA\")","v":"MEDIANA"},null,"ÍNDICE RETROAÇÃO",null,null,null,{"$f":"IF(AND(ISNUMBER(F97),M97=\"Sim\"),\"F\",\"\")","v":"F"}]
[{"$f":"CONCATENATE($B97,\" \",$C97)","v":"Cotação I.COBE.0008.01"},"Cotação","I.COBE.0008.01","TELHA TERMOISOLANTE REVESTIDA EM ACO GALVANIZADO, FACE SUPERIOR EM TELHA TRAPEZOIDAL E FACE INFERIOR EM CHAPA PLANA, REVESTIMENTO COM ESPESSURA DE 0,50 MM NATURAL, NUCLEO EM POLIESTIRENO (EPS) DE 50 MM","m2",{"$f":"IFERROR(CHOOSE($K$3,MEDIAN(OFFSET(F98,1,0,ROW(C102)-ROW(C98)-1)),AVERAGE(OFFSET(F98,1,0,ROW(C102)-ROW(C98)-1)))*IF(H97=\"\",1,VLOOKUP(H97,INDICES,8)),0)","v":117.85760000000002},null,"",null,{"$f":"COUNTA($A$1:$A97)-1","v":5},{"$f":"ROW(C102)-ROW(C98)-1","v":3},{"$f":"IF(AND(ISNUMBER(F97),M97=\"Sim\"),\"F\",\"\")","v":"F"},"Sim"]
[null,null,"EMPRESA","NOME DA EMPRESA",null,"COTAÇÕES",null,"DATA COTAÇÃO",null,"C",null,{"$f":"IF(AND(ISNUMBER(F97),M97=\"Sim\"),\"F\",\"\")","v":"F"}]
[null,null,"E028",{"$f":"IF(C99<>\"\",VLOOKUP(C99,EMPRESAS,3,FALSE),\"\")","v":"SÓ TELHAS"},null,111.88800000000002,null,"23/06/2025",null,"C",null,{"$f":"IF(AND(ISNUMBER(OFFSET($F$1,MATCH(MAX($J$1:$J99),$J$1:$J99,0)-1,0)),ISNUMBER(F99),INDEX($M$1:$M99,MATCH(\"ZZZZ\",$M$1:$M99))=\"Sim\"),\"F\",\"\")","v":"F"}]
[null,null,"E029",{"$f":"IF(C100<>\"\",VLOOKUP(C100,EMPRESAS,3,FALSE),\"\")","v":"DISOESTE"},null,130.816,null,"23/06/2025",null,"C",null,{"$f":"IF(AND(ISNUMBER(OFFSET($F$1,MATCH(MAX($J$1:$J100),$J$1:$J100,0)-1,0)),ISNUMBER(F100),INDEX($M$1:$M100,MATCH(\"ZZZZ\",$M$1:$M100))=\"Sim\"),\"F\",\"\")","v":"F"}]
[null,null,"E030",{"$f":"IF(C101<>\"\",VLOOKUP(C101,EMPRESAS,3,FALSE),\"\")","v":"GALVO TELHAS"},null,117.85760000000002,null,"23/06/2025",null,"C",null,{"$f":"IF(AND(ISNUMBER(OFFSET($F$1,MATCH(MAX($J$1:$J101),$J$1:$J101,0)-1,0)),ISNUMBER(F101),INDEX($M$1:$M101,MATCH(\"ZZZZ\",$M$1:$M101))=\"Sim\"),\"F\",\"\")","v":"F"}]
[null,null,"OBSERVAÇÕES:","",null,null,null,null,null,null,null,{"$f":"IF(AND(ISNUMBER(F97),M97=\"Sim\"),\"F\",\"\")","v":"F"}]
[null,null,null,null,null,null,null,null,null,null,null,{"$f":"IF(AND(ISNUMBER(F97),M97=\"Sim\"),\"F\",\"\")","v":"F"}]
[null,"FONTE","CÓDIGO","DESCRIÇÃO","UNIDADE",{"$f":"CHOOSE($K$3,\"MEDIANA\",\"MÉDIA\")&IF(H105=\"\",\"\",\" RETROAGIDA\")","v":"MEDIANA"},null,"ÍNDICE RETROAÇÃO",null,null,null,{"$f":"IF(AND(ISNUMBER(F105),M105=\"Sim\"),\"F\",\"\")","v":"F"}]
[{"$f":"CONCATENATE($B105,\" \",$C105)","v":"Cotação I.INES.0004.01"},"Cotação","I.INES.0004.01","PLACA DE SINALIZAÇÃO DE SEGURANÇA CONTRA INCENDIO, RETANGULAR 100X60 CM, EM PVC 2MM, ANTI-CHAMAS, NA COR VERDE CONFORME PROJETO, TIPO M1 (MEDIDAS DE SEGURANÇA), M2A E M2B (CAPACIDADE DE PÚBLICO)","",{"$f":"IFERROR(CHOOSE($K$3,MEDIAN(OFFSET(F106,1,0,ROW(C110)-ROW(C106)-1)),AVERAGE(OFFSET(F106,1,0,ROW(C110)-ROW(C106)-1)))*IF(H105=\"\",1,VLOOKUP(H105,INDICES,8)),0)","v":127},null,"",null,{"$f":"COUNTA($A$1:$A105)-1","v":6},{"$f":"ROW(C110)-ROW(C106)-1","v":3},{"$f":"IF(AND(ISNUMBER(F105),M105=\"Sim\"),\"F\",\"\")","v":"F"},"Sim"]
[null,null,"EMPRESA","NOME DA EMPRESA",null,"COTAÇÕES",null,"DATA COTAÇÃO",null,"C",null,{"$f":"IF(AND(ISNUMBER(F105),M105=\"Sim\"),\"F\",\"\")","v":"F"}]
[null,null,"E031",{"$f":"IF(C107<>\"\",VLOOKUP(C107,EMPRESAS,3,FALSE),\"\")","v":"DIVULGUE"},null,155,null,"23/06/2025",null,"C",null,{"$f":"IF(AND(ISNUMBER(OFFSET($F$1,MATCH(MAX($J$1:$J107),$J$1:$J107,0)-1,0)),ISNUMBER(F107),INDEX($M$1:$M107,MATCH(\"ZZZZ\",$M$1:$M107))=\"Sim\"),\"F\",\"\")","v":"F"}]
[null,null,"E032",{"$f":"IF(C108<>\"\",VLOOKUP(C108,EMPRESAS,3,FALSE),\"\")","v":"PROJETA"},null,112,null,"23/06/2025",null,"C",null,{"$f":"IF(AND(ISNUMBER(OFFSET($F$1,MATCH(MAX($J$1:$J108),$J$1:$J108,0)-1,0)),ISNUMBER(F108),INDEX($M$1:$M108,MATCH(\"ZZZZ\",$M$1:$M108))=\"Sim\"),\"F\",\"\")","v":"F"}]
[null,null,"E033",{"$f":"IF(C109<>\"\",VLOOKUP(C109,EMPRESAS,3,FALSE),\"\")","v":"MIDIAFLIX"},null,127,null,"23/06/2025",null,"C",null,{"$f":"IF(AND(ISNUMBER(OFFSET($F$1,MATCH(MAX($J$1:$J109),$J$1:$J109,0)-1,0)),ISNUMBER(F109),INDEX($M$1:$M109,MATCH(\"ZZZZ\",$M$1:$M109))=\"Sim\"),\"F\",\"\")","v":"F"}]
[null,null,"OBSERVAÇÕES:","",null,null,null,null,null,null,null,{"$f":"IF(AND(ISNUMBER(F105),M105=\"Sim\"),\"F\",\"\")","v":"F"}]
[null,null,null,null,null,null,null,null,null,null,null,{"$f":"IF(AND(ISNUMBER(F105),M105=\"Sim\"),\"F\",\"\")","v":"F"}]
[null,"FONTE","CÓDIGO","DESCRIÇÃO","UNIDADE",{"$f":"CHOOSE($K$3,\"MEDIANA\",\"MÉDIA\")&IF(H113=\"\",\"\",\" RETROAGIDA\")","v":"MEDIANA"},null,"ÍNDICE RETROAÇÃO",null,null,null,{"$f":"IF(AND(ISNUMBER(F113),M113=\"Sim\"),\"F\",\"\")","v":"F"}]
[{"$f":"CONCATENATE($B113,\" \",$C113)","v":"Cotação I.INEL.0209.01"},"Cotação","I.INEL.0209.01","BARRA CHATA EM ALUMÍNIO 7/8\"X1/8\"X 3METROS, COM FUROS","PÇ",{"$f":"IFERROR(CHOOSE($K$3,MEDIAN(OFFSET(F114,1,0,ROW(C118)-ROW(C114)-1)),AVERAGE(OFFSET(F114,1,0,ROW(C118)-ROW(C114)-1)))*IF(H113=\"\",1,VLOOKUP(H113,INDICES,8)),0)","v":30.127500000000001},null,"",null,{"$f":"COUNTA($A$1:$A113)-1","v":7},{"$f":"ROW(C118)-ROW(C114)-1","v":3},{"$f":"IF(AND(ISNUMBER(F113),M113=\"Sim\"),\"F\",\"\")","v":"F"},"Sim"]
[null,null,"EMPRESA","NOME DA EMPRESA",null,"COTAÇÕES",null,"DATA COTAÇÃO",null,"C",null,{"$f":"IF(AND(ISNUMBER(F113),M113=\"Sim\"),\"F\",\"\")","v":"F"}]
[null,null,"E034",{"$f":"IF(C115<>\"\",VLOOKUP(C115,EMPRESAS,3,FALSE),\"\")","v":"MONERETTOLUZ"},null,30.201599999999999,null,"23/06/2025",null,"C",null,{"$f":"IF(AND(ISNUMBER(OFFSET($F$1,MATCH(MAX($J$1:$J115),$J$1:$J115,0)-1,0)),ISNUMBER(F115),INDEX($M$1:$M115,MATCH(\"ZZZZ\",$M$1:$M115))=\"Sim\"),\"F\",\"\")","v":"F"}]
[null,null,"E035",{"$f":"IF(C116<>\"\",VLOOKUP(C116,EMPRESAS,3,FALSE),\"\")","v":"ELETRO FM"},null,27.264600000000002,null,"23/06/2025",null,"C",null,{"$f":"IF(AND(ISNUMBER(OFFSET($F$1,MATCH(MAX($J$1:$J116),$J$1:$J116,0)-1,0)),ISNUMBER(F116),INDEX($M$1:$M116,MATCH(\"ZZZZ\",$M$1:$M116))=\"Sim\"),\"F\",\"\")","v":"F"}]
[null,null,"E036",{"$f":"IF(C117<>\"\",VLOOKUP(C117,EMPRESAS,3,FALSE),\"\")","v":"100% METAIS"},null,30.127500000000001,null,"23/06/2025",null,"C",null,{"$f":"IF(AND(ISNUMBER(OFFSET($F$1,MATCH(MAX($J$1:$J117),$J$1:$J117,0)-1,0)),ISNUMBER(F117),INDEX($M$1:$M117,MATCH(\"ZZZZ\",$M$1:$M117))=\"Sim\"),\"F\",\"\")","v":"F"}]
[null,null,"OBSERVAÇÕES:","",null,null,null,null,null,null,null,{"$f":"IF(AND(ISNUMBER(F113),M113=\"Sim\"),\"F\",\"\")","v":"F"}]
[null,null,null,null,null,null,null,null,null,null,null,{"$f":"IF(AND(ISNUMBER(F113),M113=\"Sim\"),\"F\",\"\")","v":"F"}]
[null,"FONTE","CÓDIGO","DESCRIÇÃO","UNIDADE",{"$f":"CHOOSE($K$3,\"MEDIANA\",\"MÉDIA\")&IF(H121=\"\",\"\",\" RETROAGIDA\")","v":"MEDIANA"},null,"ÍNDICE RETROAÇÃO",null,null,null,{"$f":"IF(AND(ISNUMBER(F121),M121=\"Sim\"),\"F\",\"\")","v":"F"}]
[{"$f":"CONCATENATE($B121,\" \",$C121)","v":"Cotação I.INEL.0211.01"},"Cotação","I.INEL.0211.01","ISOLADOR/SUPORTE GUIA D=44MM E H=50MM, PARA BARRA DE ALUMÍNIO 7/8\"X1/8\" 15X15CM, PARA SPDA. (REFERÊNCIA: GELCAM).","UNIDADE",{"$f":"IFERROR(CHOOSE($K$3,MEDIAN(OFFSET(F122,1,0,ROW(C126)-ROW(C122)-1)),AVERAGE(OFFSET(F122,1,0,ROW(C126)-ROW(C122)-1)))*IF(H121=\"\",1,VLOOKUP(H121,INDICES,8)),0)","v":9.3000000000000007},null,"",null,{"$f":"COUNTA($A$1:$A121)-1","v":8},{"$f":"ROW(C126)-ROW(C122)-1","v":3},{"$f":"IF(AND(ISNUMBER(F121),M121=\"Sim\"),\"F\",\"\")","v":"F"},"Sim"]
[null,null,"EMPRESA","NOME DA EMPRESA",null,"COTAÇÕES",null,"DATA COTAÇÃO",null,"C",null,{"$f":"IF(AND(ISNUMBER(F121),M121=\"Sim\"),\"F\",\"\")","v":"F"}]
[null,null,"E037",{"$f":"IF(C123<>\"\",VLOOKUP(C123,EMPRESAS,3,FALSE),\"\")","v":"MULTISEG"},null,9.3000000000000007,null,"23/06/2025",null,"C",null,{"$f":"IF(AND(ISNUMBER(OFFSET($F$1,MATCH(MAX($J$1:$J123),$J$1:$J123,0)-1,0)),ISNUMBER(F123),INDEX($M$1:$M123,MATCH(\"ZZZZ\",$M$1:$M123))=\"Sim\"),\"F\",\"\")","v":"F"}]
[null,null,"E038",{"$f":"IF(C124<>\"\",VLOOKUP(C124,EMPRESAS,3,FALSE),\"\")","v":"SERPAL"},null,7.06,null,"23/06/2025",null,"C",null,{"$f":"IF(AND(ISNUMBER(OFFSET($F$1,MATCH(MAX($J$1:$J124),$J$1:$J124,0)-1,0)),ISNUMBER(F124),INDEX($M$1:$M124,MATCH(\"ZZZZ\",$M$1:$M124))=\"Sim\"),\"F\",\"\")","v":"F"}]
[null,null,"E039",{"$f":"IF(C125<>\"\",VLOOKUP(C125,EMPRESAS,3,FALSE),\"\")","v":"ELETROSUL"},null,11.2,null,"23/06/2025",null,"C",null,{"$f":"IF(AND(ISNUMBER(OFFSET($F$1,MATCH(MAX($J$1:$J125),$J$1:$J125,0)-1,0)),ISNUMBER(F125),INDEX($M$1:$M125,MATCH(\"ZZZZ\",$M$1:$M125))=\"Sim\"),\"F\",\"\")","v":"F"}]
[null,null,"OBSERVAÇÕES:","",null,null,null,null,null,null,null,{"$f":"IF(AND(ISNUMBER(F121),M121=\"Sim\"),\"F\",\"\")","v":"F"}]
[null,null,null,null,null,null,null,null,null,null,null,{"$f":"IF(AND(ISNUMBER(F121),M121=\"Sim\"),\"F\",\"\")","v":"F"}]
[null,"FONTE","CÓDIGO","DESCRIÇÃO","UNIDADE",{"$f":"CHOOSE($K$3,\"MEDIANA\",\"MÉDIA\")&IF(H129=\"\",\"\",\" RETROAGIDA\")","v":"MEDIANA"},null,"ÍNDICE RETROAÇÃO",null,null,null,{"$f":"IF(AND(ISNUMBER(F129),M129=\"Sim\"),\"F\",\"\")","v":"F"}]
[{"$f":"CONCATENATE($B129,\" \",$C129)","v":"Cotação I.INEL.0212.01"},"Cotação","I.INEL.0212.01","PARAFUSO E PORCA EM INOX 1/4\"X 7/8\"","UNIDADE",{"$f":"IFERROR(CHOOSE($K$3,MEDIAN(OFFSET(F130,1,0,ROW(C134)-ROW(C130)-1)),AVERAGE(OFFSET(F130,1,0,ROW(C134)-ROW(C130)-1)))*IF(H129=\"\",1,VLOOKUP(H129,INDICES,8)),0)","v":0.61},null,"",null,{"$f":"COUNTA($A$1:$A129)-1","v":9},{"$f":"ROW(C134)-ROW(C130)-1","v":3},{"$f":"IF(AND(ISNUMBER(F129),M129=\"Sim\"),\"F\",\"\")","v":"F"},"Sim"]
[null,null,"EMPRESA","NOME DA EMPRESA",null,"COTAÇÕES",null,"DATA COTAÇÃO",null,"C",null,{"$f":"IF(AND(ISNUMBER(F129),M129=\"Sim\"),\"F\",\"\")","v":"F"}]
[null,null,"E040",{"$f":"IF(C131<>\"\",VLOOKUP(C131,EMPRESAS,3,FALSE),\"\")","v":"PARAFUSOSONLINE"},null,0.83279999999999998,null,"23/06/2025",null,"C",null,{"$f":"IF(AND(ISNUMBER(OFFSET($F$1,MATCH(MAX($J$1:$J131),$J$1:$J131,0)-1,0)),ISNUMBER(F131),INDEX($M$1:$M131,MATCH(\"ZZZZ\",$M$1:$M131))=\"Sim\"),\"F\",\"\")","v":"F"}]
[null,null,"E041",{"$f":"IF(C132<>\"\",VLOOKUP(C132,EMPRESAS,3,FALSE),\"\")","v":"EBFIX COMERCIAL"},null,0.61,null,"23/06/2025",null,"C",null,{"$f":"IF(AND(ISNUMBER(OFFSET($F$1,MATCH(MAX($J$1:$J132),$J$1:$J132,0)-1,0)),ISNUMBER(F132),INDEX($M$1:$M132,MATCH(\"ZZZZ\",$M$1:$M132))=\"Sim\"),\"F\",\"\")","v":"F"}]
[null,null,"E042",{"$f":"IF(C133<>\"\",VLOOKUP(C133,EMPRESAS,3,FALSE),\"\")","v":"PARAFUTRECOS COML"},null,0.54,null,"23/06/2025",null,"C",null,{"$f":"IF(AND(ISNUMBER(OFFSET($F$1,MATCH(MAX($J$1:$J133),$J$1:$J133,0)-1,0)),ISNUMBER(F133),INDEX($M$1:$M133,MATCH(\"ZZZZ\",$M$1:$M133))=\"Sim\"),\"F\",\"\")","v":"F"}]
[null,null,"OBSERVAÇÕES:","",null,null,null,null,null,null,null,{"$f":"IF(AND(ISNUMBER(F129),M129=\"Sim\"),\"F\",\"\")","v":"F"}]
[null,null,null,null,null,null,null,null,null,null,null,{"$f":"IF(AND(ISNUMBER(F129),M129=\"Sim\"),\"F\",\"\")","v":"F"}]
[null,"FONTE","CÓDIGO","DESCRIÇÃO","UNIDADE",{"$f":"CHOOSE($K$3,\"MEDIANA\",\"MÉDIA\")&IF(H137=\"\",\"\",\" RETROAGIDA\")","v":"MEDIANA"},null,"ÍNDICE RETROAÇÃO",null,null,null,{"$f":"IF(AND(ISNUMBER(F137),M137=\"Sim\"),\"F\",\"\")","v":"F"}]
[{"$f":"CONCATENATE($B137,\" \",$C137)","v":"Cotação I.INEL.0583.01"},"Cotação","I.INEL.0583.01","haste de aterramento 3/8\"x 2,40 m ","UNIDADE",{"$f":"IFERROR(CHOOSE($K$3,MEDIAN(OFFSET(F138,1,0,ROW(C142)-ROW(C138)-1)),AVERAGE(OFFSET(F138,1,0,ROW(C142)-ROW(C138)-1)))*IF(H137=\"\",1,VLOOKUP(H137,INDICES,8)),0)","v":33.33},null,"",null,{"$f":"COUNTA($A$1:$A137)-1","v":10},{"$f":"ROW(C142)-ROW(C138)-1","v":3},{"$f":"IF(AND(ISNUMBER(F137),M137=\"Sim\"),\"F\",\"\")","v":"F"},"Sim"]
[null,null,"EMPRESA","NOME DA EMPRESA",null,"COTAÇÕES",null,"DATA COTAÇÃO",null,"C",null,{"$f":"IF(AND(ISNUMBER(F137),M137=\"Sim\"),\"F\",\"\")","v":"F"}]
[null,null,"E043",{"$f":"IF(C139<>\"\",VLOOKUP(C139,EMPRESAS,3,FALSE),\"\")","v":"FERAMENTAS KENNEDY"},null,28.55,null,"23/06/2025",null,"C",null,{"$f":"IF(AND(ISNUMBER(OFFSET($F$1,MATCH(MAX($J$1:$J139),$J$1:$J139,0)-1,0)),ISNUMBER(F139),INDEX($M$1:$M139,MATCH(\"ZZZZ\",$M$1:$M139))=\"Sim\"),\"F\",\"\")","v":"F"}]
[null,null,"E044",{"$f":"IF(C140<>\"\",VLOOKUP(C140,EMPRESAS,3,FALSE),\"\")","v":"HOMECENTER CASTELO FORTE"},null,33.33,null,"23/06/2025",null,"C",null,{"$f":"IF(AND(ISNUMBER(OFFSET($F$1,MATCH(MAX($J$1:$J140),$J$1:$J140,0)-1,0)),ISNUMBER(F140),INDEX($M$1:$M140,MATCH(\"ZZZZ\",$M$1:$M140))=\"Sim\"),\"F\",\"\")","v":"F"}]
[null,null,"E045",{"$f":"IF(C141<>\"\",VLOOKUP(C141,EMPRESAS,3,FALSE),\"\")","v":"SKR PARAFUSOS"},null,35.82,null,"23/06/2025",null,"C",null,{"$f":"IF(AND(ISNUMBER(OFFSET($F$1,MATCH(MAX($J$1:$J141),$J$1:$J141,0)-1,0)),ISNUMBER(F141),INDEX($M$1:$M141,MATCH(\"ZZZZ\",$M$1:$M141))=\"Sim\"),\"F\",\"\")","v":"F"}]
[null,null,"OBSERVAÇÕES:","",null,null,null,null,null,null,null,{"$f":"IF(AND(ISNUMBER(F137),M137=\"Sim\"),\"F\",\"\")","v":"F"}]
[null,null,null,null,null,null,null,null,null,null,null,{"$f":"IF(AND(ISNUMBER(F137),M137=\"Sim\"),\"F\",\"\")","v":"F"}]
[null,"FONTE","CÓDIGO","DESCRIÇÃO","UNIDADE",{"$f":"CHOOSE($K$3,\"MEDIANA\",\"MÉDIA\")&IF(H145=\"\",\"\",\" RETROAGIDA\")","v":"MEDIANA"},null,"ÍNDICE RETROAÇÃO",null,null,null,{"$f":"IF(AND(ISNUMBER(F145),M145=\"Sim\"),\"F\",\"\")","v":"F"}]
[{"$f":"CONCATENATE($B145,\" \",$C145)","v":"Cotação 442"},"Cotação","442","PARAFUSO FRANCES M16 EM ACO GALVANIZADO, COMPRIMENTO = 45 MM, DIAMETRO = 16 MM, CABECA ABAULADA","UN",{"$f":"IFERROR(CHOOSE($K$3,MEDIAN(OFFSET(F146,1,0,ROW(C148)-ROW(C146)-1)),AVERAGE(OFFSET(F146,1,0,ROW(C148)-ROW(C146)-1)))*IF(H145=\"\",1,VLOOKUP(H145,INDICES,8)),0)","v":7.17},null,"",null,{"$f":"COUNTA($A$1:$A145)-1","v":11},{"$f":"ROW(C148)-ROW(C146)-1","v":1},{"$f":"IF(AND(ISNUMBER(F145),M145=\"Sim\"),\"F\",\"\")","v":"F"},"Sim"]
[null,null,"EMPRESA","NOME DA EMPRESA",null,"COTAÇÕES",null,"DATA COTAÇÃO",null,"C",null,{"$f":"IF(AND(ISNUMBER(F145),M145=\"Sim\"),\"F\",\"\")","v":"F"}]
[null,null,"E046",{"$f":"IF(C147<>\"\",VLOOKUP(C147,EMPRESAS,3,FALSE),\"\")","v":"SINAPI SP"},null,7.17,null,"05-2025",null,"C",null,{"$f":"IF(AND(ISNUMBER(OFFSET($F$1,MATCH(MAX($J$1:$J147),$J$1:$J147,0)-1,0)),ISNUMBER(F147),INDEX($M$1:$M147,MATCH(\"ZZZZ\",$M$1:$M147))=\"Sim\"),\"F\",\"\")","v":"F"}]
[null,null,"OBSERVAÇÕES:",null,null,null,null,null,null,null,null,{"$f":"IF(AND(ISNUMBER(F145),M145=\"Sim\"),\"F\",\"\")","v":"F"}]
[null,null,null,null,null,null,null,null,null,null,null,{"$f":"IF(AND(ISNUMBER(F145),M145=\"Sim\"),\"F\",\"\")","v":"F"}]
[null,"FONTE","CÓDIGO","DESCRIÇÃO","UNIDADE",{"$f":"CHOOSE($K$3,\"MEDIANA\",\"MÉDIA\")&IF(H151=\"\",\"\",\" RETROAGIDA\")","v":"MEDIANA"},null,"ÍNDICE RETROAÇÃO",null,null,null,{"$f":"IF(AND(ISNUMBER(F151),M151=\"Sim\"),\"F\",\"\")","v":"F"}]
[{"$f":"CONCATENATE($B151,\" \",$C151)","v":"Cotação 1318"},"Cotação","1318","CHAPA DE ACO FINA A QUENTE BITOLA MSG 14, E = 2,00 MM (16,0 KG/M2)","KG",{"$f":"IFERROR(CHOOSE($K$3,MEDIAN(OFFSET(F152,1,0,ROW(C154)-ROW(C152)-1)),AVERAGE(OFFSET(F152,1,0,ROW(C154)-ROW(C152)-1)))*IF(H151=\"\",1,VLOOKUP(H151,INDICES,8)),0)","v":8.5},null,"",null,{"$f":"COUNTA($A$1:$A151)-1","v":12},{"$f":"ROW(C154)-ROW(C152)-1","v":1},{"$f":"IF(AND(ISNUMBER(F151),M151=\"Sim\"),\"F\",\"\")","v":"F"},"Sim"]
[null,null,"EMPRESA","NOME DA EMPRESA",null,"COTAÇÕES",null,"DATA COTAÇÃO",null,"C",null,{"$f":"IF(AND(ISNUMBER(F151),M151=\"Sim\"),\"F\",\"\")","v":"F"}]
[null,null,"E046",{"$f":"IF(C153<>\"\",VLOOKUP(C153,EMPRESAS,3,FALSE),\"\")","v":"SINAPI SP"},null,8.5,null,"05-2025",null,"C",null,{"$f":"IF(AND(ISNUMBER(OFFSET($F$1,MATCH(MAX($J$1:$J153),$J$1:$J153,0)-1,0)),ISNUMBER(F153),INDEX($M$1:$M153,MATCH(\"ZZZZ\",$M$1:$M153))=\"Sim\"),\"F\",\"\")","v":"F"}]
[null,null,"OBSERVAÇÕES:","",null,null,null,null,null,null,null,{"$f":"IF(AND(ISNUMBER(F151),M151=\"Sim\"),\"F\",\"\")","v":"F"}]
[null,null,null,null,null,null,null,null,null,null,null,{"$f":"IF(AND(ISNUMBER(F151),M151=\"Sim\"),\"F\",\"\")","v":"F"}]
[null,"FONTE","CÓDIGO","DESCRIÇÃO","UNIDADE",{"$f":"CHOOSE($K$3,\"MEDIANA\",\"MÉDIA\")&IF(H157=\"\",\"\",\" RETROAGIDA\")","v":"MEDIANA"},null,"ÍNDICE RETROAÇÃO",null,null,null,{"$f":"IF(AND(ISNUMBER(F157),M157=\"Sim\"),\"F\",\"\")","v":"F"}]
[{"$f":"CONCATENATE($B157,\" \",$C157)","v":"Cotação 1319"},"Cotação","1319","CHAPA DE ACO FINA A QUENTE BITOLA MSG 3/16\", E = 4,75 MM (38,00 KG/M2)","KG",{"$f":"IFERROR(CHOOSE($K$3,MEDIAN(OFFSET(F158,1,0,ROW(C160)-ROW(C158)-1)),AVERAGE(OFFSET(F158,1,0,ROW(C160)-ROW(C158)-1)))*IF(H157=\"\",1,VLOOKUP(H157,INDICES,8)),0)","v":7.56},null,"",null,{"$f":"COUNTA($A$1:$A157)-1","v":13},{"$f":"ROW(C160)-ROW(C158)-1","v":1},{"$f":"IF(AND(ISNUMBER(F157),M157=\"Sim\"),\"F\",\"\")","v":"F"},"Sim"]
[null,null,"EMPRESA","NOME DA EMPRESA",null,"COTAÇÕES",null,"DATA COTAÇÃO",null,"C",null,{"$f":"IF(AND(ISNUMBER(F157),M157=\"Sim\"),\"F\",\"\")","v":"F"}]
[null,null,"E046",{"$f":"IF(C159<>\"\",VLOOKUP(C159,EMPRESAS,3,FALSE),\"\")","v":"SINAPI SP"},null,7.56,null,"05-2025",null,"C",null,{"$f":"IF(AND(ISNUMBER(OFFSET($F$1,MATCH(MAX($J$1:$J159),$J$1:$J159,0)-1,0)),ISNUMBER(F159),INDEX($M$1:$M159,MATCH(\"ZZZZ\",$M$1:$M159))=\"Sim\"),\"F\",\"\")","v":"F"}]
[null,null,"OBSERVAÇÕES:","",null,null,null,null,null,null,null,{"$f":"IF(AND(ISNUMBER(F157),M157=\"Sim\"),\"F\",\"\")","v":"F"}]
[null,null,null,null,null,null,null,null,null,null,null,{"$f":"IF(AND(ISNUMBER(F157),M157=\"Sim\"),\"F\",\"\")","v":"F"}]
[null,"FONTE","CÓDIGO","DESCRIÇÃO","UNIDADE",{"$f":"CHOOSE($K$3,\"MEDIANA\",\"MÉDIA\")&IF(H163=\"\",\"\",\" RETROAGIDA\")","v":"MEDIANA"},null,"ÍNDICE RETROAÇÃO",null,null,null,{"$f":"IF(AND(ISNUMBER(F163),M163=\"Sim\"),\"F\",\"\")","v":"F"}]
[{"$f":"CONCATENATE($B163,\" \",$C163)","v":"Cotação 1327"},"Cotação","1327","CHAPA DE ACO FINA A FRIO BITOLA MSG 24, E = 0,60 MM (4,80 KG/M2)","KG",{"$f":"IFERROR(CHOOSE($K$3,MEDIAN(OFFSET(F164,1,0,ROW(C166)-ROW(C164)-1)),AVERAGE(OFFSET(F164,1,0,ROW(C166)-ROW(C164)-1)))*IF(H163=\"\",1,VLOOKUP(H163,INDICES,8)),0)","v":9.74},null,"",null,{"$f":"COUNTA($A$1:$A163)-1","v":14},{"$f":"ROW(C166)-ROW(C164)-1","v":1},{"$f":"IF(AND(ISNUMBER(F163),M163=\"Sim\"),\"F\",\"\")","v":"F"},"Sim"]
[null,null,"EMPRESA","NOME DA EMPRESA",null,"COTAÇÕES",null,"DATA COTAÇÃO",null,"C",null,{"$f":"IF(AND(ISNUMBER(F163),M163=\"Sim\"),\"F\",\"\")","v":"F"}]
[null,null,"E046",{"$f":"IF(C165<>\"\",VLOOKUP(C165,EMPRESAS,3,FALSE),\"\")","v":"SINAPI SP"},null,9.74,null,"05-2025",null,"C",null,{"$f":"IF(AND(ISNUMBER(OFFSET($F$1,MATCH(MAX($J$1:$J165),$J$1:$J165,0)-1,0)),ISNUMBER(F165),INDEX($M$1:$M165,MATCH(\"ZZZZ\",$M$1:$M165))=\"Sim\"),\"F\",\"\")","v":"F"}]
[null,null,"OBSERVAÇÕES:","",null,null,null,null,null,null,null,{"$f":"IF(AND(ISNUMBER(F163),M163=\"Sim\"),\"F\",\"\")","v":"F"}]
[null,null,null,null,null,null,null,null,null,null,null,{"$f":"IF(AND(ISNUMBER(F163),M163=\"Sim\"),\"F\",\"\")","v":"F"}]
[null,"FONTE","CÓDIGO","DESCRIÇÃO","UNIDADE",{"$f":"CHOOSE($K$3,\"MEDIANA\",\"MÉDIA\")&IF(H169=\"\",\"\",\" RETROAGIDA\")","v":"MEDIANA"},null,"ÍNDICE RETROAÇÃO",null,null,null,{"$f":"IF(AND(ISNUMBER(F169),M169=\"Sim\"),\"F\",\"\")","v":"F"}]
[{"$f":"CONCATENATE($B169,\" \",$C169)","v":"Cotação 1332"},"Cotação","1332","CHAPA DE ACO GROSSA, ASTM A36, E = 3/8\" (9,53 MM) 74,69 KG/M2","KG",{"$f":"IFERROR(CHOOSE($K$3,MEDIAN(OFFSET(F170,1,0,ROW(C172)-ROW(C170)-1)),AVERAGE(OFFSET(F170,1,0,ROW(C172)-ROW(C170)-1)))*IF(H169=\"\",1,VLOOKUP(H169,INDICES,8)),0)","v":8.3699999999999992},null,"",null,{"$f":"COUNTA($A$1:$A169)-1","v":15},{"$f":"ROW(C172)-ROW(C170)-1","v":1},{"$f":"IF(AND(ISNUMBER(F169),M169=\"Sim\"),\"F\",\"\")","v":"F"},"Sim"]
[null,null,"EMPRESA","NOME DA EMPRESA",null,"COTAÇÕES",null,"DATA COTAÇÃO",null,"C",null,{"$f":"IF(AND(ISNUMBER(F169),M169=\"Sim\"),\"F\",\"\")","v":"F"}]
[null,null,"E046",{"$f":"IF(C171<>\"\",VLOOKUP(C171,EMPRESAS,3,FALSE),\"\")","v":"SINAPI SP"},null,8.3699999999999992,null,"05-2025",null,"C",null,{"$f":"IF(AND(ISNUMBER(OFFSET($F$1,MATCH(MAX($J$1:$J171),$J$1:$J171,0)-1,0)),ISNUMBER(F171),INDEX($M$1:$M171,MATCH(\"ZZZZ\",$M$1:$M171))=\"Sim\"),\"F\",\"\")","v":"F"}]
[null,null,"OBSERVAÇÕES:","",null,null,null,null,null,null,null,{"$f":"IF(AND(ISNUMBER(F169),M169=\"Sim\"),\"F\",\"\")","v":"F"}]
[null,null,null,null,null,null,null,null,null,null,null,{"$f":"IF(AND(ISNUMBER(F169),M169=\"Sim\"),\"F\",\"\")","v":"F"}]
[null,"FONTE","CÓDIGO","DESCRIÇÃO","UNIDADE",{"$f":"CHOOSE($K$3,\"MEDIANA\",\"MÉDIA\")&IF(H175=\"\",\"\",\" RETROAGIDA\")","v":"MEDIANA"},null,"ÍNDICE RETROAÇÃO",null,null,null,{"$f":"IF(AND(ISNUMBER(F175),M175=\"Sim\"),\"F\",\"\")","v":"F"}]
[{"$f":"CONCATENATE($B175,\" \",$C175)","v":"Cotação 4777"},"Cotação","4777","CANTONEIRA ACO ABAS IGUAIS (QUALQUER BITOLA), ESPESSURA ENTRE 1/8\" E 1/4\"","KG",{"$f":"IFERROR(CHOOSE($K$3,MEDIAN(OFFSET(F176,1,0,ROW(C178)-ROW(C176)-1)),AVERAGE(OFFSET(F176,1,0,ROW(C178)-ROW(C176)-1)))*IF(H175=\"\",1,VLOOKUP(H175,INDICES,8)),0)","v":8.02},null,"",null,{"$f":"COUNTA($A$1:$A175)-1","v":16},{"$f":"ROW(C178)-ROW(C176)-1","v":1},{"$f":"IF(AND(ISNUMBER(F175),M175=\"Sim\"),\"F\",\"\")","v":"F"},"Sim"]
[null,null,"EMPRESA","NOME DA EMPRESA",null,"COTAÇÕES",null,"DATA COTAÇÃO",null,"C",null,{"$f":"IF(AND(ISNUMBER(F175),M175=\"Sim\"),\"F\",\"\")","v":"F"}]
[null,null,"E046",{"$f":"IF(C177<>\"\",VLOOKUP(C177,EMPRESAS,3,FALSE),\"\")","v":"SINAPI SP"},null,8.02,null,"05-2025",null,"C",null,{"$f":"IF(AND(ISNUMBER(OFFSET($F$1,MATCH(MAX($J$1:$J177),$J$1:$J177,0)-1,0)),ISNUMBER(F177),INDEX($M$1:$M177,MATCH(\"ZZZZ\",$M$1:$M177))=\"Sim\"),\"F\",\"\")","v":"F"}]
[null,null,"OBSERVAÇÕES:","",null,null,null,null,null,null,null,{"$f":"IF(AND(ISNUMBER(F175),M175=\"Sim\"),\"F\",\"\")","v":"F"}]
[null,null,null,null,null,null,null,null,null,null,null,{"$f":"IF(AND(ISNUMBER(F175),M175=\"Sim\"),\"F\",\"\")","v":"F"}]
[null,"FONTE","CÓDIGO","DESCRIÇÃO","UNIDADE",{"$f":"CHOOSE($K$3,\"MEDIANA\",\"MÉDIA\")&IF(H181=\"\",\"\",\" RETROAGIDA\")","v":"MEDIANA"},null,"ÍNDICE RETROAÇÃO",null,null,null,{"$f":"IF(AND(ISNUMBER(F181),M181=\"Sim\"),\"F\",\"\")","v":"F"}]
[{"$f":"CONCATENATE($B181,\" \",$C181)","v":"Cotação 5036"},"Cotação","5036","POSTE DE CONCRETO ARMADO DE SECAO CIRCULAR, EXTENSAO DE 14,00 M, RESISTENCIA DE 300 A 400 DAN, TIPO C-17","UN",{"$f":"IFERROR(CHOOSE($K$3,MEDIAN(OFFSET(F182,1,0,ROW(C184)-ROW(C182)-1)),AVERAGE(OFFSET(F182,1,0,ROW(C184)-ROW(C182)-1)))*IF(H181=\"\",1,VLOOKUP(H181,INDICES,8)),0)","v":2576.06},null,"",null,{"$f":"COUNTA($A$1:$A181)-1","v":17},{"$f":"ROW(C184)-ROW(C182)-1","v":1},{"$f":"IF(AND(ISNUMBER(F181),M181=\"Sim\"),\"F\",\"\")","v":"F"},"Sim"]
[null,null,"EMPRESA","NOME DA EMPRESA",null,"COTAÇÕES",null,"DATA COTAÇÃO",null,"C",null,{"$f":"IF(AND(ISNUMBER(F181),M181=\"Sim\"),\"F\",\"\")","v":"F"}]
[null,null,"E046",{"$f":"IF(C183<>\"\",VLOOKUP(C183,EMPRESAS,3,FALSE),\"\")","v":"SINAPI SP"},null,2576.06,null,"05-2025",null,"C",null,{"$f":"IF(AND(ISNUMBER(OFFSET($F$1,MATCH(MAX($J$1:$J183),$J$1:$J183,0)-1,0)),ISNUMBER(F183),INDEX($M$1:$M183,MATCH(\"ZZZZ\",$M$1:$M183))=\"Sim\"),\"F\",\"\")","v":"F"}]
[null,null,"OBSERVAÇÕES:","",null,null,null,null,null,null,null,{"$f":"IF(AND(ISNUMBER(F181),M181=\"Sim\"),\"F\",\"\")","v":"F"}]
[null,null,null,null,null,null,null,null,null,null,null,{"$f":"IF(AND(ISNUMBER(F181),M181=\"Sim\"),\"F\",\"\")","v":"F"}]
[null,"FONTE","CÓDIGO","DESCRIÇÃO","UNIDADE",{"$f":"CHOOSE($K$3,\"MEDIANA\",\"MÉDIA\")&IF(H187=\"\",\"\",\" RETROAGIDA\")","v":"MEDIANA"},null,"ÍNDICE RETROAÇÃO",null,null,null,{"$f":"IF(AND(ISNUMBER(F187),M187=\"Sim\"),\"F\",\"\")","v":"F"}]
[{"$f":"CONCATENATE($B187,\" \",$C187)","v":"Cotação 7243"},"Cotação","7243","TELHA TRAPEZOIDAL EM ACO ZINCADO, SEM PINTURA, ALTURA DE APROXIMADAMENTE 40 MM, ESPESSURA DE 0,50 MM E LARGURA UTIL DE 980 MM","M2",{"$f":"IFERROR(CHOOSE($K$3,MEDIAN(OFFSET(F188,1,0,ROW(C190)-ROW(C188)-1)),AVERAGE(OFFSET(F188,1,0,ROW(C190)-ROW(C188)-1)))*IF(H187=\"\",1,VLOOKUP(H187,INDICES,8)),0)","v":49.84},null,"",null,{"$f":"COUNTA($A$1:$A187)-1","v":18},{"$f":"ROW(C190)-ROW(C188)-1","v":1},{"$f":"IF(AND(ISNUMBER(F187),M187=\"Sim\"),\"F\",\"\")","v":"F"},"Sim"]
[null,null,"EMPRESA","NOME DA EMPRESA",null,"COTAÇÕES",null,"DATA COTAÇÃO",null,"C",null,{"$f":"IF(AND(ISNUMBER(F187),M187=\"Sim\"),\"F\",\"\")","v":"F"}]
[null,null,"E046",{"$f":"IF(C189<>\"\",VLOOKUP(C189,EMPRESAS,3,FALSE),\"\")","v":"SINAPI SP"},null,49.84,null,"05-2025",null,"C",null,{"$f":"IF(AND(ISNUMBER(OFFSET($F$1,MATCH(MAX($J$1:$J189),$J$1:$J189,0)-1,0)),ISNUMBER(F189),INDEX($M$1:$M189,MATCH(\"ZZZZ\",$M$1:$M189))=\"Sim\"),\"F\",\"\")","v":"F"}]
[null,null,"OBSERVAÇÕES:","",null,null,null,null,null,null,null,{"$f":"IF(AND(ISNUMBER(F187),M187=\"Sim\"),\"F\",\"\")","v":"F"}]
[null,null,null,null,null,null,null,null,null,null,null,{"$f":"IF(AND(ISNUMBER(F187),M187=\"Sim\"),\"F\",\"\")","v":"F"}]
[null,"FONTE","CÓDIGO","DESCRIÇÃO","UNIDADE",{"$f":"CHOOSE($K$3,\"MEDIANA\",\"MÉDIA\")&IF(H193=\"\",\"\",\" RETROAGIDA\")","v":"MEDIANA"},null,"ÍNDICE RETROAÇÃO",null,null,null,{"$f":"IF(AND(ISNUMBER(F193),M193=\"Sim\"),\"F\",\"\")","v":"F"}]
[{"$f":"CONCATENATE($B193,\" \",$C193)","v":"Cotação 7694"},"Cotação","7694","TUBO ACO GALVANIZADO COM COSTURA, CLASSE MEDIA, DN 3\", E = *4,05* MM, PESO *8,47* KG/M (NBR 5580)","M",{"$f":"IFERROR(CHOOSE($K$3,MEDIAN(OFFSET(F194,1,0,ROW(C196)-ROW(C194)-1)),AVERAGE(OFFSET(F194,1,0,ROW(C196)-ROW(C194)-1)))*IF(H193=\"\",1,VLOOKUP(H193,INDICES,8)),0)","v":124.28},null,"",null,{"$f":"COUNTA($A$1:$A193)-1","v":19},{"$f":"ROW(C196)-ROW(C194)-1","v":1},{"$f":"IF(AND(ISNUMBER(F193),M193=\"Sim\"),\"F\",\"\")","v":"F"},"Sim"]
[null,null,"EMPRESA","NOME DA EMPRESA",null,"COTAÇÕES",null,"DATA COTAÇÃO",null,"C",null,{"$f":"IF(AND(ISNUMBER(F193),M193=\"Sim\"),\"F\",\"\")","v":"F"}]
[null,null,"E046",{"$f":"IF(C195<>\"\",VLOOKUP(C195,EMPRESAS,3,FALSE),\"\")","v":"SINAPI SP"},null,124.28,null,"05-2025",null,"C",null,{"$f":"IF(AND(ISNUMBER(OFFSET($F$1,MATCH(MAX($J$1:$J195),$J$1:$J195,0)-1,0)),ISNUMBER(F195),INDEX($M$1:$M195,MATCH(\"ZZZZ\",$M$1:$M195))=\"Sim\"),\"F\",\"\")","v":"F"}]
[null,null,"OBSERVAÇÕES:","",null,null,null,null,null,null,null,{"$f":"IF(AND(ISNUMBER(F193),M193=\"Sim\"),\"F\",\"\")","v":"F"}]
[null,null,null,null,null,null,null,null,null,null,null,{"$f":"IF(AND(ISNUMBER(F193),M193=\"Sim\"),\"F\",\"\")","v":"F"}]
[null,"FONTE","CÓDIGO","DESCRIÇÃO","UNIDADE",{"$f":"CHOOSE($K$3,\"MEDIANA\",\"MÉDIA\")&IF(H199=\"\",\"\",\" RETROAGIDA\")","v":"MEDIANA"},null,"ÍNDICE RETROAÇÃO",null,null,null,{"$f":"IF(AND(ISNUMBER(F199),M199=\"Sim\"),\"F\",\"\")","v":"F"}]
[{"$f":"CONCATENATE($B199,\" \",$C199)","v":"Cotação 7696"},"Cotação","7696","TUBO ACO GALVANIZADO COM COSTURA, CLASSE MEDIA, DN 2\", E = *3,65* MM, PESO *5,10* KG/M (NBR 5580)","M",{"$f":"IFERROR(CHOOSE($K$3,MEDIAN(OFFSET(F200,1,0,ROW(C202)-ROW(C200)-1)),AVERAGE(OFFSET(F200,1,0,ROW(C202)-ROW(C200)-1)))*IF(H199=\"\",1,VLOOKUP(H199,INDICES,8)),0)","v":74.42},null,"",null,{"$f":"COUNTA($A$1:$A199)-1","v":20},{"$f":"ROW(C202)-ROW(C200)-1","v":1},{"$f":"IF(AND(ISNUMBER(F199),M199=\"Sim\"),\"F\",\"\")","v":"F"},"Sim"]
[null,null,"EMPRESA","NOME DA EMPRESA",null,"COTAÇÕES",null,"DATA COTAÇÃO",null,"C",null,{"$f":"IF(AND(ISNUMBER(F199),M199=\"Sim\"),\"F\",\"\")","v":"F"}]
[null,null,"E046",{"$f":"IF(C201<>\"\",VLOOKUP(C201,EMPRESAS,3,FALSE),\"\")","v":"SINAPI SP"},null,74.42,null,"05-2025",null,"C",null,{"$f":"IF(AND(ISNUMBER(OFFSET($F$1,MATCH(MAX($J$1:$J201),$J$1:$J201,0)-1,0)),ISNUMBER(F201),INDEX($M$1:$M201,MATCH(\"ZZZZ\",$M$1:$M201))=\"Sim\"),\"F\",\"\")","v":"F"}]
[null,null,"OBSERVAÇÕES:","",null,null,null,null,null,null,null,{"$f":"IF(AND(ISNUMBER(F199),M199=\"Sim\"),\"F\",\"\")","v":"F"}]
[null,null,null,null,null,null,null,null,null,null,null,{"$f":"IF(AND(ISNUMBER(F199),M199=\"Sim\"),\"F\",\"\")","v":"F"}]
[null,"FONTE","CÓDIGO","DESCRIÇÃO","UNIDADE",{"$f":"CHOOSE($K$3,\"MEDIANA\",\"MÉDIA\")&IF(H205=\"\",\"\",\" RETROAGIDA\")","v":"MEDIANA"},null,"ÍNDICE RETROAÇÃO",null,null,null,{"$f":"IF(AND(ISNUMBER(F205),M205=\"Sim\"),\"F\",\"\")","v":"F"}]
[{"$f":"CONCATENATE($B205,\" \",$C205)","v":"Cotação 9829"},"Cotação","9829","TUBO PVC DEFOFO, JEI, 1 MPA, DN 200 MM, PARA REDE DE AGUA (NBR 7665)","M",{"$f":"IFERROR(CHOOSE($K$3,MEDIAN(OFFSET(F206,1,0,ROW(C208)-ROW(C206)-1)),AVERAGE(OFFSET(F206,1,0,ROW(C208)-ROW(C206)-1)))*IF(H205=\"\",1,VLOOKUP(H205,INDICES,8)),0)","v":231.08},null,"",null,{"$f":"COUNTA($A$1:$A205)-1","v":21},{"$f":"ROW(C208)-ROW(C206)-1","v":1},{"$f":"IF(AND(ISNUMBER(F205),M205=\"Sim\"),\"F\",\"\")","v":"F"},"Sim"]
[null,null,"EMPRESA","NOME DA EMPRESA",null,"COTAÇÕES",null,"DATA COTAÇÃO",null,"C",null,{"$f":"IF(AND(ISNUMBER(F205),M205=\"Sim\"),\"F\",\"\")","v":"F"}]
[null,null,"E046",{"$f":"IF(C207<>\"\",VLOOKUP(C207,EMPRESAS,3,FALSE),\"\")","v":"SINAPI SP"},null,231.08,null,"05-2025",null,"C",null,{"$f":"IF(AND(ISNUMBER(OFFSET($F$1,MATCH(MAX($J$1:$J207),$J$1:$J207,0)-1,0)),ISNUMBER(F207),INDEX($M$1:$M207,MATCH(\"ZZZZ\",$M$1:$M207))=\"Sim\"),\"F\",\"\")","v":"F"}]
[null,null,"OBSERVAÇÕES:","",null,null,null,null,null,null,null,{"$f":"IF(AND(ISNUMBER(F205),M205=\"Sim\"),\"F\",\"\")","v":"F"}]
[null,null,null,null,null,null,null,null,null,null,null,{"$f":"IF(AND(ISNUMBER(F205),M205=\"Sim\"),\"F\",\"\")","v":"F"}]
[null,"FONTE","CÓDIGO","DESCRIÇÃO","UNIDADE",{"$f":"CHOOSE($K$3,\"MEDIANA\",\"MÉDIA\")&IF(H211=\"\",\"\",\" RETROAGIDA\")","v":"MEDIANA"},null,"ÍNDICE RETROAÇÃO",null,null,null,{"$f":"IF(AND(ISNUMBER(F211),M211=\"Sim\"),\"F\",\"\")","v":"F"}]
[{"$f":"CONCATENATE($B211,\" \",$C211)","v":"Cotação 10966"},"Cotação","10966","PERFIL \"U\" SIMPLES, EM CHAPA DOBRADA DE ACO LAMINADO, E = 8 MM, H = 150 MM, L = 75 MM (16,97 KG/M)","KG",{"$f":"IFERROR(CHOOSE($K$3,MEDIAN(OFFSET(F212,1,0,ROW(C214)-ROW(C212)-1)),AVERAGE(OFFSET(F212,1,0,ROW(C214)-ROW(C212)-1)))*IF(H211=\"\",1,VLOOKUP(H211,INDICES,8)),0)","v":9.1199999999999992},null,"",null,{"$f":"COUNTA($A$1:$A211)-1","v":22},{"$f":"ROW(C214)-ROW(C212)-1","v":1},{"$f":"IF(AND(ISNUMBER(F211),M211=\"Sim\"),\"F\",\"\")","v":"F"},"Sim"]
[null,null,"EMPRESA","NOME DA EMPRESA",null,"COTAÇÕES",null,"DATA COTAÇÃO",null,"C",null,{"$f":"IF(AND(ISNUMBER(F211),M211=\"Sim\"),\"F\",\"\")","v":"F"}]
[null,null,"E046",{"$f":"IF(C213<>\"\",VLOOKUP(C213,EMPRESAS,3,FALSE),\"\")","v":"SINAPI SP"},null,9.1199999999999992,null,"05-2025",null,"C",null,{"$f":"IF(AND(ISNUMBER(OFFSET($F$1,MATCH(MAX($J$1:$J213),$J$1:$J213,0)-1,0)),ISNUMBER(F213),INDEX($M$1:$M213,MATCH(\"ZZZZ\",$M$1:$M213))=\"Sim\"),\"F\",\"\")","v":"F"}]
[null,null,"OBSERVAÇÕES:","",null,null,null,null,null,null,null,{"$f":"IF(AND(ISNUMBER(F211),M211=\"Sim\"),\"F\",\"\")","v":"F"}]
[null,null,null,null,null,null,null,null,null,null,null,{"$f":"IF(AND(ISNUMBER(F211),M211=\"Sim\"),\"F\",\"\")","v":"F"}]
[null,"FONTE","CÓDIGO","DESCRIÇÃO","UNIDADE",{"$f":"CHOOSE($K$3,\"MEDIANA\",\"MÉDIA\")&IF(H217=\"\",\"\",\" RETROAGIDA\")","v":"MEDIANA"},null,"ÍNDICE RETROAÇÃO",null,null,null,{"$f":"IF(AND(ISNUMBER(F217),M217=\"Sim\"),\"F\",\"\")","v":"F"}]
[{"$f":"CONCATENATE($B217,\" \",$C217)","v":"Cotação 11026"},"Cotação","11026","CHAPA DE ACO GALVANIZADA BITOLA GSG 14, E = 1,95 MM (15,60 KG/M2)","KG",{"$f":"IFERROR(CHOOSE($K$3,MEDIAN(OFFSET(F218,1,0,ROW(C220)-ROW(C218)-1)),AVERAGE(OFFSET(F218,1,0,ROW(C220)-ROW(C218)-1)))*IF(H217=\"\",1,VLOOKUP(H217,INDICES,8)),0)","v":10.4},null,"",null,{"$f":"COUNTA($A$1:$A217)-1","v":23},{"$f":"ROW(C220)-ROW(C218)-1","v":1},{"$f":"IF(AND(ISNUMBER(F217),M217=\"Sim\"),\"F\",\"\")","v":"F"},"Sim"]
[null,null,"EMPRESA","NOME DA EMPRESA",null,"COTAÇÕES",null,"DATA COTAÇÃO",null,"C",null,{"$f":"IF(AND(ISNUMBER(F217),M217=\"Sim\"),\"F\",\"\")","v":"F"}]
[null,null,"E046",{"$f":"IF(C219<>\"\",VLOOKUP(C219,EMPRESAS,3,FALSE),\"\")","v":"SINAPI SP"},null,10.4,null,"05-2025",null,"C",null,{"$f":"IF(AND(ISNUMBER(OFFSET($F$1,MATCH(MAX($J$1:$J219),$J$1:$J219,0)-1,0)),ISNUMBER(F219),INDEX($M$1:$M219,MATCH(\"ZZZZ\",$M$1:$M219))=\"Sim\"),\"F\",\"\")","v":"F"}]
[null,null,"OBSERVAÇÕES:","",null,null,null,null,null,null,null,{"$f":"IF(AND(ISNUMBER(F217),M217=\"Sim\"),\"F\",\"\")","v":"F"}]
[null,null,null,null,null,null,null,null,null,null,null,{"$f":"IF(AND(ISNUMBER(F217),M217=\"Sim\"),\"F\",\"\")","v":"F"}]
[null,"FONTE","CÓDIGO","DESCRIÇÃO","UNIDADE",{"$f":"CHOOSE($K$3,\"MEDIANA\",\"MÉDIA\")&IF(H223=\"\",\"\",\" RETROAGIDA\")","v":"MEDIANA"},null,"ÍNDICE RETROAÇÃO",null,null,null,{"$f":"IF(AND(ISNUMBER(F223),M223=\"Sim\"),\"F\",\"\")","v":"F"}]
[{"$f":"CONCATENATE($B223,\" \",$C223)","v":"Cotação 11046"},"Cotação","11046","CHAPA DE ACO GALVANIZADA BITOLA GSG 18, E = 1,25 MM (10,00 KG/M2)","KG",{"$f":"IFERROR(CHOOSE($K$3,MEDIAN(OFFSET(F224,1,0,ROW(C226)-ROW(C224)-1)),AVERAGE(OFFSET(F224,1,0,ROW(C226)-ROW(C224)-1)))*IF(H223=\"\",1,VLOOKUP(H223,INDICES,8)),0)","v":10.37},null,"",null,{"$f":"COUNTA($A$1:$A223)-1","v":24},{"$f":"ROW(C226)-ROW(C224)-1","v":1},{"$f":"IF(AND(ISNUMBER(F223),M223=\"Sim\"),\"F\",\"\")","v":"F"},"Sim"]
[null,null,"EMPRESA","NOME DA EMPRESA",null,"COTAÇÕES",null,"DATA COTAÇÃO",null,"C",null,{"$f":"IF(AND(ISNUMBER(F223),M223=\"Sim\"),\"F\",\"\")","v":"F"}]
[null,null,"E046",{"$f":"IF(C225<>\"\",VLOOKUP(C225,EMPRESAS,3,FALSE),\"\")","v":"SINAPI SP"},null,10.37,null,"05-2025",null,"C",null,{"$f":"IF(AND(ISNUMBER(OFFSET($F$1,MATCH(MAX($J$1:$J225),$J$1:$J225,0)-1,0)),ISNUMBER(F225),INDEX($M$1:$M225,MATCH(\"ZZZZ\",$M$1:$M225))=\"Sim\"),\"F\",\"\")","v":"F"}]
[null,null,"OBSERVAÇÕES:","",null,null,null,null,null,null,null,{"$f":"IF(AND(ISNUMBER(F223),M223=\"Sim\"),\"F\",\"\")","v":"F"}]
[null,null,null,null,null,null,null,null,null,null,null,{"$f":"IF(AND(ISNUMBER(F223),M223=\"Sim\"),\"F\",\"\")","v":"F"}]
[null,"FONTE","CÓDIGO","DESCRIÇÃO","UNIDADE",{"$f":"CHOOSE($K$3,\"MEDIANA\",\"MÉDIA\")&IF(H229=\"\",\"\",\" RETROAGIDA\")","v":"MEDIANA"},null,"ÍNDICE RETROAÇÃO",null,null,null,{"$f":"IF(AND(ISNUMBER(F229),M229=\"Sim\"),\"F\",\"\")","v":"F"}]
[{"$f":"CONCATENATE($B229,\" \",$C229)","v":"Cotação 11049"},"Cotação","11049","CHAPA DE ACO GALVANIZADA BITOLA GSG 22, E = 0,80 MM (6,40 KG/M2)","KG",{"$f":"IFERROR(CHOOSE($K$3,MEDIAN(OFFSET(F230,1,0,ROW(C232)-ROW(C230)-1)),AVERAGE(OFFSET(F230,1,0,ROW(C232)-ROW(C230)-1)))*IF(H229=\"\",1,VLOOKUP(H229,INDICES,8)),0)","v":10.81},null,"",null,{"$f":"COUNTA($A$1:$A229)-1","v":25},{"$f":"ROW(C232)-ROW(C230)-1","v":1},{"$f":"IF(AND(ISNUMBER(F229),M229=\"Sim\"),\"F\",\"\")","v":"F"},"Sim"]
[null,null,"EMPRESA","NOME DA EMPRESA",null,"COTAÇÕES",null,"DATA COTAÇÃO",null,"C",null,{"$f":"IF(AND(ISNUMBER(F229),M229=\"Sim\"),\"F\",\"\")","v":"F"}]
[null,null,"E046",{"$f":"IF(C231<>\"\",VLOOKUP(C231,EMPRESAS,3,FALSE),\"\")","v":"SINAPI SP"},null,10.81,null,"05-2025",null,"C",null,{"$f":"IF(AND(ISNUMBER(OFFSET($F$1,MATCH(MAX($J$1:$J231),$J$1:$J231,0)-1,0)),ISNUMBER(F231),INDEX($M$1:$M231,MATCH(\"ZZZZ\",$M$1:$M231))=\"Sim\"),\"F\",\"\")","v":"F"}]
[null,null,"OBSERVAÇÕES:","",null,null,null,null,null,null,null,{"$f":"IF(AND(ISNUMBER(F229),M229=\"Sim\"),\"F\",\"\")","v":"F"}]
[null,null,null,null,null,null,null,null,null,null,null,{"$f":"IF(AND(ISNUMBER(F229),M229=\"Sim\"),\"F\",\"\")","v":"F"}]
[null,"FONTE","CÓDIGO","DESCRIÇÃO","UNIDADE",{"$f":"CHOOSE($K$3,\"MEDIANA\",\"MÉDIA\")&IF(H235=\"\",\"\",\" RETROAGIDA\")","v":"MEDIANA"},null,"ÍNDICE RETROAÇÃO",null,null,null,{"$f":"IF(AND(ISNUMBER(F235),M235=\"Sim\"),\"F\",\"\")","v":"F"}]
[{"$f":"CONCATENATE($B235,\" \",$C235)","v":"Cotação 11051"},"Cotação","11051","CHAPA DE ACO GALVANIZADA BITOLA GSG 26, E = 0,50 MM (4,00 KG/M2)","KG",{"$f":"IFERROR(CHOOSE($K$3,MEDIAN(OFFSET(F236,1,0,ROW(C238)-ROW(C236)-1)),AVERAGE(OFFSET(F236,1,0,ROW(C238)-ROW(C236)-1)))*IF(H235=\"\",1,VLOOKUP(H235,INDICES,8)),0)","v":11.35},null,"",null,{"$f":"COUNTA($A$1:$A235)-1","v":26},{"$f":"ROW(C238)-ROW(C236)-1","v":1},{"$f":"IF(AND(ISNUMBER(F235),M235=\"Sim\"),\"F\",\"\")","v":"F"},"Sim"]
[null,null,"EMPRESA","NOME DA EMPRESA",null,"COTAÇÕES",null,"DATA COTAÇÃO",null,"C",null,{"$f":"IF(AND(ISNUMBER(F235),M235=\"Sim\"),\"F\",\"\")","v":"F"}]
[null,null,"E046",{"$f":"IF(C237<>\"\",VLOOKUP(C237,EMPRESAS,3,FALSE),\"\")","v":"SINAPI SP"},null,11.35,null,"05-2025",null,"C",null,{"$f":"IF(AND(ISNUMBER(OFFSET($F$1,MATCH(MAX($J$1:$J237),$J$1:$J237,0)-1,0)),ISNUMBER(F237),INDEX($M$1:$M237,MATCH(\"ZZZZ\",$M$1:$M237))=\"Sim\"),\"F\",\"\")","v":"F"}]
[null,null,"OBSERVAÇÕES:","",null,null,null,null,null,null,null,{"$f":"IF(AND(ISNUMBER(F235),M235=\"Sim\"),\"F\",\"\")","v":"F"}]
[null,null,null,null,null,null,null,null,null,null,null,{"$f":"IF(AND(ISNUMBER(F235),M235=\"Sim\"),\"F\",\"\")","v":"F"}]
[null,"FONTE","CÓDIGO","DESCRIÇÃO","UNIDADE",{"$f":"CHOOSE($K$3,\"MEDIANA\",\"MÉDIA\")&IF(H241=\"\",\"\",\" RETROAGIDA\")","v":"MEDIANA"},null,"ÍNDICE RETROAÇÃO",null,null,null,{"$f":"IF(AND(ISNUMBER(F241),M241=\"Sim\"),\"F\",\"\")","v":"F"}]
[{"$f":"CONCATENATE($B241,\" \",$C241)","v":"Cotação 12575"},"Cotação","12575","TUBO DE CONCRETO ARMADO PARA AGUAS PLUVIAIS, CLASSE PA-3, COM ENCAIXE PONTA E BOLSA, DIAMETRO NOMINAL DE 1500 MM","M",{"$f":"IFERROR(CHOOSE($K$3,MEDIAN(OFFSET(F242,1,0,ROW(C244)-ROW(C242)-1)),AVERAGE(OFFSET(F242,1,0,ROW(C244)-ROW(C242)-1)))*IF(H241=\"\",1,VLOOKUP(H241,INDICES,8)),0)","v":1754.7},null,"",null,{"$f":"COUNTA($A$1:$A241)-1","v":27},{"$f":"ROW(C244)-ROW(C242)-1","v":1},{"$f":"IF(AND(ISNUMBER(F241),M241=\"Sim\"),\"F\",\"\")","v":"F"},"Sim"]
[null,null,"EMPRESA","NOME DA EMPRESA",null,"COTAÇÕES",null,"DATA COTAÇÃO",null,"C",null,{"$f":"IF(AND(ISNUMBER(F241),M241=\"Sim\"),\"F\",\"\")","v":"F"}]
[null,null,"E046",{"$f":"IF(C243<>\"\",VLOOKUP(C243,EMPRESAS,3,FALSE),\"\")","v":"SINAPI SP"},null,1754.7,null,"05-2025",null,"C",null,{"$f":"IF(AND(ISNUMBER(OFFSET($F$1,MATCH(MAX($J$1:$J243),$J$1:$J243,0)-1,0)),ISNUMBER(F243),INDEX($M$1:$M243,MATCH(\"ZZZZ\",$M$1:$M243))=\"Sim\"),\"F\",\"\")","v":"F"}]
[null,null,"OBSERVAÇÕES:","",null,null,null,null,null,null,null,{"$f":"IF(AND(ISNUMBER(F241),M241=\"Sim\"),\"F\",\"\")","v":"F"}]
[null,null,null,null,null,null,null,null,null,null,null,{"$f":"IF(AND(ISNUMBER(F241),M241=\"Sim\"),\"F\",\"\")","v":"F"}]
[null,"FONTE","CÓDIGO","DESCRIÇÃO","UNIDADE",{"$f":"CHOOSE($K$3,\"MEDIANA\",\"MÉDIA\")&IF(H247=\"\",\"\",\" RETROAGIDA\")","v":"MEDIANA"},null,"ÍNDICE RETROAÇÃO",null,null,null,{"$f":"IF(AND(ISNUMBER(F247),M247=\"Sim\"),\"F\",\"\")","v":"F"}]
[{"$f":"CONCATENATE($B247,\" \",$C247)","v":"Cotação 21010"},"Cotação","21010","TUBO ACO GALVANIZADO COM COSTURA, CLASSE LEVE, DN 25 MM (1\"), E = 2,65 MM, *2,11* KG/M (NBR 5580)","M",{"$f":"IFERROR(CHOOSE($K$3,MEDIAN(OFFSET(F248,1,0,ROW(C250)-ROW(C248)-1)),AVERAGE(OFFSET(F248,1,0,ROW(C250)-ROW(C248)-1)))*IF(H247=\"\",1,VLOOKUP(H247,INDICES,8)),0)","v":32.01},null,"",null,{"$f":"COUNTA($A$1:$A247)-1","v":28},{"$f":"ROW(C250)-ROW(C248)-1","v":1},{"$f":"IF(AND(ISNUMBER(F247),M247=\"Sim\"),\"F\",\"\")","v":"F"},"Sim"]
[null,null,"EMPRESA","NOME DA EMPRESA",null,"COTAÇÕES",null,"DATA COTAÇÃO",null,"C",null,{"$f":"IF(AND(ISNUMBER(F247),M247=\"Sim\"),\"F\",\"\")","v":"F"}]
[null,null,"E046",{"$f":"IF(C249<>\"\",VLOOKUP(C249,EMPRESAS,3,FALSE),\"\")","v":"SINAPI SP"},null,32.01,null,"05-2025",null,"C",null,{"$f":"IF(AND(ISNUMBER(OFFSET($F$1,MATCH(MAX($J$1:$J249),$J$1:$J249,0)-1,0)),ISNUMBER(F249),INDEX($M$1:$M249,MATCH(\"ZZZZ\",$M$1:$M249))=\"Sim\"),\"F\",\"\")","v":"F"}]
[null,null,"OBSERVAÇÕES:","",null,null,null,null,null,null,null,{"$f":"IF(AND(ISNUMBER(F247),M247=\"Sim\"),\"F\",\"\")","v":"F"}]
[null,null,null,null,null,null,null,null,null,null,null,{"$f":"IF(AND(ISNUMBER(F247),M247=\"Sim\"),\"F\",\"\")","v":"F"}]
[null,"FONTE","CÓDIGO","DESCRIÇÃO","UNIDADE",{"$f":"CHOOSE($K$3,\"MEDIANA\",\"MÉDIA\")&IF(H253=\"\",\"\",\" RETROAGIDA\")","v":"MEDIANA"},null,"ÍNDICE RETROAÇÃO",null,null,null,{"$f":"IF(AND(ISNUMBER(F253),M253=\"Sim\"),\"F\",\"\")","v":"F"}]
[{"$f":"CONCATENATE($B253,\" \",$C253)","v":"Cotação 21016"},"Cotação","21016","TUBO ACO GALVANIZADO COM COSTURA, CLASSE LEVE, DN 100 MM (4\"), E = 3,75 MM, *10,55* KG/M (NBR 5580)","M",{"$f":"IFERROR(CHOOSE($K$3,MEDIAN(OFFSET(F254,1,0,ROW(C256)-ROW(C254)-1)),AVERAGE(OFFSET(F254,1,0,ROW(C256)-ROW(C254)-1)))*IF(H253=\"\",1,VLOOKUP(H253,INDICES,8)),0)","v":156.74},null,"",null,{"$f":"COUNTA($A$1:$A253)-1","v":29},{"$f":"ROW(C256)-ROW(C254)-1","v":1},{"$f":"IF(AND(ISNUMBER(F253),M253=\"Sim\"),\"F\",\"\")","v":"F"},"Sim"]
[null,null,"EMPRESA","NOME DA EMPRESA",null,"COTAÇÕES",null,"DATA COTAÇÃO",null,"C",null,{"$f":"IF(AND(ISNUMBER(F253),M253=\"Sim\"),\"F\",\"\")","v":"F"}]
[null,null,"E046",{"$f":"IF(C255<>\"\",VLOOKUP(C255,EMPRESAS,3,FALSE),\"\")","v":"SINAPI SP"},null,156.74,null,"05-2025",null,"C",null,{"$f":"IF(AND(ISNUMBER(OFFSET($F$1,MATCH(MAX($J$1:$J255),$J$1:$J255,0)-1,0)),ISNUMBER(F255),INDEX($M$1:$M255,MATCH(\"ZZZZ\",$M$1:$M255))=\"Sim\"),\"F\",\"\")","v":"F"}]
[null,null,"OBSERVAÇÕES:","",null,null,null,null,null,null,null,{"$f":"IF(AND(ISNUMBER(F253),M253=\"Sim\"),\"F\",\"\")","v":"F"}]
[null,null,null,null,null,null,null,null,null,null,null,{"$f":"IF(AND(ISNUMBER(F253),M253=\"Sim\"),\"F\",\"\")","v":"F"}]
[null,"FONTE","CÓDIGO","DESCRIÇÃO","UNIDADE",{"$f":"CHOOSE($K$3,\"MEDIANA\",\"MÉDIA\")&IF(H259=\"\",\"\",\" RETROAGIDA\")","v":"MEDIANA"},null,"ÍNDICE RETROAÇÃO",null,null,null,{"$f":"IF(AND(ISNUMBER(F259),M259=\"Sim\"),\"F\",\"\")","v":"F"}]
[{"$f":"CONCATENATE($B259,\" \",$C259)","v":"Cotação 39017"},"Cotação","39017","ESPACADOR / DISTANCIADOR CIRCULAR COM ENTRADA LATERAL, EM PLASTICO, PARA VERGALHAO *4,2 A 12,5* MM, COBRIMENTO 20 MM","UN",{"$f":"IFERROR(CHOOSE($K$3,MEDIAN(OFFSET(F260,1,0,ROW(C262)-ROW(C260)-1)),AVERAGE(OFFSET(F260,1,0,ROW(C262)-ROW(C260)-1)))*IF(H259=\"\",1,VLOOKUP(H259,INDICES,8)),0)","v":0.22},null,"",null,{"$f":"COUNTA($A$1:$A259)-1","v":30},{"$f":"ROW(C262)-ROW(C260)-1","v":1},{"$f":"IF(AND(ISNUMBER(F259),M259=\"Sim\"),\"F\",\"\")","v":"F"},"Sim"]
[null,null,"EMPRESA","NOME DA EMPRESA",null,"COTAÇÕES",null,"DATA COTAÇÃO",null,"C",null,{"$f":"IF(AND(ISNUMBER(F259),M259=\"Sim\"),\"F\",\"\")","v":"F"}]
[null,null,"E046",{"$f":"IF(C261<>\"\",VLOOKUP(C261,EMPRESAS,3,FALSE),\"\")","v":"SINAPI SP"},null,0.22,null,"05-2025",null,"C",null,{"$f":"IF(AND(ISNUMBER(OFFSET($F$1,MATCH(MAX($J$1:$J261),$J$1:$J261,0)-1,0)),ISNUMBER(F261),INDEX($M$1:$M261,MATCH(\"ZZZZ\",$M$1:$M261))=\"Sim\"),\"F\",\"\")","v":"F"}]
[null,null,"OBSERVAÇÕES:","",null,null,null,null,null,null,null,{"$f":"IF(AND(ISNUMBER(F259),M259=\"Sim\"),\"F\",\"\")","v":"F"}]
[null,null,null,null,null,null,null,null,null,null,null,{"$f":"IF(AND(ISNUMBER(F259),M259=\"Sim\"),\"F\",\"\")","v":"F"}]
[null,"FONTE","CÓDIGO","DESCRIÇÃO","UNIDADE",{"$f":"CHOOSE($K$3,\"MEDIANA\",\"MÉDIA\")&IF(H265=\"\",\"\",\" RETROAGIDA\")","v":"MEDIANA"},null,"ÍNDICE RETROAÇÃO",null,null,null,{"$f":"IF(AND(ISNUMBER(F265),M265=\"Sim\"),\"F\",\"\")","v":"F"}]
[{"$f":"CONCATENATE($B265,\" \",$C265)","v":"Cotação 39995"},"Cotação","39995","POLIESTIRENO EXPANDIDO/EPS (ISOPOR), TIPO 2F, BLOCO","M3",{"$f":"IFERROR(CHOOSE($K$3,MEDIAN(OFFSET(F266,1,0,ROW(C268)-ROW(C266)-1)),AVERAGE(OFFSET(F266,1,0,ROW(C268)-ROW(C266)-1)))*IF(H265=\"\",1,VLOOKUP(H265,INDICES,8)),0)","v":439.92},null,"",null,{"$f":"COUNTA($A$1:$A265)-1","v":31},{"$f":"ROW(C268)-ROW(C266)-1","v":1},{"$f":"IF(AND(ISNUMBER(F265),M265=\"Sim\"),\"F\",\"\")","v":"F"},"Sim"]
[null,null,"EMPRESA","NOME DA EMPRESA",null,"COTAÇÕES",null,"DATA COTAÇÃO",null,"C",null,{"$f":"IF(AND(ISNUMBER(F265),M265=\"Sim\"),\"F\",\"\")","v":"F"}]
[null,null,"E046",{"$f":"IF(C267<>\"\",VLOOKUP(C267,EMPRESAS,3,FALSE),\"\")","v":"SINAPI SP"},null,439.92,null,"05-2025",null,"C",null,{"$f":"IF(AND(ISNUMBER(OFFSET($F$1,MATCH(MAX($J$1:$J267),$J$1:$J267,0)-1,0)),ISNUMBER(F267),INDEX($M$1:$M267,MATCH(\"ZZZZ\",$M$1:$M267))=\"Sim\"),\"F\",\"\")","v":"F"}]
[null,null,"OBSERVAÇÕES:","",null,null,null,null,null,null,null,{"$f":"IF(AND(ISNUMBER(F265),M265=\"Sim\"),\"F\",\"\")","v":"F"}]
[null,null,null,null,null,null,null,null,null,null,null,{"$f":"IF(AND(ISNUMBER(F265),M265=\"Sim\"),\"F\",\"\")","v":"F"}]
[null,"FONTE","CÓDIGO","DESCRIÇÃO","UNIDADE",{"$f":"CHOOSE($K$3,\"MEDIANA\",\"MÉDIA\")&IF(H271=\"\",\"\",\" RETROAGIDA\")","v":"MEDIANA"},null,"ÍNDICE RETROAÇÃO",null,null,null,{"$f":"IF(AND(ISNUMBER(F271),M271=\"Sim\"),\"F\",\"\")","v":"F"}]
[{"$f":"CONCATENATE($B271,\" \",$C271)","v":"Cotação 40535"},"Cotação","40535","PERFIL \"U\" SIMPLES, EM CHAPA DOBRADA DE ACO LAMINADO, E = 2,65 MM, H = 75 MM, L = 40 MM (3,04 KG/M)","KG",{"$f":"IFERROR(CHOOSE($K$3,MEDIAN(OFFSET(F272,1,0,ROW(C274)-ROW(C272)-1)),AVERAGE(OFFSET(F272,1,0,ROW(C274)-ROW(C272)-1)))*IF(H271=\"\",1,VLOOKUP(H271,INDICES,8)),0)","v":8.66},null,"",null,{"$f":"COUNTA($A$1:$A271)-1","v":32},{"$f":"ROW(C274)-ROW(C272)-1","v":1},{"$f":"IF(AND(ISNUMBER(F271),M271=\"Sim\"),\"F\",\"\")","v":"F"},"Sim"]
[null,null,"EMPRESA","NOME DA EMPRESA",null,"COTAÇÕES",null,"DATA COTAÇÃO",null,"C",null,{"$f":"IF(AND(ISNUMBER(F271),M271=\"Sim\"),\"F\",\"\")","v":"F"}]
[null,null,"E046",{"$f":"IF(C273<>\"\",VLOOKUP(C273,EMPRESAS,3,FALSE),\"\")","v":"SINAPI SP"},null,8.66,null,"05-2025",null,"C",null,{"$f":"IF(AND(ISNUMBER(OFFSET($F$1,MATCH(MAX($J$1:$J273),$J$1:$J273,0)-1,0)),ISNUMBER(F273),INDEX($M$1:$M273,MATCH(\"ZZZZ\",$M$1:$M273))=\"Sim\"),\"F\",\"\")","v":"F"}]
[null,null,"OBSERVAÇÕES:","",null,null,null,null,null,null,null,{"$f":"IF(AND(ISNUMBER(F271),M271=\"Sim\"),\"F\",\"\")","v":"F"}]
[null,null,null,null,null,null,null,null,null,null,null,{"$f":"IF(AND(ISNUMBER(F271),M271=\"Sim\"),\"F\",\"\")","v":"F"}]
[null,"FONTE","CÓDIGO","DESCRIÇÃO","UNIDADE",{"$f":"CHOOSE($K$3,\"MEDIANA\",\"MÉDIA\")&IF(H277=\"\",\"\",\" RETROAGIDA\")","v":"MEDIANA"},null,"ÍNDICE RETROAÇÃO",null,null,null,{"$f":"IF(AND(ISNUMBER(F277),M277=\"Sim\"),\"F\",\"\")","v":"F"}]
[{"$f":"CONCATENATE($B277,\" \",$C277)","v":"Cotação 41200"},"Cotação","41200","POSTE DE CONCRETO ARMADO DE SECAO DUPLO T, EXTENSAO DE 10,00 M, RESISTENCIA DE 600 DAN, TIPO B","UN",{"$f":"IFERROR(CHOOSE($K$3,MEDIAN(OFFSET(F278,1,0,ROW(C280)-ROW(C278)-1)),AVERAGE(OFFSET(F278,1,0,ROW(C280)-ROW(C278)-1)))*IF(H277=\"\",1,VLOOKUP(H277,INDICES,8)),0)","v":1382.48},null,"",null,{"$f":"COUNTA($A$1:$A277)-1","v":33},{"$f":"ROW(C280)-ROW(C278)-1","v":1},{"$f":"IF(AND(ISNUMBER(F277),M277=\"Sim\"),\"F\",\"\")","v":"F"},"Sim"]
[null,null,"EMPRESA","NOME DA EMPRESA",null,"COTAÇÕES",null,"DATA COTAÇÃO",null,"C",null,{"$f":"IF(AND(ISNUMBER(F277),M277=\"Sim\"),\"F\",\"\")","v":"F"}]
[null,null,"E046",{"$f":"IF(C279<>\"\",VLOOKUP(C279,EMPRESAS,3,FALSE),\"\")","v":"SINAPI SP"},null,1382.48,null,"05-2025",null,"C",null,{"$f":"IF(AND(ISNUMBER(OFFSET($F$1,MATCH(MAX($J$1:$J279),$J$1:$J279,0)-1,0)),ISNUMBER(F279),INDEX($M$1:$M279,MATCH(\"ZZZZ\",$M$1:$M279))=\"Sim\"),\"F\",\"\")","v":"F"}]
[null,null,"OBSERVAÇÕES:","",null,null,null,null,null,null,null,{"$f":"IF(AND(ISNUMBER(F277),M277=\"Sim\"),\"F\",\"\")","v":"F"}]
[null,null,null,null,null,null,null,null,null,null,null,{"$f":"IF(AND(ISNUMBER(F277),M277=\"Sim\"),\"F\",\"\")","v":"F"}]
[null,"FONTE","CÓDIGO","DESCRIÇÃO","UNIDADE",{"$f":"CHOOSE($K$3,\"MEDIANA\",\"MÉDIA\")&IF(H283=\"\",\"\",\" RETROAGIDA\")","v":"MEDIANA"},null,"ÍNDICE RETROAÇÃO",null,null,null,{"$f":"IF(AND(ISNUMBER(F283),M283=\"Sim\"),\"F\",\"\")","v":"F"}]
[{"$f":"CONCATENATE($B283,\" \",$C283)","v":"Cotação 43106"},"Cotação","43106","CHAPA DE ACO GALVANIZADA BITOLA GSG 24, E = 0,64 (5,12 KG/M2)","KG",{"$f":"IFERROR(CHOOSE($K$3,MEDIAN(OFFSET(F284,1,0,ROW(C286)-ROW(C284)-1)),AVERAGE(OFFSET(F284,1,0,ROW(C286)-ROW(C284)-1)))*IF(H283=\"\",1,VLOOKUP(H283,INDICES,8)),0)","v":10.87},null,"",null,{"$f":"COUNTA($A$1:$A283)-1","v":34},{"$f":"ROW(C286)-ROW(C284)-1","v":1},{"$f":"IF(AND(ISNUMBER(F283),M283=\"Sim\"),\"F\",\"\")","v":"F"},"Sim"]
[null,null,"EMPRESA","NOME DA EMPRESA",null,"COTAÇÕES",null,"DATA COTAÇÃO",null,"C",null,{"$f":"IF(AND(ISNUMBER(F283),M283=\"Sim\"),\"F\",\"\")","v":"F"}]
[null,null,"E046",{"$f":"IF(C285<>\"\",VLOOKUP(C285,EMPRESAS,3,FALSE),\"\")","v":"SINAPI SP"},null,10.87,null,"05-2025",null,"C",null,{"$f":"IF(AND(ISNUMBER(OFFSET($F$1,MATCH(MAX($J$1:$J285),$J$1:$J285,0)-1,0)),ISNUMBER(F285),INDEX($M$1:$M285,MATCH(\"ZZZZ\",$M$1:$M285))=\"Sim\"),\"F\",\"\")","v":"F"}]
[null,null,"OBSERVAÇÕES:","",null,null,null,null,null,null,null,{"$f":"IF(AND(ISNUMBER(F283),M283=\"Sim\"),\"F\",\"\")","v":"F"}]
[null,null,null,null,null,null,null,null,null,null,null,{"$f":"IF(AND(ISNUMBER(F283),M283=\"Sim\"),\"F\",\"\")","v":"F"}]
[null,"FONTE","CÓDIGO","DESCRIÇÃO","UNIDADE",{"$f":"CHOOSE($K$3,\"MEDIANA\",\"MÉDIA\")&IF(H289=\"\",\"\",\" RETROAGIDA\")","v":"MEDIANA"},null,"ÍNDICE RETROAÇÃO",null,null,null,{"$f":"IF(AND(ISNUMBER(F289),M289=\"Sim\"),\"F\",\"\")","v":"F"}]
[{"$f":"CONCATENATE($B289,\" \",$C289)","v":"Cotação 43692"},"Cotação","43692","PERFIL \"U\" SIMPLES, EM CHAPA DOBRADA DE ACO LAMINADO, E = 3 MM, H = 200 MM, L = 50 MM (6,83 KG/M)","KG",{"$f":"IFERROR(CHOOSE($K$3,MEDIAN(OFFSET(F290,1,0,ROW(C292)-ROW(C290)-1)),AVERAGE(OFFSET(F290,1,0,ROW(C292)-ROW(C290)-1)))*IF(H289=\"\",1,VLOOKUP(H289,INDICES,8)),0)","v":9.1199999999999992},null,"",null,{"$f":"COUNTA($A$1:$A289)-1","v":35},{"$f":"ROW(C292)-ROW(C290)-1","v":1},{"$f":"IF(AND(ISNUMBER(F289),M289=\"Sim\"),\"F\",\"\")","v":"F"},"Sim"]
[null,null,"EMPRESA","NOME DA EMPRESA",null,"COTAÇÕES",null,"DATA COTAÇÃO",null,"C",null,{"$f":"IF(AND(ISNUMBER(F289),M289=\"Sim\"),\"F\",\"\")","v":"F"}]
[null,null,"E046",{"$f":"IF(C291<>\"\",VLOOKUP(C291,EMPRESAS,3,FALSE),\"\")","v":"SINAPI SP"},null,9.1199999999999992,null,"05-2025",null,"C",null,{"$f":"IF(AND(ISNUMBER(OFFSET($F$1,MATCH(MAX($J$1:$J291),$J$1:$J291,0)-1,0)),ISNUMBER(F291),INDEX($M$1:$M291,MATCH(\"ZZZZ\",$M$1:$M291))=\"Sim\"),\"F\",\"\")","v":"F"}]
[null,null,"OBSERVAÇÕES:","",null,null,null,null,null,null,null,{"$f":"IF(AND(ISNUMBER(F289),M289=\"Sim\"),\"F\",\"\")","v":"F"}]
[null,null,null,null,null,null,null,null,null,null,null,{"$f":"IF(AND(ISNUMBER(F289),M289=\"Sim\"),\"F\",\"\")","v":"F"}]
[null,"FONTE","CÓDIGO","DESCRIÇÃO","UNIDADE",{"$f":"CHOOSE($K$3,\"MEDIANA\",\"MÉDIA\")&IF(H295=\"\",\"\",\" RETROAGIDA\")","v":"MEDIANA"},null,"ÍNDICE RETROAÇÃO",null,null,null,{"$f":"IF(AND(ISNUMBER(F295),M295=\"Sim\"),\"F\",\"\")","v":"F"}]
[{"$f":"CONCATENATE($B295,\" \",$C295)","v":"Cotação 100737"},"Cotação","100737","PINTURA COM TINTA POLIURETÂNICA DE ACABAMENTO PULVERIZADA SOBRE PERFIL METÁLICO EXECUTADO EM FÁBRICA (POR DEMÃO). AF_01/2020","M2",{"$f":"IFERROR(CHOOSE($K$3,MEDIAN(OFFSET(F296,1,0,ROW(C298)-ROW(C296)-1)),AVERAGE(OFFSET(F296,1,0,ROW(C298)-ROW(C296)-1)))*IF(H295=\"\",1,VLOOKUP(H295,INDICES,8)),0)","v":56.89},null,"",null,{"$f":"COUNTA($A$1:$A295)-1","v":36},{"$f":"ROW(C298)-ROW(C296)-1","v":1},{"$f":"IF(AND(ISNUMBER(F295),M295=\"Sim\"),\"F\",\"\")","v":"F"},"Sim"]
[null,null,"EMPRESA","NOME DA EMPRESA",null,"COTAÇÕES",null,"DATA COTAÇÃO",null,"C",null,{"$f":"IF(AND(ISNUMBER(F295),M295=\"Sim\"),\"F\",\"\")","v":"F"}]
[null,null,"E046",{"$f":"IF(C297<>\"\",VLOOKUP(C297,EMPRESAS,3,FALSE),\"\")","v":"SINAPI SP"},null,56.89,null,"05-2025",null,"C",null,{"$f":"IF(AND(ISNUMBER(OFFSET($F$1,MATCH(MAX($J$1:$J297),$J$1:$J297,0)-1,0)),ISNUMBER(F297),INDEX($M$1:$M297,MATCH(\"ZZZZ\",$M$1:$M297))=\"Sim\"),\"F\",\"\")","v":"F"}]
[null,null,"OBSERVAÇÕES:","",null,null,null,null,null,null,null,{"$f":"IF(AND(ISNUMBER(F295),M295=\"Sim\"),\"F\",\"\")","v":"F"}]
[null,null,null,null,null,null,null,null,null,null,null,{"$f":"IF(AND(ISNUMBER(F295),M295=\"Sim\"),\"F\",\"\")","v":"F"}]
[null,"FONTE","CÓDIGO","DESCRIÇÃO","UNIDADE",{"$f":"CHOOSE($K$3,\"MEDIANA\",\"MÉDIA\")&IF(H301=\"\",\"\",\" RETROAGIDA\")","v":"MEDIANA"},null,"ÍNDICE RETROAÇÃO",null,null,null,{"$f":"IF(AND(ISNUMBER(F301),M301=\"Sim\"),\"F\",\"\")","v":"F"}]
[{"$f":"CONCATENATE($B301,\" \",$C301)","v":"Cotação I.URBA.0097.01"},"Cotação","I.URBA.0097.01","TELA METÁLICA GALVANIZADA FIO 18, MALHA 19 MM REVESTIDO PVC","M2",{"$f":"IFERROR(CHOOSE($K$3,MEDIAN(OFFSET(F302,1,0,ROW(C306)-ROW(C302)-1)),AVERAGE(OFFSET(F302,1,0,ROW(C306)-ROW(C302)-1)))*IF(H301=\"\",1,VLOOKUP(H301,INDICES,8)),0)","v":83.33},null,"",null,{"$f":"COUNTA($A$1:$A301)-1","v":37},{"$f":"ROW(C306)-ROW(C302)-1","v":3},{"$f":"IF(AND(ISNUMBER(F301),M301=\"Sim\"),\"F\",\"\")","v":"F"},"Sim"]
[null,null,"EMPRESA","NOME DA EMPRESA",null,"COTAÇÕES",null,"DATA COTAÇÃO",null,"C",null,{"$f":"IF(AND(ISNUMBER(F301),M301=\"Sim\"),\"F\",\"\")","v":"F"}]
[null,null,"E047",{"$f":"IF(C303<>\"\",VLOOKUP(C303,EMPRESAS,3,FALSE),\"\")","v":"RAMACRISNA"},null,72,null,"17/03/2025",null,"C",null,{"$f":"IF(AND(ISNUMBER(OFFSET($F$1,MATCH(MAX($J$1:$J303),$J$1:$J303,0)-1,0)),ISNUMBER(F303),INDEX($M$1:$M303,MATCH(\"ZZZZ\",$M$1:$M303))=\"Sim\"),\"F\",\"\")","v":"F"}]
[null,null,"E048",{"$f":"IF(C304<>\"\",VLOOKUP(C304,EMPRESAS,3,FALSE),\"\")","v":"WIREMARKET"},null,102.75,null,"17/03/2025",null,"C",null,{"$f":"IF(AND(ISNUMBER(OFFSET($F$1,MATCH(MAX($J$1:$J304),$J$1:$J304,0)-1,0)),ISNUMBER(F304),INDEX($M$1:$M304,MATCH(\"ZZZZ\",$M$1:$M304))=\"Sim\"),\"F\",\"\")","v":"F"}]
[null,null,"E049",{"$f":"IF(C305<>\"\",VLOOKUP(C305,EMPRESAS,3,FALSE),\"\")","v":"TELAS CASCAVEL"},null,83.33,null,"17/03/2025",null,"C",null,{"$f":"IF(AND(ISNUMBER(OFFSET($F$1,MATCH(MAX($J$1:$J305),$J$1:$J305,0)-1,0)),ISNUMBER(F305),INDEX($M$1:$M305,MATCH(\"ZZZZ\",$M$1:$M305))=\"Sim\"),\"F\",\"\")","v":"F"}]
[null,null,"OBSERVAÇÕES:","",null,null,null,null,null,null,null,{"$f":"IF(AND(ISNUMBER(F301),M301=\"Sim\"),\"F\",\"\")","v":"F"}]
[null,null,null,null,null,null,null,null,null,null,null,{"$f":"IF(AND(ISNUMBER(F301),M301=\"Sim\"),\"F\",\"\")","v":"F"}]
["###","2025-06-23",null,null,null,null,null,null,null,null,null,"F"]
[null,"Data",null,null,"Resp. Pesquisa de Mercado:",null,null,null,null,null,null,"F"]

{"sheet":"Relatórios","index":5,"n_rows":15,"n_cols":8,"rows_kept":15,"cut":false,"hidden":false,"merged":[[0,0,0,7]]}
["DADOS DOS RELATÓRIOS IMPORTADOS"]
[]
[]
[]
["TIPO","ENCARGOS SOCIAIS","ABRANGÊNCIA","LOCALIDADE","VÍNCULO","DATA PREÇOS","DATA DE RT","DATA EMISSÃO"]
["SINAPI","SEM DESONERAÇÃO: 116,37% HORISTA e 72,50% MENSALISTA\nCOM DESONERAÇÃO: 93,45% HORISTA e 54,20% MENSALISTA","NACIONAL","CURITIBA","SINAPI FORMATO 2025","05/2025","","10/06/2025"]
["SINAPI-I_SP",null,null,"SÃO PAULO","","05/2025","",""]
["SICRO",null,null,"PARANÁ","","01/2025","",""]
["SICRO_CHP",null,null,"PARANÁ","","01/2025","",""]
["SICRO_CHI",null,null,"PARANÁ","","01/2025","",""]
["SICRO-I",null,null,"PARANÁ","","01/2025","",""]
["SICRO-I",null,null,"PARANÁ","","01/2025","",""]
["DER",null,null,"PARANÁ","","03/2025","",""]
["DER-I",null,null,"PARANÁ","","03/2025","",""]
["DER-I",null,null,"PARANÁ","","03/2025","",""]

{"sheet":"Busca","index":6,"n_rows":5,"n_cols":9,"rows_kept":5,"cut":false,"hidden":false,"merged":[[0,1,0,6]]}
[null,"BUSCA"]
[null,null,"CONTÉM:","porcelanato"]
[null,null,"NÃO CONTÉM:"]
[null,null,"RELATÓRIOS:"]
[null,"FONTE","CÓDIGO","DESCRIÇÃO","UNIDADE","DESONERADO","NÃO DESONERADO",null,"ORIGEM DO PREÇO"]